{"text_format":"1","workbook":"xlsx","n_sheets":35,"sheets":["Instructions",">>Input tabs","Control","UHCC Adjustments","Capital values","ESSbase","Class Rates","TA Split",">>District wide rates","Gen","FP - regional","FP - catchment","Stad","WRS","Tran",">>Other rates & levies","Pest","Water levy",">>Output tabs","Comparison - TA","Comparison - Category","Rates Check","Checks",">>Rates","1","2","3","4","5","5b","6","Impact","Changes ","Mechanisms","For IT"],"not_rendered":{"charts":0,"images":1,"macros":1,"external_links":6,"defined_names":73,"comments":4,"pivot_tables":0},"unopened":[],"bounds":{"document_bytes":16777216,"sheet_cells":100000,"rows_first":2000,"rows_last":500,"rows_between":2000,"halvings":0,"cell_chars":16384,"cell_head_chars":4096},"cells_cut":0,"cells_raw":0,"read":"whole","date_system":"1900"}

{"sheet":"Instructions","index":0,"n_rows":31,"n_cols":4,"rows_kept":31,"cut":false,"hidden":false,"merged":[[25,2,25,13],[26,2,26,13],[3,0,3,13],[12,2,12,14],[19,2,19,13],[21,2,21,13],[24,2,24,13]]}
["Instructions"]
[]
["Purpose"]
["This rating model is prepared to determine the rates sought by each rating category/TA to cover funding requirements for the forthcoming year."]
[]
["Conventions"]
["All yellow cells are input cells. "]
["The majority of tabs in this spreadhseet have been protected to ensure that values aren't inadvertantly changed."]
["Should a user need to amend the content of a tab the password required is \"gwrcrates\". "]
[]
["Process"]
["To run the rates model the following actions should be completed"]
[null,"1)","On each of the tabs shaded green in the structure diagram below delete all values in the shaded yellow cell"]
[null,"2)","Delete the entire contents of the \"TA Split\" tab."]
[null,"3)","In the control tab;"]
[null,null,"a)","In cell B5 enter the current rating year in the YYYY/YY date format"]
[null,null,"b)","Adjust the WRS rating basis if required by the rates funding policy"]
[null,null,"c)","Obtain \"Flood protection\" and \"Pest rate\" information from the Landcare & Wairarapa Accountant and enter in the relevant cells"]
[null,null,"d)","Obtian Water levy split from the water supply accountant and enter in the relevant cells"]
[null,"4)","Obtain Capital Values (CVs) & corresponding assessments from each Territorial Authority (TA) and Equalised Capital Values (ECVs) & corresponding assessments from Quotable Value and enter into the relevant yellow cells on the \"UHCC Adjustments\" and \"Capital values\" tab"]
[null,"5)","Select the cells to be updated in the ESSBase tab and retrieve the information from the ESSbase system"]
[null,"6)","Email the ESSBase extract to the respective management accountants and obtain confirmation that these rates values are correct before proceeding further."]
[null,"7)","Populate the \"Class rates\" tab with data provided by the  Landcare & Wairarapa Accountant"]
[null,"8)","Populate the \"TA Split\" tab with data provided by the relevant accountant responsible for catchment management"]
[null,"9)","Use the rating model from the previous year to populate the yellow cells using the PASTE SPECIAL>>VALUES comand in the \"Comparison - TA\" and \"Comparison - Category\" tabs."]
[null,"10)","On the \"Check\" tab  if cell B7 says \"Error\" then a rounding/check total error occurs within the model and the error should be investigated and reconciled where possible. Explanations of the difference can be entered in the \"Check\" tab for future reference. If cell B7 reads \"OK\" then no rounding/check total errors have been found in the data that has been entered. "]
[null,"11)","Once all checks have been completed the individual that has completed steps 1 through 9 above should forward the model to their manager for reivew and approval."]
[null,"12)","Once approval of the results is obtained the values can be used for distribution as required."]
[]
["Strucutre diagram"]
["The flow diagram below sets out the structure of this excel spreadsheet."]

{"sheet":">>Input tabs","index":1,"n_rows":0,"n_cols":0,"rows_kept":0,"cut":false,"hidden":false,"merged":[]}

{"sheet":"Control","index":2,"n_rows":161,"n_cols":14,"rows_kept":161,"cut":false,"hidden":false,"merged":[]}
["Control"]
[{"$f":"check_total","v":8066.0526878890842}]
[]
["Years"]
["Current rating year","2018/19"]
["Previous rating year",{"$f":"VALUE(LEFT(year_current,4))-1&\"/\"&VALUE(RIGHT(year_current,2))-1","v":"2017/18"}]
[]
[]
["GST"]
["GST %",0.15]
[]
["Error tolerance"]
["$ error tolerance",2]
[]
["TA's"]
["TA full name","TA short name"]
["Wellington City","Wellington"]
["Hutt City","Hutt"]
["Upper Hutt City","Upper Hutt"]
["Porirua City","Porirua"]
["Kapiti Coast District","Kapiti"]
["Masterton District","Masterton"]
["Carterton District","Carterton"]
["South Wairarapa District","South Wairarapa"]
["Tararua District","Tararua"]
[]
[]
["TA's"]
["TA full name","Category group","Concatenated  row","TA naming convention"]
["Wellington City","District wide",{"$f":"A30&B30","v":"Wellington CityDistrict wide"},"Wellington City"]
["Hutt City","District wide","Hutt CityDistrict wide","Hutt City"]
["Upper Hutt City","District wide","Upper Hutt CityDistrict wide","Upper Hutt City"]
["Porirua City","District wide","Porirua CityDistrict wide","Porirua City"]
["Kapiti Coast District","District wide","Kapiti Coast DistrictDistrict wide","Kapiti Coast District"]
["Masterton District","District wide","Masterton DistrictDistrict wide","Masterton District"]
["Carterton District","District wide","Carterton DistrictDistrict wide","Carterton District"]
["South Wairarapa District","District wide","South Wairarapa DistrictDistrict wide","South Wairarapa District"]
["Tararua District","District wide","Tararua DistrictDistrict wide","Tararua District"]
["Region wide",null,"Region wide"]
[]
["TA & Category",null,null,null,null,null,"PT differentials to use for rating model transition",null,null,null,null,"Calculation of differentials using the 2017/18 Transport rate"]
["TA full name","Category group","Concatenated  name","TA naming convention","PT differential",null,"2017/18","2018/19","2019/20","2020/21 onwards",null,"Rate levied","ECV","Cents/ECV$"]
["Wellington City","Regional CBD",{"$f":"A43&B43","v":"Wellington CityRegional CBD"},"CBD Business",{"$f":"IF(VALUE(LEFT(year_current,4))>2019,J43,INDEX($G43:$I43,,MATCH(year_current,$G$42:$I$42,0)))","v":7.1621367537750453},null,{"$f":"N43/N$71","v":6.7432051306625684},{"$f":"($J43-$G43)/3+G43","v":7.1621367537750453},{"$f":"($J43-$G43)/3+H43","v":7.5810683768875222},8,null,25019166.076555029,9699270190.5155792,{"$f":"(L43*100)/M43","v":0.25794895476795759}]
["Wellington City","Business","Wellington CityBusiness","Business",{"$f":"IF(VALUE(LEFT(year_current,4))>2019,J44,INDEX($G44:$I44,,MATCH(year_current,$G$42:$I$42,0)))","v":0.94068148122866746},null,0.66102222184300141,{"$f":"($J44-$G44)/3+G44","v":0.94068148122866746},1.2203407406143336,1.4999999999999996,null,1192769.6660720154,4717078732.5825872,2.5286193716316824E-2]
["Wellington City","Residential","Wellington CityResidential","Residential",0.77401481456200083,null,0.6610222218430013,{"$f":"($J45-$G45)/3+G45","v":0.77401481456200083},0.88700740728100036,0.99999999999999978,null,12199001.999804026,48243725950.466728,2.528619371631682E-2]
["Wellington City","Rural","Wellington CityRural","Rural",0.19651881388722359,null,0.16977822083083538,{"$f":"($J46-$G46)/3+G46","v":0.19651881388722359},0.22325940694361179,0.25,null,46420.266798237128,714756729.43509579,6.4945547046370783E-3]
["Hutt City","Business","Hutt CityBusiness","Business",1.4468888227636645,null,1.4203332341454968,{"$f":"($J47-$G47)/3+G47","v":1.4468888227636645},1.4734444113818321,1.4999999999999998,null,2092334.5901653506,3850999697.4912381,5.4332244988967854E-2]
["Hutt City","Residential","Hutt CityResidential","Residential",1.280222156096998,null,1.4203332341454968,{"$f":"($J48-$G48)/3+G48","v":1.280222156096998},1.1401110780484991,1.0000000000000002,null,9399014.0502914134,17299145382.635818,5.4332244988967854E-2]
["Hutt City","Rural","Hutt CityRural","Rural",0.32464221024319889,null,0.36196331536479831,{"$f":"($J49-$G49)/3+G49","v":0.32464221024319889},0.28732110512159947,0.25,null,44664.5601546291,322575294.87294579,1.3846243300256869E-2]
["Upper Hutt City","Business","Upper Hutt CityBusiness","Business",1.5645244255725876,null,1.5967866383588816,{"$f":"($J50-$G50)/3+G50","v":1.5645244255725876},1.5322622127862937,1.4999999999999998,null,725473.26351998048,1187700995.936275,6.108214660105455E-2]
["Upper Hutt City","Residential","Upper Hutt CityResidential","Residential",1.3978577589059225,null,1.5967866383588838,{"$f":"($J51-$G51)/3+G51","v":1.3978577589059225},1.1989288794529611,0.99999999999999978,null,3744588.8646753002,6130414651.4894199,6.1082146601054634E-2]
["Upper Hutt City","Rural","Upper Hutt CityRural","Rural",0.35464046996865811,null,0.40696070495298714,{"$f":"($J52-$G52)/3+G52","v":0.35464046996865811},0.30232023498432908,0.25,null,126321.43492736586,811441419.57430518,1.5567535977352012E-2]
["Porirua City","Business","Porirua CityBusiness","Business",1.5985388777685046,null,1.6478083166527571,{"$f":"($J53-$G53)/3+G53","v":1.5985388777685046},1.5492694388842521,1.4999999999999998,null,691972.22128697077,1097778115.5520244,6.303388740255661E-2]
["Porirua City","Residential","Porirua CityResidential","Residential",1.4318722111018378,null,1.6478083166527566,{"$f":"($J54-$G54)/3+G54","v":1.4318722111018378},1.215936105550919,1,null,5277337.6833140422,8372223102.1721783,6.3033887402556596E-2]
["Porirua City","Rural","Porirua CityRural","Rural",0.36323446027036693,null,0.41985169040555043,{"$f":"($J55-$G55)/3+G55","v":0.36323446027036693},0.30661723013518344,0.25,null,96761.343740997501,602474380.27579737,1.6060657001996107E-2]
["Kapiti Coast District","Business","Kapiti Coast DistrictBusiness","Urban - Commerical",0.96931771371084086,null,0.70397657056626128,{"$f":"($J56-$G56)/3+G56","v":0.96931771371084086},1.2346588568554204,1.4999999999999998,null,403085.53288284957,1496826987.0055292,2.6929333609172868E-2]
["Kapiti Coast District","Residential","Kapiti Coast DistrictResidential","Urban - Residential",0.80265104704417423,null,0.70397657056626128,{"$f":"($J57-$G57)/3+G57","v":0.80265104704417423},0.90132552352208717,1,null,2549190.972629251,9466223745.5475941,2.6929333609172868E-2]
["Kapiti Coast District","Rural","Kapiti Coast DistrictRural","Rural",0.20474938343602608,null,0.18212407515403917,{"$f":"($J58-$G58)/3+G58","v":0.20474938343602608},0.227374691718013,0.24999999999999994,null,138343.58213775302,1985748559.4468777,6.9668227369273821E-3]
["Masterton District","Business","Masterton DistrictBusiness","Urban Ward",0.49932494847117659,null,0.24898742270676497,{"$f":"($J59-$G59)/3+G59","v":0.49932494847117659},0.74966247423558818,0.99999999999999978,null,38506.176024532608,404283094.12757981,9.5245575647002426E-3]
["Masterton District","Residential","Masterton DistrictResidential","Urban - Residential",0.33265828180450996,null,0.24898742270676497,{"$f":"($J60-$G60)/3+G60","v":0.33265828180450996},0.41632914090225498,0.5,null,199517.22834409823,2094766365.6687391,9.5245575647002426E-3]
["Masterton District","Rural","Masterton DistrictRural","Rural Ward",0.13101933296385354,null,7.1528999445780297E-2,{"$f":"($J61-$G61)/3+G61","v":0.13101933296385354},0.19050966648192677,0.25,null,68725.161709690234,2511691056.2036815,2.7362107907317832E-3]
["Carterton District","Business","Carterton DistrictBusiness","Urban Ward",0.6311347496055183,null,0.4467021244082775,{"$f":"($J62-$G62)/3+G62","v":0.6311347496055183},0.81556737480275909,1,null,16823.535176000685,98453654.5420295,1.7087771149032139E-2]
["Carterton District","Residential","Carterton DistrictResidential","Urban - Residential",0.46446808293885161,null,0.44670212440827739,{"$f":"($J63-$G63)/3+G63","v":0.46446808293885161},0.48223404146942583,0.5,null,109887.40711283383,643076303.83414829,1.7087771149032135E-2]
["Carterton District","Rural","Carterton DistrictRural","Rural Ward",0.16314453041539678,null,0.11971679562309516,{"$f":"($J64-$G64)/3+G64","v":0.16314453041539678},0.20657226520769839,0.25,null,72077.971351554661,1573910634.6238222,4.5795466251984437E-3]
["South Wairarapa District","Business","South Wairarapa DistrictBusiness","Urban Ward",0.72683315128263759,null,0.59024972692395639,{"$f":"($J65-$G65)/3+G65","v":0.72683315128263759},0.8634165756413188,1,null,44332.499030580657,196344625.20795071,2.2578921619895442E-2]
["South Wairarapa District","Residential","South Wairarapa DistrictResidential","Urban - Residential",0.56016648461597085,null,0.59024972692395627,{"$f":"($J66-$G66)/3+G66","v":0.56016648461597085},0.53008324230798542,0.5,null,206694.86872182382,915432863.4530288,2.2578921619895439E-2]
["South Wairarapa District","Rural","South Wairarapa DistrictRural","Rural Ward",0.18562850425185187,null,0.15344275637777782,{"$f":"($J67-$G67)/3+G67","v":0.18562850425185187},0.21781425212592592,0.25,null,153385.1807396345,2613181710.3390203,5.8696714481342033E-3]
["Tararua District","Rural","Tararua DistrictRural","Tararua District",0,null,0,{"$f":"($J68-$G68)/3+G68","v":0},0,0,null,0,7041799.9999999991,0]
["Region wide",null,"Region wide",null,null,null,null,null,null,null,null,{"$f":"SUM(L43:L68)","v":64656396.137165949},{"$f":"SUM(M43:M68)","v":127056566042.99998}]
[]
["WRS rates",null,null,null,null,null,null,null,null,null,null,{"$f":"SUMIF($D$43:$D$68,\"Residential\",L$43:L$68)","v":30619942.598084778},{"$f":"SUMIF($D$43:$D$68,\"Residential\",M$43:M$68)","v":80045509086.764145},{"$f":"(L71*100)/M71","v":3.8253167413670575E-2}]
["Category group","Rating basis"]
["Regional CBD","Remainder"]
["Business","Remainder"]
["Residential",14]
["Rural",28]
[]
[]
["Flood protection"]
["From Essbase / Landcare & Wairarapa Accountant"]
["TA full name","Regional","Catchment","Property","Total"]
["Wellington City",null,54042,null,{"$f":"SUM(B82:D82)","v":54042}]
["Hutt City",null,5167492,null,{"$f":"SUM(B83:D83)","v":5167492}]
["Upper Hutt City",null,881402,null,881402]
["Porirua City",null,45121,null,45121]
["Kapiti Coast District",null,1619846,null,1619846]
["Masterton District",null,271627,null,271627]
["Carterton District",null,144634,null,144634]
["South Wairarapa District",null,201926,null,201926]
["Tararua District",null,null,null,0]
["Non District Wide",null,null,95164,95164]
["Special Rates",null,null,1417714,1417714]
["External Revenue",null,null,2857246,2857246]
["Total",9735000,{"$f":"SUM(C82:C93)","v":8386090},{"$f":"SUM(D82:D93)","v":4370124},{"$f":"SUM(B94:D94)","v":22491214}]
[]
["Non district-wide breakdown"]
["Greytown River Management Rate",null,null,92549]
["Donalds Creek Stopbank River Management Rate",null,null,2615]
["South Wairarapa District River Management Rates",null,null,{"$f":"SUM(D97:D98)","v":95164}]
[]
[]
["Stadium Rate (ex-GST)"]
["Stadium rate allocations"]
["TA full name","Category group","Concatenated  name","CV","Stadium allocation"]
["Wellington City","Regional CBD",{"$f":"A105&B105","v":"Wellington CityRegional CBD"},{"$f":"INDEX(capital_values,MATCH($C105,capital_values_rows,0),MATCH(D$104&\" \"&year_current,capital_values_header,0))","v":7819039000},{"$f":"0.2055*D105/SUM($D$105:$D$106)","v":0.13754712604503713}]
["Wellington City","Business","Wellington CityBusiness",3862866400,{"$f":"0.2055*D106/SUM($D$105:$D$106)","v":6.7952873954962856E-2}]
["Wellington City","Residential","Wellington CityResidential",39302266501,0.3856]
["Wellington City","Rural","Wellington CityRural",591709550,2.8999999999999998E-3]
["Hutt City","Business","Hutt CityBusiness",3771653500,5.0900000000000001E-2]
["Hutt City","Residential","Hutt CityResidential",17222975000,0.14199999999999999]
["Hutt City","Rural","Hutt CityRural",313950000,2.3E-3]
["Upper Hutt City","Business","Upper Hutt CityBusiness",1176281500,7.9000000000000008E-3]
["Upper Hutt City","Residential","Upper Hutt CityResidential",6108760420,4.2700000000000002E-2]
["Upper Hutt City","Rural","Upper Hutt CityRural",842402340,2E-3]
["Porirua City","Business","Porirua CityBusiness",1097240500,1.24E-2]
["Porirua City","Residential","Porirua CityResidential",8483788000,5.8000000000000003E-2]
["Porirua City","Rural","Porirua CityRural",613377750,1.4E-3]
["Kapiti Coast District","Business","Kapiti Coast DistrictBusiness",1513816000,{"$f":"0.0441*D118/SUM($D$118:$D$119)","v":5.3109417094918962E-3}]
["Kapiti Coast District","Residential","Kapiti Coast DistrictResidential",11056324900,{"$f":"0.0441*D119/SUM($D$118:$D$119)","v":3.8789058290508105E-2}]
["Kapiti Coast District","Rural","Kapiti Coast DistrictRural",2039387700,4.3E-3]
["Masterton District","Business","Masterton DistrictBusiness",435894100,{"$f":"0.0147*D121/SUM($D$121:$D$122)","v":2.0395692965217262E-3}]
["Masterton District","Residential","Masterton DistrictResidential",2705770800,{"$f":"0.0147*D122/SUM($D$121:$D$122)","v":1.2660430703478272E-2}]
["Masterton District","Rural","Masterton DistrictRural",2767803100,5.3E-3]
["Carterton District","Business","Carterton DistrictBusiness",92706500,{"$f":"0.0039*D124/SUM($D$124:$D$125)","v":3.9287110584706992E-4}]
["Carterton District","Residential","Carterton DistrictResidential",827583500,{"$f":"0.0039*D125/SUM($D$124:$D$125)","v":3.5071288941529301E-3}]
["Carterton District","Rural","Carterton DistrictRural",1786851800,3.0999999999999999E-3]
["South Wairarapa District","Business","South Wairarapa DistrictBusiness",205904600,{"$f":"0.0072*D127/SUM($D$127:$D$128)","v":9.877456791589237E-4}]
["South Wairarapa District","Residential","South Wairarapa DistrictResidential",1295001100,{"$f":"0.0072*D128/SUM($D$127:$D$128)","v":6.2122543208410763E-3}]
["South Wairarapa District","Rural","South Wairarapa DistrictRural",2959579600,3.8E-3]
["Tararua District","Rural","Tararua DistrictRural",10760500,0]
[]
[]
["Pest Rate property areas"]
["TA full name","TA code","Range","Area ha"]
["Wellington City","WCC",16690,{"$f":"INDEX('TA Split'!$F$139:$AA$139,MATCH(B135,'TA Split'!$F$1:$AA$1,0))","v":34055}]
["Hutt City","HCC","15780 to 15890,\n16031 to 16600",{"$f":"INDEX('TA Split'!$F$139:$AA$139,MATCH(B136,'TA Split'!$F$1:$AA$1,0))","v":15578}]
["Upper Hutt City","UHCC","15170 to 15230,\n1590 to 16016",{"$f":"INDEX('TA Split'!$F$139:$AA$139,MATCH(B137,'TA Split'!$F$1:$AA$1,0))","v":54326.211900000002}]
["Porirua City","PCC",null,{"$f":"INDEX('TA Split'!$F$139:$AA$139,MATCH(B138,'TA Split'!$F$1:$AA$1,0))","v":11858}]
["Kapiti Coast District","KCDC","14860 to 15150, \n15251 to 15410",{"$f":"INDEX('TA Split'!$F$139:$AA$139,MATCH(B139,'TA Split'!$F$1:$AA$1,0))","v":29205.998500000002}]
["Masterton District","MDC","17870 to 18130",{"$f":"INDEX('TA Split'!$F$139:$AA$139,MATCH(B140,'TA Split'!$F$1:$AA$1,0))","v":207207.73449999999}]
["Carterton District","CDC","18140 to 18190",{"$f":"INDEX('TA Split'!$F$139:$AA$139,MATCH(B141,'TA Split'!$F$1:$AA$1,0))","v":78106.069000000003}]
["South Wairarapa District","SWDC","18230 to 18480",{"$f":"INDEX('TA Split'!$F$139:$AA$139,MATCH(B142,'TA Split'!$F$1:$AA$1,0))","v":178090.13709999999}]
["Tararua District","TDC","11130 to 17750",{"$f":"INDEX('TA Split'!$F$139:$AA$139,MATCH(B143,'TA Split'!$F$1:$AA$1,0))","v":5307.8222999999998}]
["Region wide",null,null,{"$f":"SUM(D135:D143)","v":613734.97330000007}]
[]
[]
["Water levy"]
["Need numbers for each city - March 31 comes from Wellington Water"]
["TA full name","Share of levy",{"$f":"year_current","v":"2018/19"}]
["Wellington City",{"$f":"C150/$C$159","v":0.53514217498266803},17696562]
["Hutt City",{"$f":"C151/$C$159","v":0.24815885911892197},8206340]
["Upper Hutt City",0.10032287740583312,3317567]
["Porirua City",0.11637608849257693,3848429]
["Kapiti Coast District"]
["Masterton District"]
["Carterton District"]
["South Wairarapa District"]
["Tararua District"]
["Region wide",{"$f":"SUM(B150:B158)","v":1},{"$f":"SUM(C150:C158)","v":33068898}]
[]
["Water levy evidence"]

{"sheet":"UHCC Adjustments","index":3,"n_rows":34,"n_cols":5,"rows_kept":34,"cut":false,"hidden":false,"merged":[]}
["Wellington Regional Council"]
[{"$f":"\"UHCC Adjustments \"&year_current","v":"UHCC Adjustments 2018/19"}]
["Printed:",{"$f":"NOW()","v":"2018-03-27T14:57:01"}]
[{"$f":"check_total","v":8066.0526878890842}]
[]
["TA full name","Category group","Sub category group","CV","Rateable Land Value"]
[]
["Trentham Military Camp"]
["Upper Hutt City","Business","Trentham Military Camp",56325000,19235000]
["Upper Hutt City","Residential","Trentham Military Camp",26720000,9495000]
["Upper Hutt City","Rural","Trentham Military Camp",4676000,2720500]
["Upper Hutt City","Business & Residential","Trentham Military Camp",{"$f":"D10+D9","v":83045000},{"$f":"E10+E9","v":28730000}]
["Upper Hutt","Total","Trentham Military Camp",{"$f":"+D9+D10+D11","v":87721000},{"$f":"+E9+E10+E11","v":31450500}]
[]
["Rest of Upper Hutt"]
["Upper Hutt City","Business","Rest of Upper Hutt City",{"$f":"+D23-D9","v":1119956500},274335200]
["Upper Hutt City","Residential","Rest of Upper Hutt City",6082040420,2955698620]
["Upper Hutt City","Rural","Rest of Upper Hutt City",837726340,418796740]
["Upper Hutt City","Business & Residential","Rest of Upper Hutt City",7201996920,3230033820]
["Upper Hutt","Total","Rest of Upper Hutt City",{"$f":"+D27-D13","v":8039723260},3648830560]
[]
["All Upper Hutt"]
["Upper Hutt City","Business","Total",{"$f":"INDEX(capital_values,MATCH($A16&B16,capital_values_rows,0),MATCH(D$6&\" \"&year_current,capital_values_header,0))","v":1176281500},293570200]
["Upper Hutt City","Residential","Total",{"$f":"INDEX(capital_values,MATCH($A17&B17,capital_values_rows,0),MATCH(D$6&\" \"&year_current,capital_values_header,0))","v":6108760420},2965193620]
["Upper Hutt City","Rural","Total",{"$f":"INDEX(capital_values,MATCH($A18&B18,capital_values_rows,0),MATCH(D$6&\" \"&year_current,capital_values_header,0))","v":842402340},421517240]
["Upper Hutt City","Business & Residential","Total",{"$f":"D24+D23","v":7285041920},{"$f":"E24+E23","v":3258763820}]
["Upper Hutt","All","Total",{"$f":"+'Capital values'!E10","v":8127444260},{"$f":"+E23+E24+E25","v":3680281060}]
[]
["Trentham Military Camp share of rates"]
["Upper Hutt City","Business","Trentham % of Share",{"$f":"+D9/D23","v":4.7883946147244519E-2},{"$f":"+E9/E23","v":6.5520955464825795E-2}]
["Upper Hutt City","Residential","Trentham % of Share",{"$f":"+D10/D24","v":4.374046150593675E-3},3.2021517704466126E-3]
["Upper Hutt City","Rural","Trentham % of Share",{"$f":"+D11/D25","v":5.5507917986077765E-3},6.4540657933706341E-3]
["Upper Hutt City","Business & Residential","% of Share",{"$f":"+D12/D26","v":1.1399385331196556E-2},8.8162265162254078E-3]
["Upper Hutt","All","% of Share",{"$f":"+D13/D27","v":1.0793183834151574E-2},{"$f":"+E13/E27","v":8.5456788455173047E-3}]

{"sheet":"Capital values","index":4,"n_rows":140,"n_cols":10,"rows_kept":140,"cut":false,"hidden":false,"merged":[]}
["Wellington Regional Council"]
["Rateable values"]
[{"$f":"check_total","v":8066.0526878890842}]
[]
["Capital values"]
[{"$f":"Control!A29","v":"TA full name"},{"$f":"Control!B29","v":"Category group"},{"$f":"Control!C29","v":"Concatenated  row"},{"$f":"\"CV \"&year_previous","v":"CV 2017/18"},{"$f":"\"CV \"&year_current","v":"CV 2018/19"},{"$f":"\"ECV \"&year_previous","v":"ECV 2017/18"},{"$f":"\"ECV \"&year_current","v":"ECV 2018/19"},null,"Check CV","Check ECV"]
[{"$f":"Control!A40","v":0},{"$f":"Control!B40","v":0},{"$f":"Control!C40","v":0}]
[{"$f":"Control!A30","v":"Wellington City"},{"$f":"Control!B30","v":"District wide"},{"$f":"Control!C30","v":"Wellington CityDistrict wide"},{"$f":"SUMIF($A$19:$A$44,$A8,D$19:D$44)","v":51319125451},{"$f":"SUMIF($A$19:$A$44,$A8,E$19:E$44)","v":51575881451},63374831603,68975077410,null,null,{"$f":"ISBLANK(F8)+ISBLANK(G8)","v":0}]
[{"$f":"Control!A31","v":"Hutt City"},{"$f":"Control!B31","v":"District wide"},{"$f":"Control!C31","v":"Hutt CityDistrict wide"},{"$f":"SUMIF($A$19:$A$44,$A9,D$19:D$44)","v":21170821500},21308578500,21472720375,24118117072,null,null,{"$f":"ISBLANK(F9)+ISBLANK(G9)","v":0}]
[{"$f":"Control!A32","v":"Upper Hutt City"},{"$f":"Control!B32","v":"District wide"},{"$f":"Control!C32","v":"Upper Hutt CityDistrict wide"},8012247760,8127444260,8129557067,9172479133,null,null,0]
[{"$f":"Control!A33","v":"Porirua City"},{"$f":"Control!B33","v":"District wide"},{"$f":"Control!C33","v":"Porirua CityDistrict wide"},10044595300,10194406250,10072475598,11429809803,null,null,0]
[{"$f":"Control!A34","v":"Kapiti Coast District"},{"$f":"Control!B34","v":"District wide"},{"$f":"Control!C34","v":"Kapiti Coast DistrictDistrict wide"},10974506450,14609528600,12948799292,14678791680,null,null,0]
[{"$f":"Control!A35","v":"Masterton District"},{"$f":"Control!B35","v":"District wide"},{"$f":"Control!C35","v":"Masterton DistrictDistrict wide"},4724008400,5909468000,5010740516,5891731979,null,null,0]
[{"$f":"Control!A36","v":"Carterton District"},{"$f":"Control!B36","v":"District wide"},{"$f":"Control!C36","v":"Carterton DistrictDistrict wide"},2188251200,2707141800,2315440593,2715649450,null,null,0]
[{"$f":"Control!A37","v":"South Wairarapa District"},{"$f":"Control!B37","v":"District wide"},{"$f":"Control!C37","v":"South Wairarapa DistrictDistrict wide"},3612556200,4460485300,3724959199,4514129051,null,null,0]
[{"$f":"Control!A38","v":"Tararua District"},{"$f":"Control!B38","v":"District wide"},{"$f":"Control!C38","v":"Tararua DistrictDistrict wide"},6806000,10760500,7041800,7041800,null,null,0]
[{"$f":"Control!A39","v":"Region wide"},{"$f":"Control!B39","v":0},{"$f":"Control!C39","v":"Region wide"},{"$f":"SUM(D8:D16)","v":112052918261},{"$f":"SUM(E8:E16)","v":118903694661},{"$f":"SUM(F8:F16)","v":127056566043},{"$f":"SUM(G8:G16)","v":141502827378}]
[]
[{"$f":"Control!A43","v":"Wellington City"},{"$f":"Control!B43","v":"Regional CBD"},{"$f":"Control!C43","v":"Wellington CityRegional CBD"},7854191500,7819039000,{"$f":"D19\n*\n(INDEX(F$8:F$16,MATCH($A19&\"District wide\",$C$8:$C$16,0))/INDEX(D$8:D$16,MATCH($A19&\"District wide\",$C$8:$C$16,0)))","v":9699270190.5155849},{"$f":"E19\n*\n(INDEX(G$8:G$16,MATCH($A19&\"District wide\",$C$8:$C$16,0))/INDEX(E$8:E$16,MATCH($A19&\"District wide\",$C$8:$C$16,0)))","v":10456802775.328083},null,{"$f":"ISBLANK(D19)+ISBLANK(E19)","v":0}]
[{"$f":"Control!A44","v":"Wellington City"},{"$f":"Control!B44","v":"Business"},{"$f":"Control!C44","v":"Wellington CityBusiness"},3819755400,3862866400,{"$f":"D20\n*\n(INDEX(F$8:F$16,MATCH($A20&\"District wide\",$C$8:$C$16,0))/INDEX(D$8:D$16,MATCH($A20&\"District wide\",$C$8:$C$16,0)))","v":4717078732.5825872},{"$f":"E20\n*\n(INDEX(G$8:G$16,MATCH($A20&\"District wide\",$C$8:$C$16,0))/INDEX(E$8:E$16,MATCH($A20&\"District wide\",$C$8:$C$16,0)))","v":5166009798.9332962},null,{"$f":"ISBLANK(D20)+ISBLANK(E20)","v":0}]
[{"$f":"Control!A45","v":"Wellington City"},{"$f":"Control!B45","v":"Residential"},{"$f":"Control!C45","v":"Wellington CityResidential"},39066389001,39302266501,{"$f":"D21\n*\n(INDEX(F$8:F$16,MATCH($A21&\"District wide\",$C$8:$C$16,0))/INDEX(D$8:D$16,MATCH($A21&\"District wide\",$C$8:$C$16,0)))","v":48243725950.466728},52560941238.986107,null,{"$f":"ISBLANK(D21)+ISBLANK(E21)","v":0}]
[{"$f":"Control!A46","v":"Wellington City"},{"$f":"Control!B46","v":"Rural"},{"$f":"Control!C46","v":"Wellington CityRural"},578789550,591709550,{"$f":"D22\n*\n(INDEX(F$8:F$16,MATCH($A22&\"District wide\",$C$8:$C$16,0))/INDEX(D$8:D$16,MATCH($A22&\"District wide\",$C$8:$C$16,0)))","v":714756729.43509579},791323596.75250769,null,{"$f":"ISBLANK(D22)+ISBLANK(E22)","v":0}]
[{"$f":"Control!A47","v":"Hutt City"},{"$f":"Control!B47","v":"Business"},{"$f":"Control!C47","v":"Hutt CityBusiness"},3796856000,{"$f":"743244000+3028409500","v":3771653500},{"$f":"D23\n*\n(INDEX(F$8:F$16,MATCH($A23&\"District wide\",$C$8:$C$16,0))/INDEX(D$8:D$16,MATCH($A23&\"District wide\",$C$8:$C$16,0)))","v":3850999697.4912381},4268946455.908288,null,{"$f":"ISBLANK(D23)+ISBLANK(E23)","v":0}]
[{"$f":"Control!A48","v":"Hutt City"},{"$f":"Control!B48","v":"Residential"},{"$f":"Control!C48","v":"Hutt CityResidential"},17055925500,17222975000,17299145382.635818,19493826271.80547,null,{"$f":"ISBLANK(D24)+ISBLANK(E24)","v":0}]
[{"$f":"Control!A49","v":"Hutt City"},{"$f":"Control!B49","v":"Rural"},{"$f":"Control!C49","v":"Hutt CityRural"},318040000,313950000,322575294.87294579,355344344.28624129,null,0]
[{"$f":"Control!A50","v":"Upper Hutt City"},{"$f":"Control!B50","v":"Business"},{"$f":"Control!C50","v":"Upper Hutt CityBusiness"},1170562500,1176281500,1187700995.936275,1327528946.1393292,null,{"$f":"ISBLANK(D26)+ISBLANK(E26)","v":0}]
[{"$f":"Control!A51","v":"Upper Hutt City"},{"$f":"Control!B51","v":"Residential"},{"$f":"Control!C51","v":"Upper Hutt CityResidential"},6041952920,6108760420,6130414651.4894199,6894230915.4570951,null,{"$f":"ISBLANK(D27)+ISBLANK(E27)","v":0}]
[{"$f":"Control!A52","v":"Upper Hutt City"},{"$f":"Control!B52","v":"Rural"},{"$f":"Control!C52","v":"Upper Hutt CityRural"},799732340,842402340,811441419.57430518,950719271.40357542,null,0]
[{"$f":"Control!A53","v":"Porirua City"},{"$f":"Control!B53","v":"Business"},{"$f":"Control!C53","v":"Porirua CityBusiness"},1094739500,1097240500,1097778115.5520244,1230208990.6558924,null,{"$f":"ISBLANK(D29)+ISBLANK(E29)","v":0}]
[{"$f":"Control!A54","v":"Porirua City"},{"$f":"Control!B54","v":"Residential"},{"$f":"Control!C54","v":"Porirua CityResidential"},8349049050,8483788000,8372223102.1721783,9511891214.7506161,null,{"$f":"ISBLANK(D30)+ISBLANK(E30)","v":0}]
[{"$f":"Control!A55","v":"Porirua City"},{"$f":"Control!B55","v":"Rural"},{"$f":"Control!C55","v":"Porirua CityRural"},600806750,613377750,602474380.27579737,687709597.59349239,null,0]
[{"$f":"Control!A56","v":"Kapiti Coast District"},{"$f":"Control!B56","v":"Business"},{"$f":"Control!C56","v":"Kapiti Coast DistrictBusiness"},1268607000,1513816000,1496826987.0055292,1520992929.6316159,null,{"$f":"ISBLANK(D32)+ISBLANK(E32)","v":0}]
[{"$f":"Control!A57","v":"Kapiti Coast District"},{"$f":"Control!B57","v":"Residential"},{"$f":"Control!C57","v":"Kapiti Coast DistrictResidential"},8022916350,{"$f":"12570140900-E32","v":11056324900},9466223745.5475941,11108742410.312735,null,{"$f":"ISBLANK(D33)+ISBLANK(E33)","v":0}]
[{"$f":"Control!A58","v":"Kapiti Coast District"},{"$f":"Control!B58","v":"Rural"},{"$f":"Control!C58","v":"Kapiti Coast DistrictRural"},1682983100,2039387700,1985748559.4468777,2049056340.0556493,null,0]
[{"$f":"Control!A59","v":"Masterton District"},{"$f":"Control!B59","v":"Business"},{"$f":"Control!C59","v":"Masterton DistrictBusiness"},381148600,435894100,404283094.12757981,434585855.85494733,null,{"$f":"ISBLANK(D35)+ISBLANK(E35)","v":0}]
[{"$f":"Control!A60","v":"Masterton District"},{"$f":"Control!B60","v":"Residential"},{"$f":"Control!C60","v":"Masterton DistrictResidential"},1974896500,{"$f":"137995000+2567775800","v":2705770800},2094766365.6687391,2697650000.0007467,null,{"$f":"ISBLANK(D36)+ISBLANK(E36)","v":0}]
[{"$f":"Control!A61","v":"Masterton District"},{"$f":"Control!B61","v":"Rural"},{"$f":"Control!C61","v":"Masterton DistrictRural"},2367963300,2767803100,2511691056.2036815,2759496123.1443057,null,0]
[{"$f":"Control!A62","v":"Carterton District"},{"$f":"Control!B62","v":"Business"},{"$f":"Control!C62","v":"Carterton DistrictBusiness"},93045500,92706500,98453654.5420295,92997845.822640315,null,{"$f":"ISBLANK(D38)+ISBLANK(E38)","v":0}]
[{"$f":"Control!A63","v":"Carterton District"},{"$f":"Control!B63","v":"Residential"},{"$f":"Control!C63","v":"Carterton DistrictResidential"},607751500,827583500,643076303.83414829,830184320.82282317,null,{"$f":"ISBLANK(D39)+ISBLANK(E39)","v":0}]
[{"$f":"Control!A64","v":"Carterton District"},{"$f":"Control!B64","v":"Rural"},{"$f":"Control!C64","v":"Carterton DistrictRural"},1487454200,1786851800,1573910634.6238222,1792467283.3545365,null,0]
[{"$f":"Control!A65","v":"South Wairarapa District"},{"$f":"Control!B65","v":"Business"},{"$f":"Control!C65","v":"South Wairarapa DistrictBusiness"},190419802,205904600,196344625.20795071,208380898.95611462,null,{"$f":"ISBLANK(D41)+ISBLANK(E41)","v":0}]
[{"$f":"Control!A66","v":"South Wairarapa District"},{"$f":"Control!B66","v":"Residential"},{"$f":"Control!C66","v":"South Wairarapa DistrictResidential"},887809098,1295001100,915432863.4530288,1310575350.7554336,null,{"$f":"ISBLANK(D42)+ISBLANK(E42)","v":0}]
[{"$f":"Control!A67","v":"South Wairarapa District"},{"$f":"Control!B67","v":"Rural"},{"$f":"Control!C67","v":"South Wairarapa DistrictRural"},2534327300,2959579600,2613181710.3390203,2995172801.2884517,null,0]
[{"$f":"Control!A68","v":"Tararua District"},{"$f":"Control!B68","v":"Rural"},{"$f":"Control!C68","v":"Tararua DistrictRural"},6806000,10760500,7041799.9999999991,7041800,null,{"$f":"ISBLANK(D44)+ISBLANK(E44)","v":0}]
[{"$f":"Control!A69","v":"Region wide"},{"$f":"Control!B69","v":0},{"$f":"Control!C69","v":"Region wide"},{"$f":"SUM(D19:D44)","v":112052918261},{"$f":"SUM(E19:E44)","v":118903694661},{"$f":"SUM(F19:F44)","v":127056566042.99998},{"$f":"SUM(G19:G44)","v":141502827378}]
[]
["Greytown Urban -CV",null,null,535058000,739130000,null,null,null,{"$f":"ISBLANK(D47)+ISBLANK(E47)","v":0}]
["Featherston Urban - LV",null,null,78778700,162213500,null,null,null,{"$f":"ISBLANK(D48)+ISBLANK(E48)","v":0}]
[]
["Check totals",null,null,{"$f":"Total_CV-D17","v":0},{"$f":"E17-E45","v":0}]
[]
[]
["No. of Assessments (#)"]
[{"$f":"Control!A29","v":"TA full name"},{"$f":"Control!B29","v":"Category group"},{"$f":"Control!C29","v":"Concatenated  row"},{"$f":"\"CV assessments \"&year_previous","v":"CV assessments 2017/18"},{"$f":"\"CV assessments \"&year_current","v":"CV assessments 2018/19"},{"$f":"\"ECV assessments \"&year_previous","v":"ECV assessments 2017/18"},{"$f":"\"ECV assessments  \"&year_current","v":"ECV assessments  2018/19"}]
[{"$f":"Control!A40","v":0},{"$f":"Control!B40","v":0},{"$f":"Control!C40","v":0}]
[{"$f":"Control!A30","v":"Wellington City"},{"$f":"Control!B30","v":"District wide"},{"$f":"Control!C30","v":"Wellington CityDistrict wide"},{"$f":"SUMIF($A$67:$A$92,$A56,D$67:D$92)","v":76971},{"$f":"SUMIF($A$67:$A$92,$A56,E$67:E$92)","v":77106},77487,77786,null,null,{"$f":"ISBLANK(F56)+ISBLANK(G56)","v":0}]
[{"$f":"Control!A31","v":"Hutt City"},{"$f":"Control!B31","v":"District wide"},{"$f":"Control!C31","v":"Hutt CityDistrict wide"},{"$f":"SUMIF($A$67:$A$92,$A57,D$67:D$92)","v":39049},39145,39674,39853,null,null,0]
[{"$f":"Control!A32","v":"Upper Hutt City"},{"$f":"Control!B32","v":"District wide"},{"$f":"Control!C32","v":"Upper Hutt CityDistrict wide"},16570,16736,16638,16793,null,null,0]
[{"$f":"Control!A33","v":"Porirua City"},{"$f":"Control!B33","v":"District wide"},{"$f":"Control!C33","v":"Porirua CityDistrict wide"},18514,18629,18501,18614,null,null,0]
[{"$f":"Control!A34","v":"Kapiti Coast District"},{"$f":"Control!B34","v":"District wide"},{"$f":"Control!C34","v":"Kapiti Coast DistrictDistrict wide"},24761,24840,24679,24776,null,null,0]
[{"$f":"Control!A35","v":"Masterton District"},{"$f":"Control!B35","v":"District wide"},{"$f":"Control!C35","v":"Masterton DistrictDistrict wide"},12296,12282,12273,12285,null,null,0]
[{"$f":"Control!A36","v":"Carterton District"},{"$f":"Control!B36","v":"District wide"},{"$f":"Control!C36","v":"Carterton DistrictDistrict wide"},4561,4643,4619,4662,null,null,0]
[{"$f":"Control!A37","v":"South Wairarapa District"},{"$f":"Control!B37","v":"District wide"},{"$f":"Control!C37","v":"South Wairarapa DistrictDistrict wide"},6598,6611,6556,6596,null,null,0]
[{"$f":"Control!A38","v":"Tararua District"},{"$f":"Control!B38","v":"District wide"},{"$f":"Control!C38","v":"Tararua DistrictDistrict wide"},12,10,10,10,null,null,0]
[{"$f":"Control!A39","v":"Region wide"},{"$f":"Control!B39","v":0},{"$f":"Control!C39","v":"Region wide"},{"$f":"SUM(D56:D64)","v":199332},{"$f":"SUM(E56:E64)","v":200002},200437,201375]
[]
[{"$f":"Control!A43","v":"Wellington City"},{"$f":"Control!B43","v":"Regional CBD"},{"$f":"Control!C43","v":"Wellington CityRegional CBD"},3401,3382,null,null,null,{"$f":"ISBLANK(D67)+ISBLANK(E67)","v":0}]
[{"$f":"Control!A44","v":"Wellington City"},{"$f":"Control!B44","v":"Business"},{"$f":"Control!C44","v":"Wellington CityBusiness"},1907,1900,null,null,null,{"$f":"ISBLANK(D68)+ISBLANK(E68)","v":0}]
[{"$f":"Control!A45","v":"Wellington City"},{"$f":"Control!B45","v":"Residential"},{"$f":"Control!C45","v":"Wellington CityResidential"},70889,71045,null,null,null,0]
[{"$f":"Control!A46","v":"Wellington City"},{"$f":"Control!B46","v":"Rural"},{"$f":"Control!C46","v":"Wellington CityRural"},774,779,null,null,null,0]
[{"$f":"Control!A47","v":"Hutt City"},{"$f":"Control!B47","v":"Business"},{"$f":"Control!C47","v":"Hutt CityBusiness"},2357,{"$f":"368+1990","v":2358},null,null,null,{"$f":"ISBLANK(D71)+ISBLANK(E71)","v":0}]
[{"$f":"Control!A48","v":"Hutt City"},{"$f":"Control!B48","v":"Residential"},{"$f":"Control!C48","v":"Hutt CityResidential"},36202,{"$f":"36300","v":36300},null,null,null,{"$f":"ISBLANK(D72)+ISBLANK(E72)","v":0}]
[{"$f":"Control!A49","v":"Hutt City"},{"$f":"Control!B49","v":"Rural"},{"$f":"Control!C49","v":"Hutt CityRural"},490,487,null,null,null,0]
[{"$f":"Control!A50","v":"Upper Hutt City"},{"$f":"Control!B50","v":"Business"},{"$f":"Control!C50","v":"Upper Hutt CityBusiness"},722,712,null,null,null,{"$f":"ISBLANK(D74)+ISBLANK(E74)","v":0}]
[{"$f":"Control!A51","v":"Upper Hutt City"},{"$f":"Control!B51","v":"Residential"},{"$f":"Control!C51","v":"Upper Hutt CityResidential"},14604,14778,null,null,null,{"$f":"ISBLANK(D75)+ISBLANK(E75)","v":0}]
[{"$f":"Control!A52","v":"Upper Hutt City"},{"$f":"Control!B52","v":"Rural"},{"$f":"Control!C52","v":"Upper Hutt CityRural"},1244,1246,null,null,null,0]
[{"$f":"Control!A53","v":"Porirua City"},{"$f":"Control!B53","v":"Business"},{"$f":"Control!C53","v":"Porirua CityBusiness"},796,795,null,null,null,{"$f":"ISBLANK(D77)+ISBLANK(E77)","v":0}]
[{"$f":"Control!A54","v":"Porirua City"},{"$f":"Control!B54","v":"Residential"},{"$f":"Control!C54","v":"Porirua CityResidential"},17106,17224,null,null,null,{"$f":"ISBLANK(D78)+ISBLANK(E78)","v":0}]
[{"$f":"Control!A55","v":"Porirua City"},{"$f":"Control!B55","v":"Rural"},{"$f":"Control!C55","v":"Porirua CityRural"},612,610,null,null,null,0]
[{"$f":"Control!A56","v":"Kapiti Coast District"},{"$f":"Control!B56","v":"Business"},{"$f":"Control!C56","v":"Kapiti Coast DistrictBusiness"},1389,1395,null,null,null,{"$f":"ISBLANK(D80)+ISBLANK(E80)","v":0}]
[{"$f":"Control!A57","v":"Kapiti Coast District"},{"$f":"Control!B57","v":"Residential"},{"$f":"Control!C57","v":"Kapiti Coast DistrictResidential"},20583,{"$f":"22067-E80","v":20672},null,null,null,{"$f":"ISBLANK(D81)+ISBLANK(E81)","v":0}]
[{"$f":"Control!A58","v":"Kapiti Coast District"},{"$f":"Control!B58","v":"Rural"},{"$f":"Control!C58","v":"Kapiti Coast DistrictRural"},2789,2773,null,null,null,0]
[{"$f":"Control!A59","v":"Masterton District"},{"$f":"Control!B59","v":"Business"},{"$f":"Control!C59","v":"Masterton DistrictBusiness"},546,550,null,null,null,{"$f":"ISBLANK(D83)+ISBLANK(E83)","v":0}]
[{"$f":"Control!A60","v":"Masterton District"},{"$f":"Control!B60","v":"Residential"},{"$f":"Control!C60","v":"Masterton DistrictResidential"},7842,{"$f":"17+7861","v":7878},null,null,null,{"$f":"ISBLANK(D84)+ISBLANK(E84)","v":0}]
[{"$f":"Control!A61","v":"Masterton District"},{"$f":"Control!B61","v":"Rural"},{"$f":"Control!C61","v":"Masterton DistrictRural"},3908,3854,null,null,null,0]
[{"$f":"Control!A62","v":"Carterton District"},{"$f":"Control!B62","v":"Business"},{"$f":"Control!C62","v":"Carterton DistrictBusiness"},225,225,null,null,null,{"$f":"ISBLANK(D86)+ISBLANK(E86)","v":0}]
[{"$f":"Control!A63","v":"Carterton District"},{"$f":"Control!B63","v":"Residential"},{"$f":"Control!C63","v":"Carterton DistrictResidential"},2299,2356,null,null,null,{"$f":"ISBLANK(D87)+ISBLANK(E87)","v":0}]
[{"$f":"Control!A64","v":"Carterton District"},{"$f":"Control!B64","v":"Rural"},{"$f":"Control!C64","v":"Carterton DistrictRural"},2037,2062,null,null,null,0]
[{"$f":"Control!A65","v":"South Wairarapa District"},{"$f":"Control!B65","v":"Business"},{"$f":"Control!C65","v":"South Wairarapa DistrictBusiness"},312,308,null,null,null,{"$f":"ISBLANK(D89)+ISBLANK(E89)","v":0}]
[{"$f":"Control!A66","v":"South Wairarapa District"},{"$f":"Control!B66","v":"Residential"},{"$f":"Control!C66","v":"South Wairarapa DistrictResidential"},3147,3196,null,null,null,{"$f":"ISBLANK(D90)+ISBLANK(E90)","v":0}]
[{"$f":"Control!A67","v":"South Wairarapa District"},{"$f":"Control!B67","v":"Rural"},{"$f":"Control!C67","v":"South Wairarapa DistrictRural"},3139,3107,null,null,null,0]
[{"$f":"Control!A68","v":"Tararua District"},{"$f":"Control!B68","v":"Rural"},{"$f":"Control!C68","v":"Tararua DistrictRural"},12,10,null,null,null,{"$f":"ISBLANK(D92)+ISBLANK(E92)","v":0}]
[{"$f":"Control!A69","v":"Region wide"},{"$f":"Control!B69","v":0},{"$f":"Control!C69","v":"Region wide"},{"$f":"SUM(D67:D92)","v":199332},{"$f":"SUM(E67:E92)","v":200002}]
[]
["Check totals",null,null,{"$f":"Total_assessments-D65","v":0},{"$f":"E65-E93","v":0}]
[]
[]
["Number of Assessments Contiguous for WRS"]
[{"$f":"Control!A29","v":"TA full name"},{"$f":"Control!B29","v":"Category group"},{"$f":"Control!C29","v":"Concatenated  row"},{"$f":"\"Contiguous assements \"&year_previous","v":"Contiguous assements 2017/18"},{"$f":"\"Contiguous assements \"&year_current","v":"Contiguous assements 2018/19"}]
[{"$f":"Control!A40","v":0},{"$f":"Control!B40","v":0},{"$f":"Control!C40","v":0}]
[{"$f":"Control!A30","v":"Wellington City"},{"$f":"Control!B30","v":"District wide"},{"$f":"Control!C30","v":"Wellington CityDistrict wide"},{"$f":"SUMIF($A$112:$A$137,$A101,D$112:D$137)","v":0},{"$f":"SUMIF($A$112:$A$137,$A101,E$112:E$137)","v":0}]
[{"$f":"Control!A31","v":"Hutt City"},{"$f":"Control!B31","v":"District wide"},{"$f":"Control!C31","v":"Hutt CityDistrict wide"},{"$f":"SUMIF($A$112:$A$137,$A102,D$112:D$137)","v":125},125]
[{"$f":"Control!A32","v":"Upper Hutt City"},{"$f":"Control!B32","v":"District wide"},{"$f":"Control!C32","v":"Upper Hutt CityDistrict wide"},78,111]
[{"$f":"Control!A33","v":"Porirua City"},{"$f":"Control!B33","v":"District wide"},{"$f":"Control!C33","v":"Porirua CityDistrict wide"},0,0]
[{"$f":"Control!A34","v":"Kapiti Coast District"},{"$f":"Control!B34","v":"District wide"},{"$f":"Control!C34","v":"Kapiti Coast DistrictDistrict wide"},425,354]
[{"$f":"Control!A35","v":"Masterton District"},{"$f":"Control!B35","v":"District wide"},{"$f":"Control!C35","v":"Masterton DistrictDistrict wide"},498,455]
[{"$f":"Control!A36","v":"Carterton District"},{"$f":"Control!B36","v":"District wide"},{"$f":"Control!C36","v":"Carterton DistrictDistrict wide"},293,302]
[{"$f":"Control!A37","v":"South Wairarapa District"},{"$f":"Control!B37","v":"District wide"},{"$f":"Control!C37","v":"South Wairarapa DistrictDistrict wide"},445,413]
[{"$f":"Control!A38","v":"Tararua District"},{"$f":"Control!B38","v":"District wide"},{"$f":"Control!C38","v":"Tararua DistrictDistrict wide"},3,1]
[{"$f":"Control!A39","v":"Region wide"},{"$f":"Control!B39","v":0},{"$f":"Control!C39","v":"Region wide"},{"$f":"SUM(D101:D109)","v":1867},{"$f":"SUM(E101:E109)","v":1761}]
[]
[{"$f":"Control!A43","v":"Wellington City"},{"$f":"Control!B43","v":"Regional CBD"},{"$f":"Control!C43","v":"Wellington CityRegional CBD"}]
[{"$f":"Control!A44","v":"Wellington City"},{"$f":"Control!B44","v":"Business"},{"$f":"Control!C44","v":"Wellington CityBusiness"}]
[{"$f":"Control!A45","v":"Wellington City"},{"$f":"Control!B45","v":"Residential"},{"$f":"Control!C45","v":"Wellington CityResidential"}]
[{"$f":"Control!A46","v":"Wellington City"},{"$f":"Control!B46","v":"Rural"},{"$f":"Control!C46","v":"Wellington CityRural"}]
[{"$f":"Control!A47","v":"Hutt City"},{"$f":"Control!B47","v":"Business"},{"$f":"Control!C47","v":"Hutt CityBusiness"}]
[{"$f":"Control!A48","v":"Hutt City"},{"$f":"Control!B48","v":"Residential"},{"$f":"Control!C48","v":"Hutt CityResidential"},125,125]
[{"$f":"Control!A49","v":"Hutt City"},{"$f":"Control!B49","v":"Rural"},{"$f":"Control!C49","v":"Hutt CityRural"}]
[{"$f":"Control!A50","v":"Upper Hutt City"},{"$f":"Control!B50","v":"Business"},{"$f":"Control!C50","v":"Upper Hutt CityBusiness"}]
[{"$f":"Control!A51","v":"Upper Hutt City"},{"$f":"Control!B51","v":"Residential"},{"$f":"Control!C51","v":"Upper Hutt CityResidential"},12,{"$f":"14778-14741","v":37}]
[{"$f":"Control!A52","v":"Upper Hutt City"},{"$f":"Control!B52","v":"Rural"},{"$f":"Control!C52","v":"Upper Hutt CityRural"},66,{"$f":"1246-1172","v":74}]
[{"$f":"Control!A53","v":"Porirua City"},{"$f":"Control!B53","v":"Business"},{"$f":"Control!C53","v":"Porirua CityBusiness"}]
[{"$f":"Control!A54","v":"Porirua City"},{"$f":"Control!B54","v":"Residential"},{"$f":"Control!C54","v":"Porirua CityResidential"}]
[{"$f":"Control!A55","v":"Porirua City"},{"$f":"Control!B55","v":"Rural"},{"$f":"Control!C55","v":"Porirua CityRural"}]
[{"$f":"Control!A56","v":"Kapiti Coast District"},{"$f":"Control!B56","v":"Business"},{"$f":"Control!C56","v":"Kapiti Coast DistrictBusiness"}]
[{"$f":"Control!A57","v":"Kapiti Coast District"},{"$f":"Control!B57","v":"Residential"},{"$f":"Control!C57","v":"Kapiti Coast DistrictResidential"},255,199]
[{"$f":"Control!A58","v":"Kapiti Coast District"},{"$f":"Control!B58","v":"Rural"},{"$f":"Control!C58","v":"Kapiti Coast DistrictRural"},170,155]
[{"$f":"Control!A59","v":"Masterton District"},{"$f":"Control!B59","v":"Business"},{"$f":"Control!C59","v":"Masterton DistrictBusiness"}]
[{"$f":"Control!A60","v":"Masterton District"},{"$f":"Control!B60","v":"Residential"},{"$f":"Control!C60","v":"Masterton DistrictResidential"},17,14]
[{"$f":"Control!A61","v":"Masterton District"},{"$f":"Control!B61","v":"Rural"},{"$f":"Control!C61","v":"Masterton DistrictRural"},481,441]
[{"$f":"Control!A62","v":"Carterton District"},{"$f":"Control!B62","v":"Business"},{"$f":"Control!C62","v":"Carterton DistrictBusiness"}]
[{"$f":"Control!A63","v":"Carterton District"},{"$f":"Control!B63","v":"Residential"},{"$f":"Control!C63","v":"Carterton DistrictResidential"},79,82]
[{"$f":"Control!A64","v":"Carterton District"},{"$f":"Control!B64","v":"Rural"},{"$f":"Control!C64","v":"Carterton DistrictRural"},214,220]
[{"$f":"Control!A65","v":"South Wairarapa District"},{"$f":"Control!B65","v":"Business"},{"$f":"Control!C65","v":"South Wairarapa DistrictBusiness"}]
[{"$f":"Control!A66","v":"South Wairarapa District"},{"$f":"Control!B66","v":"Residential"},{"$f":"Control!C66","v":"South Wairarapa DistrictResidential"},75,73]
[{"$f":"Control!A67","v":"South Wairarapa District"},{"$f":"Control!B67","v":"Rural"},{"$f":"Control!C67","v":"South Wairarapa DistrictRural"},370,340]
[{"$f":"Control!A68","v":"Tararua District"},{"$f":"Control!B68","v":"Rural"},{"$f":"Control!C68","v":"Tararua DistrictRural"},3,1]
[{"$f":"Control!A69","v":"Region wide"},{"$f":"Control!B69","v":0},{"$f":"Control!C69","v":"Region wide"},{"$f":"SUM(D112:D137)","v":1867},{"$f":"SUM(E112:E137)","v":1761}]
[]
["Check totals",null,null,{"$f":"D110-D138","v":0},{"$f":"E110-E138","v":0}]

{"sheet":"ESSbase","index":5,"n_rows":53,"n_cols":19,"rows_kept":53,"cut":false,"hidden":false,"merged":[[2,0,2,1]]}
["Wellington Regional Council"]
["ESSBase values"]
[{"$f":"check_total","v":8066.0526878890842}]
[]
[null,"Model naming convention","Essbase name","Essbase name",null,"Last Year Base","Current Year Base","total",null,"Proposed Budget Base"]
[null,null,null,null,null,{"$f":"year_previous","v":"2017/18"},{"$f":"year_current","v":"2018/19"},{"$f":"year_current","v":"2018/19"},null,{"$f":"year_current","v":"2018/19"}]
[null,null,null,null,null,null,null,null,null,null,null,null,null,null,"Manual adj to Essbase"]
[null,"General rate","WRC - Mgmt","General Rates",null,{"$f":"42481670.5205436","v":42481670.520543598},{"$f":"48100745.972216+R11","v":36442150.972216003},{"$f":"+G8/F8-1","v":-0.14216765664634023},null,31804344.03047749,{"$f":"+G8-J8","v":4637806.9417385124}]
[null,"Remission of rates",null,"Remission of Regional Rates",null,0,0,null,null,0,{"$f":"+G9-J9","v":0},null,null,null,null,"Essbase","rates model","manual adj","to input to Essbase"]
[null,"Public transport rate",null,"Transport Rate",null,64656396.127130903,67273010.401963353,{"$f":"+G10/F10-1","v":4.0469534826647724E-2},null,64656396.127130903,2616614.2748324499]
[null,"Flood protection – regional rate",null,"Flood protection - regional rates",null,null,{"$f":"S13","v":9735000},null,null,10679230.937095907,-944230.93709590659,null,"New category to be added in GL",null,"General ",48100746,null,{"$f":"-R12-R13","v":-11658595},{"$f":"P11+R11","v":36442151}]
[null,"Flood protection – catchment rate",null,"Flood protection - Catchment rates",null,5826660.417418221,{"$f":"6462495.46518727+R12","v":8386090.4651872702},{"$f":"+G12/F12-1","v":0.43926192096554795},null,5826660.3153546322,2559430.149832638,null,"New category to be added in GL, was \"River  Mgmt Rates\"",null,"River",6462495,{"$f":"Control!C94","v":8386090},{"$f":"Q12-P12","v":1923595},{"$f":"P12+R12","v":8386090}]
[null,"Stadium purposes rate",null,"Stadium Rate",null,978091.35,0,-1,null,978091.35,-978091.35,null,null,null,"FP- regional",null,{"$f":"Control!B94","v":9735000},{"$f":"Q13-P13","v":9735000},{"$f":"P13+R13","v":9735000}]
[null,"Regional strategy rate",null,"WRS Rate",null,4822017.2188234972,4907860.8208731934,1.7802425448543158E-2,null,4822017.2188234972,85843.602049696259]
[null,"District-Wide Rates",null,"District-Wide Rates",null,{"$f":"SUM(F8:F14)","v":118764835.63391621},{"$f":"SUM(G8:G14)","v":126744112.66023982},6.7185518202703687E-2,null,118766739.97888242,7977372.6813573986]
[null,"Rates penalties",null,"Rates Penalties",null,0,0,null,null,0,0]
[null,"Remission of rates penalties",null,"Remission of Rates Penalties",null,0,0,null,null,0,0]
[null,"Pest management rate",null,"Pest Rate",null,472000,532000,0.12711864406779672,null,472000,60000]
[null,"River  Mgmt Rates - Non District Wide",null,"River  Mgmt Rates - Non District Wide",null,93297.36,95164,2.0007425719227312E-2,null,93297.36,1866.6399999999994]
[null,"Special Rates",null,"Special Rates",null,1451756.1159999999,1480589,1.9860694012051372E-2,null,1451707.8319999999,28881.168000000063,null,"Rename \"Flood Protection - Property\""]
[null,"Total Other Rates",null,"Total Other Rates",null,{"$f":"SUM(F16:F20)","v":2017053.4759999998},{"$f":"SUM(G16:G20)","v":2107753},4.4966345750964143E-2,null,2017005.1919999998,90747.808000000194]
[null,"Total Regnl Rates",null,"Total Regnl Rates",null,{"$f":"F21+F15","v":120781889.10991621},{"$f":"G21+G15","v":128851865.66023982},{"$f":"+G22/F22-1","v":6.6814458771874419E-2},null,120783745.17088242,8068120.489357397]
[null,"Bulk water levies",null,"Bulk Water Levies",null,30862765.437637679,33068898.039999999,7.1482013069117389E-2,null,30668029.578665975,2400868.4613340236]
[null,"Total Regnl Rates & levies",null,"Total Regnl Rates & levies",null,{"$f":"SUM(F22:F23)","v":151644654.5475539},{"$f":"SUM(G22:G23)","v":161920763.70023981},{"$f":"+G24/F24-1","v":6.7764400818120851E-2},null,151451774.851612,10468988.848627806,null,"Row added to reconcile total"]
[null,"Warm Greater Wellington rate",null,"Warm Greater Wellington rate",null,3181767,3237058,1.7377450957282603E-2,null,3181767.0725559997,55290.927444000263,null,"Row added to reconcile total"]
[null,"Total Rates & Levies",null,"Total Rates & Levies",null,{"$f":"SUM(F24:F25)","v":154826421.5475539},{"$f":"SUM(G24:G25)","v":165157821.70023981},6.6728921649285011E-2,null,154633541.92416799,10524279.776071817]
[]
[]
[]
[]
[null,"Total River, Drainage etc",null,"Total River, Drainage etc"]
[]
[null,"General Rates","Te Hunga Whiriwhiri Department","General Rates",null,1033308.0584435116,1322264.385583374,{"$f":"+G33/F33-1","v":0.27964199521982036},null,1033308.0584435116,288956.32713986235]
[null,"General Rates","Managing Emergencies","General Rates",null,1303299.1439564219,1454741.3196077219,{"$f":"+G34/F34-1","v":0.11619909086379621},null,1303299.1439564219,151442.1756513]
[null,"General Rates","Rates Collection..","General Rates",null,"0","0","0",null,"0",0]
[null,"General Rates","Old 30000","General Rates",null,16860390.21319633,18407195.973236576,{"$f":"+G36/F36-1","v":9.1741990575614718E-2},null,16947905.219228614,1459290.7540079616]
[null,"General Rates","Parks & Forests Group","General Rates",null,5882830.0820970405,5919808.1382245906,{"$f":"+G37/F37-1","v":6.2857596788463699E-3},null,5911654.0379923303,8154.1002322603017]
[null,"General Rates","Wairarapa Water Use (was Env Edu) activity","General Rates",null,361326.35353576462,425103.97567589843,{"$f":"+G38/F38-1","v":0.17650974393657393},null,361326.35353576462,63777.622140133812]
[null,"General Rates","Catchment Management (excluding forests)","General Rates",null,21662719.477799378,{"$f":"22790704.2516897+R11","v":11132109.251689699},{"$f":"+G39/F39-1","v":-0.48611672402912165},null,21662719.477799378,-10530610.22610968]
[null,"General Rates","Strategy Group","General Rates",null,5273359.2280416125,6446744.4822720932,{"$f":"+G40/F40-1","v":0.22251191384627989},null,5273359.2280416125,1173385.2542304806]
[null,null,null,null,null,null,null,null,null,null,0]
[null,"General Rates","Investment Management.","General Rates",null,-9897893.7680854462,-8665816.5540739745,{"$f":"+G42/F42-1","v":-0.12447872677560501},null,-10009996.551424256,1344179.9973502811]
[]
[null,"General Rates","WRC - Mgmt","General Rates",null,{"$f":"SUM(F33:F42)","v":42479338.788984612},{"$f":"SUM(G33:G42)","v":36442150.97221598},{"$f":"+G44/F44-1","v":-0.14212056940806583},null,42483574.967573375,-6041423.9953573942]
[]
[null,null,null,null,null,0,{"$f":"SUM(G33:G42)-G44","v":0},null,null,0,0]
[]
[]
[]
[]
[]
[null,"Warm Greater Wellington rate","Warm Greater Wellington management","Warm Greater Wellington rate",null,3268007.0725560002,3237058,{"$f":"+G52/F52-1","v":-9.4703199438898045E-3},null,3181767.0725559997]
[null,"External Income","Warm Greater Wellington management","External Income",null,0,0,0,null,0]

{"sheet":"Class Rates","index":6,"n_rows":165,"n_cols":13,"rows_kept":165,"cut":false,"hidden":false,"merged":[[161,1,161,8]]}
["Wellington Regional Council"]
[{"$f":"\"Class rates \"&year_current","v":"Class rates 2018/19"}]
["Printed :",{"$f":"NOW()","v":"2018-03-27T14:57:00.990"}]
[{"$f":"check_total","v":8066.0526878890842}]
[]
["2016-12-01","Revenue Required",null,"Class","$ per Hectare","Class Total","Class Areas","Scheme Total","Var"]
["Draft","ex gst",null,null,"ex gst","ex gst","Hectares","ex gst","$",null,"Lookup index"]
["River Management",null,null,null,null,null,null,null,null,null,"Scheme","Class","Concat"]
["Waingawa",40635,null,"A",146.8098727324633,{"$f":"E9*G9","v":4979.9523739451624},33.92110000000001,{"$f":"SUM(F9:F16)","v":40635.000000000015},{"$f":"B9-H9","v":0},null,{"$f":"A9","v":"Waingawa"},{"$f":"D9","v":"A"},{"$f":"K9&L9","v":"WaingawaA"}]
[null,null,null,"B",95.426417276101148,{"$f":"E10*G10","v":12423.794288577074},130.19240000000002,null,null,null,{"$f":"K9","v":"Waingawa"},"B",{"$f":"K10&L10","v":"WaingawaB"}]
[null,null,null,"C",73.404936366231652,{"$f":"SUM(E11*G11)","v":8381.0012691208594},114.17489999999997,null,null,null,"Waingawa","C","WaingawaC"]
[null,null,null,"D",66.064442729608487,{"$f":"E12*G12","v":153.95657733707961},2.3304,null,null,null,"Waingawa","D","WaingawaD"]
[null,null,null,"E",58.723949092985322,{"$f":"E13*G13","v":9854.2603634720381},167.80649999999994,null,null,null,"Waingawa","E","WaingawaE"]
[null,null,null,"F",51.383455456362157,{"$f":"E14*G14","v":1333.7500765897012},25.956799999999998,null,null,null,"Waingawa","F","WaingawaF"]
[null,null,null,"G",22.021480909869496,{"$f":"E15*G15","v":1030.1343992341158},46.778616000000007,null,null,null,"Waingawa","G","WaingawaG"]
[null,null,null,"H",14.68098727324633,{"$f":"E16*G16","v":2478.1506517239814},168.80000000000004,null,null,null,"Waingawa","H","WaingawaH"]
["Lower Wairarapa Valley Development Scheme",769460,null,"A",0.2341872774,{"$f":"E17*G17+J17","v":676524.10774034355},2888816.6567000002,{"$f":"SUM(F17:F19)","v":769459.60324712354},{"$f":"B17-H17","v":0.39675287646241486},null,{"$f":"A17","v":"Lower Wairarapa Valley Development Scheme"},"A","Lower Wairarapa Valley Development SchemeA"]
[null,null,null,"Sa",18.802472939999998,{"$f":"E18*G18","v":7840.6312159799991},417,null,null,null,"Lower Wairarapa Valley Development Scheme","Sa","Lower Wairarapa Valley Development SchemeSa"]
[null,null,null,"Sb",37.6193034,85094.864290800004,2262,null,null,null,"Lower Wairarapa Valley Development Scheme","Sb","Lower Wairarapa Valley Development SchemeSb"]
["Upper Ruamahanga",42007,null,"A",132.77572476680345,{"$f":"E20*G20+J20","v":11819.576546679356},89.019107728000023,{"$f":"SUM(F20:F26)","v":42007.000000000022},{"$f":"B20-H20","v":0},null,{"$f":"A20","v":"Upper Ruamahanga"},"A","Upper RuamahangaA"]
["(Mt Bruce - Te Ore Ore)",null,null,"B",110.64643730566955,729.50671087960427,6.5931333049999994,null,null,null,{"$f":"K20","v":"Upper Ruamahanga"},"B","Upper RuamahangaB"]
[null,null,null,"C",88.517149844535638,11043.781131309606,124.764310088,null,null,null,"Upper Ruamahanga","C","Upper RuamahangaC"]
[null,null,null,"D",66.387862383401725,1169.435473456098,17.615199999999998,null,null,null,"Upper Ruamahanga","D","Upper RuamahangaD"]
[null,null,null,"E",44.258574922267819,13130.681138894855,296.68106490000008,null,null,null,"Upper Ruamahanga","E","Upper RuamahangaE"]
[null,null,null,"F",22.129287461133909,872.40436925265033,39.423066413000001,null,null,null,"Upper Ruamahanga","F","Upper RuamahangaF"]
[null,null,null,"S",1246.7748575107094,3241.6146295278454,2.600000000000001,null,null,null,"Upper Ruamahanga","S","Upper RuamahangaS"]
["Middle Ruamahanga",29642,null,"A",130.9622033006674,{"$f":"E27*G27+J27","v":5283.1667484972813},40.341156573000006,{"$f":"SUM(F27:F33)","v":29642.000000000004},{"$f":"B27-H27","v":0},null,{"$f":"A27","v":"Middle Ruamahanga"},"A","Middle RuamahangaA"]
["(Te Ore Ore - Gladstone)",null,null,"B",109.13516941722281,5956.5527318534587,54.579589363000011,null,null,null,{"$f":"K27","v":"Middle Ruamahanga"},"B","Middle RuamahangaB"]
[null,null,null,"C",87.308135533778255,446.43268942486833,5.1132999999999997,null,null,null,"Middle Ruamahanga","C","Middle RuamahangaC"]
[null,null,null,"D",65.481101650333699,7412.9898756430821,113.20808124500002,null,null,null,"Middle Ruamahanga","D","Middle RuamahangaD"]
[null,null,null,"E",43.654067766889128,1316.3534902563281,30.154199999999999,null,null,null,"Middle Ruamahanga","E","Middle RuamahangaE"]
[null,null,null,"F",21.827033883444564,6452.9734893659961,295.641337427,null,null,null,"Middle Ruamahanga","F","Middle RuamahangaF"]
[null,null,null,"S",1320.729035694756,2773.5309749589878,2.1,null,null,null,"Middle Ruamahanga","S","Middle RuamahangaS"]
["Lower Ruamahanga",68591,null,"A",63.010582513684838,{"$f":"E34*G34+J34","v":7906.1665794171458},125.47363100000003,{"$f":"SUM(F34:F41)","v":68590.999999999956},{"$f":"B34-H34","v":0},null,{"$f":"A34","v":"Lower Ruamahanga"},"A","Lower RuamahangaA"]
["(Gladstone - Waiohine)",null,null,"B",54.009070726015572,2907.3676871592165,53.831099999999992,null,null,null,{"$f":"K34","v":"Lower Ruamahanga"},"B","Lower RuamahangaB"]
[null,null,null,"C",45.007558938346307,10080.649026822206,223.97680000000005,null,null,null,"Lower Ruamahanga","C","Lower RuamahangaC"]
[null,null,null,"D",36.006047150677048,11468.354489451733,318.51189999999997,null,null,null,"Lower Ruamahanga","D","Lower RuamahangaD"]
[null,null,null,"E",27.004535363007786,8736.6138675413567,323.52394700000002,null,null,null,"Lower Ruamahanga","E","Lower RuamahangaE"]
[null,null,null,"F",18.003023575338524,22040.946937284196,1224.2913999999994,null,null,null,"Lower Ruamahanga","F","Lower RuamahangaF"]
[null,null,null,"SA",1579.9713699813096,4107.925561951407,2.600000000000001,null,null,null,"Lower Ruamahanga","SA","Lower RuamahangaSA"]
[null,null,null,"SB",789.98579433688678,1342.9758503727078,1.7000000000000004,null,null,null,"Lower Ruamahanga",{"$f":"D41","v":"SB"},"Lower RuamahangaSB"]
["Waiohine Rural",92549,null,"A",45.785193650716508,{"$f":"E42*G42","v":5150.2116070719567},112.48639999999997,{"$f":"SUM(F42:F47)","v":92548.999999999971},{"$f":"B42-H42","v":0},null,{"$f":"A42","v":"Waiohine Rural"},"A","Waiohine RuralA"]
[null,null,null,"B",38.154328042263757,{"$f":"E43*G43","v":14613.989005164794},383.0231,null,null,null,{"$f":"K42","v":"Waiohine Rural"},"B","Waiohine RuralB"]
[null,null,null,"C",30.523462433811005,39000.598089160994,1277.7252310000001,null,null,null,"Waiohine Rural","C","Waiohine RuralC"]
[null,null,null,"D",22.892596825358254,8505.1079362701148,371.52220000000005,null,null,null,"Waiohine Rural","D","Waiohine RuralD"]
[null,null,null,"E",15.261731216905503,12230.313171877911,801.37128600000028,null,null,null,"Waiohine Rural","E","Waiohine RuralE"]
[null,null,null,"S",763.08656084527513,13048.780190454185,17.099999999999973,null,null,null,"Waiohine Rural","S","Waiohine RuralS"]
["Mangatarere",9907,null,"A",34.614077181897954,742.71425409198446,21.457000000000001,{"$f":"SUM(F48:F51)","v":9906.9995174453652},{"$f":"B48-H48","v":4.8255463480018079E-4},null,{"$f":"A48","v":"Mangatarere"},"A","MangatarereA"]
[null,null,null,"B",33.109117304424132,6937.9758002013114,209.5488,null,null,null,{"$f":"K48","v":"Mangatarere"},"B","MangatarereB"]
[null,null,null,"C",28.056752001476291,442.41008826007874,15.7684,null,null,null,"Mangatarere","C","MangatarereC"]
[null,null,null,"D",24.831837978318099,1783.8993748919897,71.839200000000005,null,null,null,"Mangatarere","D","MangatarereD"]
["Waipoua",51896,null,"A",111.47839521806316,9754.1812161481757,87.49839999999999,{"$f":"SUM(F52:F57)","v":51895.999999999978},{"$f":"B52-H52","v":0},null,{"$f":"A52","v":"Waipoua"},"A","WaipouaA"]
[null,null,null,"B",89.182716174450519,26784.191639043016,300.32939999999996,null,null,null,{"$f":"K52","v":"Waipoua"},"B","WaipouaB"]
[null,null,null,"C",66.887037130837882,1501.7276915504331,22.451700000000002,null,null,null,{"$f":"K53","v":"Waipoua"},"C","WaipouaC"]
[null,null,null,"D",44.59135808722526,13253.916119080815,297.23059999999998,null,null,null,"Waipoua","D","WaipouaD"]
[null,null,null,"SA",3767.9697583705342,376.79697583705342,0.1,null,null,null,"Waipoua","SA","WaipouaSA"]
[null,null,null,"SC",2251.8635834048755,225.18635834048757,0.1,null,null,null,"Waipoua","SC","WaipouaSC"]
["Kopuaranga",22357,null,"A2",125.44153186733357,3268.2536712715087,26.053999999999998,{"$f":"SUM(F58:F69)","v":22355.999999999996},{"$f":"B58-H58","v":1.000000000003638},null,{"$f":"A58","v":"Kopuaranga"},"A2","KopuarangaA2"]
[null,null,null,"A3",112.89737868060021,7779.0245319187379,68.903500000000008,null,null,null,{"$f":"K58","v":"Kopuaranga"},"A3","KopuarangaA3"]
[null,null,null,"A4",62.720765933666783,707.78502733164953,11.284699999999999,null,null,null,"Kopuaranga","A4","KopuarangaA4"]
[null,null,null,"A5",43.904536153566752,2534.3454449284873,57.724000000000004,null,null,null,"Kopuaranga","A5","KopuarangaA5"]
[null,null,null,"A6",25.088306373466715,{"$f":"E62*G62","v":2035.4393843857281},81.131,null,null,null,"Kopuaranga","A6","KopuarangaA6"]
[null,null,null,"B2",25.088306373466715,1537.3386584775571,61.277099999999997,null,null,null,"Kopuaranga","B2","KopuarangaB2"]
[null,null,null,"B3",22.579475736120045,1658.2660513791132,73.441299999999998,null,null,null,"Kopuaranga","B3","KopuarangaB3"]
[null,null,null,"B4",12.544153186733357,116.39970625033617,9.2791999999999994,null,null,null,"Kopuaranga","B4","KopuarangaB4"]
[null,null,null,"B5",8.7809072307133498,272.81400675103311,31.069000000000003,null,null,null,"Kopuaranga","B5","KopuarangaB5"]
[null,null,null,"B6",5.0176612746933431,603.44451730584763,120.26409999999998,null,null,null,"Kopuaranga","B6","KopuarangaB6"]
[null,null,null,"SA",153.57419999999999,767.87099999999998,5,null,null,null,"Kopuaranga","SA","KopuarangaSA"]
[null,null,null,"SB",76.787000000000006,1075.018,14,null,null,null,"Kopuaranga","SB","KopuarangaSB"]
["Lower Taueru",2263,null,"A",4.0587685087116778,{"$f":"E70*G70+J70","v":1653.6785433079754},407.43357000000009,{"$f":"SUM(F70:F73)","v":2263},{"$f":"B70-H70","v":0},null,{"$f":"A70","v":"Lower Taueru"},{"$f":"D70","v":"A"},"Lower TaueruA"]
[null,null,null,"B",0.81175370174233563,228.94946066506537,282.04301399999997,null,null,null,{"$f":"K70","v":"Lower Taueru"},"B",{"$f":"K71&L71","v":"Lower TaueruB"}]
[null,null,null,"C",0.40587685087116782,{"$f":"E72*G72","v":72.311466215743224},178.1611,null,null,null,"Lower Taueru","C","Lower TaueruC"]
[null,null,null,"S",202.93842543558389,308.06052981121627,1.5179999999999996,null,null,null,"Lower Taueru","S","Lower TaueruS"]
["Lower Whangaehu",4114,null,"A",21.623069428869243,{"$f":"E74*G74+J74","v":721.99645053688687},33.390099999999997,{"$f":"SUM(F74:F79)","v":4113.9999999999982},{"$f":"B74-H74","v":0},null,{"$f":"A74","v":"Lower Whangaehu"},"A","Lower WhangaehuA"]
[null,null,null,"B",17.298455543095393,{"$f":"E75*G75","v":1125.8353821112773},65.082999999999998,null,null,null,{"$f":"K74","v":"Lower Whangaehu"},"B","Lower WhangaehuB"]
[null,null,null,"C",12.973841657321547,{"$f":"E76*G76","v":705.83666582991577},54.404599999999995,null,null,null,"Lower Whangaehu","C","Lower WhangaehuC"]
[null,null,null,"D",8.6492277715476966,{"$f":"E77*G77","v":662.2609913940812},76.568799999999996,null,null,null,"Lower Whangaehu","D","Lower WhangaehuD"]
[null,null,null,"E",4.3246138857738483,{"$f":"E78*G78","v":753.53110253056116},174.2424,null,null,null,"Lower Whangaehu","E","Lower WhangaehuE"]
[null,null,null,"S",108.11534714434622,{"$f":"E79*G79","v":144.53940759727647},1.3369,null,null,null,"Lower Whangaehu","S","Lower WhangaehuS"]
["Catchment Schemes",null,null,null,null,null,null,null,null,null,"Lower Whangaehu",0,"Lower Whangaehu0"]
["Awhea-Opouawe",18992,null,"A",null,{"$f":"E81*G81","v":0},2224.6093000000001,{"$f":"H149","v":18992.379999999997},{"$f":"B81-H81","v":-0.37999999999738066},null,{"$f":"A81","v":"Awhea-Opouawe"},"A","Awhea-OpouaweA"]
[null,null,null,"B",null,{"$f":"E82*G82","v":0},1956.3706999999999,"see bottom of sheet",null,null,{"$f":"K81","v":"Awhea-Opouawe"},"B","Awhea-OpouaweB"]
["see bottom of sheet",null,null,"C",null,0,1789.5900999999999,null,null,null,"Awhea-Opouawe","C","Awhea-OpouaweC"]
[null,null,null,"D",null,0,685.62689999999998,null,null,null,"Awhea-Opouawe","D","Awhea-OpouaweD"]
[null,null,null,"E",null,0,31708.360700000001,null,null,null,"Awhea-Opouawe","E","Awhea-OpouaweE"]
[null,null,null,"F",null,0,3356.5216999999998,null,null,null,"Awhea-Opouawe","F","Awhea-OpouaweF"]
[null,null,null,"SA",null,0,0.65,null,null,null,"Awhea-Opouawe","SA","Awhea-OpouaweSA"]
[null,null,null,"SB",null,0,0.21,null,null,null,"Awhea-Opouawe","SB","Awhea-OpouaweSB"]
["Whareama",17356,null,"A",4.0778275340653458,{"$f":"E89*G89+J89","v":2917.2208799898121},715.38603720239257,{"$f":"SUM(F89:F94)","v":17356},{"$f":"B89-H89","v":0},null,{"$f":"A89","v":"Whareama"},"A","WhareamaA"]
[null,null,null,"B",1.5683952054097485,1493.9982850228998,952.56494018201727,null,null,null,{"$f":"K89","v":"Whareama"},"B","WhareamaB"]
[null,null,null,"C",0.27446916094670598,12508.964954632014,45575.12002982694,null,null,null,"Whareama","C","WhareamaC"]
[null,null,null,"D",0.23525928081146227,0,0,null,null,null,"Whareama","D","WhareamaD"]
[null,null,null,"E",0.19604940067621857,3.0196508939154563,15.4025,null,null,null,"Whareama","E","WhareamaE"]
[null,null,null,"F",0.15683952054097483,432.79622946135675,2759.4845225778877,null,null,null,"Whareama","F","WhareamaF"]
["Homewood",10057,null,"A",1.6541176470588235,3795.7592983976479,2294.7335730000004,{"$f":"SUM(F95:F98)","v":10057.063627073052},{"$f":"B95-H95","v":-6.3627073051975458E-2},null,{"$f":"A95","v":"Homewood"},"A","HomewoodA"]
[null,null,null,"B",1.5752941176470587,870.24310841764679,552.43214499999988,null,null,null,{"$f":"K95","v":"Homewood"},"B","HomewoodB"]
[null,null,null,"C",1.3784313725490196,5048.4689000901963,3662.4738820000002,null,null,null,"Homewood","C","HomewoodC"]
[null,null,null,"D",0.19696078431372549,342.59232016756204,1739.3935618263479,null,null,null,"Homewood","D","HomewoodD"]
["Mataikona-Whakataki",4584,null,"A",null,0,4067.5167999999999,{"$f":"H153","v":4584},{"$f":"B99-H99","v":0},null,{"$f":"A99","v":"Mataikona-Whakataki"},"A","Mataikona-WhakatakiA"]
[null,null,null,"B",null,0,7767.2790000000005,"see bottom of sheet",null,null,{"$f":"K99","v":"Mataikona-Whakataki"},"B","Mataikona-WhakatakiB"]
["see bottom of sheet",null,null,"C",null,0,11511.363600000001,null,null,null,"Mataikona-Whakataki","C","Mataikona-WhakatakiC"]
[null,null,null,"S",null,0,12.2,null,null,null,"Mataikona-Whakataki",{"$f":"D102","v":"S"},"Mataikona-WhakatakiS"]
["Maungaraki",5990,null,"A",null,"-",3305.4717999999998,{"$f":"SUM(H155:H158)","v":5990},{"$f":"B103-H103","v":0},null,{"$f":"A103","v":"Maungaraki"},"A","MaungarakiA"]
[null,null,null,"B",null,"-",2971.2169000000004,"see bottom of sheet",null,null,{"$f":"K103","v":"Maungaraki"},"B","MaungarakiB"]
[null,null,null,"C",null,"-",null,null,null,null,{"$f":"K104","v":"Maungaraki"},"C","MaungarakiC"]
["Upper Kaiwhata",2168,null,"A",9.064369308954884,{"$f":"E106*G106","v":295.62624707918548},32.614100000000001,{"$f":"SUM(F106:F111)","v":2168},{"$f":"B106-H106","v":0},null,{"$f":"A106","v":"Upper Kaiwhata"},"A","Upper KaiwhataA"]
[null,null,null,"B",3.9656615726677615,208.62473088259105,52.607799999999997,null,null,null,{"$f":"K106","v":"Upper Kaiwhata"},"B","Upper KaiwhataB"]
[null,null,null,"C",0.56652308180968025,542.8382247192302,958.19259999999997,null,null,null,"Upper Kaiwhata","C","Upper KaiwhataC"]
[null,null,null,"D",0.33991384908580813,697.73391785345279,2052.6786999999999,null,null,null,"Upper Kaiwhata","D","Upper KaiwhataD"]
[null,null,null,"E",0.22660923272387209,371.91605814953874,1641.2219999999998,null,null,null,"Upper Kaiwhata","E","Upper KaiwhataE"]
[null,null,null,"F",0.11330461636193605,51.26082131600166,452.416,null,null,null,"Upper Kaiwhata","F","Upper KaiwhataF"]
["Lower Kaiwhata",3728,null,"A",14.72961910821965,676.54318933581521,45.930800000000005,{"$f":"SUM(F112:F117)","v":3728},{"$f":"B112-H112","v":0},null,{"$f":"A112","v":"Lower Kaiwhata"},"A","Lower KaiwhataA"]
[null,null,null,"B",6.4442083598460966,286.16667179401361,44.406799999999997,null,null,null,{"$f":"K112","v":"Lower Kaiwhata"},"B","Lower KaiwhataB"]
[null,null,null,"C",0.92060119426372811,1066.6461962628007,1158.6408999999999,null,null,null,"Lower Kaiwhata","C","Lower KaiwhataC"]
[null,null,null,"D",0.55236071655823682,1634.5133536290004,2959.1411999999996,null,null,null,"Lower Kaiwhata","D","Lower KaiwhataD"]
[null,null,null,"E",0.36099999999999999,0,0,null,null,null,"Lower Kaiwhata","E","Lower KaiwhataE"]
[null,null,null,"F",0.18412023885274562,64.130588978369886,348.30819999999994,null,null,null,"Lower Kaiwhata","F","Lower KaiwhataF"]
["Pump Drainage",null,null,null,null,null,null,null,null,null,null,0,"0"]
["Te Hopai",56304,null,"A",45.165426184388629,{"$f":"E119*G119","v":56304},1246.6172636152696,{"$f":"F119","v":56304},{"$f":"B119-H119","v":0},null,{"$f":"A119","v":"Te Hopai"},"A","Te HopaiA"]
["Moonmoot Pump",27540,null,"A",120.93651498245991,{"$f":"E120*G120","v":27540},227.72278500000002,{"$f":"F120","v":27540},{"$f":"B120-H120","v":0},null,{"$f":"A120","v":"Moonmoot Pump"},"A","Moonmoot PumpA"]
["Onoke Pump",52767,null,"A",73.962660959756874,{"$f":"E121*G121","v":52767.000000000007},713.42755000000011,{"$f":"F121","v":52767.000000000007},{"$f":"B121-H121","v":0},null,{"$f":"A121","v":"Onoke Pump"},"A","Onoke PumpA"]
["Pouawha Pump",105499,null,"A",111.58008778172264,{"$f":"E122*G122","v":105499},945.50024199999996,{"$f":"F122","v":105499},{"$f":"B122-H122","v":0},null,{"$f":"A122","v":"Pouawha Pump"},"A","Pouawha PumpA"]
["Gravity Drainage",null,null,null,null,null,null,null,null,null,null,0,"0"]
["Okawa",2016,null,"A",7.1489092896187465,{"$f":"E124*G124","v":2016.0000000000002},282.00106034741896,{"$f":"F124","v":2016.0000000000002},{"$f":"B124-H124","v":0},null,{"$f":"A124","v":"Okawa"},"A","OkawaA"]
["Taumata",1871,null,"A",6.439229811672317,1871,290.56270000000001,{"$f":"F125","v":1871},{"$f":"B125-H125","v":0},null,{"$f":"A125","v":"Taumata"},"A","TaumataA"]
["East Pukio",3213,null,"A",28.295122419121807,3213,113.55314009274824,{"$f":"F126","v":3213},0,null,{"$f":"A126","v":"East Pukio"},"A","East PukioA"]
["Longbush",4516,null,"A",16.071259077729895,3505.8860473613977,218.14632135571375,{"$f":"SUM(F127:F128)","v":4516.0000000000036},0,null,{"$f":"A127","v":"Longbush"},"A","LongbushA"]
[null,null,null,"B",8.0356295388649475,1010.1139526386058,125.70439537476325,null,0,null,{"$f":"K127","v":"Longbush"},"B","LongbushB"]
["Otahoua",3060,null,"A",33.004572128844814,3060.0000000000005,92.714427202819877,{"$f":"F129","v":3060.0000000000005},{"$f":"B129-H129","v":0},null,{"$f":"A129","v":"Otahoua"},"A","OtahouaA"]
["Te Whiti",1375,null,"A",9.7328595495278698,1375,141.27399999999997,{"$f":"F130","v":1375},0,null,{"$f":"A130","v":"Te Whiti"},"A","Te WhitiA"]
["Ahikouka",3109,null,"A",27.707586660735394,3109,112.20753500000001,{"$f":"F131","v":3109},0,null,{"$f":"A131","v":"Ahikouka"},"A","AhikoukaA"]
["Battersea",10539,null,"A",15.383206238390347,{"$f":"E132*G132","v":2595.164603250686},168.70115130967889,{"$f":"SUM(F132:F137)","v":10538.999999999993},0,null,{"$f":"A132","v":"Battersea"},"A","BatterseaA"]
[null,null,null,"B",12.736633122108136,2488.2381955070273,195.36074970927484,null,null,null,{"$f":"K132","v":"Battersea"},"B","BatterseaB"]
[null,null,null,"C",9.9246491860582875,3156.1509460766338,318.0113359079993,null,null,null,{"$f":"K133","v":"Battersea"},{"$f":"D134","v":"C"},"BatterseaC"]
[null,null,null,"D",5.9547895116349725,{"$f":"E135*G135","v":909.51758169106381},152.73715047592719,null,null,null,"Battersea","D",{"$f":"K135&L135","v":"BatterseaD"}]
[null,null,null,"E",5.127735412796782,1040.3910173965708,202.89483244400049,null,null,null,"Battersea","E","BatterseaE"]
[null,null,null,"F",4.9623245930291437,349.53765607801188,70.438289459949289,null,null,null,"Battersea","F","BatterseaF"]
["Manaia",4048,null,"A",23.205648866539288,4048,174.44028491859567,{"$f":"F138","v":4048},{"$f":"B138-H138","v":0},null,{"$f":"A138","v":"Manaia"},"A","ManaiaA"]
["Whakawiriwiri",8438,null,"A",11.705267744244413,8438,720.87201970660101,{"$f":"F139","v":8438},{"$f":"B139-H139","v":0},null,{"$f":"A139","v":"Whakawiriwiri"},"A","WhakawiriwiriA"]
["Total Scheme Rates",{"$f":"SUM(B9:B139)","v":1480591},null,null,null,{"$f":"SUM(F8:F139)+H149+H153+H155+H156+H157+H158","v":1480590.0463916422},null,{"$f":"SUM(H8:H139)","v":1480590.046391642},{"$f":"SUM(I8:I139)","v":0.95360835805149691}]
["Checks",{"$f":"IF(ABS(INDEX(ESSbase!$G$8:$G$26,MATCH(\"Special Rates\",ESSbase!$B$8:$B$26,0),)-B140)>tolerance_dollar,1,0)","v":0},null,null,null,{"$f":"IF(ABS(INDEX(ESSbase!$G$8:$G$26,MATCH(\"Special Rates\",ESSbase!$B$8:$B$26,0),)-F140)>tolerance_dollar,1,0)","v":0},null,{"$f":"IF(ABS(INDEX(ESSbase!$G$8:$G$26,MATCH(\"Special Rates\",ESSbase!$B$8:$B$26,0),)-H140)>tolerance_dollar,1,0)","v":0}]
[]
[]
[]
["Revised"]
["Catchment Schemes","$GST Excl",null,null,"Rate Base",null,null,null,null,null,67774000]
["Awhea-Opouawe Catchment Scheme",{"$f":"B81","v":18992},null,null,"land value","$67,774,000 x 0.00013 cents",null,{"$f":"K148","v":8945},null,null,1.3198276625254522E-4]
[null,null,null,null,"charge per dwelling","$114.54 / $57.27",null,10047.379999999999,null,null,{"$f":"K146*K147","v":8945}]
[null,null,null,null,null,null,null,{"$f":"SUM(H147:H148)","v":18992.379999999997}]
[]
["Mataikona Whakataki Catchment Scheme",{"$f":"B99","v":4584},null,null,"land value within scheme area"," $74213500 x 0.000037109 cents",null,{"$f":"K153","v":2754},null,null,74213500]
[null,null,null,null,"charge per dwelling",15.3,null,1830,null,null,3.7109151299965639E-5]
[null,null,null,null,null,null,null,{"$f":"SUM(H151:H152)","v":4584},null,null,{"$f":"K151*K152","v":2754}]
[]
["Maungaraki Catchment Scheme",{"$f":"B103","v":5990},null,null,"Class A",0.86275117575413363,3305.4717999999998,{"$f":"F155*G155","v":2851.7996818721322}]
[null,null,null,null,"Class B",0.40600055329606288,2971.2169000000004,{"$f":"F156*G156","v":1206.3157053626128}]
[null,null,null,null,"Charge per dwelling",30.450041497204715,19,578.55078844688956]
[null,null,null,null,"River frontage",2.8420038730724403E-2,47619,{"$f":"F158*G158","v":1353.3338243183653}]
[]
[]
[]
["Notes"]
["All River Management schemes have hectare adjustments which in turn affect the $/ha and total columns"]
["Upper Mangatarere River scheme on rates holiday"]
["Bovine Tb rate has been deleted"]

{"sheet":"TA Split","index":7,"n_rows":146,"n_cols":28,"rows_kept":146,"cut":false,"hidden":false,"merged":[[137,27,140,27]]}
["Scheme Name","No","Class","Class Area","$ per Hectare","TDC","TDC","MDC","MDC","CDC","CDC","SWDC","SWDC","UHCC","UHCC","HCC","HCC","KCDC","KCDC","WCC","WCC","PCC","PCC","Total Area","Variance","Class Total","Scheme Total","Comments"]
[null,null,null,"Total Hectares","GST exc","Area ha","Revenue","Area ha","Revenue","Area ha","Revenue","Area ha","Revenue","15170 to 15230","Revenue","15780 to 15890","Revenue","14860 to 15150","Revenue",16690,"Revenue",null,"Revenue","TA Hectares","Hectares","$ GST exc ","$ GST exc"]
[null,null,null,null,null,"11130 to 17750","$ GST excl","17870 to 18130","$ GST exc","18140 to 18190","$ GST exc","18230 to 18480","$ GST exc","1590 to 16016","$ GST exc","16031 to 16600","$ GST exc","15251 to 15410","$ GST exc",null,"$ GST exc",null,"$ GST exc",null,"(D-X)"]
["River Management"]
["Waingawa",453,"A",{"$f":"'[6]Class Rates'!G4","v":33.92110000000001},{"$f":"'[6]Class Rates'!E4","v":146.8098727324633},null,null,22.439800000000002,{"$f":"H5*E5","v":3294.3841821419305},11.481299999999999,{"$f":"J5*E5","v":1685.5681918032308},null,null,null,null,null,null,null,null,null,null,null,null,{"$f":"SUM(F5+H5+J5+L5+N5+R5+P5)","v":33.921100000000003},{"$f":"D5-X5","v":0},{"$f":"G5+I5+K5+M5+O5+Q5+S5","v":4979.9523739451615}]
[null,null,"B",{"$f":"'[6]Class Rates'!G5","v":130.19240000000002},{"$f":"'[6]Class Rates'!E5","v":95.426417276101148},null,null,61.309199999999997,5850.5173020639404,68.883200000000002,6573.2769865131304,null,null,null,null,null,null,null,null,null,null,null,null,{"$f":"SUM(F6+H6+J6+L6+N6+R6+P6)","v":130.19239999999999},0,12423.794288577072]
[null,null,"C",{"$f":"'[6]Class Rates'!G6","v":114.17489999999997},{"$f":"'[6]Class Rates'!E6","v":73.404936366231652},null,null,58.293399999999998,4279.0233175712883,55.881500000000003,4101.9779515495738,null,null,null,null,null,null,null,null,null,null,null,null,114.17490000000001,0,8381.0012691208613]
[null,null,"D",{"$f":"'[6]Class Rates'!G7","v":2.3304},{"$f":"'[6]Class Rates'!E7","v":66.064442729608487},null,null,1.3077194068803464,86.393753862244225,1.0226999999999999,67.564105579570594,null,null,null,null,null,null,null,null,null,null,null,null,2.3304194068803463,-1.9406880346295452E-5,153.95785944181483]
[null,null,"E",{"$f":"'[6]Class Rates'!G8","v":167.80649999999994},{"$f":"'[6]Class Rates'!E8","v":58.723949092985322},null,null,71.780100000000004,4215.2109382893959,96.026399999999995,5639.0494251826458,null,null,null,null,null,null,null,null,null,null,null,null,167.8065,0,9854.2603634720417]
[null,null,"F",{"$f":"'[6]Class Rates'!G9","v":25.956799999999998},{"$f":"'[6]Class Rates'!E9","v":51.383455456362157},null,null,10.642799999999999,546.86383973097111,15.314,786.88623685873006,null,null,null,null,null,null,null,null,null,null,null,null,25.956800000000001,0,1333.7500765897012]
[null,null,"G",{"$f":"'[6]Class Rates'!G10","v":46.778616000000007},{"$f":"'[6]Class Rates'!E10","v":22.021480909869496},null,null,25.029299999999999,551.18225213739652,21.749400000000001,478.95399690111566,null,null,null,null,null,null,null,null,null,null,null,null,46.778700000000001,-8.3999999993977781E-5,1030.1362490385122]
[null,null,"H",{"$f":"'[6]Class Rates'!G11","v":168.80000000000004},{"$f":"'[6]Class Rates'!E11","v":14.68098727324633},null,null,68.311999999999998,1002.8876026100033,100.488,1475.2630491139773,null,null,null,null,null,null,null,null,null,null,null,null,168.8,0,2478.1506517239804,{"$f":"SUM(Z5:Z12)","v":40635.00313190915}]
["Lower Wairarapa Valley",457,"A",{"$f":"'[6]Class Rates'!G12","v":2888816.6567000002},{"$f":"'[6]Class Rates'!E12","v":0.2341872774},null,null,null,null,26924.750899999999,6305.4341079441992,2861891.9057999998,{"$f":"L13*E13","v":670218.6736323993},null,null,null,null,null,null,null,null,null,null,{"$f":"F13+H13+J13+L13+N13+R13+P13","v":2888816.6566999997},0,{"$f":"SUM(G13+I13+K13+M13+O13+Q13+S13)","v":676524.10774034355}]
["Development Scheme",null,"Sa",{"$f":"'[6]Class Rates'!G13","v":417},{"$f":"'[6]Class Rates'!E13","v":18.802472939999998},null,null,null,null,null,0,{"$f":"D14","v":417},{"$f":"L14*E14","v":7840.6312159799991},null,null,null,null,null,null,null,null,null,null,417,0,7840.6312159799991]
[null,null,"Sb",{"$f":"'[6]Class Rates'!G14","v":2262},{"$f":"'[6]Class Rates'!E14","v":37.6193034},null,null,null,null,null,0,{"$f":"D15","v":2262},{"$f":"L15*E15","v":85094.864290800004},null,null,null,null,null,null,null,null,null,null,2262,0,85094.864290800004,{"$f":"SUM(Z13:Z15)","v":769459.60324712354}]
["Upper Ruamahanga",1320,"A",{"$f":"'[6]Class Rates'!G15","v":89.019107728000023},{"$f":"'[6]Class Rates'!E15","v":132.77572476680345},null,null,{"$f":"D16","v":89.019107728000023},{"$f":"H16*E16","v":11819.576546679356},null,null,null,null,null,null,null,null,null,null,null,null,null,null,89.019107728000023,0,11819.576546679356]
["(Mt Bruce - Te Ore Ore)",null,"B",{"$f":"'[6]Class Rates'!G16","v":6.5931333049999994},{"$f":"'[6]Class Rates'!E16","v":110.64643730566955},null,null,6.5931333049999994,729.50671087960427,null,null,null,null,null,null,null,null,null,null,null,null,null,null,6.5931333049999994,0,729.50671087960427]
[null,null,"C",{"$f":"'[6]Class Rates'!G17","v":124.764310088},{"$f":"'[6]Class Rates'!E17","v":88.517149844535638},null,null,124.764310088,11043.781131309606,null,null,null,null,null,null,null,null,null,null,null,null,null,null,124.764310088,0,11043.781131309606]
[null,null,"D",{"$f":"'[6]Class Rates'!G18","v":17.615199999999998},{"$f":"'[6]Class Rates'!E18","v":66.387862383401725},null,null,17.615199999999998,1169.435473456098,null,null,null,null,null,null,null,null,null,null,null,null,null,null,17.615199999999998,0,1169.435473456098]
[null,null,"E",{"$f":"'[6]Class Rates'!G19","v":296.68106490000008},{"$f":"'[6]Class Rates'!E19","v":44.258574922267819},null,null,296.68106490000008,13130.681138894855,null,null,null,null,null,null,null,null,null,null,null,null,null,null,296.68106490000008,0,13130.681138894855]
[null,null,"F",{"$f":"'[6]Class Rates'!G20","v":39.423066413000001},{"$f":"'[6]Class Rates'!E20","v":22.129287461133909},null,null,39.423066413000001,872.40436925265033,null,null,null,null,null,null,null,null,null,null,null,null,null,null,39.423066413000001,0,872.40436925265033]
[null,null,"S",{"$f":"'[6]Class Rates'!G21","v":2.600000000000001},{"$f":"'[6]Class Rates'!E21","v":1246.7748575107094},null,null,2.600000000000001,3241.6146295278454,null,null,null,null,null,null,null,null,null,null,null,null,null,null,2.600000000000001,0,3241.6146295278454,{"$f":"SUM(Z16:Z22)","v":42007.000000000022}]
["Middle Ruamahanga",1321,"A",{"$f":"'[6]Class Rates'!G22","v":40.341156573000006},{"$f":"'[6]Class Rates'!E22","v":130.9622033006674},null,null,40.341156573000006,5283.1667484972813,null,null,null,null,null,null,null,null,null,null,null,null,null,null,40.341156573000006,0,5283.1667484972813]
["(Te Ore Ore - Gladstone)",null,"B",{"$f":"'[6]Class Rates'!G23","v":54.579589363000011},{"$f":"'[6]Class Rates'!E23","v":109.13516941722281},null,null,54.579589363000011,5956.5527318534587,null,null,null,null,null,null,null,null,null,null,null,null,null,null,54.579589363000011,0,5956.5527318534587]
[null,null,"C",{"$f":"'[6]Class Rates'!G24","v":5.1132999999999997},{"$f":"'[6]Class Rates'!E24","v":87.308135533778255},null,null,5.1132999999999997,446.43268942486833,null,null,null,null,null,null,null,null,null,null,null,null,null,null,5.1132999999999997,0,446.43268942486833]
[null,null,"D",{"$f":"'[6]Class Rates'!G25","v":113.20808124500002},{"$f":"'[6]Class Rates'!E25","v":65.481101650333699},null,null,113.20808124500002,7412.9898756430821,null,null,null,null,null,null,null,null,null,null,null,null,null,null,113.20808124500002,0,7412.9898756430821]
[null,null,"E",{"$f":"'[6]Class Rates'!G26","v":30.154199999999999},{"$f":"'[6]Class Rates'!E26","v":43.654067766889128},null,null,30.154199999999999,1316.3534902563281,null,null,null,null,null,null,null,null,null,null,null,null,null,null,30.154199999999999,0,1316.3534902563281]
[null,null,"F",{"$f":"'[6]Class Rates'!G27","v":295.641337427},{"$f":"'[6]Class Rates'!E27","v":21.827033883444564},null,null,295.641337427,6452.9734893659961,null,null,null,null,null,null,null,null,null,null,null,null,null,null,295.641337427,0,6452.9734893659961]
[null,null,"S",{"$f":"'[6]Class Rates'!G28","v":2.1},{"$f":"'[6]Class Rates'!E28","v":1320.729035694756},null,null,2.1,2773.5309749589878,null,null,null,null,null,null,null,null,null,null,null,null,null,null,2.1,0,2773.5309749589878,{"$f":"SUM(Z23:Z29)","v":29642.000000000004}]
["Lower Ruamahanga",1322,"A",{"$f":"'[6]Class Rates'!G29","v":125.47363100000003},{"$f":"'[6]Class Rates'!E29","v":63.010582513684838},null,null,33.471899999999998,2109.0839168398074,92.0017,5797.0807092492787,null,null,null,null,null,null,null,null,null,null,null,null,125.4736,3.1000000021208507E-5,7906.1646260890866]
["(Gladstone - Waiohine)",null,"B",{"$f":"'[6]Class Rates'!G30","v":53.831099999999992},{"$f":"'[6]Class Rates'!E30","v":54.009070726015572},null,null,5.4947999999999997,296.76904182531035,48.336300000000001,2610.5986453339065,null,null,null,null,null,null,null,null,null,null,null,null,53.831099999999999,0,2907.367687159217]
[null,null,"C",{"$f":"'[6]Class Rates'!G31","v":223.97680000000005},{"$f":"'[6]Class Rates'!E31","v":45.007558938346307},null,null,83.827500000000001,3772.871146904225,140.14930000000001,6307.7778799179787,null,null,null,null,null,null,null,null,null,null,null,null,223.97680000000003,0,10080.649026822204]
[null,null,"D",{"$f":"'[6]Class Rates'!G32","v":318.51189999999997},{"$f":"'[6]Class Rates'!E32","v":36.006047150677048},null,null,68.496899999999997,{"$f":"H33*E33","v":2466.3026110752107},250.01499999999999,9002.0518783765219,null,null,null,null,null,null,null,null,null,null,null,null,318.51189999999997,0,11468.354489451733]
[null,null,"E",{"$f":"'[6]Class Rates'!G33","v":323.52394700000002},{"$f":"'[6]Class Rates'!E33","v":27.004535363007786},null,null,35.972999999999999,{"$f":"H34*E34","v":971.43415061347912},287.55090000000001,7765.1784477147157,null,null,null,null,null,null,null,null,null,null,null,null,323.52390000000003,4.6999999995023245E-5,8736.6125983281945]
[null,null,"F",{"$f":"'[6]Class Rates'!G34","v":1224.2913999999994},{"$f":"'[6]Class Rates'!E34","v":18.003023575338524},null,null,263.19549999999998,{"$f":"H35*E35","v":4738.3147914230103},961.09590000000003,17302.632145861196,null,null,null,null,null,null,null,null,null,null,null,null,1224.2914000000001,0,22040.946937284207]
[null,null,"SA",{"$f":"'[6]Class Rates'!G35","v":2.600000000000001},{"$f":"'[6]Class Rates'!E35","v":1579.9713699813096},null,null,0.8,{"$f":"H36*E36","v":1263.9770959850478},1.8,2843.9484659663576,null,null,null,null,null,null,null,null,null,null,null,null,2.6,0,4107.9255619514051]
[null,null,"SB",{"$f":"'[6]Class Rates'!G36","v":1.7000000000000004},{"$f":"'[6]Class Rates'!E36","v":789.98579433688678},null,null,0.5,{"$f":"H37*E37","v":394.99289716844339},1.2,947.98295320426405,null,null,null,null,null,null,null,null,null,null,null,null,1.7,0,1342.9758503727076,{"$f":"SUM(Z30:Z37)","v":68590.996777458757}]
["Waiohine Rural",461,"A",{"$f":"'[6]Class Rates'!G37","v":112.48639999999997},{"$f":"'[6]Class Rates'!E37","v":45.785193650716508},null,null,null,null,0,0,{"$f":"D38","v":112.48639999999997},{"$f":"L38*E38","v":5150.2116070719567},null,null,null,null,null,null,null,null,null,null,112.48639999999997,0,5150.2116070719567]
[null,null,"B",{"$f":"'[6]Class Rates'!G38","v":383.0231},{"$f":"'[6]Class Rates'!E38","v":38.154328042263757},null,null,null,null,226.10249999999999,8626.7889561759403,156.96,5988.7033295137198,null,null,null,null,null,null,null,null,null,null,383.0625,-3.9400000000000546E-2,14615.492285689659]
[null,null,"C",{"$f":"'[6]Class Rates'!G39","v":1277.7252310000001},{"$f":"'[6]Class Rates'!E39","v":30.523462433811005},null,null,null,null,224.6962,6858.5060197200846,1053.8915,32168.41760956273,null,null,null,null,null,null,null,null,null,null,1278.5877,-0.86246899999991911,39026.923629282814]
[null,null,"D",{"$f":"'[6]Class Rates'!G40","v":371.52220000000005},{"$f":"'[6]Class Rates'!E40","v":22.892596825358254},null,null,null,null,159.1003,3642.2190226935459,212.4537,4863.6168981556148,null,null,null,null,null,null,null,null,null,null,371.55399999999997,-3.1799999999918782E-2,8505.8359208491602]
[null,null,"E",{"$f":"'[6]Class Rates'!G41","v":801.37128600000028},{"$f":"'[6]Class Rates'!E41","v":15.261731216905503},null,null,null,null,147.5129,2251.3022308262598,651.03549999999996,9935.9288136636824,null,null,null,null,null,null,null,null,null,null,798.5483999999999,2.8228860000003806,12187.231044489941]
[null,null,"S",{"$f":"'[6]Class Rates'!G42","v":17.099999999999973},{"$f":"'[6]Class Rates'!E42","v":763.08656084527513},null,null,null,null,2,1526.1731216905503,15,11446.298412679127,null,null,null,null,null,null,null,null,null,null,17,9.9999999999972999E-2,12972.471534369677,{"$f":"SUM(Z38:Z43)","v":92458.166021753204}]
["Mangatarere",480,"A",{"$f":"'[6]Class Rates'!G43","v":21.457000000000001},{"$f":"'[6]Class Rates'!E43","v":34.614077181897954},null,null,null,null,{"$f":"D44","v":21.457000000000001},742.71425409198446,null,null,null,null,null,null,null,null,null,null,null,null,21.457000000000001,0,742.71425409198446]
[null,null,"B",{"$f":"'[6]Class Rates'!G44","v":209.5488},{"$f":"'[6]Class Rates'!E44","v":33.109117304424132},null,null,null,null,209.5488,6937.9758002013114,null,null,null,null,null,null,null,null,null,null,null,null,209.5488,0,6937.9758002013114]
[null,null,"C",{"$f":"'[6]Class Rates'!G45","v":15.7684},{"$f":"'[6]Class Rates'!E45","v":28.056752001476291},null,null,null,null,15.7684,442.41008826007874,null,null,null,null,null,null,null,null,null,null,null,null,15.7684,0,442.41008826007874]
[null,null,"D",{"$f":"'[6]Class Rates'!G46","v":71.839200000000005},{"$f":"'[6]Class Rates'!E46","v":24.831837978318099},null,null,null,null,71.839200000000005,1783.8993748919897,null,null,null,null,null,null,null,null,null,null,null,null,71.839200000000005,0,1783.8993748919897,{"$f":"SUM(Z44:Z47)","v":9906.9995174453652}]
["Waipoua",462,"A",{"$f":"'[6]Class Rates'!G47","v":87.49839999999999},{"$f":"'[6]Class Rates'!E47","v":111.47839521806316},null,null,{"$f":"D48","v":87.49839999999999},{"$f":"H48*E48","v":9754.1812161481757},null,null,null,null,null,null,null,null,null,null,null,null,null,null,87.49839999999999,0,9754.1812161481757]
[null,null,"B",{"$f":"'[6]Class Rates'!G48","v":300.32939999999996},{"$f":"'[6]Class Rates'!E48","v":89.182716174450519},null,null,300.32939999999996,26784.191639043016,null,null,null,null,null,null,null,null,null,null,null,null,null,null,300.32939999999996,0,26784.191639043016]
[null,null,"C",{"$f":"'[6]Class Rates'!G49","v":22.451700000000002},{"$f":"'[6]Class Rates'!E49","v":66.887037130837882},null,null,22.451700000000002,1501.7276915504331,null,null,null,null,null,null,null,null,null,null,null,null,null,null,22.451700000000002,0,1501.7276915504331]
[null,null,"D",{"$f":"'[6]Class Rates'!G50","v":297.23059999999998},{"$f":"'[6]Class Rates'!E50","v":44.59135808722526},null,null,297.23059999999998,13253.916119080815,null,null,null,null,null,null,null,null,null,null,null,null,null,null,297.23059999999998,0,13253.916119080815]
[null,null,"SA",{"$f":"'[6]Class Rates'!G51","v":0.1},{"$f":"'[6]Class Rates'!E51","v":3767.9697583705342},null,null,0.1,376.79697583705342,null,null,null,null,null,null,null,null,null,null,null,null,null,null,0.1,0,376.79697583705342]
[null,null,"SC",{"$f":"'[6]Class Rates'!G52","v":0.1},{"$f":"'[6]Class Rates'!E52","v":2251.8635834048755},null,null,0.1,225.18635834048757,null,null,null,null,null,null,null,null,null,null,null,null,null,null,0.1,0,225.18635834048757,{"$f":"SUM(Z48:Z53)","v":51895.999999999978}]
["Kopuaranga",1325,"A2",{"$f":"'[6]Class Rates'!G53","v":26.053999999999998},{"$f":"'[6]Class Rates'!E53","v":125.44153186733357},null,null,26.053999999999998,3268.2536712715087,null,null,null,null,null,null,null,null,null,null,null,null,null,null,26.053999999999998,0,3268.2536712715087]
[null,null,"A3",{"$f":"'[6]Class Rates'!G54","v":68.903500000000008},{"$f":"'[6]Class Rates'!E54","v":112.89737868060021},null,null,68.903500000000008,7779.0245319187379,null,null,null,null,null,null,null,null,null,null,null,null,null,null,68.903500000000008,0,7779.0245319187379]
[null,null,"A4",{"$f":"'[6]Class Rates'!G55","v":11.284699999999999},{"$f":"'[6]Class Rates'!E55","v":62.720765933666783},null,null,11.284699999999999,707.78502733164953,null,null,null,null,null,null,null,null,null,null,null,null,null,null,11.284699999999999,0,707.78502733164953]
[null,null,"A5",{"$f":"'[6]Class Rates'!G56","v":57.724000000000004},{"$f":"'[6]Class Rates'!E56","v":43.904536153566752},null,null,57.724000000000004,2534.3454449284873,null,null,null,null,null,null,null,null,null,null,null,null,null,null,57.724000000000004,0,2534.3454449284873]
[null,null,"A6",{"$f":"'[6]Class Rates'!G57","v":81.131},{"$f":"'[6]Class Rates'!E57","v":25.088306373466715},null,null,81.131,2035.4393843857281,null,null,null,null,null,null,null,null,null,null,null,null,null,null,81.131,0,2035.4393843857281]
[null,null,"B2",{"$f":"'[6]Class Rates'!G58","v":61.277099999999997},{"$f":"'[6]Class Rates'!E58","v":25.088306373466715},null,null,61.277099999999997,1537.3386584775571,null,null,null,null,null,null,null,null,null,null,null,null,null,null,61.277099999999997,0,1537.3386584775571]
[null,null,"B3",{"$f":"'[6]Class Rates'!G59","v":73.441299999999998},{"$f":"'[6]Class Rates'!E59","v":22.579475736120045},null,null,73.441299999999998,1658.2660513791132,null,null,null,null,null,null,null,null,null,null,null,null,null,null,73.441299999999998,0,1658.2660513791132]
[null,null,"B4",{"$f":"'[6]Class Rates'!G60","v":9.2791999999999994},{"$f":"'[6]Class Rates'!E60","v":12.544153186733357},null,null,9.2791999999999994,116.39970625033617,null,null,null,null,null,null,null,null,null,null,null,null,null,null,9.2791999999999994,0,116.39970625033617]
[null,null,"B5",{"$f":"'[6]Class Rates'!G61","v":31.069000000000003},{"$f":"'[6]Class Rates'!E61","v":8.7809072307133498},null,null,31.069000000000003,272.81400675103311,null,null,null,null,null,null,null,null,null,null,null,null,null,null,31.069000000000003,0,272.81400675103311]
[null,null,"B6",{"$f":"'[6]Class Rates'!G62","v":120.26409999999998},{"$f":"'[6]Class Rates'!E62","v":5.0176612746933431},null,null,120.26409999999998,603.44451730584763,null,null,null,null,null,null,null,null,null,null,null,null,null,null,120.26409999999998,0,603.44451730584763]
[null,null,"SA",{"$f":"'[6]Class Rates'!G63","v":5},{"$f":"'[6]Class Rates'!E63","v":153.57419999999999},null,null,5,767.87099999999998,null,null,null,null,null,null,null,null,null,null,null,null,null,null,5,0,767.87099999999998]
[null,null,"SB",{"$f":"'[6]Class Rates'!G64","v":14},{"$f":"'[6]Class Rates'!E64","v":76.787000000000006},null,null,14,1075.018,null,null,null,null,null,null,null,null,null,null,null,null,null,null,14,0,1075.018,{"$f":"SUM(Z54:Z65)","v":22355.999999999996}]
["Lower Taueru",1221,"A",{"$f":"'[6]Class Rates'!G65","v":407.43357000000009},{"$f":"'[6]Class Rates'!E65","v":4.0587685087116778},null,null,278.78559999999999,1131.5262139622903,128.648,522.15245110873991,null,null,null,null,null,null,null,null,null,null,null,null,407.43359999999996,-2.9999999867413862E-5,1653.6786650710301]
[null,null,"B",{"$f":"'[6]Class Rates'!G66","v":282.04301399999997},{"$f":"'[6]Class Rates'!E66","v":0.81175370174233563},null,null,202.2235,164.15567470429121,79.819500000000005,64.793774596222363,null,null,null,null,null,null,null,null,null,null,null,null,282.04300000000001,1.3999999964653398E-5,228.94944930051358]
[null,null,"C",{"$f":"'[6]Class Rates'!G67","v":178.1611},{"$f":"'[6]Class Rates'!E67","v":0.40587685087116782},null,null,165.99379999999999,67.373040808138455,12.167299999999999,4.9384254076047602,null,null,null,null,null,null,null,null,null,null,null,null,178.1611,0,72.311466215743209]
[null,null,"S",{"$f":"'[6]Class Rates'!G68","v":1.5179999999999996},{"$f":"'[6]Class Rates'!E68","v":202.93842543558389},null,null,1.4168000000000001,287.52316115713529,0.1012,{"$f":"J69*E69","v":20.537368654081089},null,null,null,null,null,null,null,null,null,null,null,null,1.518,{"$f":"D69-X69","v":0},308.06052981121638,{"$f":"SUM(Z66:Z69)","v":2263.0001103985032}]
["Lower Whangaehu",466,"A",{"$f":"'[6]Class Rates'!G69","v":33.390099999999997},{"$f":"'[6]Class Rates'!E69","v":21.623069428869243},null,null,{"$f":"D70","v":33.390099999999997},721.99645053688687,null,null,null,null,null,null,null,null,null,null,null,null,null,null,33.390099999999997,0,721.99645053688687]
[null,null,"B",{"$f":"'[6]Class Rates'!G70","v":65.082999999999998},{"$f":"'[6]Class Rates'!E70","v":17.298455543095393},null,null,65.082999999999998,1125.8353821112773,null,null,null,null,null,null,null,null,null,null,null,null,null,null,65.082999999999998,0,1125.8353821112773]
[null,null,"C",{"$f":"'[6]Class Rates'!G71","v":54.404599999999995},{"$f":"'[6]Class Rates'!E71","v":12.973841657321547},null,null,54.404599999999995,705.83666582991577,null,null,null,null,null,null,null,null,null,null,null,null,null,null,54.404599999999995,0,705.83666582991577]
[null,null,"D",{"$f":"'[6]Class Rates'!G72","v":76.568799999999996},{"$f":"'[6]Class Rates'!E72","v":8.6492277715476966},null,null,76.568799999999996,662.2609913940812,null,null,null,null,null,null,null,null,null,null,null,null,null,null,{"$f":"F73+H73+J73+L73+N73+R73+P73","v":76.568799999999996},{"$f":"D73-X73","v":0},662.2609913940812]
[null,null,"E",{"$f":"'[6]Class Rates'!G73","v":174.2424},{"$f":"'[6]Class Rates'!E73","v":4.3246138857738483},null,null,174.2424,753.53110253056116,null,null,null,null,null,null,null,null,null,null,null,null,null,null,{"$f":"F74+H74+J74+L74+N74+R74+P74","v":174.2424},{"$f":"D74-X74","v":0},753.53110253056116]
[null,null,"S",{"$f":"'[6]Class Rates'!G74","v":1.3369},{"$f":"'[6]Class Rates'!E74","v":108.11534714434622},null,null,1.3369,144.53940759727647,null,null,null,null,null,null,null,null,null,null,null,null,null,null,{"$f":"F75+H75+J75+L75+N75+R75+P75","v":1.3369},{"$f":"D75-X75","v":0},144.53940759727647,{"$f":"SUM(Z70:Z75)","v":4113.9999999999982}]
["Catchment Schemes",null,null,null,null,null,null,null,null,null,null,null,null,null,null,null,null,null,null,null,null,null,null,null,null,0]
["Awhea-Opouawe",454,"LV","Land Value",{"$f":"'[6]Class Rates'!K158","v":1.3198276625254522E-4},null,null,null,null,null,null,67774000,{"$f":"L77*E77","v":8945},null,null,null,null,null,null,null,null,null,null,67774000,{"$f":"D77-X77","v":{"$error":"#VALUE!"}},{"$f":"SUM(G77+I77+K77+M77+O77+Q77+S77)","v":8945}]
[null,null,"Dwell","Dwellings",116.83,null,null,null,null,null,null,86,{"$f":"L78*E78","v":10047.379999999999},null,null,null,null,null,null,null,null,null,null,86,{"$error":"#VALUE!"},10047.379999999999]
[null,null,null,null,null,null,null,null,null,null,null,null,null,null,null,null,null,null,null,null,null,null,null,{"$f":"F79+H79+J79+L79+N79+R79+P79","v":0},0,0]
[null,null,null,null,null,null,null,null,null,null,null,null,null,null,null,null,null,null,null,null,null,null,null,0,0,0]
[null,null,null,null,null,null,null,null,null,null,null,null,null,null,null,null,null,null,null,null,null,null,null,0,0,0]
[null,null,null,null,null,null,null,null,null,null,null,null,null,null,null,null,null,null,null,null,null,null,null,0,0,0,{"$f":"SUM(Z76:Z82)","v":18992.379999999997}]
["Whareama",463,"A",{"$f":"'[6]Class Rates'!G84","v":715.38603720239257},{"$f":"'[6]Class Rates'!E84","v":4.0778275340653458},null,null,{"$f":"D83","v":715.38603720239257},2917.2208799898121,null,null,null,null,null,null,null,null,null,null,null,null,null,null,715.38603720239257,0,2917.2208799898121]
[null,null,"B",{"$f":"'[6]Class Rates'!G85","v":952.56494018201727},{"$f":"'[6]Class Rates'!E85","v":1.5683952054097485},null,null,952.56494018201727,1493.9982850228998,null,null,null,null,null,null,null,null,null,null,null,null,null,null,952.56494018201727,0,1493.9982850228998]
[null,null,"C",{"$f":"'[6]Class Rates'!G86","v":45575.12002982694},{"$f":"'[6]Class Rates'!E86","v":0.27446916094670598},null,null,45575.12002982694,12508.964954632014,null,null,null,null,null,null,null,null,null,null,null,null,null,null,45575.12002982694,0,12508.964954632014]
[null,null,"D",{"$f":"'[6]Class Rates'!G87","v":0},{"$f":"'[6]Class Rates'!E87","v":0.23525928081146227},null,null,0,0,null,null,null,null,null,null,null,null,null,null,null,null,null,null,0,0,0]
[null,null,"E",{"$f":"'[6]Class Rates'!G88","v":15.4025},{"$f":"'[6]Class Rates'!E88","v":0.19604940067621857},null,null,15.4025,3.0196508939154563,null,null,null,null,null,null,null,null,null,null,null,null,null,null,15.4025,0,3.0196508939154563]
[null,null,"F",{"$f":"'[6]Class Rates'!G89","v":2759.4845225778877},{"$f":"'[6]Class Rates'!E89","v":0.15683952054097483},null,null,2759.4845225778877,432.79622946135675,null,null,null,null,null,null,null,null,null,null,null,null,null,null,2759.4845225778877,0,432.79622946135675,{"$f":"SUM(Z83:Z88)","v":17356}]
["Homewood",1214,"A",{"$f":"'[6]Class Rates'!G90","v":2294.7335730000004},{"$f":"'[6]Class Rates'!E90","v":1.6541176470588235},null,null,2294.7335730000004,3795.7592983976479,null,null,null,null,null,null,null,null,null,null,null,null,null,null,2294.7335730000004,0,3795.7592983976479]
[null,null,"B",{"$f":"'[6]Class Rates'!G91","v":552.43214499999988},{"$f":"'[6]Class Rates'!E91","v":1.5752941176470587},null,null,552.43214499999988,870.24310841764679,null,null,null,null,null,null,null,null,null,null,null,null,null,null,552.43214499999988,0,870.24310841764679]
[null,null,"C",{"$f":"'[6]Class Rates'!G92","v":3662.4738820000002},{"$f":"'[6]Class Rates'!E92","v":1.3784313725490196},null,null,3662.4738820000002,5048.4689000901963,null,null,null,null,null,null,null,null,null,null,null,null,null,null,3662.4738820000002,0,5048.4689000901963]
[null,null,"D",{"$f":"'[6]Class Rates'!G93","v":1739.3935618263479},{"$f":"'[6]Class Rates'!E93","v":0.19696078431372549},null,null,1739.3935618263479,342.59232016756204,null,null,null,null,null,null,null,null,null,null,null,null,null,null,1739.3935618263479,0,342.59232016756204,{"$f":"SUM(Z89:Z92)","v":10057.063627073052}]
["Mataikona-Whakataki",1215,"LV","Land Value",3.5E-4,null,215.08,null,2448.92,null,null,null,null,null,null,null,null,null,null,null,null,null,null,0,{"$error":"#VALUE!"},2664]
[null,null,"Dwell","Dwellings",{"$f":"SUM('[6]Class Rates'!F162)","v":15.3},null,{"$f":"E94*1","v":15.3},null,1815,null,null,null,null,null,null,null,null,null,null,null,null,null,null,0,{"$error":"#VALUE!"},1830.3]
[null,null,null,null,null,null,null,null,null,null,null,null,null,null,null,null,null,null,null,null,null,null,null,0,0,0]
[null,null,null,null,null,null,null,null,null,null,null,null,null,null,null,null,null,null,null,null,null,null,null,0,0,0,{"$f":"SUM(Z93:Z96)","v":4494.3}]
["Maungaraki",1216,"A",{"$f":"'[6]Class Rates'!G98","v":3305.4717999999998},0.86275117575413363,null,null,null,null,1934.2943,{"$f":"J97*E97","v":1668.8146815795189},1371.1775,{"$f":"L97*E97","v":1182.9850002926137},null,null,null,null,null,null,null,null,null,null,3305.4718000000003,0,2851.7996818721326]
[null,null,"B",{"$f":"'[6]Class Rates'!G99","v":2971.2169000000004},0.40600055329606288,null,null,null,null,2593.5819999999999,{"$f":"J98*E98","v":1052.9957270187092},377.63490000000002,{"$f":"L98*E98","v":153.31997834390339},null,null,null,null,null,null,null,null,null,null,2971.2168999999999,0,1206.3157053626126]
[null,null,"Dwell",567,30.450041497204715,null,null,null,null,15,{"$f":"J99*E99","v":456.75062245807072},4,{"$f":"L99*E99","v":121.80016598881886},null,null,null,null,null,null,null,null,null,null,19,null,578.55078844688956]
[null,null,"River Front",47619,2.8420038730724403E-2,null,null,null,null,39068,{"$f":"J100*E100","v":1110.3140731319409},8551,{"$f":"L100*E100","v":243.01975118642437},null,null,null,null,null,null,null,null,null,null,47619,0,1353.3338243183653,{"$f":"SUM(Z97:Z100)","v":5990}]
["Upper Kaiwhata",1217,"A",{"$f":"'[6]Class Rates'!G101","v":32.614100000000001},{"$f":"'[6]Class Rates'!E101","v":9.064369308954884},null,null,32.614100000000001,{"$f":"H101*E101","v":295.62624707918548},null,{"$f":"J101*E101","v":0},null,null,null,null,null,null,null,null,null,null,null,null,32.614100000000001,0,295.62624707918548]
[null,null,"B",{"$f":"'[6]Class Rates'!G102","v":52.607799999999997},{"$f":"'[6]Class Rates'!E102","v":3.9656615726677615},null,null,52.607799999999997,208.62473088259105,null,0,null,null,null,null,null,null,null,null,null,null,null,null,52.607799999999997,0,208.62473088259105]
[null,null,"C",{"$f":"'[6]Class Rates'!G103","v":958.19259999999997},{"$f":"'[6]Class Rates'!E103","v":0.56652308180968025},null,null,894.68690000000004,506.86077984274925,63.505699999999997,35.977444876481009,null,null,null,null,null,null,null,null,null,null,null,null,958.19260000000008,0,542.83822471923031]
[null,null,"D",{"$f":"'[6]Class Rates'!G104","v":2052.6786999999999},{"$f":"'[6]Class Rates'!E104","v":0.33991384908580813},null,null,1936.4976000000001,658.24235296142967,116.1811,39.491564892023185,null,null,null,null,null,null,null,null,null,null,null,null,2052.6786999999999,0,697.73391785345291]
[null,null,"E",{"$f":"'[6]Class Rates'!G105","v":1641.2219999999998},{"$f":"'[6]Class Rates'!E105","v":0.22660923272387209},null,null,1641.2219999999998,371.91605814953874,0,0,null,null,null,null,null,null,null,null,null,null,null,null,1641.2219999999998,0,371.91605814953874]
[null,null,"F",{"$f":"'[6]Class Rates'!G106","v":452.416},{"$f":"'[6]Class Rates'!E106","v":0.11330461636193605},null,null,452.416,51.26082131600166,null,0,null,null,null,null,null,null,null,null,null,null,null,null,452.416,0,51.26082131600166,{"$f":"SUM(Z101:Z106)","v":2168}]
["Lower Kaiwhata",1229,"A",{"$f":"'[6]Class Rates'!G107","v":45.930800000000005},{"$f":"'[6]Class Rates'!E107","v":14.72961910821965},null,null,27.529800000000002,405.50346812546536,18.401,271.0397212103498,null,null,null,null,null,null,null,null,null,null,null,null,45.930800000000005,0,676.54318933581521]
[null,null,"B",{"$f":"'[6]Class Rates'!G108","v":44.406799999999997},{"$f":"'[6]Class Rates'!E108","v":6.4442083598460966},null,null,7.5650000000000004,48.750436242235722,36.841799999999999,237.41623555177793,null,null,null,null,null,null,null,null,null,null,null,null,44.406799999999997,0,286.16667179401367]
[null,null,"C",{"$f":"'[6]Class Rates'!G109","v":1158.6408999999999},{"$f":"'[6]Class Rates'!E109","v":0.92060119426372811},null,null,141.1688,129.9601658727774,1017.4721,936.68603039002335,null,null,null,null,null,null,null,null,null,null,null,null,1158.6408999999999,0,1066.6461962628007]
[null,null,"D",{"$f":"'[6]Class Rates'!G110","v":2959.1411999999996},{"$f":"'[6]Class Rates'!E110","v":0.55236071655823682},null,null,204.04289999999997,112.70528245262065,2755.0982999999997,1521.8080711763798,null,null,null,null,null,null,null,null,null,null,null,null,2959.1411999999996,0,1634.5133536290004]
[null,null,"E",{"$f":"'[6]Class Rates'!G111","v":0},{"$f":"'[6]Class Rates'!E111","v":0.36099999999999999},null,null,0,0,0,0,null,null,null,null,null,null,null,null,null,null,null,null,0,0,0]
[null,null,"F",{"$f":"'[6]Class Rates'!G112","v":348.30819999999994},{"$f":"'[6]Class Rates'!E112","v":0.18412023885274562},null,null,17.405799999999999,3.2047600534231195,330.90239999999994,60.925828924946764,null,null,null,null,null,null,null,null,null,null,null,null,348.30819999999994,0,64.130588978369886,{"$f":"SUM(Z107:Z112)","v":3728}]
["Pump Drainage",null,null,null,null,null,null,null,null,null,null,null,null,null,null,null,null,null,null,null,null,null,null,null,null,0]
["Te Hopai",1223,"A",{"$f":"'[6]Class Rates'!G114","v":1246.6172636152696},{"$f":"'[6]Class Rates'!E114","v":45.165426184388629},null,null,null,null,null,null,{"$f":"D114","v":1246.6172636152696},{"$f":"L114*E114","v":56304},null,null,null,null,null,null,null,null,null,null,{"$f":"F114+H114+J114+L114+N114+R114+P114","v":1246.6172636152696},{"$f":"D114-X114","v":0},56304,{"$f":"SUM(Z114)","v":56304}]
["Moonmoot Pump",1224,"A",{"$f":"'[6]Class Rates'!G115","v":227.72278500000002},{"$f":"'[6]Class Rates'!E115","v":120.93651498245991},null,null,null,null,null,null,{"$f":"D115","v":227.72278500000002},27540,null,null,null,null,null,null,null,null,null,null,{"$f":"F115+H115+J115+L115+N115+R115+P115","v":227.72278500000002},{"$f":"D115-X115","v":0},27540,{"$f":"SUM(Z115)","v":27540}]
["Onoke Pump",1225,"A",{"$f":"'[6]Class Rates'!G116","v":713.42755000000011},{"$f":"'[6]Class Rates'!E116","v":73.962660959756874},null,null,null,null,null,null,{"$f":"D116","v":713.42755000000011},52767.000000000007,null,null,null,null,null,null,null,null,null,null,{"$f":"F116+H116+J116+L116+N116+R116+P116","v":713.42755000000011},{"$f":"D116-X116","v":0},52767.000000000007,{"$f":"SUM(Z116)","v":52767.000000000007}]
["Pouawha Pump",1226,"A",{"$f":"'[6]Class Rates'!G117","v":945.50024199999996},{"$f":"'[6]Class Rates'!E117","v":111.58008778172264},null,null,null,null,null,null,{"$f":"D117","v":945.50024199999996},105499,null,null,null,null,null,null,null,null,null,null,{"$f":"F117+H117+J117+L117+N117+R117+P117","v":945.50024199999996},{"$f":"D117-X117","v":0},105499,{"$f":"SUM(Z117)","v":105499}]
["Gravity Drainage",null,null,null,null,null,null,null,null,null,null,null,null,null,null,null,null,null,null,null,null,null,null,null,null,0]
["Okawa",449,"A",{"$f":"'[6]Class Rates'!G119","v":282.00106034741896},{"$f":"'[6]Class Rates'!E119","v":7.1489092896187465},null,null,null,null,null,null,{"$f":"D119","v":282.00106034741896},2016.0000000000002,null,null,null,null,null,null,null,null,null,null,{"$f":"F119+H119+J119+L119+N119+R119+P119","v":282.00106034741896},{"$f":"D119-X119","v":0},2016.0000000000002,{"$f":"SUM(Z118:Z119)","v":2016.0000000000002}]
["Taumata",451,"A",{"$f":"'[6]Class Rates'!G120","v":290.56270000000001},{"$f":"'[6]Class Rates'!E120","v":6.439229811672317},null,null,null,null,{"$f":"D120","v":290.56270000000001},1871,null,null,null,null,null,null,null,null,null,null,null,null,290.56270000000001,0,1871,{"$f":"SUM(Z120)","v":1871}]
["East Pukio",455,"A",{"$f":"'[6]Class Rates'!G121","v":113.55314009274824},{"$f":"'[6]Class Rates'!E121","v":28.295122419121807},null,null,null,null,null,0,{"$f":"D121","v":113.55314009274824},3213,null,null,null,null,null,null,null,null,null,null,113.55314009274824,0,3213,{"$f":"SUM(Z121)","v":3213}]
["Longbush",456,"A",{"$f":"'[6]Class Rates'!G122","v":218.14632135571375},{"$f":"'[6]Class Rates'!E122","v":16.071259077729895},null,null,null,null,{"$f":"D122","v":218.14632135571375},3505.8860473613977,null,null,null,null,null,null,null,null,null,null,null,null,218.14632135571375,0,3505.8860473613977]
[null,null,"B",{"$f":"'[6]Class Rates'!G123","v":125.70439537476325},{"$f":"'[6]Class Rates'!E123","v":8.0356295388649475},null,null,null,null,{"$f":"D123","v":125.70439537476325},1010.1139526386058,null,null,null,null,null,null,null,null,null,null,null,null,125.70439537476325,0,1010.1139526386058,{"$f":"SUM(Z122:Z123)","v":4516.0000000000036}]
["Otahoua",469,"A",{"$f":"'[6]Class Rates'!G124","v":92.714427202819877},{"$f":"'[6]Class Rates'!E124","v":33.004572128844814},null,null,{"$f":"D124","v":92.714427202819877},{"$f":"H124*E124","v":3060.0000000000005},null,null,null,null,null,null,null,null,null,null,null,null,null,null,92.714427202819877,0,3060.0000000000005,{"$f":"SUM(Z124)","v":3060.0000000000005}]
["Te Whiti",470,"A",{"$f":"'[6]Class Rates'!G125","v":141.27399999999997},{"$f":"'[6]Class Rates'!E125","v":9.7328595495278698},null,null,{"$f":"D125","v":141.27399999999997},{"$f":"H125*E125","v":1375},null,null,null,null,null,null,null,null,null,null,null,null,null,null,141.27399999999997,0,1375,{"$f":"SUM(Z125)","v":1375}]
["Ahikouka",541,"A",{"$f":"'[6]Class Rates'!G126","v":112.20753500000001},{"$f":"'[6]Class Rates'!E126","v":27.707586660735394},null,null,null,null,null,null,{"$f":"D126","v":112.20753500000001},3109,null,null,null,null,null,null,null,null,null,null,{"$f":"F126+H126+J126+L126+N126+R126+P126","v":112.20753500000001},0,3109,{"$f":"SUM(Z126)","v":3109}]
["Battersea",1220,"A",{"$f":"'[6]Class Rates'!G127","v":168.70115130967889},{"$f":"'[6]Class Rates'!E127","v":15.383206238390347},null,null,null,null,null,null,168.70115130967889,2595.164603250686,null,null,null,null,null,null,null,null,null,null,168.70115130967889,0,2595.164603250686]
[null,null,"B",{"$f":"'[6]Class Rates'!G128","v":195.36074970927484},{"$f":"'[6]Class Rates'!E128","v":12.736633122108136},null,null,null,null,null,null,195.36074970927484,2488.2381955070273,null,null,null,null,null,null,null,null,null,null,195.36074970927484,0,2488.2381955070273]
[null,null,"C",{"$f":"'[6]Class Rates'!G129","v":318.0113359079993},{"$f":"'[6]Class Rates'!E129","v":9.9246491860582875},null,null,null,null,null,null,318.0113359079993,3156.1509460766338,null,null,null,null,null,null,null,null,null,null,318.0113359079993,0,3156.1509460766338]
[null,null,"D",{"$f":"'[6]Class Rates'!G130","v":152.73715047592719},{"$f":"'[6]Class Rates'!E130","v":5.9547895116349725},null,null,null,null,null,null,152.73715047592719,909.51758169106381,null,null,null,null,null,null,null,null,null,null,152.73715047592719,0,909.51758169106381]
[null,null,"E",{"$f":"'[6]Class Rates'!G131","v":202.89483244400049},{"$f":"'[6]Class Rates'!E131","v":5.127735412796782},null,null,null,null,null,null,202.89483244400049,1040.3910173965708,null,null,null,null,null,null,null,null,null,null,202.89483244400049,0,1040.3910173965708]
[null,null,"F",{"$f":"'[6]Class Rates'!G132","v":70.438289459949289},{"$f":"'[6]Class Rates'!E132","v":4.9623245930291437},null,null,null,null,null,null,70.438289459949289,349.53765607801188,null,null,null,null,null,null,null,null,null,null,70.438289459949289,0,349.53765607801188,{"$f":"SUM(Z127:Z132)","v":10538.999999999993}]
["Manaia",1222,"A",{"$f":"'[6]Class Rates'!G133","v":174.44028491859567},{"$f":"'[6]Class Rates'!E133","v":23.205648866539288},null,null,{"$f":"D133","v":174.44028491859567},{"$f":"H133*E133","v":4048},null,null,null,0,null,null,null,null,null,null,null,null,null,null,174.44028491859567,0,{"$f":"SUM(G133+I133+K133+M133+O133+Q133+S133)","v":4048},{"$f":"SUM(Z133)","v":4048}]
["Whakawiriwiri",1227,"A",{"$f":"'[6]Class Rates'!G134","v":720.87201970660101},{"$f":"'[6]Class Rates'!E134","v":11.705267744244413},null,null,null,null,null,null,{"$f":"D134","v":720.87201970660101},8438,null,null,null,null,null,null,null,null,null,null,720.87201970660101,0,{"$f":"SUM(G134+I134+K134+M134+O134+Q134+S134)","v":8438},{"$f":"SUM(Z134)","v":8438}]
[]
["Total Scheme Rates",null,null,{"$f":"SUM(D5:D135)","v":3030389.2470675805},null,null,null,null,null,null,null,null,null,null,null,null,null,null,null,null,null,null,null,{"$f":"SUM(X4:X135)","v":70803925.257892013},null,null,{"$f":"SUM(AA4:AA134)","v":1480409.5124331615}]
[]
[null,null,null,null,null,null,null,null,null,null,null,null,null,null,null,null,null,null,null,null,null,null,null,null,null,null,null,"Decision to maintain rate charge per ha. Operational land area has increased over time"]
["Regional Possum/Predator Rate",null,null,{"$f":"'[6]Class Rates'!G141","v":613734.97329999995},{"$f":"'[6]Class Rates'!E141","v":0.86682366680113065},5307.8222999999998,{"$f":"F139*E139","v":4600.9459888148112},207207.73449999999,{"$f":"H139*E139","v":179612.56820884513},78106.069000000003,{"$f":"J139*E139","v":67704.189130002123},178090.13709999999,{"$f":"L139*E139","v":154372.74566213807},54326.211900000002,{"$f":"N139*E139","v":47091.246202573224},15578,{"$f":"P139*E139","v":13503.379081428013},29205.998500000002,{"$f":"R139*E139","v":25316.450712358324},34055,{"$f":"T139*E139","v":29519.679972912505},11858,{"$f":"V139*E139","v":10278.795040927807},{"$f":"SUM(F139,H139,J139,L139,N139,P139,R139,T139,V139)","v":613734.97329999995},{"$f":"D139-X139","v":0},{"$f":"SUM(G139+I139+K139+M139+O139+Q139+S139+U139+W139)","v":532000.00000000012},{"$f":"Z139","v":532000.00000000012}]
[]
[]
["Total Dollars Collectable",null,null,null,{"$f":"SUM(G142+I142+K142+M142+O142+Q142+S142+U142+W142)","v":2012409.512433162},null,{"$f":"SUM(G5:G140)","v":4831.3259888148114},null,{"$f":"SUM(I5:I140)","v":410070.99386976985},null,{"$f":"SUM(K5:K140)","v":194599.04519660113},null,{"$f":"SUM(M5:M140)","v":1277198.5963677764},null,{"$f":"SUM(O5:O140)","v":47091.246202573224},null,{"$f":"SUM(Q5:Q140)","v":13503.379081428013},null,{"$f":"SUM(S5:S140)","v":25316.450712358324},null,{"$f":"SUM(U139:U139)","v":29519.679972912505},null,{"$f":"SUM(W139:W139)","v":10278.795040927807},null,null,null,{"$f":"AA136+AA139","v":2012409.5124331615}]
[]
[]
["RPPCP Ha updated Feb16",null,null,null,null,null,null,null,null,null,null,{"$f":"L139","v":178090.13709999999},null,null,null,{"$f":"P139","v":15578}]
[null,null,null,null,null,null,null,null,null,null,null,"draft",null,null,null,"draft"]

{"sheet":">>District wide rates","index":8,"n_rows":8,"n_cols":12,"rows_kept":8,"cut":false,"hidden":false,"merged":[]}
[]
[]
[]
[]
[]
[]
[null,null,null,null,null,null,null,null,null,null,null,"New category to be added in GL"]
[null,null,null,null,null,null,null,null,null,null,null,"New category to be added in GL, was \"River  Mgmt Rates\""]

{"sheet":"Gen","index":9,"n_rows":29,"n_cols":5,"rows_kept":29,"cut":false,"hidden":false,"merged":[]}
["Wellington Regional Council"]
[{"$f":"\"General Rate \"&year_current","v":"General Rate 2018/19"}]
["Printed: ",{"$f":"NOW()","v":"2018-03-27T14:57:01"}]
[{"$f":"check_total","v":8066.0526878890842}]
[]
[null,"CV",{"$f":"\"ECV \"&year_current","v":"ECV 2018/19"},"General Rate","Rates sought"]
[null,"$","$","$","Cents per $"]
[]
["By TA"]
["Wellington City",{"$f":"INDEX(capital_values,MATCH($A10&\"District wide\",capital_values_rows,0),MATCH(B$6&\" \"&year_current,capital_values_header,0))","v":51575881451},{"$f":"INDEX(capital_values,MATCH($A10&\"district wide\",capital_values_rows,0),MATCH(C$6,capital_values_header,0))","v":68975077410},{"$f":"C10/C$19*D$19","v":17763603.956695955},{"$f":"D10/B10*100","v":3.4441687581379256E-2}]
["Hutt City",21308578500,24118117072,{"$f":"C11/C$19*D$19","v":6211296.8326458521},{"$f":"D11/B11*100","v":2.9149278224475897E-2}]
["Upper Hutt City",8127444260,9172479133,2362248.6952953734,2.9065086387874819E-2]
["Porirua City",10194406250,11429809803,2943593.8641138384,2.8874598401587522E-2]
["Kapiti Coast District",14609528600,14678791680,3780325.4705526493,2.5875752558865244E-2]
["Masterton District",5909468000,5891731979,1517336.3687850407,2.5676361540244247E-2]
["Carterton District",2707141800,2715649450,699379.00943950808,2.5834590912064824E-2]
["South Wairarapa District",4460485300,4514129051,1162553.2537605274,2.6063380452358568E-2]
["Tararua District",10760500,7041800,1813.5209272577977,1.6853500555344063E-2]
["Region wide",{"$f":"SUM(B10:B18)","v":118903694661},{"$f":"SUM(C10:C18)","v":141502827378},{"$f":"INDEX(ess_base_estract,MATCH(D6,ESSbase!$B$8:$B$26,0),MATCH(year_current,ESSbase!$F$6:$G$6,0))","v":36442150.972216003},3.0648459727104598E-2]
[]
[]
["Upper Hutt breakdown"]
["Trentham Military Camp",{"$f":"SUMIFS('UHCC Adjustments'!$D$9:$D$27,'UHCC Adjustments'!$B$9:$B$27,\"Total\",'UHCC Adjustments'!$C$9:$C$27,A23)","v":87721000},null,{"$f":"+D12*'UHCC Adjustments'!$E$34","v":20187.018703236525},{"$f":"D23/B23*100","v":2.3012754874245079E-2}]
["Rest of Upper Hutt City",{"$f":"SUMIFS('UHCC Adjustments'!$D$9:$D$27,'UHCC Adjustments'!$B$9:$B$27,\"Total\",'UHCC Adjustments'!$C$9:$C$27,A24)","v":8039723260},null,{"$f":"+D12-D23","v":2342061.6765921367},{"$f":"D24/B24*100","v":2.9131123060473808E-2}]
["Total Upper Hutt City",{"$f":"+B24+B23","v":8127444260},null,{"$f":"+D24+D23","v":2362248.6952953734},{"$f":"D25/B25*100","v":2.9065086387874819E-2}]
[]
[]
["Check Upper Hutt total",{"$f":"B25-B12","v":0},null,{"$f":"D25-D12","v":0}]
["Check totals",{"$f":"B19-SUM(B10:B18)","v":0},{"$f":"C19-SUM(C10:C18)","v":0},{"$f":"D19-SUM(D10:D18)","v":0}]

{"sheet":"FP - regional","index":10,"n_rows":29,"n_cols":5,"rows_kept":29,"cut":false,"hidden":false,"merged":[]}
["Wellington Regional Council"]
[{"$f":"\"Flood protection - regional \"&year_current","v":"Flood protection - regional 2018/19"}]
["Printed: ",{"$f":"NOW()","v":"2018-03-27T14:57:01"}]
[{"$f":"check_total","v":8066.0526878890842}]
[]
[null,"CV","ECV","Flood protection – regional rate","Rates sought"]
[null,"$","$","$","Cents per $"]
[]
["By TA"]
["Wellington City",{"$f":"INDEX(capital_values,MATCH($A10&\"district wide\",capital_values_rows,0),MATCH(B$6&\" \"&year_current,capital_values_header,0))","v":51575881451},{"$f":"INDEX(capital_values,MATCH($A10&\"district wide\",capital_values_rows,0),MATCH(C$6&\" \"&year_current,capital_values_header,0))","v":68975077410},{"$f":"C10/C$19*D$19","v":4745293.0166026242},{"$f":"D10/B10*100","v":9.2006047848371148E-3}]
["Hutt City",21308578500,24118117072,1659259.2109041046,7.7868132353554444E-3]
["Upper Hutt City",8127444260,9172479133,631040.99058898317,7.7643225890174621E-3]
["Porirua City",10194406250,11429809803,786339.04702814773,7.7134364448949409E-3]
["Kapiti Coast District",14609528600,14678791680,1009859.9416891716,6.9123376211411205E-3]
["Masterton District",5909468000,5891731979,405334.73343503213,6.8590731591241733E-3]
["Carterton District",2707141800,2715649450,186829.11066595578,6.90134187525588E-3]
["South Wairarapa District",4460485300,4514129051,310559.49287920241,6.9624597323345609E-3]
["Tararua District",10760500,7041800,484.45620677865014,4.5021718951596124E-3]
["Region wide",{"$f":"SUM(B10:B18)","v":118903694661},{"$f":"SUM(C10:C18)","v":141502827378},{"$f":"INDEX(ess_base_estract,MATCH(D6,ESSbase!$B$8:$B$26,0),MATCH(year_current,ESSbase!$F$6:$G$6,0))","v":9735000},8.1872981556670218E-3]
[]
[]
["Upper Hutt breakdown"]
["Trentham Military Camp",{"$f":"SUMIFS('UHCC Adjustments'!$D$9:$D$27,'UHCC Adjustments'!$B$9:$B$27,\"Total\",'UHCC Adjustments'!$C$9:$C$27,A23)","v":87721000},null,{"$f":"+D12*'UHCC Adjustments'!$E$34","v":5392.6736439305578},{"$f":"D23/B23*100","v":6.1475286920242116E-3}]
["Rest of Upper Hutt City",{"$f":"SUMIFS('UHCC Adjustments'!$D$9:$D$27,'UHCC Adjustments'!$B$9:$B$27,\"Total\",'UHCC Adjustments'!$C$9:$C$27,A24)","v":8039723260},null,{"$f":"+D12-D23","v":625648.31694505259},{"$f":"D24/B24*100","v":7.7819633426667546E-3}]
["Total Upper Hutt City",{"$f":"+B24+B23","v":8127444260},null,{"$f":"+D24+D23","v":631040.99058898317},{"$f":"D25/B25*100","v":7.7643225890174621E-3}]
[]
[]
["Check Upper Hutt total",{"$f":"B25-B12","v":0},null,{"$f":"D25-D12","v":0}]
["Check totals",{"$f":"B19-SUM(B10:B18)","v":0},{"$f":"C19-SUM(C10:C18)","v":0},{"$f":"D19-SUM(D10:D18)","v":0}]

{"sheet":"FP - catchment","index":11,"n_rows":36,"n_cols":4,"rows_kept":36,"cut":false,"hidden":false,"merged":[]}
["Wellington Regional Council"]
[{"$f":"\"Flood protection - Catchment \"&year_current","v":"Flood protection - Catchment 2018/19"}]
["Printed: ",{"$f":"NOW()","v":"2018-03-27T14:57:01"}]
[{"$f":"check_total","v":8066.0526878890842}]
[]
[null,"CV","Flood protection – catchment rate","Rates sought"]
[null,"$","$","Cents per $"]
[]
["By TA"]
["Wellington City",{"$f":"INDEX(capital_values,MATCH($A10&\"district wide\",capital_values_rows,0),MATCH(B$6&\" \"&year_current,capital_values_header,0))","v":51575881451},{"$f":"INDEX(Control!$C$82:$C$93,MATCH(A10,Control!$A$82:$A$93,0),)","v":54042},{"$f":"C10/B10*100","v":1.0478153446847623E-4}]
["Hutt City",21308578500,{"$f":"INDEX(Control!$C$82:$C$93,MATCH(A11,Control!$A$82:$A$93,0),)","v":5167492},2.4250758913833693E-2]
["Upper Hutt City",8127444260,{"$f":"INDEX(Control!$C$82:$C$93,MATCH(A12,Control!$A$82:$A$93,0),)","v":881402},1.0844762163893327E-2]
["Porirua City",10194406250,{"$f":"INDEX(Control!$C$82:$C$93,MATCH(A13,Control!$A$82:$A$93,0),)","v":45121},4.4260547297690834E-4]
["Kapiti Coast District",14609528600,{"$f":"INDEX(Control!$C$82:$C$93,MATCH(A14,Control!$A$82:$A$93,0),)","v":1619846},1.1087599363062268E-2]
["Masterton District",5909468000,{"$f":"INDEX(Control!$C$82:$C$93,MATCH(A15,Control!$A$82:$A$93,0),)","v":271627},{"$f":"C15/B15*100","v":4.596471289801383E-3}]
["Carterton District",2707141800,{"$f":"INDEX(Control!$C$82:$C$93,MATCH(A16,Control!$A$82:$A$93,0),)","v":144634},5.3426828251109714E-3]
["South Wairarapa District",4460485300,{"$f":"INDEX(Control!$C$82:$C$93,MATCH(A17,Control!$A$82:$A$93,0),)","v":201926},4.5269961992700659E-3]
["Tararua District",10760500,{"$f":"INDEX(Control!$C$82:$C$93,MATCH(A18,Control!$A$82:$A$93,0),)","v":0},0]
["Region wide",{"$f":"SUM(B10:B18)","v":118903694661},{"$f":"INDEX(ess_base_estract,MATCH(C6,ESSbase!$B$8:$B$26,0),MATCH(year_current,ESSbase!$F$6:$G$6,0))","v":8386090.4651872702},7.0528426295721151E-3]
[]
[]
["Upper Hutt breakdown"]
["Trentham Military Camp",{"$f":"SUMIFS('UHCC Adjustments'!$D$9:$D$27,'UHCC Adjustments'!$B$9:$B$27,\"Total\",'UHCC Adjustments'!$C$9:$C$27,A23)","v":87721000},{"$f":"+C12*'UHCC Adjustments'!$E$34","v":7532.1784257966438},{"$f":"C23/B23*100","v":8.5865168269817303E-3}]
["Rest of Upper Hutt City",{"$f":"SUMIFS('UHCC Adjustments'!$D$9:$D$27,'UHCC Adjustments'!$B$9:$B$27,\"Total\",'UHCC Adjustments'!$C$9:$C$27,A24)","v":8039723260},{"$f":"+C12-C23","v":873869.82157420332},{"$f":"C24/B24*100","v":1.0869401760654674E-2}]
["Total Upper Hutt City",{"$f":"+B24+B23","v":8127444260},{"$f":"+C24+C23","v":881402},{"$f":"C25/B25*100","v":1.0844762163893327E-2}]
[]
[]
["Non District wide"]
["Greytown River Management Rate",{"$f":"INDEX('Capital values'!$E$47:$E$48,MATCH(\"Greytown Urban -CV\",'Capital values'!$A$47:$A$48,0),)","v":739130000},{"$f":"INDEX(Control!$D$97:$D$98,MATCH(A29,Control!$A$97:$A$98,0),)","v":92549},{"$f":"C29/B29*100","v":1.2521342659613331E-2}]
["Donalds Creek Stopbank River Management Rate",{"$f":"INDEX('Capital values'!$E$47:$E$48,MATCH(\"Featherston Urban - LV\",'Capital values'!$A$47:$A$48,0),)","v":162213500},{"$f":"INDEX(Control!$D$97:$D$98,MATCH(A30,Control!$A$97:$A$98,0),)","v":2615},{"$f":"C30/B30*100","v":1.6120729778964142E-3}]
["Total non-district wide rates",null,{"$f":"INDEX(ess_base_estract,MATCH(\"River  Mgmt Rates - Non District Wide\",ESSbase!$B$8:$B$26,0),MATCH(year_current,ESSbase!$F$6:$G$6,0))","v":95164}]
[]
[]
["Check Upper Hutt total",{"$f":"B25-B12","v":0},{"$f":"C25-C12","v":0}]
["Check Non District Wide total",null,{"$f":"IF(ABS(C31-SUM(C29:C30))>tolerance_dollar,1,0)","v":0}]
["Check totals",{"$f":"B19-SUM(B10:B18)","v":0},{"$f":"IF(ABS(C19-SUM(C10:C18))>tolerance_dollar,1,0)","v":0}]

{"sheet":"Stad","index":12,"n_rows":65,"n_cols":7,"rows_kept":65,"cut":false,"hidden":false,"merged":[]}
["Wellington Regional Council"]
[{"$f":"\"Stadium Purposes Rate \"&year_current","v":"Stadium Purposes Rate 2018/19"}]
["Printed: ",{"$f":"NOW()","v":"2018-03-27T14:57:01"}]
[{"$f":"check_total","v":8066.0526878890842}]
[]
[{"$f":"Control!A29","v":"TA full name"},{"$f":"Control!B29","v":"Category group"},{"$f":"Control!C29","v":"Concatenated  row"},{"$f":"\"Allocation \"&year_current","v":"Allocation 2018/19"},"CV","Stadium purposes rate","Rates sought"]
[{"$f":"Control!A40","v":0},{"$f":"Control!B40","v":0},{"$f":"Control!C40","v":0},"%","$","$","Cents per $"]
[]
["By TA"]
[{"$f":"Control!A30","v":"Wellington City"},{"$f":"Control!B30","v":"District wide"},{"$f":"Control!C30","v":"Wellington CityDistrict wide"},{"$f":"SUMIF($A$23:$A$48,$A10,$D$23:$D$48)","v":0.59399999999999997},{"$f":"INDEX(capital_values,MATCH($C10,capital_values_rows,0),MATCH(E$6&\" \"&year_current,capital_values_header,0))","v":51575881451},{"$f":"SUMIF($A$23:$A$48,$A10,$F$23:$F$48)","v":0}]
[{"$f":"Control!A31","v":"Hutt City"},{"$f":"Control!B31","v":"District wide"},{"$f":"Control!C31","v":"Hutt CityDistrict wide"},0.19519999999999998,21308578500,{"$f":"SUMIF($A$23:$A$48,$A11,$F$23:$F$48)","v":0}]
[{"$f":"Control!A32","v":"Upper Hutt City"},{"$f":"Control!B32","v":"District wide"},{"$f":"Control!C32","v":"Upper Hutt CityDistrict wide"},5.2600000000000008E-2,8127444260,0]
[{"$f":"Control!A33","v":"Porirua City"},{"$f":"Control!B33","v":"District wide"},{"$f":"Control!C33","v":"Porirua CityDistrict wide"},7.1800000000000003E-2,10194406250,0]
[{"$f":"Control!A34","v":"Kapiti Coast District"},{"$f":"Control!B34","v":"District wide"},{"$f":"Control!C34","v":"Kapiti Coast DistrictDistrict wide"},4.8399999999999999E-2,14609528600,0]
[{"$f":"Control!A35","v":"Masterton District"},{"$f":"Control!B35","v":"District wide"},{"$f":"Control!C35","v":"Masterton DistrictDistrict wide"},1.9999999999999997E-2,5909468000,0]
[{"$f":"Control!A36","v":"Carterton District"},{"$f":"Control!B36","v":"District wide"},{"$f":"Control!C36","v":"Carterton DistrictDistrict wide"},6.9999999999999993E-3,2707141800,0]
[{"$f":"Control!A37","v":"South Wairarapa District"},{"$f":"Control!B37","v":"District wide"},{"$f":"Control!C37","v":"South Wairarapa DistrictDistrict wide"},1.0999999999999999E-2,4460485300,0]
[{"$f":"Control!A38","v":"Tararua District"},{"$f":"Control!B38","v":"District wide"},{"$f":"Control!C38","v":"Tararua DistrictDistrict wide"},0,10760500,{"$f":"SUMIF($A$23:$A$48,$A18,$F$23:$F$48)","v":0}]
["Region wide",null,null,{"$f":"SUM(D10:D18)","v":0.99999999999999989},{"$f":"SUM(E10:E18)","v":118903694661},{"$f":"SUM(F10:F18)","v":0}]
[]
[]
["By TA & Category"]
[{"$f":"Control!A43","v":"Wellington City"},{"$f":"Control!B43","v":"Regional CBD"},{"$f":"Control!C43","v":"Wellington CityRegional CBD"},{"$f":"INDEX(stadium_rate_allocation,MATCH(C23,Control!$C$105:$C$130,0),)","v":0.13754712604503713},{"$f":"INDEX(capital_values,MATCH($C23,capital_values_rows,0),MATCH(E$6&\" \"&year_current,capital_values_header,0))","v":7819039000},{"$f":"$F$49*D23","v":0},{"$f":"F23/E23*100","v":0}]
[{"$f":"Control!A44","v":"Wellington City"},{"$f":"Control!B44","v":"Business"},{"$f":"Control!C44","v":"Wellington CityBusiness"},{"$f":"INDEX(stadium_rate_allocation,MATCH(C24,Control!$C$105:$C$130,0),)","v":6.7952873954962856E-2},3862866400,0,0]
[{"$f":"Control!A45","v":"Wellington City"},{"$f":"Control!B45","v":"Residential"},{"$f":"Control!C45","v":"Wellington CityResidential"},{"$f":"INDEX(stadium_rate_allocation,MATCH(C25,Control!$C$105:$C$130,0),)","v":0.3856},39302266501,0,0]
[{"$f":"Control!A46","v":"Wellington City"},{"$f":"Control!B46","v":"Rural"},{"$f":"Control!C46","v":"Wellington CityRural"},{"$f":"INDEX(stadium_rate_allocation,MATCH(C26,Control!$C$105:$C$130,0),)","v":2.8999999999999998E-3},591709550,0,0]
[{"$f":"Control!A47","v":"Hutt City"},{"$f":"Control!B47","v":"Business"},{"$f":"Control!C47","v":"Hutt CityBusiness"},{"$f":"INDEX(stadium_rate_allocation,MATCH(C27,Control!$C$105:$C$130,0),)","v":5.0900000000000001E-2},3771653500,0,0]
[{"$f":"Control!A48","v":"Hutt City"},{"$f":"Control!B48","v":"Residential"},{"$f":"Control!C48","v":"Hutt CityResidential"},{"$f":"INDEX(stadium_rate_allocation,MATCH(C28,Control!$C$105:$C$130,0),)","v":0.14199999999999999},17222975000,0,0]
[{"$f":"Control!A49","v":"Hutt City"},{"$f":"Control!B49","v":"Rural"},{"$f":"Control!C49","v":"Hutt CityRural"},{"$f":"INDEX(stadium_rate_allocation,MATCH(C29,Control!$C$105:$C$130,0),)","v":2.3E-3},313950000,0,0]
[{"$f":"Control!A50","v":"Upper Hutt City"},{"$f":"Control!B50","v":"Business"},{"$f":"Control!C50","v":"Upper Hutt CityBusiness"},{"$f":"INDEX(stadium_rate_allocation,MATCH(C30,Control!$C$105:$C$130,0),)","v":7.9000000000000008E-3},1176281500,0,0]
[{"$f":"Control!A51","v":"Upper Hutt City"},{"$f":"Control!B51","v":"Residential"},{"$f":"Control!C51","v":"Upper Hutt CityResidential"},{"$f":"INDEX(stadium_rate_allocation,MATCH(C31,Control!$C$105:$C$130,0),)","v":4.2700000000000002E-2},6108760420,0,0]
[{"$f":"Control!A52","v":"Upper Hutt City"},{"$f":"Control!B52","v":"Rural"},{"$f":"Control!C52","v":"Upper Hutt CityRural"},{"$f":"INDEX(stadium_rate_allocation,MATCH(C32,Control!$C$105:$C$130,0),)","v":2E-3},842402340,0,0]
[{"$f":"Control!A53","v":"Porirua City"},{"$f":"Control!B53","v":"Business"},{"$f":"Control!C53","v":"Porirua CityBusiness"},{"$f":"INDEX(stadium_rate_allocation,MATCH(C33,Control!$C$105:$C$130,0),)","v":1.24E-2},1097240500,0,0]
[{"$f":"Control!A54","v":"Porirua City"},{"$f":"Control!B54","v":"Residential"},{"$f":"Control!C54","v":"Porirua CityResidential"},{"$f":"INDEX(stadium_rate_allocation,MATCH(C34,Control!$C$105:$C$130,0),)","v":5.8000000000000003E-2},8483788000,0,0]
[{"$f":"Control!A55","v":"Porirua City"},{"$f":"Control!B55","v":"Rural"},{"$f":"Control!C55","v":"Porirua CityRural"},{"$f":"INDEX(stadium_rate_allocation,MATCH(C35,Control!$C$105:$C$130,0),)","v":1.4E-3},613377750,0,0]
[{"$f":"Control!A56","v":"Kapiti Coast District"},{"$f":"Control!B56","v":"Business"},{"$f":"Control!C56","v":"Kapiti Coast DistrictBusiness"},{"$f":"INDEX(stadium_rate_allocation,MATCH(C36,Control!$C$105:$C$130,0),)","v":5.3109417094918962E-3},1513816000,0,0]
[{"$f":"Control!A57","v":"Kapiti Coast District"},{"$f":"Control!B57","v":"Residential"},{"$f":"Control!C57","v":"Kapiti Coast DistrictResidential"},{"$f":"INDEX(stadium_rate_allocation,MATCH(C37,Control!$C$105:$C$130,0),)","v":3.8789058290508105E-2},11056324900,0,0]
[{"$f":"Control!A58","v":"Kapiti Coast District"},{"$f":"Control!B58","v":"Rural"},{"$f":"Control!C58","v":"Kapiti Coast DistrictRural"},{"$f":"INDEX(stadium_rate_allocation,MATCH(C38,Control!$C$105:$C$130,0),)","v":4.3E-3},2039387700,0,0]
[{"$f":"Control!A59","v":"Masterton District"},{"$f":"Control!B59","v":"Business"},{"$f":"Control!C59","v":"Masterton DistrictBusiness"},{"$f":"INDEX(stadium_rate_allocation,MATCH(C39,Control!$C$105:$C$130,0),)","v":2.0395692965217262E-3},435894100,0,0]
[{"$f":"Control!A60","v":"Masterton District"},{"$f":"Control!B60","v":"Residential"},{"$f":"Control!C60","v":"Masterton DistrictResidential"},{"$f":"INDEX(stadium_rate_allocation,MATCH(C40,Control!$C$105:$C$130,0),)","v":1.2660430703478272E-2},2705770800,0,0]
[{"$f":"Control!A61","v":"Masterton District"},{"$f":"Control!B61","v":"Rural"},{"$f":"Control!C61","v":"Masterton DistrictRural"},{"$f":"INDEX(stadium_rate_allocation,MATCH(C41,Control!$C$105:$C$130,0),)","v":5.3E-3},2767803100,0,0]
[{"$f":"Control!A62","v":"Carterton District"},{"$f":"Control!B62","v":"Business"},{"$f":"Control!C62","v":"Carterton DistrictBusiness"},{"$f":"INDEX(stadium_rate_allocation,MATCH(C42,Control!$C$105:$C$130,0),)","v":3.9287110584706992E-4},92706500,0,0]
[{"$f":"Control!A63","v":"Carterton District"},{"$f":"Control!B63","v":"Residential"},{"$f":"Control!C63","v":"Carterton DistrictResidential"},{"$f":"INDEX(stadium_rate_allocation,MATCH(C43,Control!$C$105:$C$130,0),)","v":3.5071288941529301E-3},827583500,0,0]
[{"$f":"Control!A64","v":"Carterton District"},{"$f":"Control!B64","v":"Rural"},{"$f":"Control!C64","v":"Carterton DistrictRural"},{"$f":"INDEX(stadium_rate_allocation,MATCH(C44,Control!$C$105:$C$130,0),)","v":3.0999999999999999E-3},1786851800,0,0]
[{"$f":"Control!A65","v":"South Wairarapa District"},{"$f":"Control!B65","v":"Business"},{"$f":"Control!C65","v":"South Wairarapa DistrictBusiness"},{"$f":"INDEX(stadium_rate_allocation,MATCH(C45,Control!$C$105:$C$130,0),)","v":9.877456791589237E-4},205904600,0,0]
[{"$f":"Control!A66","v":"South Wairarapa District"},{"$f":"Control!B66","v":"Residential"},{"$f":"Control!C66","v":"South Wairarapa DistrictResidential"},{"$f":"INDEX(stadium_rate_allocation,MATCH(C46,Control!$C$105:$C$130,0),)","v":6.2122543208410763E-3},1295001100,0,0]
[{"$f":"Control!A67","v":"South Wairarapa District"},{"$f":"Control!B67","v":"Rural"},{"$f":"Control!C67","v":"South Wairarapa DistrictRural"},{"$f":"INDEX(stadium_rate_allocation,MATCH(C47,Control!$C$105:$C$130,0),)","v":3.8E-3},2959579600,0,0]
[{"$f":"Control!A68","v":"Tararua District"},{"$f":"Control!B68","v":"Rural"},{"$f":"Control!C68","v":"Tararua DistrictRural"},{"$f":"INDEX(stadium_rate_allocation,MATCH(C48,Control!$C$105:$C$130,0),)","v":0},10760500,{"$f":"$F$49*D48","v":0},0]
["Region wide",null,null,{"$f":"SUM(D23:D48)","v":0.99999999999999989},{"$f":"SUM(E23:E48)","v":118903694661},{"$f":"INDEX(ess_base_estract,MATCH(F6,ESSbase!$B$8:$B$26,0),MATCH(year_current,ESSbase!$F$6:$G$6,0))","v":0}]
[]
[]
["Upper Hutt breakdown"]
[{"$f":"$A$12","v":"Upper Hutt City"},"Business","Trentham Military Camp",{"$f":"SUMIFS($D$23:$D$48,$A$23:$A$48,A53,$B$23:$B$48,B53)\n  *\n  IF(C53=\"Trentham Military Camp\",\n       INDEX('UHCC Adjustments'!$E$30:$E$32,MATCH(B53,'UHCC Adjustments'!$B$30:$B$32,0),),\n       1-INDEX('UHCC Adjustments'!$E$30:$E$32,MATCH(B53,'UHCC Adjustments'!$B$30:$B$32,0),))","v":5.1761554817212382E-4},{"$f":"SUMIFS('UHCC Adjustments'!$D$9:$D$27,'UHCC Adjustments'!$B$9:$B$27,B53,'UHCC Adjustments'!$C$9:$C$27,C53)","v":56325000},{"$f":"$F$49*D53","v":0},{"$f":"F53/E53*100","v":0}]
["Upper Hutt City","Business","Rest of Upper Hutt City",{"$f":"SUMIFS($D$23:$D$48,$A$23:$A$48,A54,$B$23:$B$48,B54)\n  *\n  IF(C54=\"Trentham Military Camp\",\n       INDEX('UHCC Adjustments'!$E$30:$E$32,MATCH(B54,'UHCC Adjustments'!$B$30:$B$32,0),),\n       1-INDEX('UHCC Adjustments'!$E$30:$E$32,MATCH(B54,'UHCC Adjustments'!$B$30:$B$32,0),))","v":7.3823844518278768E-3},{"$f":"SUMIFS('UHCC Adjustments'!$D$9:$D$27,'UHCC Adjustments'!$B$9:$B$27,B54,'UHCC Adjustments'!$C$9:$C$27,C54)","v":1119956500},{"$f":"$F$49*D54","v":0},0]
["Upper Hutt City","Residential","Trentham Military Camp",{"$f":"SUMIFS($D$23:$D$48,$A$23:$A$48,A55,$B$23:$B$48,B55)\n  *\n  IF(C55=\"Trentham Military Camp\",\n       INDEX('UHCC Adjustments'!$E$30:$E$32,MATCH(B55,'UHCC Adjustments'!$B$30:$B$32,0),),\n       1-INDEX('UHCC Adjustments'!$E$30:$E$32,MATCH(B55,'UHCC Adjustments'!$B$30:$B$32,0),))","v":1.3673188059807036E-4},{"$f":"SUMIFS('UHCC Adjustments'!$D$9:$D$27,'UHCC Adjustments'!$B$9:$B$27,B55,'UHCC Adjustments'!$C$9:$C$27,C55)","v":26720000},0,0]
["Upper Hutt City","Residential","Rest of Upper Hutt City",{"$f":"SUMIFS($D$23:$D$48,$A$23:$A$48,A56,$B$23:$B$48,B56)\n  *\n  IF(C56=\"Trentham Military Camp\",\n       INDEX('UHCC Adjustments'!$E$30:$E$32,MATCH(B56,'UHCC Adjustments'!$B$30:$B$32,0),),\n       1-INDEX('UHCC Adjustments'!$E$30:$E$32,MATCH(B56,'UHCC Adjustments'!$B$30:$B$32,0),))","v":4.2563268119401934E-2},{"$f":"SUMIFS('UHCC Adjustments'!$D$9:$D$27,'UHCC Adjustments'!$B$9:$B$27,B56,'UHCC Adjustments'!$C$9:$C$27,C56)","v":6082040420},0,0]
["Upper Hutt City","Rural","Trentham Military Camp",{"$f":"SUMIFS($D$23:$D$48,$A$23:$A$48,A57,$B$23:$B$48,B57)\n  *\n  IF(C57=\"Trentham Military Camp\",\n       INDEX('UHCC Adjustments'!$E$30:$E$32,MATCH(B57,'UHCC Adjustments'!$B$30:$B$32,0),),\n       1-INDEX('UHCC Adjustments'!$E$30:$E$32,MATCH(B57,'UHCC Adjustments'!$B$30:$B$32,0),))","v":1.2908131586741268E-5},{"$f":"SUMIFS('UHCC Adjustments'!$D$9:$D$27,'UHCC Adjustments'!$B$9:$B$27,B57,'UHCC Adjustments'!$C$9:$C$27,C57)","v":4676000},0,0]
["Upper Hutt City","Rural","Rest of Upper Hutt City",{"$f":"SUMIFS($D$23:$D$48,$A$23:$A$48,A58,$B$23:$B$48,B58)\n  *\n  IF(C58=\"Trentham Military Camp\",\n       INDEX('UHCC Adjustments'!$E$30:$E$32,MATCH(B58,'UHCC Adjustments'!$B$30:$B$32,0),),\n       1-INDEX('UHCC Adjustments'!$E$30:$E$32,MATCH(B58,'UHCC Adjustments'!$B$30:$B$32,0),))","v":1.9870918684132587E-3},{"$f":"SUMIFS('UHCC Adjustments'!$D$9:$D$27,'UHCC Adjustments'!$B$9:$B$27,B58,'UHCC Adjustments'!$C$9:$C$27,C58)","v":837726340},0,0]
["Total",null,null,{"$f":"SUM(D53:D58)","v":5.2600000000000008E-2},{"$f":"SUM(E53:E58)","v":8127444260},{"$f":"SUM(F53:F58)","v":0}]
[]
[]
["Check Upper Hutt total",null,null,{"$f":"D59-D12","v":0},{"$f":"E59-E12","v":0},{"$f":"F59-F12","v":0}]
["Check TA totals",null,null,{"$f":"D19-SUM(D10:D18)","v":0},{"$f":"E19-SUM(E10:E18)","v":0},{"$f":"F19-SUM(F10:F18)","v":0}]
["Check category totals",null,null,{"$f":"D49-SUM(D23:D48)","v":0},{"$f":"E49-SUM(E23:E48)","v":0},{"$f":"F49-SUM(F23:F48)","v":0}]
["Category matches TA",null,null,null,{"$f":"E49-E19","v":0},{"$f":"F49-F19","v":0}]

{"sheet":"WRS","index":13,"n_rows":53,"n_cols":11,"rows_kept":53,"cut":false,"hidden":false,"merged":[]}
["Wellington Regional Council"]
[{"$f":"\"Wellington Regional Strategy \"&year_current","v":"Wellington Regional Strategy 2018/19"}]
["Printed: ",{"$f":"NOW()","v":"2018-03-27T14:57:01"}]
[{"$f":"check_total","v":8066.0526878890842}]
[]
[{"$f":"Control!A29","v":"TA full name"},{"$f":"Control!B29","v":"Category group"},{"$f":"Control!C29","v":"Concatenated  row"},"CV assessments","Contiguous assements","Rateable properties","Rating basis","CV","ECV","Regional strategy rate","Rates sought"]
[{"$f":"Control!A40","v":0},{"$f":"Control!B40","v":0},{"$f":"Control!C40","v":0},"#","#","#","$","$","$","$","Cents per $"]
[]
["By TA"]
[{"$f":"Control!A30","v":"Wellington City"},{"$f":"Control!B30","v":"District wide"},{"$f":"Control!C30","v":"Wellington CityDistrict wide"},null,null,null,null,{"$f":"INDEX(capital_values,MATCH($C10,capital_values_rows,0),MATCH(H$6&\" \"&year_current,capital_values_header,0))","v":51575881451},68975077410,{"$f":"SUMIF($A$23:$A$48,$A10,$J$23:$J$48)","v":2346550.1049939538}]
[{"$f":"Control!A31","v":"Hutt City"},{"$f":"Control!B31","v":"District wide"},{"$f":"Control!C31","v":"Hutt CityDistrict wide"},null,null,null,null,21308578500,24118117072,{"$f":"SUMIF($A$23:$A$48,$A11,$J$23:$J$48)","v":883539.13968264661}]
[{"$f":"Control!A32","v":"Upper Hutt City"},{"$f":"Control!B32","v":"District wide"},{"$f":"Control!C32","v":"Upper Hutt CityDistrict wide"},null,null,null,null,8127444260,9172479133,352214.27155678056]
[{"$f":"Control!A33","v":"Porirua City"},{"$f":"Control!B33","v":"District wide"},{"$f":"Control!C33","v":"Porirua CityDistrict wide"},null,null,null,null,10194406250,11429809803,362954.5636568194]
[{"$f":"Control!A34","v":"Kapiti Coast District"},{"$f":"Control!B34","v":"District wide"},{"$f":"Control!C34","v":"Kapiti Coast DistrictDistrict wide"},null,null,null,null,14609528600,14678791680,489421.57025823562]
[{"$f":"Control!A35","v":"Masterton District"},{"$f":"Control!B35","v":"District wide"},{"$f":"Control!C35","v":"Masterton DistrictDistrict wide"},null,null,null,null,5909468000,5891731979,242660.13467105993]
[{"$f":"Control!A36","v":"Carterton District"},{"$f":"Control!B36","v":"District wide"},{"$f":"Control!C36","v":"Carterton DistrictDistrict wide"},null,null,null,null,2707141800,2715649450,91329.728506803149]
[{"$f":"Control!A37","v":"South Wairarapa District"},{"$f":"Control!B37","v":"District wide"},{"$f":"Control!C37","v":"South Wairarapa DistrictDistrict wide"},null,null,null,null,4460485300,4514129051,138939.30754689401]
[{"$f":"Control!A38","v":"Tararua District"},{"$f":"Control!B38","v":"District wide"},{"$f":"Control!C38","v":"Tararua DistrictDistrict wide"},null,null,null,null,10760500,7041800,252]
["Region wide",null,null,null,null,null,null,{"$f":"SUM(H10:H18)","v":118903694661},{"$f":"SUM(I10:I18)","v":141502827378},{"$f":"SUM(J10:J18)","v":4907860.8208731944}]
[]
[]
["By TA & Category"]
[{"$f":"Control!A43","v":"Wellington City"},{"$f":"Control!B43","v":"Regional CBD"},{"$f":"Control!C43","v":"Wellington CityRegional CBD"},{"$f":"INDEX(assessments,MATCH($C23,assessments_rows,0),MATCH(D$6&\" \"&year_current,assessments_header,0))","v":3382},{"$f":"INDEX(assessments_contiguous,MATCH($C23,assessments_contiguous_rows,0),MATCH(E$6&\" \"&year_current,assessments_contiguous_header,0))","v":0},{"$f":"D23-E23","v":3382},{"$f":"INDEX(WRS_value,MATCH($B23,WRS_categories,0),)","v":"Remainder"},{"$f":"INDEX(capital_values,MATCH($C23,capital_values_rows,0),MATCH(H$6&\" \"&year_current,capital_values_header,0))","v":7819039000},{"$f":"INDEX($I$10:$I$18,MATCH(A23,$A$10:$A$18,0),)/INDEX($H$10:$H$18,MATCH(A23,$A$10:$A$18,0),)*H23","v":10456802775.328083},{"$f":"IF(G23=\"Remainder\",\nI23/(SUMIF($B$23:$B$48,\"Business\",$I$23:$I$48)\n+SUMIF($B$23:$B$48,\"Regional CBD\",$I$23:$I$48))\n*($J$49-SUMPRODUCT($G$23:$G$48,$F$23:$F$48)),\nG23*F23)","v":890280.03489600425},{"$f":"J23/H23*100","v":1.1386054410215939E-2}]
[{"$f":"Control!A44","v":"Wellington City"},{"$f":"Control!B44","v":"Business"},{"$f":"Control!C44","v":"Wellington CityBusiness"},1900,0,{"$f":"D24-E24","v":1900},"Remainder",3862866400,{"$f":"INDEX($I$10:$I$18,MATCH(A24,$A$10:$A$18,0),)/INDEX($H$10:$H$18,MATCH(A24,$A$10:$A$18,0),)*H24","v":5166009798.9332962},{"$f":"IF(G24=\"Remainder\",\nI24/(SUMIF($B$23:$B$48,\"Business\",$I$23:$I$48)\n+SUMIF($B$23:$B$48,\"Regional CBD\",$I$23:$I$48))\n*($J$49-SUMPRODUCT($G$23:$G$48,$F$23:$F$48)),\nG24*F24)","v":439828.07009794971},1.1386054410215941E-2]
[{"$f":"Control!A45","v":"Wellington City"},{"$f":"Control!B45","v":"Residential"},{"$f":"Control!C45","v":"Wellington CityResidential"},71045,0,71045,14,39302266501,52560941238.986107,994630,2.5307191888658451E-3]
[{"$f":"Control!A46","v":"Wellington City"},{"$f":"Control!B46","v":"Rural"},{"$f":"Control!C46","v":"Wellington CityRural"},779,0,779,28,591709550,791323596.75250769,21812,3.6862680347139912E-3]
[{"$f":"Control!A47","v":"Hutt City"},{"$f":"Control!B47","v":"Business"},{"$f":"Control!C47","v":"Hutt CityBusiness"},2358,0,2358,"Remainder",3771653500,4268946455.908288,363453.13968264661,9.6364403485804453E-3]
[{"$f":"Control!A48","v":"Hutt City"},{"$f":"Control!B48","v":"Residential"},{"$f":"Control!C48","v":"Hutt CityResidential"},36300,125,36175,14,{"$f":"INDEX(capital_values,MATCH($C28,capital_values_rows,0),MATCH(H$6&\" \"&year_current,capital_values_header,0))","v":17222975000},19493826271.80547,{"$f":"IF(G28=\"Remainder\",\nI28/(SUMIF($B$23:$B$48,\"Business\",$I$23:$I$48)\n+SUMIF($B$23:$B$48,\"Regional CBD\",$I$23:$I$48))\n*($J$49-SUMPRODUCT($G$23:$G$48,$F$23:$F$48)),\nG28*F28)","v":506450},2.9405488889114686E-3]
[{"$f":"Control!A49","v":"Hutt City"},{"$f":"Control!B49","v":"Rural"},{"$f":"Control!C49","v":"Hutt CityRural"},487,0,487,28,313950000,355344344.28624129,13636,4.3433667781493865E-3]
[{"$f":"Control!A50","v":"Upper Hutt City"},{"$f":"Control!B50","v":"Business"},{"$f":"Control!C50","v":"Upper Hutt CityBusiness"},712,0,712,"Remainder",1176281500,1327528946.1393292,113024.27155678054,9.6086074257548497E-3]
[{"$f":"Control!A51","v":"Upper Hutt City"},{"$f":"Control!B51","v":"Residential"},{"$f":"Control!C51","v":"Upper Hutt CityResidential"},14778,37,14741,14,6108760420,6894230915.4570951,206374,3.3783285938720773E-3]
[{"$f":"Control!A52","v":"Upper Hutt City"},{"$f":"Control!B52","v":"Rural"},{"$f":"Control!C52","v":"Upper Hutt CityRural"},1246,74,1172,28,842402340,950719271.40357542,32816,3.8955257412983924E-3]
[{"$f":"Control!A53","v":"Porirua City"},{"$f":"Control!B53","v":"Business"},{"$f":"Control!C53","v":"Porirua CityBusiness"},795,0,795,"Remainder",1097240500,1230208990.6558924,104738.56365681939,9.5456341300580311E-3]
[{"$f":"Control!A54","v":"Porirua City"},{"$f":"Control!B54","v":"Residential"},{"$f":"Control!C54","v":"Porirua CityResidential"},17224,0,17224,14,8483788000,9511891214.7506161,241136,2.8423152488015967E-3]
[{"$f":"Control!A55","v":"Porirua City"},{"$f":"Control!B55","v":"Rural"},{"$f":"Control!C55","v":"Porirua CityRural"},610,0,610,28,613377750,687709597.59349239,17080,2.7845809535803996E-3]
[{"$f":"Control!A56","v":"Kapiti Coast District"},{"$f":"Control!B56","v":"Business"},{"$f":"Control!C56","v":"Kapiti Coast DistrictBusiness"},1395,0,1395,"Remainder",1513816000,1520992929.6316159,129495.5702582356,8.5542476931301827E-3]
[{"$f":"Control!A57","v":"Kapiti Coast District"},{"$f":"Control!B57","v":"Residential"},{"$f":"Control!C57","v":"Kapiti Coast DistrictResidential"},20672,199,20473,14,11056324900,11108742410.312735,286622,2.5923804030035334E-3]
[{"$f":"Control!A58","v":"Kapiti Coast District"},{"$f":"Control!B58","v":"Rural"},{"$f":"Control!C58","v":"Kapiti Coast DistrictRural"},2773,155,2618,28,2039387700,2049056340.0556493,73304,3.5944121855790343E-3]
[{"$f":"Control!A59","v":"Masterton District"},{"$f":"Control!B59","v":"Business"},{"$f":"Control!C59","v":"Masterton DistrictBusiness"},550,0,550,"Remainder",435894100,434585855.85494733,37000.134671059939,8.4883311499421403E-3]
[{"$f":"Control!A60","v":"Masterton District"},{"$f":"Control!B60","v":"Residential"},{"$f":"Control!C60","v":"Masterton DistrictResidential"},7878,14,7864,14,2705770800,2697650000.0007467,110096,4.0689329635754815E-3]
[{"$f":"Control!A61","v":"Masterton District"},{"$f":"Control!B61","v":"Rural"},{"$f":"Control!C61","v":"Masterton DistrictRural"},3854,441,3413,28,2767803100,2759496123.1443057,95564,3.4527022532780602E-3]
[{"$f":"Control!A62","v":"Carterton District"},{"$f":"Control!B62","v":"Business"},{"$f":"Control!C62","v":"Carterton DistrictBusiness"},225,0,225,"Remainder",92706500,92997845.822640315,7917.7285068031488,8.5406400919063371E-3]
[{"$f":"Control!A63","v":"Carterton District"},{"$f":"Control!B63","v":"Residential"},{"$f":"Control!C63","v":"Carterton DistrictResidential"},2356,82,2274,14,827583500,830184320.82282317,31836,3.8468625824463632E-3]
[{"$f":"Control!A64","v":"Carterton District"},{"$f":"Control!B64","v":"Rural"},{"$f":"Control!C64","v":"Carterton DistrictRural"},2062,220,1842,28,1786851800,1792467283.3545365,51576,2.8864173290700438E-3]
[{"$f":"Control!A65","v":"South Wairarapa District"},{"$f":"Control!B65","v":"Business"},{"$f":"Control!C65","v":"South Wairarapa DistrictBusiness"},308,0,308,"Remainder",205904600,208380898.95611462,17741.307546894022,8.6162754726674499E-3]
[{"$f":"Control!A66","v":"South Wairarapa District"},{"$f":"Control!B66","v":"Residential"},{"$f":"Control!C66","v":"South Wairarapa DistrictResidential"},3196,73,3123,14,1295001100,1310575350.7554336,43722,3.3762133483902059E-3]
[{"$f":"Control!A67","v":"South Wairarapa District"},{"$f":"Control!B67","v":"Rural"},{"$f":"Control!C67","v":"South Wairarapa DistrictRural"},3107,340,2767,28,2959579600,2995172801.2884517,77476,2.6178042313847547E-3]
[{"$f":"Control!A68","v":"Tararua District"},{"$f":"Control!B68","v":"Rural"},{"$f":"Control!C68","v":"Tararua DistrictRural"},10,1,9,28,10760500,7041800,252,2.3418986106593558E-3]
["Region wide",null,null,{"$f":"SUM(D23:D48)","v":200002},{"$f":"SUM(E23:E48)","v":1761},{"$f":"SUM(F23:F48)","v":198241},null,{"$f":"SUM(H23:H48)","v":118903694661},{"$f":"SUM(I23:I48)","v":141502827378},{"$f":"INDEX(ess_base_estract,MATCH(J6,ESSbase!$B$8:$B$26,0),MATCH(year_current,ESSbase!$F$6:$G$6,0))","v":4907860.8208731934}]
[]
["Check TA totals",null,null,null,null,null,null,{"$f":"INDEX(capital_values,MATCH(\"Region wide\",capital_values_rows,0),MATCH(H6&\" \"&year_current,capital_values_header,0))-SUM(H10:H18)","v":0},{"$f":"INDEX(capital_values,MATCH(\"Region wide\",capital_values_rows,0),MATCH(I6&\" \"&year_current,capital_values_header,0))-SUM(I10:I18)","v":0},{"$f":"INDEX(ess_base_estract,MATCH(J6,ESSbase!$B$8:$B$26,0),MATCH(year_current,ESSbase!$F$6:$G$6,0))-SUM(J10:J18)","v":0}]
["Check category totals",null,null,{"$f":"INDEX(assessments,MATCH(\"region wide\",assessments_rows,0),MATCH(\"CV assessments \"&year_current,assessments_header,0))-SUM(D23:D48)","v":0},{"$f":"INDEX(assessments_contiguous,MATCH(\"region wide\",assessments_contiguous_rows,0),MATCH(\"Contiguous assements \"&year_current,assessments_contiguous_header,0))-SUM(E23:E48)","v":0},{"$f":"F49-SUM(F23:F48)","v":0},null,{"$f":"INDEX(capital_values,MATCH(\"Region wide\",capital_values_rows,0),MATCH(H6&\" \"&year_current,capital_values_header,0))-SUM(H23:H48)","v":0},{"$f":"INDEX(capital_values,MATCH(\"Region wide\",capital_values_rows,0),MATCH(I6&\" \"&year_current,capital_values_header,0))-SUM(I23:I48)","v":0},{"$f":"INDEX(ess_base_estract,MATCH(J6,ESSbase!$B$8:$B$26,0),MATCH(year_current,ESSbase!$F$6:$G$6,0))-SUM(J23:J48)","v":0}]
["Category matches TA",null,null,null,null,null,null,{"$f":"H49-H19","v":0},{"$f":"I49-I19","v":0},{"$f":"J49-J19","v":0}]

{"sheet":"Tran","index":14,"n_rows":65,"n_cols":9,"rows_kept":65,"cut":false,"hidden":false,"merged":[]}
["Wellington Regional Council"]
[{"$f":"\"Regional Transport Rate \"&year_current","v":"Regional Transport Rate 2018/19"}]
["Printed: ",{"$f":"NOW()","v":"2018-03-27T14:57:01"}]
[{"$f":"check_total","v":8066.0526878890842}]
[]
[{"$f":"Control!A29","v":"TA full name"},{"$f":"Control!B29","v":"Category group"},{"$f":"Control!C29","v":"Concatenated  row"},{"$f":"\"CV\"","v":"CV"},"ECV","Differential","ECV multiplied","Public transport rate","Rates sought"]
[null,null,null,"$","$","#","#","$","Cents/$"]
[]
["By TA"]
[{"$f":"Control!A30","v":"Wellington City"},{"$f":"Control!B30","v":"District wide"},{"$f":"Control!C30","v":"Wellington CityDistrict wide"},{"$f":"INDEX(capital_values,MATCH($C10,capital_values_rows,0),MATCH(D$6&\" \"&year_current,capital_values_header,0))","v":51575881451},68975077410,null,null,{"$f":"SUMIF($A$23:$A$48,$A10,$H$23:$H$48)","v":41775892.755646847}]
[{"$f":"Control!A31","v":"Hutt City"},{"$f":"Control!B31","v":"District wide"},{"$f":"Control!C31","v":"Hutt CityDistrict wide"},21308578500,24118117072,null,null,{"$f":"SUMIF($A$23:$A$48,$A11,$H$23:$H$48)","v":10825287.610472854}]
[{"$f":"Control!A32","v":"Upper Hutt City"},{"$f":"Control!B32","v":"District wide"},{"$f":"Control!C32","v":"Upper Hutt CityDistrict wide"},8127444260,9172479133,null,null,4174873.755439186]
[{"$f":"Control!A33","v":"Porirua City"},{"$f":"Control!B33","v":"District wide"},{"$f":"Control!C33","v":"Porirua CityDistrict wide"},10194406250,11429809803,null,null,5486054.9306466337]
[{"$f":"Control!A34","v":"Kapiti Coast District"},{"$f":"Control!B34","v":"District wide"},{"$f":"Control!C34","v":"Kapiti Coast DistrictDistrict wide"},14609528600,14678791680,null,null,3744973.8949052971]
[{"$f":"Control!A35","v":"Masterton District"},{"$f":"Control!B35","v":"District wide"},{"$f":"Control!C35","v":"Masterton DistrictDistrict wide"},5909468000,5891731979,null,null,511304.95768023026]
[{"$f":"Control!A36","v":"Carterton District"},{"$f":"Control!B36","v":"District wide"},{"$f":"Control!C36","v":"Carterton DistrictDistrict wide"},2707141800,2715649450,null,null,255218.84613205437]
[{"$f":"Control!A37","v":"South Wairarapa District"},{"$f":"Control!B37","v":"District wide"},{"$f":"Control!C37","v":"South Wairarapa DistrictDistrict wide"},4460485300,4514129051,null,null,499403.6510402594]
[{"$f":"Control!A38","v":"Tararua District"},{"$f":"Control!B38","v":"District wide"},{"$f":"Control!C38","v":"Tararua DistrictDistrict wide"},10760500,7041800,null,null,0]
["Region wide",null,null,{"$f":"SUM(D10:D18)","v":118903694661},{"$f":"SUM(E10:E18)","v":141502827378},null,null,{"$f":"SUM(H10:H18)","v":67273010.401963368}]
[]
[]
["By TA & Category"]
[{"$f":"Control!A43","v":"Wellington City"},{"$f":"Control!B43","v":"Regional CBD"},{"$f":"Control!C43","v":"Wellington CityRegional CBD"},{"$f":"INDEX(capital_values,MATCH($C23,capital_values_rows,0),MATCH(D$6&\" \"&year_current,capital_values_header,0))","v":7819039000},10456802775.328083,{"$f":"INDEX(PT_differentials,MATCH($C23,Concat_rating_category,0),)","v":7.1621367537750453},{"$f":"E23*F23","v":74893051484.15416},{"$f":"H$49*G23/G$49","v":25944905.117295574},{"$f":"H23/D23*100","v":0.33181705727897731}]
[{"$f":"Control!A44","v":"Wellington City"},{"$f":"Control!B44","v":"Business"},{"$f":"Control!C44","v":"Wellington CityBusiness"},3862866400,5166009798.9332962,{"$f":"INDEX(PT_differentials,MATCH($C24,Concat_rating_category,0),)","v":0.94068148122866746},{"$f":"E24*F24","v":4859569749.702384},{"$f":"H$49*G24/G$49","v":1683481.6257097539},4.3581150663397371E-2]
[{"$f":"Control!A45","v":"Wellington City"},{"$f":"Control!B45","v":"Residential"},{"$f":"Control!C45","v":"Wellington CityResidential"},39302266501,52560941238.986107,0.77401481456200083,40682947186.29805,14093633.304069273,3.5859594264648013E-2]
[{"$f":"Control!A46","v":"Wellington City"},{"$f":"Control!B46","v":"Rural"},{"$f":"Control!C46","v":"Wellington CityRural"},591709550,791323596.75250769,0.19651881388722359,155509974.63477442,53872.708572248805,9.1045866290731334E-3]
[{"$f":"Control!A47","v":"Hutt City"},{"$f":"Control!B47","v":"Business"},{"$f":"Control!C47","v":"Hutt CityBusiness"},3771653500,4268946455.908288,1.4468888227636645,6176690912.0302601,2139766.7270293208,5.6732855418169269E-2]
[{"$f":"Control!A48","v":"Hutt City"},{"$f":"Control!B48","v":"Residential"},{"$f":"Control!C48","v":"Hutt CityResidential"},17222975000,19493826271.80547,1.280222156096998,24956428300.271103,8645557.2511172127,5.0197815714864667E-2]
[{"$f":"Control!A49","v":"Hutt City"},{"$f":"Control!B49","v":"Rural"},{"$f":"Control!C49","v":"Hutt CityRural"},313950000,355344344.28624129,0.32464221024319889,115359773.3265056,39963.632326320279,1.2729298399847199E-2]
[{"$f":"Control!A50","v":"Upper Hutt City"},{"$f":"Control!B50","v":"Business"},{"$f":"Control!C50","v":"Upper Hutt CityBusiness"},1176281500,1327528946.1393292,1.5645244255725876,2076951461.8896167,719510.12202187651,6.1168191629459148E-2]
[{"$f":"Control!A51","v":"Upper Hutt City"},{"$f":"Control!B51","v":"Residential"},{"$f":"Control!C51","v":"Upper Hutt CityResidential"},6108760420,6894230915.4570951,1.3978577589059225,9637154176.8607807,3338561.3987474386,5.4652027076017469E-2]
[{"$f":"Control!A52","v":"Upper Hutt City"},{"$f":"Control!B52","v":"Rural"},{"$f":"Control!C52","v":"Upper Hutt CityRural"},842402340,950719271.40357542,0.35464046996865811,337163529.21882421,{"$f":"H$49*G32/G$49","v":116802.23466987103},1.3865373957754086E-2]
[{"$f":"Control!A53","v":"Porirua City"},{"$f":"Control!B53","v":"Business"},{"$f":"Control!C53","v":"Porirua CityBusiness"},1097240500,1230208990.6558924,1.5985388777685046,1966536899.3437948,681259.63960662647,6.2088451857785637E-2]
[{"$f":"Control!A54","v":"Porirua City"},{"$f":"Control!B54","v":"Residential"},{"$f":"Control!C54","v":"Porirua CityResidential"},8483788000,9511891214.7506161,1.4318722111018378,13619812705.42511,4718258.1208131965,5.5614993217807857E-2]
[{"$f":"Control!A55","v":"Porirua City"},{"$f":"Control!B55","v":"Rural"},{"$f":"Control!C55","v":"Porirua CityRural"},613377750,687709597.59349239,0.36323446027036693,249799824.50462344,86537.170226810616,1.410829953104928E-2]
[{"$f":"Control!A56","v":"Kapiti Coast District"},{"$f":"Control!B56","v":"Business"},{"$f":"Control!C56","v":"Kapiti Coast DistrictBusiness"},1513816000,1520992929.6316159,0.96931771371084086,1474325389.1208718,510744.74300001073,3.3738891846830175E-2]
[{"$f":"Control!A57","v":"Kapiti Coast District"},{"$f":"Control!B57","v":"Residential"},{"$f":"Control!C57","v":"Kapiti Coast DistrictResidential"},11056324900,11108742410.312735,0.80265104704417423,8916443726.9815407,3088888.5136318337,2.7937750939571553E-2]
[{"$f":"Control!A58","v":"Kapiti Coast District"},{"$f":"Control!B58","v":"Rural"},{"$f":"Control!C58","v":"Kapiti Coast DistrictRural"},2039387700,2049056340.0556493,0.20474938343602608,419543022.25207436,145340.63827345235,7.1266801439202731E-3]
[{"$f":"Control!A59","v":"Masterton District"},{"$f":"Control!B59","v":"Business"},{"$f":"Control!C59","v":"Masterton DistrictBusiness"},435894100,434585855.85494733,0.49932494847117659,216999560.08107376,{"$f":"H$49*G39/G$49","v":75174.303693441281},1.7246001653484475E-2]
[{"$f":"Control!A60","v":"Masterton District"},{"$f":"Control!B60","v":"Residential"},{"$f":"Control!C60","v":"Masterton DistrictResidential"},2705770800,2697650000.0007467,0.33265828180450996,897395613.91018474,310881.2312248103,1.1489562649756228E-2]
[{"$f":"Control!A61","v":"Masterton District"},{"$f":"Control!B61","v":"Rural"},{"$f":"Control!C61","v":"Masterton DistrictRural"},2767803100,2759496123.1443057,0.13101933296385354,361547341.3707068,125249.42276197867,4.5252287910935093E-3]
[{"$f":"Control!A62","v":"Carterton District"},{"$f":"Control!B62","v":"Business"},{"$f":"Control!C62","v":"Carterton DistrictBusiness"},92706500,92997845.822640315,0.6311347496055183,58694172.137124687,20333.191088603326,2.1932864565702866E-2]
[{"$f":"Control!A63","v":"Carterton District"},{"$f":"Control!B63","v":"Residential"},{"$f":"Control!C63","v":"Carterton DistrictResidential"},827583500,830184320.82282317,0.46446808293885161,385594119.97846925,133579.85364964273,1.6140951777028269E-2]
[{"$f":"Control!A64","v":"Carterton District"},{"$f":"Control!B64","v":"Rural"},{"$f":"Control!C64","v":"Carterton DistrictRural"},1786851800,1792467283.3545365,0.16314453041539678,292431233.2278378,101305.80139380833,5.6695133526914951E-3]
[{"$f":"Control!A65","v":"South Wairarapa District"},{"$f":"Control!B65","v":"Business"},{"$f":"Control!C65","v":"South Wairarapa DistrictBusiness"},205904600,208380898.95611462,0.72683315128263759,151458145.45538166,52469.049333806957,2.5482213284116508E-2]
[{"$f":"Control!A66","v":"South Wairarapa District"},{"$f":"Control!B66","v":"Residential"},{"$f":"Control!C66","v":"South Wairarapa DistrictResidential"},1295001100,1310575350.7554336,0.56016648461597085,734140387.05701423,254325.36540454463,1.9639007673780712E-2]
[{"$f":"Control!A67","v":"South Wairarapa District"},{"$f":"Control!B67","v":"Rural"},{"$f":"Control!C67","v":"South Wairarapa DistrictRural"},2959579600,2995172801.2884517,0.18562850425185187,555989447.07900441,192609.23630190783,6.507993104895974E-3]
[{"$f":"Control!A68","v":"Tararua District"},{"$f":"Control!B68","v":"Rural"},{"$f":"Control!C68","v":"Tararua DistrictRural"},10760500,7041800,0,0,0,0]
["Region wide",null,null,{"$f":"SUM(D23:D48)","v":118903694661},{"$f":"SUM(E23:E48)","v":141502827378},null,{"$f":"SUM(G23:G48)","v":194191538136.31125},{"$f":"INDEX(ess_base_estract,MATCH(H6,ESSbase!$B$8:$B$26,0),MATCH(year_current,ESSbase!$F$6:$G$6,0))","v":67273010.401963353}]
[]
[]
["Upper Hutt breakdown"]
[{"$f":"$A$12","v":"Upper Hutt City"},"Business","Trentham Military Camp",{"$f":"SUMIFS('UHCC Adjustments'!$D$9:$D$27,'UHCC Adjustments'!$B$9:$B$27,B53,'UHCC Adjustments'!$C$9:$C$27,C53)","v":56325000},null,null,null,{"$f":"SUMIFS($H$23:$H$48,$A$23:$A$48,A53,$B$23:$B$48,B53)\n*\nIF(C53=\"Trentham Military Camp\",\n       INDEX('UHCC Adjustments'!$E$30:$E$34,MATCH(\"Business & Residential\",'UHCC Adjustments'!$B$30:$B$34,0),),\n       1-INDEX('UHCC Adjustments'!$E$30:$E$34,MATCH(\"Business & Residential\",'UHCC Adjustments'!$B$30:$B$34,0),))","v":6343.3642164618468},{"$f":"H53/D53*100","v":1.1262075839257606E-2}]
["Upper Hutt City","Business","Rest of Upper Hutt City",{"$f":"SUMIFS('UHCC Adjustments'!$D$9:$D$27,'UHCC Adjustments'!$B$9:$B$27,B54,'UHCC Adjustments'!$C$9:$C$27,C54)","v":1119956500},null,null,null,{"$f":"SUMIFS($H$23:$H$48,$A$23:$A$48,A54,$B$23:$B$48,B54)\n*\nIF(C54=\"Trentham Military Camp\",\n       INDEX('UHCC Adjustments'!$E$30:$E$34,MATCH(\"Business & Residential\",'UHCC Adjustments'!$B$30:$B$34,0),),\n       1-INDEX('UHCC Adjustments'!$E$30:$E$34,MATCH(\"Business & Residential\",'UHCC Adjustments'!$B$30:$B$34,0),))","v":713166.75780541473},6.3678076586493729E-2]
["Upper Hutt City","Residential","Trentham Military Camp",{"$f":"SUMIFS('UHCC Adjustments'!$D$9:$D$27,'UHCC Adjustments'!$B$9:$B$27,B55,'UHCC Adjustments'!$C$9:$C$27,C55)","v":26720000},null,null,null,{"$f":"SUMIFS($H$23:$H$48,$A$23:$A$48,A55,$B$23:$B$48,B55)\n*\nIF(C55=\"Trentham Military Camp\",\n       INDEX('UHCC Adjustments'!$E$30:$E$34,MATCH(\"Business & Residential\",'UHCC Adjustments'!$B$30:$B$34,0),),\n       1-INDEX('UHCC Adjustments'!$E$30:$E$34,MATCH(\"Business & Residential\",'UHCC Adjustments'!$B$30:$B$34,0),))","v":29433.513529683754},0.11015536500630148]
["Upper Hutt City","Residential","Rest of Upper Hutt City",{"$f":"SUMIFS('UHCC Adjustments'!$D$9:$D$27,'UHCC Adjustments'!$B$9:$B$27,B56,'UHCC Adjustments'!$C$9:$C$27,C56)","v":6082040420},null,null,null,{"$f":"SUMIFS($H$23:$H$48,$A$23:$A$48,A56,$B$23:$B$48,B56)\n*\nIF(C56=\"Trentham Military Camp\",\n       INDEX('UHCC Adjustments'!$E$30:$E$34,MATCH(\"Business & Residential\",'UHCC Adjustments'!$B$30:$B$34,0),),\n       1-INDEX('UHCC Adjustments'!$E$30:$E$34,MATCH(\"Business & Residential\",'UHCC Adjustments'!$B$30:$B$34,0),))","v":3309127.8852177551},5.4408186343782229E-2]
["Upper Hutt City","Rural","Trentham Military Camp",{"$f":"SUMIFS('UHCC Adjustments'!$D$9:$D$27,'UHCC Adjustments'!$B$9:$B$27,B57,'UHCC Adjustments'!$C$9:$C$27,C57)","v":4676000},null,null,null,{"$f":"SUMIFS($H$23:$H$48,$A$23:$A$48,A57,$B$23:$B$48,B57)\n*\nIF(C57=\"Trentham Military Camp\",\n       INDEX('UHCC Adjustments'!$E$30:$E$32,MATCH(B57,'UHCC Adjustments'!$B$30:$B$32,0),),\n       1-INDEX('UHCC Adjustments'!$E$30:$E$32,MATCH(B57,'UHCC Adjustments'!$B$30:$B$32,0),))","v":753.84930737206412},1.6121670388624127E-2]
["Upper Hutt City","Rural","Rest of Upper Hutt City",{"$f":"SUMIFS('UHCC Adjustments'!$D$9:$D$27,'UHCC Adjustments'!$B$9:$B$27,B58,'UHCC Adjustments'!$C$9:$C$27,C58)","v":837726340},null,null,null,{"$f":"SUMIFS($H$23:$H$48,$A$23:$A$48,A58,$B$23:$B$48,B58)\n*\nIF(C58=\"Trentham Military Camp\",\n       INDEX('UHCC Adjustments'!$E$30:$E$32,MATCH(B58,'UHCC Adjustments'!$B$30:$B$32,0),),\n       1-INDEX('UHCC Adjustments'!$E$30:$E$32,MATCH(B58,'UHCC Adjustments'!$B$30:$B$32,0),))","v":116048.38536249897},1.3852779818585979E-2]
["Total",null,null,{"$f":"SUM(D53:D58)","v":8127444260},null,null,null,{"$f":"SUM(H53:H58)","v":4174873.7554391869}]
[]
[]
["Check Upper Hutt total",null,null,{"$f":"D59-D12","v":0},null,null,null,{"$f":"H59-H12","v":0}]
["Check TA totals",null,null,{"$f":"INDEX(capital_values,MATCH(\"Region wide\",capital_values_rows,0),MATCH(D6&\" \"&year_current,capital_values_header,0))-SUM(D10:D18)","v":0},{"$f":"INDEX(capital_values,MATCH(\"Region wide\",capital_values_rows,0),MATCH(E6&\" \"&year_current,capital_values_header,0))-SUM(E10:E18)","v":0},null,null,{"$f":"INDEX(ess_base_estract,MATCH(H6,ESSbase!$B$8:$B$26,0),MATCH(year_current,ESSbase!$F$6:$G$6,0))-SUM(H10:H18)","v":0}]
["Check category totals",null,null,{"$f":"INDEX(capital_values,MATCH(\"Region wide\",capital_values_rows,0),MATCH(D6&\" \"&year_current,capital_values_header,0))-SUM(D23:D48)","v":0},{"$f":"INDEX(capital_values,MATCH(\"Region wide\",capital_values_rows,0),MATCH(E6&\" \"&year_current,capital_values_header,0))-SUM(E23:E48)","v":0},null,{"$f":"G49-SUM(G23:G48)","v":0},{"$f":"INDEX(ess_base_estract,MATCH(H6,ESSbase!$B$8:$B$26,0),MATCH(year_current,ESSbase!$F$6:$G$6,0))-SUM(H23:H48)","v":0}]
["Category matches TA",null,null,{"$f":"D49-D19","v":0},{"$f":"E49-E19","v":0},null,null,{"$f":"H49-H19","v":0}]

{"sheet":">>Other rates & levies","index":15,"n_rows":0,"n_cols":0,"rows_kept":0,"cut":false,"hidden":false,"merged":[]}

{"sheet":"Pest","index":16,"n_rows":21,"n_cols":4,"rows_kept":21,"cut":false,"hidden":false,"merged":[]}
["Wellington Regional Council"]
[{"$f":"\"Regional Possum/Predator Rate \"&year_current","v":"Regional Possum/Predator Rate 2018/19"}]
["Printed: ",{"$f":"NOW()","v":"2018-03-27T14:57:00.990"}]
[{"$f":"check_total","v":8066.0526878890842}]
[]
["TA full name","Area ha","$ per Hectare","Pest management rate"]
[null,"#","$","Cents per $"]
[]
["By TA"]
[{"$f":"Control!A17","v":"Wellington City"},{"$f":"INDEX(Control!$D$135:$D$143,MATCH(Pest!A10,Control!$A$135:$A$143,0))","v":34055},{"$f":"$C$19","v":0.86682366680113054},{"$f":"B10*C10","v":29519.679972912501}]
[{"$f":"Control!A18","v":"Hutt City"},{"$f":"INDEX(Control!$D$135:$D$143,MATCH(Pest!A11,Control!$A$135:$A$143,0))","v":15578},0.86682366680113054,{"$f":"B11*C11","v":13503.379081428011}]
[{"$f":"Control!A19","v":"Upper Hutt City"},{"$f":"INDEX(Control!$D$135:$D$143,MATCH(Pest!A12,Control!$A$135:$A$143,0))","v":54326.211900000002},{"$f":"$C$19","v":0.86682366680113054},47091.246202573217]
[{"$f":"Control!A20","v":"Porirua City"},{"$f":"INDEX(Control!$D$135:$D$143,MATCH(Pest!A13,Control!$A$135:$A$143,0))","v":11858},0.86682366680113054,10278.795040927806]
[{"$f":"Control!A21","v":"Kapiti Coast District"},{"$f":"INDEX(Control!$D$135:$D$143,MATCH(Pest!A14,Control!$A$135:$A$143,0))","v":29205.998500000002},0.86682366680113054,25316.450712358321]
[{"$f":"Control!A22","v":"Masterton District"},{"$f":"INDEX(Control!$D$135:$D$143,MATCH(Pest!A15,Control!$A$135:$A$143,0))","v":207207.73449999999},0.86682366680113054,179612.56820884513]
[{"$f":"Control!A23","v":"Carterton District"},{"$f":"INDEX(Control!$D$135:$D$143,MATCH(Pest!A16,Control!$A$135:$A$143,0))","v":78106.069000000003},0.86682366680113054,67704.189130002109]
[{"$f":"Control!A24","v":"South Wairarapa District"},{"$f":"INDEX(Control!$D$135:$D$143,MATCH(Pest!A17,Control!$A$135:$A$143,0))","v":178090.13709999999},0.86682366680113054,154372.74566213804]
[{"$f":"Control!A25","v":"Tararua District"},{"$f":"INDEX(Control!$D$135:$D$143,MATCH(Pest!A18,Control!$A$135:$A$143,0))","v":5307.8222999999998},0.86682366680113054,4600.9459888148103]
["Region wide",{"$f":"SUM(B10:B18)","v":613734.97330000007},{"$f":"D19/B19","v":0.86682366680113054},{"$f":"INDEX(ess_base_estract,MATCH(D6,ESSbase!$B$8:$B$26,0),MATCH(year_current,ESSbase!$F$6:$G$6,0))","v":532000}]
[]
["Check",{"$f":"'TA Split'!X139-Pest!B19","v":0},null,{"$f":"D19-SUM(D10:D18)","v":0}]

{"sheet":"Water levy","index":17,"n_rows":21,"n_cols":3,"rows_kept":21,"cut":false,"hidden":false,"merged":[]}
["Wellington Regional Council"]
[{"$f":"\"Water Supply Levy \"&year_current","v":"Water Supply Levy 2018/19"}]
["Printed :",{"$f":"NOW()","v":"2018-03-27T14:57:01"}]
[{"$f":"check_total","v":8066.0526878890842}]
[]
[null,"Share","Bulk Water Levies"]
[null,"%","$"]
[]
["By TA"]
["Wellington City",{"$f":"INDEX(Control!$B$150:$B$158,MATCH(A10,Control!$A$150:$A$158,0),)","v":0.53514217498266803},{"$f":"B10*$C$19","v":17696562.021405686}]
["Hutt City",{"$f":"INDEX(Control!$B$150:$B$158,MATCH(A11,Control!$A$150:$A$158,0),)","v":0.24815885911892197},8206340.0099263545]
["Upper Hutt City",{"$f":"INDEX(Control!$B$150:$B$158,MATCH(A12,Control!$A$150:$A$158,0),)","v":0.10032287740583312},3317567.0040129153]
["Porirua City",{"$f":"INDEX(Control!$B$150:$B$158,MATCH(A13,Control!$A$150:$A$158,0),)","v":0.11637608849257693},{"$f":"B13*$C$19","v":3848429.0046550436}]
["Kapiti Coast District",{"$f":"INDEX(Control!$B$150:$B$158,MATCH(A14,Control!$A$150:$A$158,0),)","v":0},0]
["Masterton District",{"$f":"INDEX(Control!$B$150:$B$158,MATCH(A15,Control!$A$150:$A$158,0),)","v":0},0]
["Carterton District",{"$f":"INDEX(Control!$B$150:$B$158,MATCH(A16,Control!$A$150:$A$158,0),)","v":0},0]
["South Wairarapa District",{"$f":"INDEX(Control!$B$150:$B$158,MATCH(A17,Control!$A$150:$A$158,0),)","v":0},0]
["Tararua District",{"$f":"INDEX(Control!$B$150:$B$158,MATCH(A18,Control!$A$150:$A$158,0),)","v":0},{"$f":"B18*$C$19","v":0}]
["Region wide",{"$f":"SUM(B10:B18)","v":1},{"$f":"INDEX(ess_base_estract,MATCH(C6,ESSbase!$B$8:$B$26,0),MATCH(year_current,ESSbase!$F$6:$G$6,0))","v":33068898.039999999}]
[]
["Checks",{"$f":"1-B19","v":0},{"$f":"C19-SUM(C10:C18)","v":0}]

{"sheet":">>Output tabs","index":18,"n_rows":0,"n_cols":0,"rows_kept":0,"cut":false,"hidden":false,"merged":[]}

{"sheet":"Comparison - TA","index":19,"n_rows":76,"n_cols":13,"rows_kept":76,"cut":false,"hidden":false,"merged":[[29,1,29,11],[4,1,4,11],[54,1,54,11],[4,0,5,0],[29,0,30,0],[54,0,55,0]]}
["Comparison of proposed vs current"]
[{"$f":"check_total","v":8066.0526878890842}]
[]
[{"$f":"year_previous&\" rates\"","v":"2017/18 rates"}]
[null,"TA"]
[null,"Wellington City","Hutt City","Upper Hutt City","Porirua City","Kapiti Coast District","Masterton District","Carterton District","South Wairarapa District","Tararua District","Other","Region wide"]
["General Rate",21189528.406917833,7179456.0529976618,2718137.0908558238,3367756.6064207805,4329462.3984503523,1675353.2248983532,774173.16904683737,1245449.1280744334,2354.4428815298133,0,{"$f":"INDEX(ess_base_estract,MATCH(A7,ESSbase!$B$8:$B$26,0),MATCH(year_previous,ESSbase!$F$6:$G$6,0))","v":42481670.520543598},{"$f":"ROUND(L7-SUM(B7:K7),-1)","v":0}]
["Remission of rates",0,0,0,0,0,0,0,0,0,0,{"$f":"INDEX(ess_base_estract,MATCH(A8,ESSbase!$B$8:$B$26,0),MATCH(year_previous,ESSbase!$F$6:$G$6,0))","v":0},{"$f":"ROUND(L8-SUM(B8:K8),-1)","v":0}]
["Public transport rate",38457358.003260493,11536013.198820936,4596383.5624092557,6066071.2474005194,3090620.0871701711,306748.56603071187,198788.91360953596,404412.54842927179,0,0,{"$f":"INDEX(ess_base_estract,MATCH(A9,ESSbase!$B$8:$B$26,0),MATCH(year_previous,ESSbase!$F$6:$G$6,0))","v":64656396.127130903},0]
["Flood protection – regional rate",0,0,0,0,0,0,0,0,0,0,{"$f":"INDEX(ess_base_estract,MATCH(A10,ESSbase!$B$8:$B$26,0),MATCH(year_previous,ESSbase!$F$6:$G$6,0))","v":0},{"$f":"ROUND(L10-SUM(B10:K10),-1)","v":0}]
["Flood protection – catchment rate",43255,3685586,678045,28308,1368226,0,23240,0,0,0,{"$f":"INDEX(ess_base_estract,MATCH(A11,ESSbase!$B$8:$B$26,0),MATCH(year_previous,ESSbase!$F$6:$G$6,0))","v":5826660.417418221},{"$f":"ROUND(L11-SUM(B11:K11),-1)","v":0}]
["River management rate",null,null,null,null,null,null,null,null,null,null,null,0]
["Stadium purposes rate",580986,190924,51447,70226,47340,19562,6846,10760,0,0,{"$f":"INDEX(ess_base_estract,MATCH(A13,ESSbase!$B$8:$B$26,0),MATCH(year_previous,ESSbase!$F$6:$G$6,0))","v":978091.35},0]
["Regional strategy rate",2299850.9726340426,862252.31806421571,343198.01081979473,354526.17078167095,491419.64592721401,241562.29325001914,90904.663577743515,138051.14376879905,252,0,{"$f":"INDEX(ess_base_estract,MATCH(A14,ESSbase!$B$8:$B$26,0),MATCH(year_previous,ESSbase!$F$6:$G$6,0))","v":4822017.2188234972},0]
["District-Wide Rates",{"$f":"SUM(B7:B14)","v":62570978.382812366},23454231.569882814,8387210.6640848741,9886888.0246029701,9327068.131547736,2243226.0841790843,1093952.7462341168,1798672.8202725044,2606.4428815298133,0,{"$f":"INDEX(ess_base_estract,MATCH(A15,ESSbase!$B$8:$B$26,0),MATCH(year_previous,ESSbase!$F$6:$G$6,0))","v":118764835.63391621},{"$f":"ROUND(L15-SUM(B15:K15),-1)","v":0}]
["Rates Penalties",0,0,0,0,0,0,0,0,0,0,{"$f":"INDEX(ess_base_estract,MATCH(A16,ESSbase!$B$8:$B$26,0),MATCH(year_previous,ESSbase!$F$6:$G$6,0))","v":0},0]
["Remission of Rates Penalties",0,0,0,0,0,0,0,0,0,0,{"$f":"INDEX(ess_base_estract,MATCH(A17,ESSbase!$B$8:$B$26,0),MATCH(year_previous,ESSbase!$F$6:$G$6,0))","v":0},0]
["Pest management rate",26190.392757922371,11980.441591041395,41780.203397771729,9119.5324423269267,22461.211910212649,159355.51164393779,60068.378325866543,136962.28562505482,4082.0423058657721,0,{"$f":"INDEX(ess_base_estract,MATCH(A18,ESSbase!$B$8:$B$26,0),MATCH(year_previous,ESSbase!$F$6:$G$6,0))","v":472000},{"$f":"ROUND(L18-SUM(B18:K18),-1)","v":0}]
["River  Mgmt Rates - Non District Wide",0,0,0,0,0,0,0,93297,0,0,{"$f":"INDEX(ess_base_estract,MATCH(A19,ESSbase!$B$8:$B$26,0),MATCH(year_previous,ESSbase!$F$6:$G$6,0))","v":93297.36},0]
["Special Rates",0,0,0,0,0,0,0,0,0,1451758,{"$f":"INDEX(ess_base_estract,MATCH(A20,ESSbase!$B$8:$B$26,0),MATCH(year_previous,ESSbase!$F$6:$G$6,0))","v":1451756.1159999999},0]
["Total Other Rates",{"$f":"SUM(B16:B20)","v":26190.392757922371},11980.441591041395,41780.203397771729,9119.5324423269267,22461.211910212649,159355.51164393779,60068.378325866543,230259.28562505482,4082.0423058657721,1451758,{"$f":"INDEX(ess_base_estract,MATCH(A21,ESSbase!$B$8:$B$26,0),MATCH(year_previous,ESSbase!$F$6:$G$6,0))","v":2017053.4759999998},0]
["Total Regnl Rates",{"$f":"SUM(B21,B15)","v":62597168.775570288},23466212.011473857,8428990.8674826454,9896007.5570452977,9349529.3434579484,2402581.5958230221,1154021.1245599834,2028932.1058975591,6688.4851873955849,1451758,{"$f":"INDEX(ess_base_estract,MATCH(A22,ESSbase!$B$8:$B$26,0),MATCH(year_previous,ESSbase!$F$6:$G$6,0))","v":120781889.10991621},0]
["Bulk Water Levies",16514665.785679923,7660138.3816216718,3095535.3733950593,3592425.8969410262,0,0,0,0,0,0,{"$f":"INDEX(ess_base_estract,MATCH(A23,ESSbase!$B$8:$B$26,0),MATCH(year_previous,ESSbase!$F$6:$G$6,0))","v":30862765.437637679},0]
["Total Regnl Rates & levies",{"$f":"SUM(B22:B23)","v":79111834.56125021},{"$f":"SUM(C22:C23)","v":31126350.393095531},11524526.240877705,13488433.453986324,9349529.3434579484,2402581.5958230221,1154021.1245599834,2028932.1058975591,6688.4851873955849,1451758,{"$f":"INDEX(ess_base_estract,MATCH(A24,ESSbase!$B$8:$B$26,0),MATCH(year_previous,ESSbase!$F$6:$G$6,0))","v":151644654.5475539},0]
["Warm Greater Wellington rate",null,null,null,null,null,null,null,null,null,3181767.0725559997,{"$f":"INDEX(ess_base_estract,MATCH(A25,ESSbase!$B$8:$B$26,0),MATCH(year_previous,ESSbase!$F$6:$G$6,0))","v":3181767},0]
["Total Rates & Levies",{"$f":"SUM(B24:B25)","v":79111834.56125021},31126350.393095531,11524526.240877705,13488433.453986324,9349529.3434579484,2402581.5958230221,1154021.1245599834,2028932.1058975591,6688.4851873955849,4633525.0725560002,{"$f":"INDEX(ess_base_estract,MATCH(A26,ESSbase!$B$8:$B$26,0),MATCH(year_previous,ESSbase!$F$6:$G$6,0))","v":154826421.5475539},0]
[]
[]
[{"$f":"year_current&\" rates\"","v":"2018/19 rates"}]
[null,"TA"]
[null,"Wellington City","Hutt City","Upper Hutt City","Porirua City","Kapiti Coast District","Masterton District","Carterton District","South Wairarapa District","Tararua District","Other","Region wide"]
["General Rate",{"$f":"IFERROR(INDEX(Gen!$D$10:$D$18,MATCH(B$31,Gen!$A$10:$A$18,0),),0)","v":17763603.956695955},{"$f":"IFERROR(INDEX(Gen!$D$10:$D$18,MATCH(C$31,Gen!$A$10:$A$18,0),),0)","v":6211296.8326458521},{"$f":"IFERROR(INDEX(Gen!$D$10:$D$18,MATCH(D$31,Gen!$A$10:$A$18,0),),0)","v":2362248.6952953734},{"$f":"IFERROR(INDEX(Gen!$D$10:$D$18,MATCH(E$31,Gen!$A$10:$A$18,0),),0)","v":2943593.8641138384},{"$f":"IFERROR(INDEX(Gen!$D$10:$D$18,MATCH(F$31,Gen!$A$10:$A$18,0),),0)","v":3780325.4705526493},{"$f":"IFERROR(INDEX(Gen!$D$10:$D$18,MATCH(G$31,Gen!$A$10:$A$18,0),),0)","v":1517336.3687850407},{"$f":"IFERROR(INDEX(Gen!$D$10:$D$18,MATCH(H$31,Gen!$A$10:$A$18,0),),0)","v":699379.00943950808},{"$f":"IFERROR(INDEX(Gen!$D$10:$D$18,MATCH(I$31,Gen!$A$10:$A$18,0),),0)","v":1162553.2537605274},{"$f":"IFERROR(INDEX(Gen!$D$10:$D$18,MATCH(J$31,Gen!$A$10:$A$18,0),),0)","v":1813.5209272577977},{"$f":"IFERROR(INDEX(Gen!$D$10:$D$18,MATCH(K$31,Gen!$A$10:$A$18,0),),0)","v":0},{"$f":"INDEX(ess_base_estract,MATCH(A32,ESSbase!$B$8:$B$26,0),MATCH(year_current,ESSbase!$F$6:$G$6,0))","v":36442150.972216003},{"$f":"ROUND(L32-SUM(B32:K32),-1)","v":0}]
["Remission of rates",0,0,0,0,0,0,0,0,0,0,{"$f":"INDEX(ess_base_estract,MATCH(A33,ESSbase!$B$8:$B$26,0),MATCH(year_current,ESSbase!$F$6:$G$6,0))","v":0},0]
["Public transport rate",{"$f":"IFERROR(INDEX(Tran!$H$10:$H$18,MATCH(B$31,Tran!$A$10:$A$18,0),),0)","v":41775892.755646847},{"$f":"IFERROR(INDEX(Tran!$H$10:$H$18,MATCH(C$31,Tran!$A$10:$A$18,0),),0)","v":10825287.610472854},{"$f":"IFERROR(INDEX(Tran!$H$10:$H$18,MATCH(D$31,Tran!$A$10:$A$18,0),),0)","v":4174873.755439186},{"$f":"IFERROR(INDEX(Tran!$H$10:$H$18,MATCH(E$31,Tran!$A$10:$A$18,0),),0)","v":5486054.9306466337},{"$f":"IFERROR(INDEX(Tran!$H$10:$H$18,MATCH(F$31,Tran!$A$10:$A$18,0),),0)","v":3744973.8949052971},{"$f":"IFERROR(INDEX(Tran!$H$10:$H$18,MATCH(G$31,Tran!$A$10:$A$18,0),),0)","v":511304.95768023026},{"$f":"IFERROR(INDEX(Tran!$H$10:$H$18,MATCH(H$31,Tran!$A$10:$A$18,0),),0)","v":255218.84613205437},{"$f":"IFERROR(INDEX(Tran!$H$10:$H$18,MATCH(I$31,Tran!$A$10:$A$18,0),),0)","v":499403.6510402594},{"$f":"IFERROR(INDEX(Tran!$H$10:$H$18,MATCH(J$31,Tran!$A$10:$A$18,0),),0)","v":0},{"$f":"IFERROR(INDEX(Tran!$H$10:$H$18,MATCH(K$31,Tran!$A$10:$A$18,0),),0)","v":0},{"$f":"INDEX(ess_base_estract,MATCH(A34,ESSbase!$B$8:$B$26,0),MATCH(year_current,ESSbase!$F$6:$G$6,0))","v":67273010.401963353},0]
["Flood protection – regional rate",{"$f":"IFERROR(INDEX('FP - regional'!$D$10:$D$18,MATCH(B$31,'FP - regional'!$A$10:$A$18,0),),0)","v":4745293.0166026242},{"$f":"IFERROR(INDEX('FP - regional'!$D$10:$D$18,MATCH(C$31,'FP - regional'!$A$10:$A$18,0),),0)","v":1659259.2109041046},{"$f":"IFERROR(INDEX('FP - regional'!$D$10:$D$18,MATCH(D$31,'FP - regional'!$A$10:$A$18,0),),0)","v":631040.99058898317},{"$f":"IFERROR(INDEX('FP - regional'!$D$10:$D$18,MATCH(E$31,'FP - regional'!$A$10:$A$18,0),),0)","v":786339.04702814773},{"$f":"IFERROR(INDEX('FP - regional'!$D$10:$D$18,MATCH(F$31,'FP - regional'!$A$10:$A$18,0),),0)","v":1009859.9416891716},{"$f":"IFERROR(INDEX('FP - regional'!$D$10:$D$18,MATCH(G$31,'FP - regional'!$A$10:$A$18,0),),0)","v":405334.73343503213},{"$f":"IFERROR(INDEX('FP - regional'!$D$10:$D$18,MATCH(H$31,'FP - regional'!$A$10:$A$18,0),),0)","v":186829.11066595578},{"$f":"IFERROR(INDEX('FP - regional'!$D$10:$D$18,MATCH(I$31,'FP - regional'!$A$10:$A$18,0),),0)","v":310559.49287920241},{"$f":"IFERROR(INDEX('FP - regional'!$D$10:$D$18,MATCH(J$31,'FP - regional'!$A$10:$A$18,0),),0)","v":484.45620677865014},{"$f":"IFERROR(INDEX('FP - regional'!$D$10:$D$18,MATCH(K$31,'FP - regional'!$A$10:$A$18,0),),0)","v":0},{"$f":"INDEX(ess_base_estract,MATCH(A35,ESSbase!$B$8:$B$26,0),MATCH(year_current,ESSbase!$F$6:$G$6,0))","v":9735000},{"$f":"ROUND(L35-SUM(B35:K35),-1)","v":0}]
["Flood protection – catchment rate",{"$f":"IFERROR(INDEX('FP - catchment'!$C$10:$C$18,MATCH(B$31,'FP - catchment'!$A$10:$A$18,0),),0)","v":54042},{"$f":"IFERROR(INDEX('FP - catchment'!$C$10:$C$18,MATCH(C$31,'FP - catchment'!$A$10:$A$18,0),),0)","v":5167492},{"$f":"IFERROR(INDEX('FP - catchment'!$C$10:$C$18,MATCH(D$31,'FP - catchment'!$A$10:$A$18,0),),0)","v":881402},{"$f":"IFERROR(INDEX('FP - catchment'!$C$10:$C$18,MATCH(E$31,'FP - catchment'!$A$10:$A$18,0),),0)","v":45121},{"$f":"IFERROR(INDEX('FP - catchment'!$C$10:$C$18,MATCH(F$31,'FP - catchment'!$A$10:$A$18,0),),0)","v":1619846},{"$f":"IFERROR(INDEX('FP - catchment'!$C$10:$C$18,MATCH(G$31,'FP - catchment'!$A$10:$A$18,0),),0)","v":271627},{"$f":"IFERROR(INDEX('FP - catchment'!$C$10:$C$18,MATCH(H$31,'FP - catchment'!$A$10:$A$18,0),),0)","v":144634},{"$f":"IFERROR(INDEX('FP - catchment'!$C$10:$C$18,MATCH(I$31,'FP - catchment'!$A$10:$A$18,0),),0)","v":201926},{"$f":"IFERROR(INDEX('FP - catchment'!$C$10:$C$18,MATCH(J$31,'FP - catchment'!$A$10:$A$18,0),),0)","v":0},{"$f":"IFERROR(INDEX('FP - catchment'!$C$10:$C$18,MATCH(K$31,'FP - catchment'!$A$10:$A$18,0),),0)","v":0},{"$f":"INDEX(ess_base_estract,MATCH(A36,ESSbase!$B$8:$B$26,0),MATCH(year_current,ESSbase!$F$6:$G$6,0))","v":8386090.4651872702},0]
["River management rate",null,null,null,null,null,null,null,null,null,null,null,0]
["Stadium purposes rate",{"$f":"IFERROR(INDEX(Stad!$F$10:$F$18,MATCH(B$31,Stad!$A$10:$A$18,0),),0)","v":0},{"$f":"IFERROR(INDEX(Stad!$F$10:$F$18,MATCH(C$31,Stad!$A$10:$A$18,0),),0)","v":0},{"$f":"IFERROR(INDEX(Stad!$F$10:$F$18,MATCH(D$31,Stad!$A$10:$A$18,0),),0)","v":0},{"$f":"IFERROR(INDEX(Stad!$F$10:$F$18,MATCH(E$31,Stad!$A$10:$A$18,0),),0)","v":0},{"$f":"IFERROR(INDEX(Stad!$F$10:$F$18,MATCH(F$31,Stad!$A$10:$A$18,0),),0)","v":0},{"$f":"IFERROR(INDEX(Stad!$F$10:$F$18,MATCH(G$31,Stad!$A$10:$A$18,0),),0)","v":0},{"$f":"IFERROR(INDEX(Stad!$F$10:$F$18,MATCH(H$31,Stad!$A$10:$A$18,0),),0)","v":0},{"$f":"IFERROR(INDEX(Stad!$F$10:$F$18,MATCH(I$31,Stad!$A$10:$A$18,0),),0)","v":0},{"$f":"IFERROR(INDEX(Stad!$F$10:$F$18,MATCH(J$31,Stad!$A$10:$A$18,0),),0)","v":0},{"$f":"IFERROR(INDEX(Stad!$F$10:$F$18,MATCH(K$31,Stad!$A$10:$A$18,0),),0)","v":0},{"$f":"INDEX(ess_base_estract,MATCH(A38,ESSbase!$B$8:$B$26,0),MATCH(year_current,ESSbase!$F$6:$G$6,0))","v":0},0]
["Regional strategy rate",{"$f":"IFERROR(INDEX(WRS!$J$10:$J$18,MATCH(B$31,WRS!$A$10:$A$18,0),),0)","v":2346550.1049939538},{"$f":"IFERROR(INDEX(WRS!$J$10:$J$18,MATCH(C$31,WRS!$A$10:$A$18,0),),0)","v":883539.13968264661},{"$f":"IFERROR(INDEX(WRS!$J$10:$J$18,MATCH(D$31,WRS!$A$10:$A$18,0),),0)","v":352214.27155678056},{"$f":"IFERROR(INDEX(WRS!$J$10:$J$18,MATCH(E$31,WRS!$A$10:$A$18,0),),0)","v":362954.5636568194},{"$f":"IFERROR(INDEX(WRS!$J$10:$J$18,MATCH(F$31,WRS!$A$10:$A$18,0),),0)","v":489421.57025823562},{"$f":"IFERROR(INDEX(WRS!$J$10:$J$18,MATCH(G$31,WRS!$A$10:$A$18,0),),0)","v":242660.13467105993},{"$f":"IFERROR(INDEX(WRS!$J$10:$J$18,MATCH(H$31,WRS!$A$10:$A$18,0),),0)","v":91329.728506803149},{"$f":"IFERROR(INDEX(WRS!$J$10:$J$18,MATCH(I$31,WRS!$A$10:$A$18,0),),0)","v":138939.30754689401},{"$f":"IFERROR(INDEX(WRS!$J$10:$J$18,MATCH(J$31,WRS!$A$10:$A$18,0),),0)","v":252},{"$f":"IFERROR(INDEX(WRS!$J$10:$J$18,MATCH(K$31,WRS!$A$10:$A$18,0),),0)","v":0},{"$f":"INDEX(ess_base_estract,MATCH(A39,ESSbase!$B$8:$B$26,0),MATCH(year_current,ESSbase!$F$6:$G$6,0))","v":4907860.8208731934},0]
["District-Wide Rates",{"$f":"SUM(B32:B39)","v":66685381.833939373},24746874.79370546,8401779.7128803227,9624063.4054454416,10644426.877405353,2948263.1945713628,1377390.6947443213,2313381.7052268833,2549.9771340364478,0,{"$f":"INDEX(ess_base_estract,MATCH(A40,ESSbase!$B$8:$B$26,0),MATCH(year_current,ESSbase!$F$6:$G$6,0))","v":126744112.66023982},0]
["Rates Penalties",0,0,0,0,0,0,0,0,0,0,{"$f":"INDEX(ess_base_estract,MATCH(A41,ESSbase!$B$8:$B$26,0),MATCH(year_current,ESSbase!$F$6:$G$6,0))","v":0},0]
["Remission of Rates Penalties",0,0,0,0,0,0,0,0,0,0,{"$f":"INDEX(ess_base_estract,MATCH(A42,ESSbase!$B$8:$B$26,0),MATCH(year_current,ESSbase!$F$6:$G$6,0))","v":0},0]
["Pest management rate",{"$f":"IFERROR(INDEX(Pest!$D$10:$D$18,MATCH(B$31,Pest!$A$10:$A$18,0),),0)","v":29519.679972912501},{"$f":"IFERROR(INDEX(Pest!$D$10:$D$18,MATCH(C$31,Pest!$A$10:$A$18,0),),0)","v":13503.379081428011},{"$f":"IFERROR(INDEX(Pest!$D$10:$D$18,MATCH(D$31,Pest!$A$10:$A$18,0),),0)","v":47091.246202573217},{"$f":"IFERROR(INDEX(Pest!$D$10:$D$18,MATCH(E$31,Pest!$A$10:$A$18,0),),0)","v":10278.795040927806},{"$f":"IFERROR(INDEX(Pest!$D$10:$D$18,MATCH(F$31,Pest!$A$10:$A$18,0),),0)","v":25316.450712358321},{"$f":"IFERROR(INDEX(Pest!$D$10:$D$18,MATCH(G$31,Pest!$A$10:$A$18,0),),0)","v":179612.56820884513},{"$f":"IFERROR(INDEX(Pest!$D$10:$D$18,MATCH(H$31,Pest!$A$10:$A$18,0),),0)","v":67704.189130002109},{"$f":"IFERROR(INDEX(Pest!$D$10:$D$18,MATCH(I$31,Pest!$A$10:$A$18,0),),0)","v":154372.74566213804},{"$f":"IFERROR(INDEX(Pest!$D$10:$D$18,MATCH(J$31,Pest!$A$10:$A$18,0),),0)","v":4600.9459888148103},{"$f":"IFERROR(INDEX(Pest!$D$10:$D$18,MATCH(K$31,Pest!$A$10:$A$18,0),),0)","v":0},{"$f":"INDEX(ess_base_estract,MATCH(A43,ESSbase!$B$8:$B$26,0),MATCH(year_current,ESSbase!$F$6:$G$6,0))","v":532000},0]
["River  Mgmt Rates - Non District Wide",0,0,0,0,0,0,0,{"$f":"'FP - catchment'!C31","v":95164},0,0,{"$f":"INDEX(ess_base_estract,MATCH(A44,ESSbase!$B$8:$B$26,0),MATCH(year_current,ESSbase!$F$6:$G$6,0))","v":95164},0]
["Special Rates",0,0,0,0,0,0,0,0,0,{"$f":"'Class Rates'!B140","v":1480591},{"$f":"INDEX(ess_base_estract,MATCH(A45,ESSbase!$B$8:$B$26,0),MATCH(year_current,ESSbase!$F$6:$G$6,0))","v":1480589},0]
["Total Other Rates",{"$f":"SUM(B41:B45)","v":29519.679972912501},13503.379081428011,47091.246202573217,10278.795040927806,25316.450712358321,179612.56820884513,67704.189130002109,249536.74566213804,4600.9459888148103,1480591,{"$f":"INDEX(ess_base_estract,MATCH(A46,ESSbase!$B$8:$B$26,0),MATCH(year_current,ESSbase!$F$6:$G$6,0))","v":2107753},0]
["Total Regnl Rates",{"$f":"SUM(B46,B40)","v":66714901.513912283},24760378.172786888,8448870.9590828959,9634342.2004863694,10669743.328117711,3127875.7627802081,1445094.8838743235,2562918.4508890212,7150.9231228512581,1480591,{"$f":"INDEX(ess_base_estract,MATCH(A47,ESSbase!$B$8:$B$26,0),MATCH(year_current,ESSbase!$F$6:$G$6,0))","v":128851865.66023982},0]
["Bulk Water Levies",{"$f":"IFERROR(INDEX('Water levy'!$C$10:$C$18,MATCH('Comparison - TA'!B31,'Water levy'!$A$10:$A$18,0),),0)","v":17696562.021405686},{"$f":"IFERROR(INDEX('Water levy'!$C$10:$C$18,MATCH('Comparison - TA'!C31,'Water levy'!$A$10:$A$18,0),),0)","v":8206340.0099263545},{"$f":"IFERROR(INDEX('Water levy'!$C$10:$C$18,MATCH('Comparison - TA'!D31,'Water levy'!$A$10:$A$18,0),),0)","v":3317567.0040129153},{"$f":"IFERROR(INDEX('Water levy'!$C$10:$C$18,MATCH('Comparison - TA'!E31,'Water levy'!$A$10:$A$18,0),),0)","v":3848429.0046550436},{"$f":"IFERROR(INDEX('Water levy'!$C$10:$C$18,MATCH('Comparison - TA'!F31,'Water levy'!$A$10:$A$18,0),),0)","v":0},{"$f":"IFERROR(INDEX('Water levy'!$C$10:$C$18,MATCH('Comparison - TA'!G31,'Water levy'!$A$10:$A$18,0),),0)","v":0},{"$f":"IFERROR(INDEX('Water levy'!$C$10:$C$18,MATCH('Comparison - TA'!H31,'Water levy'!$A$10:$A$18,0),),0)","v":0},{"$f":"IFERROR(INDEX('Water levy'!$C$10:$C$18,MATCH('Comparison - TA'!I31,'Water levy'!$A$10:$A$18,0),),0)","v":0},{"$f":"IFERROR(INDEX('Water levy'!$C$10:$C$18,MATCH('Comparison - TA'!J31,'Water levy'!$A$10:$A$18,0),),0)","v":0},{"$f":"IFERROR(INDEX('Water levy'!$C$10:$C$18,MATCH('Comparison - TA'!K31,'Water levy'!$A$10:$A$18,0),),0)","v":0},{"$f":"INDEX(ess_base_estract,MATCH(A48,ESSbase!$B$8:$B$26,0),MATCH(year_current,ESSbase!$F$6:$G$6,0))","v":33068898.039999999},{"$f":"ROUND(L48-SUM(B48:K48),-1)","v":0}]
["Total Regnl Rates & levies",{"$f":"SUM(B47:B48)","v":84411463.535317972},{"$f":"SUM(C47:C48)","v":32966718.18271324},{"$f":"SUM(D47:D48)","v":11766437.96309581},{"$f":"SUM(E47:E48)","v":13482771.205141414},{"$f":"SUM(F47:F48)","v":10669743.328117711},{"$f":"SUM(G47:G48)","v":3127875.7627802081},{"$f":"SUM(H47:H48)","v":1445094.8838743235},{"$f":"SUM(I47:I48)","v":2562918.4508890212},{"$f":"SUM(J47:J48)","v":7150.9231228512581},{"$f":"SUM(K47:K48)","v":1480591},{"$f":"INDEX(ess_base_estract,MATCH(A49,ESSbase!$B$8:$B$26,0),MATCH(year_current,ESSbase!$F$6:$G$6,0))","v":161920763.70023981},0]
["Warm Greater Wellington rate",null,null,null,null,null,null,null,null,null,{"$f":"L50","v":3237058},{"$f":"INDEX(ess_base_estract,MATCH(A50,ESSbase!$B$8:$B$26,0),MATCH(year_current,ESSbase!$F$6:$G$6,0))","v":3237058},0]
["Total Rates & Levies",{"$f":"SUM(B49:B50)","v":84411463.535317972},{"$f":"SUM(C49:C50)","v":32966718.18271324},11766437.96309581,13482771.205141414,10669743.328117711,3127875.7627802081,1445094.8838743235,2562918.4508890212,7150.9231228512581,4717649,{"$f":"INDEX(ess_base_estract,MATCH(A51,ESSbase!$B$8:$B$26,0),MATCH(year_current,ESSbase!$F$6:$G$6,0))","v":165157821.70023981},0]
[]
[]
["Delta"]
[null,"TA"]
[null,"Wellington City","Hutt City","Upper Hutt City","Porirua City","Kapiti Coast District","Masterton District","Carterton District","South Wairarapa District","Tararua District","Other","Region wide"]
["General Rates",{"$f":"B32-B7","v":-3425924.4502218775},{"$f":"C32-C7","v":-968159.22035180964},-355888.39556045039,-424162.74230694212,-549136.9278977029,-158016.85611331253,-74794.159607329289,-82895.874313906068,-540.92195427201568,0,{"$f":"L32-L7","v":-6039519.548327595},{"$f":"ROUND(L57-SUM(B57:K57),-1)","v":0}]
["Remission of Regional Rates",{"$f":"B33-B8","v":0},0,0,0,0,0,0,0,0,0,0,0]
["Transport Rate",{"$f":"B34-B9","v":3318534.7523863539},-710725.58834808134,-421509.80697006965,-580016.31675388571,654353.807735126,204556.39164951839,56429.932522518415,94991.102610987611,0,0,2616614.2748324499,0]
["Flood protection - Regional rates",{"$f":"B35-B10","v":4745293.0166026242},1659259.2109041046,631040.99058898317,786339.04702814773,1009859.9416891716,405334.73343503213,186829.11066595578,310559.49287920241,484.45620677865014,0,9735000,{"$f":"ROUND(L60-SUM(B60:K60),-1)","v":0}]
["Flood protection - Catchment rates",{"$f":"B36-B11","v":10787},1481906,203357,16813,251620,271627,121394,201926,0,0,2559430.0477690492,{"$f":"ROUND(L61-SUM(B61:K61),-1)","v":0}]
["River management rate",{"$f":"B37-B12","v":0},0,0,0,0,0,0,0,0,0,0,{"$f":"ROUND(L62-SUM(B62:K62),-1)","v":0}]
["Stadium Rate",{"$f":"B38-B13","v":-580986},-190924,-51447,-70226,-47340,-19562,-6846,-10760,0,0,-978091.35,{"$f":"ROUND(L63-SUM(B63:K63),-1)","v":0}]
["WRS Rate",{"$f":"B39-B14","v":46699.132359911222},21286.821618430899,9016.2607369858306,8428.3928751484491,-1998.0756689783884,1097.8414210407936,425.06492905963387,888.16377809495316,0,0,85843.602049696259,{"$f":"ROUND(L64-SUM(B64:K64),-1)","v":0}]
["District-Wide Rates",{"$f":"B40-B15","v":4114403.4511270076},1292643.2238226458,14569.048795448616,-262824.6191575285,1317358.7458576169,705037.11039227853,283437.94851020444,514708.88495437894,-56.465747493365598,0,7979277.0263236016,0]
["Rates Penalties",{"$f":"B41-B16","v":0},0,0,0,0,0,0,0,0,0,0,0]
["Remission of Rates Penalties",{"$f":"B42-B17","v":0},0,0,0,0,0,0,0,0,0,0,0]
["Pest Rate",{"$f":"B43-B18","v":3329.2872149901305},1522.9374903866155,5311.0428048014874,1159.2625986008788,2855.2388021456718,20257.05656490734,7635.8108041355663,17410.46003708322,518.90368294903828,0,60000,0]
["River  Mgmt Rates - Non District Wide",{"$f":"B44-B19","v":0},0,0,0,0,0,0,1867,0,0,1866.6399999999994,{"$f":"ROUND(L69-SUM(B69:K69),-1)","v":0}]
["Special Rates",{"$f":"B45-B20","v":0},0,0,0,0,0,0,0,0,{"$f":"K45-K20","v":28833},{"$f":"L45-L20","v":28832.884000000078},{"$f":"ROUND(L70-SUM(B70:K70),-1)","v":0}]
["Total Other Rates",{"$f":"B46-B21","v":3329.2872149901305},1522.9374903866155,5311.0428048014874,1159.2625986008788,2855.2388021456718,20257.05656490734,7635.8108041355663,19277.46003708322,518.90368294903828,28833,{"$f":"L46-L21","v":90699.524000000209},0]
["Total Regnl Rates",{"$f":"B47-B22","v":4117732.7383419946},1294166.1613130309,19880.091600250453,-261665.35655892827,1320213.9846597631,725294.16695718607,291073.75931434007,533986.34499146207,462.43793545567314,28833,{"$f":"L47-L22","v":8069976.5503236055},{"$f":"ROUND(L72-SUM(B72:K72),-1)","v":0}]
["Bulk Water Levies",{"$f":"B48-B23","v":1181896.2357257623},546201.62830468267,222031.63061785605,256003.10771401739,0,0,0,0,0,0,{"$f":"L48-L23","v":2206132.6023623198},0]
["Total Regnl Rates & levies",{"$f":"B49-B24","v":5299628.9740677625},1840367.7896177098,241911.72221810557,-5662.248844910413,1320213.9846597631,725294.16695718607,291073.75931434007,533986.34499146207,462.43793545567314,28833,10276109.15268591,{"$f":"ROUND(L74-SUM(B74:K74),-1)","v":0}]
["Warm Greater Wellington rate",{"$f":"B50-B25","v":0},0,0,0,0,0,0,0,0,55290.927444000263,55291,0]
["Total Rates & Levies",{"$f":"B51-B26","v":5299628.9740677625},1840367.7896177098,241911.72221810557,-5662.248844910413,1320213.9846597631,725294.16695718607,291073.75931434007,533986.34499146207,462.43793545567314,84123.927443999797,10331400.15268591,0]

{"sheet":"Comparison - Category","index":20,"n_rows":176,"n_cols":34,"rows_kept":176,"cut":false,"hidden":false,"merged":[[1,0,1,2],[5,26,5,33],[63,26,63,33],[121,26,121,33],[63,8,63,15],[63,17,63,24],[5,8,5,15],[5,17,5,24],[121,8,121,15],[121,17,121,24]]}
["Comparison of proposed vs current"]
[{"$f":"check_total","v":8066.0526878890842}]
[]
[]
[{"$f":"year_previous&\" rates\"","v":"2017/18 rates"}]
[null,null,null,null,null,null,null,null,"Rates",null,null,null,null,null,null,null,null,"Rates for average property",null,null,null,null,null,null,null,null,"Cents/$ OR Regional Strategy Rate $/property"]
[{"$f":"Control!A29","v":"TA full name"},{"$f":"Control!B29","v":"Category group"},{"$f":"Control!C29","v":"Concatenated  row"},null,"CV","CV Assessments","Average CV",null,"General Rate","Flood protection – regional rate","Flood protection – catchment rate","River management rate","Public transport rate","Stadium purposes rate","Regional strategy rate","District-Wide Rates",null,"General Rate","Flood protection – regional rate","Flood protection – catchment rate","River management rate","Public transport rate","Stadium purposes rate","Regional strategy rate","District-Wide Rates",null,"General Rate","Flood protection – regional rate","Flood protection – catchment rate","River management rate","Public transport rate","Stadium purposes rate","Regional strategy rate","District-Wide Rates"]
[]
["By TA"]
[{"$f":"Control!A30","v":"Wellington City"},{"$f":"Control!B30","v":"District wide"},{"$f":"Control!C30","v":"Wellington CityDistrict wide"},null,51319125451,76971,666733.25604448433,null,21189528.406917833,0,0,43255.424103945203,38457358.003260493,580986.26189999992,2299850.9726045812,62570979.068786852,null,{"$f":"I10/$E10*$G10","v":275.29236214831343},{"$f":"J10/$E10*$G10","v":0},{"$f":"K10/$E10*$G10","v":0},{"$f":"L10/$E10*$G10","v":0.56197040578848145},{"$f":"M10/$E10*$G10","v":499.63438182251099},{"$f":"N10/$E10*$G10","v":7.5481189266087219},{"$f":"O10/$E10*$G10","v":29.879447747912607},{"$f":"IF('Comparison - Category'!B10=\"Residential\",SUM(R10:W10,Control!$B$75),IF('Comparison - Category'!B10=\"Rural\",SUM(R10:W10,Control!$B$76),P10/$E10*$G10))","v":812.91628105113432}]
[{"$f":"Control!A31","v":"Hutt City"},{"$f":"Control!B31","v":"District wide"},{"$f":"Control!C31","v":"Hutt CityDistrict wide"},null,21170821500,39049,542160.40103459754,null,7179456.0529976618,0,0,3685586.3029764807,11536013.198820936,190923.43151999998,862252.31807783083,23454231.304392911,null,183.85761614888119,0,0,94.383628338151567,295.42403643680848,4.8893295992214902,22.08129063683656,{"$f":"IF('Comparison - Category'!B11=\"Residential\",SUM(R11:W11,Control!$B$75),IF('Comparison - Category'!B11=\"Rural\",SUM(R11:W11,Control!$B$76),P11/$E11*$G11))","v":600.63590115989939}]
[{"$f":"Control!A32","v":"Upper Hutt City"},{"$f":"Control!B32","v":"District wide"},{"$f":"Control!C32","v":"Upper Hutt CityDistrict wide"},null,8012247760,16570,483539.39408569701,null,2718137.0908558238,0,0,678045.43376824516,4596383.5624092557,51447.605009999999,343198.01082399383,8387211.7028673189,null,{"$f":"I12/$E12*$G12","v":164.03965545297669},0,0,40.920062387944789,277.39188668734187,3.1048645147857572,20.712010309233182,{"$f":"IF('Comparison - Category'!B12=\"Residential\",SUM(R12:W12,Control!$B$75),IF('Comparison - Category'!B12=\"Rural\",SUM(R12:W12,Control!$B$76),P12/$E12*$G12))","v":506.16847935228236}]
[{"$f":"Control!A33","v":"Porirua City"},{"$f":"Control!B33","v":"District wide"},{"$f":"Control!C33","v":"Porirua CityDistrict wide"},null,10044595300,18514,542540.52608836559,null,3367756.6064207805,0,0,28307.679875423506,6066071.2474005194,70226.958930000008,354526.17078555212,9886888.6634122767,null,181.90324113755972,0,0,1.5289877862927248,327.64779342122284,3.7931813184617056,19.149085599306044,{"$f":"IF('Comparison - Category'!B13=\"Residential\",SUM(R13:W13,Control!$B$75),IF('Comparison - Category'!B13=\"Rural\",SUM(R13:W13,Control!$B$76),P13/$E13*$G13))","v":534.02228926284317}]
[{"$f":"Control!A34","v":"Kapiti Coast District"},{"$f":"Control!B34","v":"District wide"},{"$f":"Control!C34","v":"Kapiti Coast DistrictDistrict wide"},null,10974506450,24761,443217.41650175682,null,4329462.3984503523,0,0,1368225.7946305373,3090620.0871701711,47339.621339999991,491419.64593250601,9327067.5475235656,null,174.85006253585689,0,0,55.257291491883905,124.81806418037118,1.9118622567747665,19.846518554683009,{"$f":"IF('Comparison - Category'!B14=\"Residential\",SUM(R14:W14,Control!$B$75),IF('Comparison - Category'!B14=\"Rural\",SUM(R14:W14,Control!$B$76),P14/$E14*$G14))","v":376.68379901956973}]
[{"$f":"Control!A35","v":"Masterton District"},{"$f":"Control!B35","v":"District wide"},{"$f":"Control!C35","v":"Masterton DistrictDistrict wide"},null,4724008400,12296,384190.66363044892,null,1675353.2248983532,0,0,0,306748.56603071187,19561.826999999997,241562.29325144846,2243225.9111805134,null,136.2518888173677,0,0,0,24.947020659621977,1.5909098080676642,19.645599646344213,{"$f":"IF('Comparison - Category'!B15=\"Residential\",SUM(R15:W15,Control!$B$75),IF('Comparison - Category'!B15=\"Rural\",SUM(R15:W15,Control!$B$76),P15/$E15*$G15))","v":182.43541893140156}]
[{"$f":"Control!A36","v":"Carterton District"},{"$f":"Control!B36","v":"District wide"},{"$f":"Control!C36","v":"Carterton DistrictDistrict wide"},null,2188251200,4561,479774.43543082656,null,774173.16904683737,0,0,23239.68,198788.91360953596,6846.6394500000006,90904.663578091597,1093953.065684465,null,169.73759461671506,0,0,5.0953036614777458,43.584501997267253,1.5011268252576191,19.930862437643409,{"$f":"IF('Comparison - Category'!B16=\"Residential\",SUM(R16:W16,Control!$B$75),IF('Comparison - Category'!B16=\"Rural\",SUM(R16:W16,Control!$B$76),P16/$E16*$G16))","v":239.84938953836109}]
[{"$f":"Control!A37","v":"South Wairarapa District"},{"$f":"Control!B37","v":"District wide"},{"$f":"Control!C37","v":"South Wairarapa DistrictDistrict wide"},null,3612556200,6598,547522.91603516217,null,1245449.1280744334,0,0,0,404412.54842927179,10759.004849999999,138051.14376949321,1798671.8251231983,null,188.76161383365164,0,0,0,61.293202247540428,1.6306463852682629,20.923180322748287,{"$f":"IF('Comparison - Category'!B17=\"Residential\",SUM(R17:W17,Control!$B$75),IF('Comparison - Category'!B17=\"Rural\",SUM(R17:W17,Control!$B$76),P17/$E17*$G17))","v":272.6086427892086}]
[{"$f":"Control!A38","v":"Tararua District"},{"$f":"Control!B38","v":"District wide"},{"$f":"Control!C38","v":"Tararua DistrictDistrict wide"},null,6806000,12,567166.66666666663,null,2354.4428815298133,0,0,0,0,0,252,2606.4428815298133,null,196.20357346081778,0,0,0,0,0,20.999999999999996,{"$f":"IF('Comparison - Category'!B18=\"Residential\",SUM(R18:W18,Control!$B$75),IF('Comparison - Category'!B18=\"Rural\",SUM(R18:W18,Control!$B$76),P18/$E18*$G18))","v":217.20357346081778}]
[{"$f":"Control!A39","v":"Region wide"},{"$f":"Control!B39","v":0},{"$f":"Control!C39","v":"Region wide"},null,112052918261,199332,562142.14607288339,null,42481670.520543605,0,0,5826660.3153546322,64656396.127130903,978091.35,4822017.2188234972,118764835.53185262,null,213.120173983824,0,0,29.230932892634559,324.36536094119811,4.9068456143519352,24.190883645493432,{"$f":"IF('Comparison - Category'!B19=\"Residential\",SUM(R19:W19,Control!$B$75),IF('Comparison - Category'!B19=\"Rural\",SUM(R19:W19,Control!$B$76),P19/$E19*$G19))","v":595.81419707750183}]
[]
["By TA & Category"]
[{"$f":"Control!A43","v":"Wellington City"},{"$f":"Control!B43","v":"Regional CBD"},{"$f":"Control!C43","v":"Wellington CityRegional CBD"},null,7854191500,3401,2309377.094972067,null,3242974.474721483,0,0,6620.073536726286,25019166.072671905,135230.61302423512,865036.74131845124,29269027.975272797,null,{"$f":"I22/$E22*$G22","v":953.53557033857192},{"$f":"J22/$E22*$G22","v":0},{"$f":"K22/$E22*$G22","v":0},{"$f":"L22/$E22*$G22","v":1.9465079496401898},{"$f":"M22/$E22*$G22","v":7356.4146053137038},{"$f":"N22/$E22*$G22","v":39.762015002715415},{"$f":"IF('Comparison - Category'!B22=\"Residential\",Control!$B$75,IF('Comparison - Category'!B22=\"Rural\",Control!$B$76,O22/$E22*$G22))","v":254.34776281048258},{"$f":"IF('Comparison - Category'!B22=\"Residential\",SUM(R22:W22,Control!$B$75),IF('Comparison - Category'!B22=\"Rural\",SUM(R22:W22,Control!$B$76),P22/$E22*$G22))","v":8606.0064614151124},null,{"$f":"I22/$E22*100","v":4.1289730136086993E-2},{"$f":"J22/$E22*100","v":0},{"$f":"K22/$E22*100","v":0},{"$f":"L22/$E22*100","v":8.4287141925763908E-5},{"$f":"M22/$E22*100","v":0.31854540435730277},{"$f":"N22/$E22*100","v":1.7217636344139956E-3},{"$f":"IF(OR('Comparison - Category'!B22=\"Residential\",'Comparison - Category'!B22=\"Rural\"),X22,O22/$E22*100)","v":1.1013695570300918E-2},{"$f":"P22/$E22*100","v":0.3726548808400304}]
[{"$f":"Control!A44","v":"Wellington City"},{"$f":"Control!B44","v":"Business"},{"$f":"Control!C44","v":"Wellington CityBusiness"},null,3819755400,1907,2003018.0388044049,null,1577166.6965186102,0,0,3219.5626552150316,1192769.6658868904,65767.159400764853,420696.23128613003,3259619.3157476103,null,{"$f":"I23/$E23*$G23","v":827.040742799481},0,0,1.6882866571657218,625.46914834131644,34.487236182886662,{"$f":"IF('Comparison - Category'!B23=\"Residential\",Control!$B$75,IF('Comparison - Category'!B23=\"Rural\",Control!$B$76,O23/$E23*$G23))","v":220.606309012129},{"$f":"IF('Comparison - Category'!B23=\"Residential\",SUM(R23:W23,Control!$B$75),IF('Comparison - Category'!B23=\"Rural\",SUM(R23:W23,Control!$B$76),P23/$E23*$G23))","v":1709.2917229929787},null,4.1289730136086993E-2,0,0,8.4287141925763921E-5,3.1226336269775033E-2,1.7217636344139956E-3,{"$f":"IF(OR('Comparison - Category'!B23=\"Residential\",'Comparison - Category'!B23=\"Rural\"),X23,O23/$E23*100)","v":1.1013695570300915E-2},8.5335812752502696E-2]
[{"$f":"Control!A45","v":"Wellington City"},{"$f":"Control!B45","v":"Residential"},{"$f":"Control!C45","v":"Wellington CityResidential"},null,39066389001,70889,551092.39798840438,null,16130406.59242687,0,0,32927.942742543899,12199001.997910665,377152.02455999999,992446,29731934.557640079,null,227.54456392990267,0,0,0.4645000316345822,172.08596535302607,5.3203180262099901,{"$f":"IF('Comparison - Category'!B24=\"Residential\",Control!$B$75,IF('Comparison - Category'!B24=\"Rural\",Control!$B$76,O24/$E24*$G24))","v":14},{"$f":"IF('Comparison - Category'!B24=\"Residential\",SUM(R24:W24,Control!$B$75),IF('Comparison - Category'!B24=\"Rural\",SUM(R24:W24,Control!$B$76),P24/$E24*$G24))","v":419.41534734077328},null,4.1289730136086993E-2,0,0,8.4287141925763921E-5,3.1226336269775026E-2,9.6541306786850935E-4,{"$f":"IF(OR('Comparison - Category'!B24=\"Residential\",'Comparison - Category'!B24=\"Rural\"),X24,O24/$E24*100)","v":14},7.6106175456551711E-2]
[{"$f":"Control!A46","v":"Wellington City"},{"$f":"Control!B46","v":"Rural"},{"$f":"Control!C46","v":"Wellington CityRural"},null,578789550,774,747790.1162790698,null,238980.64325087226,0,0,487.8451694599903,46420.266791032431,2836.4649149999996,21672,310397.22012636473,null,308.76052099595898,0,0,0.63029091661497461,59.974504897974725,3.6646833527131779,{"$f":"IF('Comparison - Category'!B25=\"Residential\",Control!$B$75,IF('Comparison - Category'!B25=\"Rural\",Control!$B$76,O25/$E25*$G25))","v":28},{"$f":"IF('Comparison - Category'!B25=\"Residential\",SUM(R25:W25,Control!$B$75),IF('Comparison - Category'!B25=\"Rural\",SUM(R25:W25,Control!$B$76),P25/$E25*$G25))","v":401.03000016326183},null,4.1289730136086986E-2,0,0,8.4287141925763908E-5,8.02023236097342E-3,4.9006843938353755E-4,{"$f":"IF(OR('Comparison - Category'!B25=\"Residential\",'Comparison - Category'!B25=\"Rural\"),X25,O25/$E25*100)","v":28},5.3628684230108289E-2]
[{"$f":"Control!A47","v":"Hutt City"},{"$f":"Control!B47","v":"Business"},{"$f":"Control!C47","v":"Hutt CityBusiness"},null,3796856000,2357,1610885.0233347476,null,1287591.0739486651,0,0,660987.12645487417,2092334.5898406077,49784.849714999997,343454.31807783077,4434151.9580369778,null,546.28386675802506,0,0,280.43577702794835,887.7108993808265,21.122125462452271,{"$f":"IF('Comparison - Category'!B26=\"Residential\",Control!$B$75,IF('Comparison - Category'!B26=\"Rural\",Control!$B$76,O26/$E26*$G26))","v":145.71672383446364},{"$f":"IF('Comparison - Category'!B26=\"Residential\",SUM(R26:W26,Control!$B$75),IF('Comparison - Category'!B26=\"Rural\",SUM(R26:W26,Control!$B$76),P26/$E26*$G26))","v":1881.2693924637156},null,3.391203337573679E-2,0,0,1.74088015572588E-2,5.5107030391476734E-2,1.3112124798780886E-3,{"$f":"IF(OR('Comparison - Category'!B26=\"Residential\",'Comparison - Category'!B26=\"Rural\"),X26,O26/$E26*100)","v":9.0457557009755111E-3},0.11678483350532592]
[{"$f":"Control!A48","v":"Hutt City"},{"$f":"Control!B48","v":"Residential"},{"$f":"Control!C48","v":"Hutt CityResidential"},null,17055925500,36202,471132.13358377991,null,5784011.1481008036,0,0,2969232.2240489009,9399014.0488326307,138888.97169999999,505078,18796224.392682336,null,159.77048638475233,0,0,82.018458208079693,259.62692803802634,3.8364999640903816,{"$f":"IF('Comparison - Category'!B27=\"Residential\",Control!$B$75,IF('Comparison - Category'!B27=\"Rural\",Control!$B$76,O27/$E27*$G27))","v":14},{"$f":"IF('Comparison - Category'!B27=\"Residential\",SUM(R27:W27,Control!$B$75),IF('Comparison - Category'!B27=\"Rural\",SUM(R27:W27,Control!$B$76),P27/$E27*$G27))","v":519.25237259494872},null,3.3912033375736797E-2,0,0,1.74088015572588E-2,5.5107030391476734E-2,8.1431507014966735E-4,{"$f":"IF(OR('Comparison - Category'!B27=\"Residential\",'Comparison - Category'!B27=\"Rural\"),X27,O27/$E27*100)","v":14},0.11020348554338101]
[{"$f":"Control!A49","v":"Hutt City"},{"$f":"Control!B49","v":"Rural"},{"$f":"Control!C49","v":"Hutt CityRural"},null,318040000,490,649061.22448979598,null,107853.83094819332,0,0,55366.952472705889,44664.560147696888,2249.6101049999997,13720,223854.95367359612,null,220.1098590779456,0,0,112.99378055654265,91.152163566728348,4.5910410306122449,{"$f":"IF('Comparison - Category'!B28=\"Residential\",Control!$B$75,IF('Comparison - Category'!B28=\"Rural\",Control!$B$76,O28/$E28*$G28))","v":28},{"$f":"IF('Comparison - Category'!B28=\"Residential\",SUM(R28:W28,Control!$B$75),IF('Comparison - Category'!B28=\"Rural\",SUM(R28:W28,Control!$B$76),P28/$E28*$G28))","v":456.84684423182881},null,3.3912033375736804E-2,0,0,1.74088015572588E-2,1.4043692663720566E-2,7.0733558829078102E-4,{"$f":"IF(OR('Comparison - Category'!B28=\"Residential\",'Comparison - Category'!B28=\"Rural\"),X28,O28/$E28*100)","v":28},7.0385785962016126E-2]
[{"$f":"Control!A50","v":"Upper Hutt City"},{"$f":"Control!B50","v":"Business"},{"$f":"Control!C50","v":"Upper Hutt CityBusiness"},null,1170562500,722,1621277.7008310249,null,397110.70397739671,0,0,99060.161622528438,725473.26340738265,7726.9216650000008,105926.0108239938,1335297.0614963016,null,550.014825453458,0,0,137.20243992039948,1004.8106141376492,10.702107569252078,{"$f":"IF('Comparison - Category'!B29=\"Residential\",Control!$B$75,IF('Comparison - Category'!B29=\"Rural\",Control!$B$76,O29/$E29*$G29))","v":146.71192634902187},{"$f":"IF('Comparison - Category'!B29=\"Residential\",SUM(R29:W29,Control!$B$75),IF('Comparison - Category'!B29=\"Rural\",SUM(R29:W29,Control!$B$76),P29/$E29*$G29))","v":1849.4419134297805},null,3.3924775821658107E-2,0,0,8.4626119171362854E-3,6.197646545206964E-2,6.6010329777350637E-4,{"$f":"IF(OR('Comparison - Category'!B29=\"Residential\",'Comparison - Category'!B29=\"Rural\"),X29,O29/$E29*100)","v":9.0491546435148736E-3},0.11407311113215242]
[{"$f":"Control!A51","v":"Upper Hutt City"},{"$f":"Control!B51","v":"Residential"},{"$f":"Control!C51","v":"Upper Hutt CityResidential"},null,6041952920,14604,413719.04409750755,null,2049718.9833601261,0,0,511307.02783568384,3744588.864094113,41764.500645,204288,6551667.3759349221,null,140.35325824158627,0,0,35.011437129258006,256.40844043372454,2.8597987294576828,{"$f":"IF('Comparison - Category'!B30=\"Residential\",Control!$B$75,IF('Comparison - Category'!B30=\"Rural\",Control!$B$76,O30/$E30*$G30))","v":14},{"$f":"IF('Comparison - Category'!B30=\"Residential\",SUM(R30:W30,Control!$B$75),IF('Comparison - Category'!B30=\"Rural\",SUM(R30:W30,Control!$B$76),P30/$E30*$G30))","v":448.6329345340265},null,3.3924775821658107E-2,0,0,8.4626119171362871E-3,6.197646545206964E-2,6.9124174249606701E-4,{"$f":"IF(OR('Comparison - Category'!B30=\"Residential\",'Comparison - Category'!B30=\"Rural\"),X30,O30/$E30*100)","v":14},0.10843625335523008]
[{"$f":"Control!A52","v":"Upper Hutt City"},{"$f":"Control!B52","v":"Rural"},{"$f":"Control!C52","v":"Upper Hutt CityRural"},null,799732340,1244,642871.655948553,null,271307.40351830062,0,0,67678.244310032882,126321.43490776002,1956.1827000000001,32984,500247.2654360935,null,218.09276810152781,0,0,54.403733368193635,101.5445618229582,1.5724941318327974,{"$f":"IF('Comparison - Category'!B31=\"Residential\",Control!$B$75,IF('Comparison - Category'!B31=\"Rural\",Control!$B$76,O31/$E31*$G31))","v":28},{"$f":"IF('Comparison - Category'!B31=\"Residential\",SUM(R31:W31,Control!$B$75),IF('Comparison - Category'!B31=\"Rural\",SUM(R31:W31,Control!$B$76),P31/$E31*$G31))","v":403.61355742451246},null,3.3924775821658107E-2,0,0,8.4626119171362871E-3,1.5795464130881592E-2,2.4460467610950935E-4,{"$f":"IF(OR('Comparison - Category'!B31=\"Residential\",'Comparison - Category'!B31=\"Rural\"),X31,O31/$E31*100)","v":28},6.2551836460195354E-2]
[{"$f":"Control!A53","v":"Porirua City"},{"$f":"Control!B53","v":"Business"},{"$f":"Control!C53","v":"Porirua CityBusiness"},null,1094739500,796,1375300.8793969848,null,367044.77117507975,0,0,3085.1950115880913,691972.22117957263,12128.33274,97906.170785552094,1172136.6908917925,null,461.11152157673331,0,0,3.8758731301357927,869.31183565272943,15.236598919597988,{"$f":"IF('Comparison - Category'!B32=\"Residential\",Control!$B$75,IF('Comparison - Category'!B32=\"Rural\",Control!$B$76,O32/$E32*$G32))","v":122.9977019918996},{"$f":"IF('Comparison - Category'!B32=\"Residential\",SUM(R32:W32,Control!$B$75),IF('Comparison - Category'!B32=\"Rural\",SUM(R32:W32,Control!$B$76),P32/$E32*$G32))","v":1472.5335312710961},null,3.3528046733956318E-2,0,0,2.8182001394743604E-4,6.320884750934562E-2,1.1078738585754875E-3,{"$f":"IF(OR('Comparison - Category'!B32=\"Residential\",'Comparison - Category'!B32=\"Rural\"),X32,O32/$E32*100)","v":8.9433304256905048E-3},0.10706991854151536]
[{"$f":"Control!A54","v":"Porirua City"},{"$f":"Control!B54","v":"Residential"},{"$f":"Control!C54","v":"Porirua CityResidential"},null,8349049050,17106,488077.22728867066,null,2799273.0673249364,0,0,23529.291197188279,5277337.6824949672,56729.298300000002,239484,8396353.3393170908,null,{"$f":"I33/$E33*$G33","v":163.64276086314374},0,0,1.3754993100191908,308.50799032473793,3.316339196773062,{"$f":"IF('Comparison - Category'!B33=\"Residential\",Control!$B$75,IF('Comparison - Category'!B33=\"Rural\",Control!$B$76,O33/$E33*$G33))","v":14},{"$f":"IF('Comparison - Category'!B33=\"Residential\",SUM(R33:W33,Control!$B$75),IF('Comparison - Category'!B33=\"Rural\",SUM(R33:W33,Control!$B$76),P33/$E33*$G33))","v":490.8425896946739},null,3.3528046733956325E-2,0,0,2.8182001394743604E-4,6.3208847509345592E-2,6.7947017630708498E-4,{"$f":"IF(OR('Comparison - Category'!B33=\"Residential\",'Comparison - Category'!B33=\"Rural\"),X33,O33/$E33*100)","v":14},0.10056658296093123]
[{"$f":"Control!A55","v":"Porirua City"},{"$f":"Control!B55","v":"Rural"},{"$f":"Control!C55","v":"Porirua CityRural"},null,600806750,612,981710.37581699342,null,201438.76792076413,0,0,1693.1936666471372,96761.343725979576,1369.32789,17136,318398.63320339087,null,{"$f":"I34/$E34*$G34","v":329.14831359601982},0,0,2.7666563180508779,158.10677079408427,2.2374638725490197,{"$f":"IF('Comparison - Category'!B34=\"Residential\",Control!$B$75,IF('Comparison - Category'!B34=\"Rural\",Control!$B$76,O34/$E34*$G34))","v":28},{"$f":"IF('Comparison - Category'!B34=\"Residential\",SUM(R34:W34,Control!$B$75),IF('Comparison - Category'!B34=\"Rural\",SUM(R34:W34,Control!$B$76),P34/$E34*$G34))","v":520.25920458070402},null,3.3528046733956325E-2,0,0,2.8182001394743604E-4,1.6105235789374801E-2,2.2791486447181229E-4,{"$f":"IF(OR('Comparison - Category'!B34=\"Residential\",'Comparison - Category'!B34=\"Rural\"),X34,O34/$E34*100)","v":28},5.2995182428191907E-2]
[{"$f":"Control!A56","v":"Kapiti Coast District"},{"$f":"Control!B56","v":"Business"},{"$f":"Control!C56","v":"Kapiti Coast DistrictBusiness"},null,1268607000,1389,913323.97408207343,null,500467.72763169743,0,0,158161.17367618496,403085.53282028827,5889.2255613069892,133495.64593250601,1201099.3056219837,null,360.3079392596814,0,0,113.8669356919978,290.19836776118666,4.2399032118840818,{"$f":"IF('Comparison - Category'!B35=\"Residential\",Control!$B$75,IF('Comparison - Category'!B35=\"Rural\",Control!$B$76,O35/$E35*$G35))","v":96.109176337297342},{"$f":"IF('Comparison - Category'!B35=\"Residential\",SUM(R35:W35,Control!$B$75),IF('Comparison - Category'!B35=\"Rural\",SUM(R35:W35,Control!$B$76),P35/$E35*$G35))","v":864.72232226204733},null,3.9450178631498758E-2,0,0,1.246731049696123E-2,3.1773869513591541E-2,4.642277365099664E-4,{"$f":"IF(OR('Comparison - Category'!B35=\"Residential\",'Comparison - Category'!B35=\"Rural\"),X35,O35/$E35*100)","v":1.0523010351709081E-2},9.4678596730270584E-2]
[{"$f":"Control!A57","v":"Kapiti Coast District"},{"$f":"Control!B57","v":"Residential"},{"$f":"Control!C57","v":"Kapiti Coast DistrictResidential"},null,8022916350,20583,389783.62483602972,null,3165054.8315307195,0,0,1000241.8922659687,2549190.9722336018,37244.602973693007,284592,7036324.2990039829,null,153.77033627414465,0,0,48.595534774618315,123.8493403407473,1.8094836988627996,{"$f":"IF('Comparison - Category'!B36=\"Residential\",Control!$B$75,IF('Comparison - Category'!B36=\"Rural\",Control!$B$76,O36/$E36*$G36))","v":14},{"$f":"IF('Comparison - Category'!B36=\"Residential\",SUM(R36:W36,Control!$B$75),IF('Comparison - Category'!B36=\"Rural\",SUM(R36:W36,Control!$B$76),P36/$E36*$G36))","v":342.02469508837305},null,3.9450178631498752E-2,0,0,1.246731049696123E-2,3.1773869513591547E-2,4.642277365099663E-4,{"$f":"IF(OR('Comparison - Category'!B36=\"Residential\",'Comparison - Category'!B36=\"Rural\"),X36,O36/$E36*100)","v":14},8.770282515788641E-2]
[{"$f":"Control!A58","v":"Kapiti Coast District"},{"$f":"Control!B58","v":"Rural"},{"$f":"Control!C58","v":"Kapiti Coast DistrictRural"},null,1682983100,2789,603436.0344209394,null,663939.83928793529,0,0,209822.72868838353,138343.58211628126,4205.792805,73332,1089643.9428976001,null,238.05659350589289,0,0,75.232244061808359,49.603292261126299,1.5079931176048764,{"$f":"IF('Comparison - Category'!B37=\"Residential\",Control!$B$75,IF('Comparison - Category'!B37=\"Rural\",Control!$B$76,O37/$E37*$G37))","v":28},{"$f":"IF('Comparison - Category'!B37=\"Residential\",SUM(R37:W37,Control!$B$75),IF('Comparison - Category'!B37=\"Rural\",SUM(R37:W37,Control!$B$76),P37/$E37*$G37))","v":392.40012294643242},null,3.9450178631498752E-2,0,0,1.246731049696123E-2,8.2201408984012535E-3,2.4990107179329371E-4,{"$f":"IF(OR('Comparison - Category'!B37=\"Residential\",'Comparison - Category'!B37=\"Rural\"),X37,O37/$E37*100)","v":28},6.4744794103850478E-2]
[{"$f":"Control!A59","v":"Masterton District"},{"$f":"Control!B59","v":"Business"},{"$f":"Control!C59","v":"Masterton DistrictBusiness"},null,381148600,546,698074.358974359,null,135173.03148222441,0,0,0,38506.176018556216,2325.988066294557,36056.293251448456,212061.48881852365,null,247.56965472934874,0,0,0,{"$f":"M38/$E38*$G38","v":70.524131902117617},4.2600514034698849,{"$f":"IF('Comparison - Category'!B38=\"Residential\",Control!$B$75,IF('Comparison - Category'!B38=\"Rural\",Control!$B$76,O38/$E38*$G38))","v":66.037167127194977},{"$f":"IF('Comparison - Category'!B38=\"Residential\",SUM(R38:W38,Control!$B$75),IF('Comparison - Category'!B38=\"Rural\",SUM(R38:W38,Control!$B$76),P38/$E38*$G38))","v":388.39100516213119},null,3.5464653807523998E-2,0,0,0,1.0102667573370652E-2,6.1025753900042059E-4,{"$f":"IF(OR('Comparison - Category'!B38=\"Residential\",'Comparison - Category'!B38=\"Rural\"),X38,O38/$E38*100)","v":9.459904418236997E-3},5.5637483338132065E-2]
[{"$f":"Control!A60","v":"Masterton District"},{"$f":"Control!B60","v":"Residential"},{"$f":"Control!C60","v":"Masterton DistrictResidential"},null,1974896500,7842,251835.81994389187,null,700390.20678190805,0,0,0,199517.22831313196,12051.954778705442,109550,1021509.3898737455,null,89.31270170644072,0,0,0,25.442135719603666,1.5368470771111249,{"$f":"IF('Comparison - Category'!B39=\"Residential\",Control!$B$75,IF('Comparison - Category'!B39=\"Rural\",Control!$B$76,O39/$E39*$G39))","v":14},{"$f":"IF('Comparison - Category'!B39=\"Residential\",SUM(R39:W39,Control!$B$75),IF('Comparison - Category'!B39=\"Rural\",SUM(R39:W39,Control!$B$76),P39/$E39*$G39))","v":130.29168450315552},null,3.5464653807523991E-2,0,0,0,1.0102667573370652E-2,6.1025753900042059E-4,{"$f":"IF(OR('Comparison - Category'!B39=\"Residential\",'Comparison - Category'!B39=\"Rural\"),X39,O39/$E39*100)","v":14},5.1724705060429525E-2]
[{"$f":"Control!A61","v":"Masterton District"},{"$f":"Control!B61","v":"Rural"},{"$f":"Control!C61","v":"Masterton DistrictRural"},null,2367963300,3908,605927.1494370522,null,839789.9866342207,0,0,0,68725.161699023694,5183.8841549999997,95956,1009655.0324882444,null,214.88996587364909,0,0,0,17.585762973138099,1.3264800806038894,{"$f":"IF('Comparison - Category'!B40=\"Residential\",Control!$B$75,IF('Comparison - Category'!B40=\"Rural\",Control!$B$76,O40/$E40*$G40))","v":28},{"$f":"IF('Comparison - Category'!B40=\"Residential\",SUM(R40:W40,Control!$B$75),IF('Comparison - Category'!B40=\"Rural\",SUM(R40:W40,Control!$B$76),P40/$E40*$G40))","v":261.80220892739106},null,3.5464653807523991E-2,0,0,0,2.9022899847739908E-3,2.1891741966609027E-4,{"$f":"IF(OR('Comparison - Category'!B40=\"Residential\",'Comparison - Category'!B40=\"Rural\"),X40,O40/$E40*100)","v":28},4.2638119961075596E-2]
[{"$f":"Control!A62","v":"Carterton District"},{"$f":"Control!B62","v":"Business"},{"$f":"Control!C62","v":"Carterton DistrictBusiness"},null,93045500,225,413535.55555555556,null,32918.217799011152,0,0,988.16244014398353,16823.535173389577,506.46234923245612,8780.6635780915949,60017.04133986876,null,146.30319021782734,0,0,4.3918330673065942,74.771267437287008,2.2509437743664718,{"$f":"IF('Comparison - Category'!B41=\"Residential\",Control!$B$75,IF('Comparison - Category'!B41=\"Rural\",Control!$B$76,O41/$E41*$G41))","v":39.025171458184872},{"$f":"IF('Comparison - Category'!B41=\"Residential\",SUM(R41:W41,Control!$B$75),IF('Comparison - Category'!B41=\"Rural\",SUM(R41:W41,Control!$B$76),P41/$E41*$G41))","v":266.74240595497224},null,3.5378624220420277E-2,0,0,1.0620206674626753E-3,1.8080976697840923E-2,5.4431686565439071E-4,{"$f":"IF(OR('Comparison - Category'!B41=\"Residential\",'Comparison - Category'!B41=\"Rural\"),X41,O41/$E41*100)","v":9.4369567341694074E-3},6.4502895185547665E-2]
[{"$f":"Control!A63","v":"Carterton District"},{"$f":"Control!B63","v":"Residential"},{"$f":"Control!C63","v":"Carterton DistrictResidential"},null,607751500,2299,264354.71944323619,null,215014.11937896756,0,0,6454.4465368144201,109887.40709577865,3308.0939157675439,31080,365744.06692732818,null,93.525062800768836,0,0,2.8075017559001392,47.797915222174268,1.4389273230828812,{"$f":"IF('Comparison - Category'!B42=\"Residential\",Control!$B$75,IF('Comparison - Category'!B42=\"Rural\",Control!$B$76,O42/$E42*$G42))","v":14},{"$f":"IF('Comparison - Category'!B42=\"Residential\",SUM(R42:W42,Control!$B$75),IF('Comparison - Category'!B42=\"Rural\",SUM(R42:W42,Control!$B$76),P42/$E42*$G42))","v":159.56940710192612},null,3.5378624220420277E-2,0,0,1.0620206674626751E-3,1.8080976697840919E-2,5.4431686565439071E-4,{"$f":"IF(OR('Comparison - Category'!B42=\"Residential\",'Comparison - Category'!B42=\"Rural\"),X42,O42/$E42*100)","v":14},6.0179870708229957E-2]
[{"$f":"Control!A64","v":"Carterton District"},{"$f":"Control!B64","v":"Rural"},{"$f":"Control!C64","v":"Carterton DistrictRural"},null,1487454200,2037,730218.06578301429,null,526240.83186885866,0,0,15797.071023041597,72077.971340367745,3032.083185,51044,668191.95741726796,null,258.34110548299395,0,0,7.7550667761618062,35.384374737539396,1.4885042636229748,{"$f":"IF('Comparison - Category'!B43=\"Residential\",Control!$B$75,IF('Comparison - Category'!B43=\"Rural\",Control!$B$76,O43/$E43*$G43))","v":28},{"$f":"IF('Comparison - Category'!B43=\"Residential\",SUM(R43:W43,Control!$B$75),IF('Comparison - Category'!B43=\"Rural\",SUM(R43:W43,Control!$B$76),P43/$E43*$G43))","v":330.96905126031817},null,3.5378624220420277E-2,0,0,1.0620206674626753E-3,4.8457271047651585E-3,2.0384380137553141E-4,{"$f":"IF(OR('Comparison - Category'!B43=\"Residential\",'Comparison - Category'!B43=\"Rural\"),X43,O43/$E43*100)","v":28},4.4921850865543823E-2]
[{"$f":"Control!A65","v":"South Wairarapa District"},{"$f":"Control!B65","v":"Business"},{"$f":"Control!C65","v":"South Wairarapa DistrictBusiness"},null,190419802,312,610319.87820512825,null,65648.300881521587,0,0,0,44332.499023699995,1243.6926154320026,17511.143769493217,128735.63629014679,null,210.41122077410768,0,0,0,142.09134302467947,3.9861942802307779,{"$f":"IF('Comparison - Category'!B44=\"Residential\",Control!$B$75,IF('Comparison - Category'!B44=\"Rural\",Control!$B$76,O44/$E44*$G44))","v":56.125460799657745},{"$f":"IF('Comparison - Category'!B44=\"Residential\",SUM(R44:W44,Control!$B$75),IF('Comparison - Category'!B44=\"Rural\",SUM(R44:W44,Control!$B$76),P44/$E44*$G44))","v":412.61421887867567},null,3.4475564091554715E-2,0,0,0,2.328145421750832E-2,6.5313197596540012E-4,{"$f":"IF(OR('Comparison - Category'!B44=\"Residential\",'Comparison - Category'!B44=\"Rural\"),X44,O44/$E44*100)","v":9.1960728798012384E-3},6.7606223164829671E-2]
[{"$f":"Control!A66","v":"South Wairarapa District"},{"$f":"Control!B66","v":"Residential"},{"$f":"Control!C66","v":"South Wairarapa DistrictResidential"},null,887809098,3147,282112.83698760724,null,306077.19459164375,0,0,0,206694.86868974354,5798.565104567997,43008,561578.62838595523,null,97.259991926165782,0,0,0,65.679970984983655,1.8425691466692078,{"$f":"IF('Comparison - Category'!B45=\"Residential\",Control!$B$75,IF('Comparison - Category'!B45=\"Rural\",Control!$B$76,O45/$E45*$G45))","v":14},{"$f":"IF('Comparison - Category'!B45=\"Residential\",SUM(R45:W45,Control!$B$75),IF('Comparison - Category'!B45=\"Rural\",SUM(R45:W45,Control!$B$76),P45/$E45*$G45))","v":178.78253205781866},null,3.4475564091554708E-2,0,0,0,2.3281454217508317E-2,6.5313197596540023E-4,{"$f":"IF(OR('Comparison - Category'!B45=\"Residential\",'Comparison - Category'!B45=\"Rural\"),X45,O45/$E45*100)","v":14},6.3254434951279942E-2]
[{"$f":"Control!A67","v":"South Wairarapa District"},{"$f":"Control!B67","v":"Rural"},{"$f":"Control!C67","v":"South Wairarapa DistrictRural"},null,2534327300,3139,807367.72857597959,null,873723.63260126801,0,0,0,153385.18071582823,3716.7471299999997,77532,1108357.5604470964,null,278.34457871974132,0,0,0,48.864345560951968,1.1840545173622172,{"$f":"IF('Comparison - Category'!B46=\"Residential\",Control!$B$75,IF('Comparison - Category'!B46=\"Rural\",Control!$B$76,O46/$E46*$G46))","v":28},{"$f":"IF('Comparison - Category'!B46=\"Residential\",SUM(R46:W46,Control!$B$75),IF('Comparison - Category'!B46=\"Rural\",SUM(R46:W46,Control!$B$76),P46/$E46*$G46))","v":356.39297879805548},null,3.4475564091554708E-2,0,0,0,6.0523035330057109E-3,1.466561611832852E-4,{"$f":"IF(OR('Comparison - Category'!B46=\"Residential\",'Comparison - Category'!B46=\"Rural\"),X46,O46/$E46*100)","v":28},4.3733797147949137E-2]
[{"$f":"Control!A68","v":"Tararua District"},{"$f":"Control!B68","v":"Rural"},{"$f":"Control!C68","v":"Tararua DistrictRural"},null,6806000,12,567166.66666666663,null,2354.4428815298133,0,0,0,0,0,252,2606.4428815298133,null,196.20357346081778,0,0,0,0,0,{"$f":"IF('Comparison - Category'!B47=\"Residential\",Control!$B$75,IF('Comparison - Category'!B47=\"Rural\",Control!$B$76,O47/$E47*$G47))","v":28},{"$f":"IF('Comparison - Category'!B47=\"Residential\",SUM(R47:W47,Control!$B$75),IF('Comparison - Category'!B47=\"Rural\",SUM(R47:W47,Control!$B$76),P47/$E47*$G47))","v":224.20357346081778},null,3.4593636225827409E-2,0,0,0,0,0,{"$f":"IF(OR('Comparison - Category'!B47=\"Residential\",'Comparison - Category'!B47=\"Rural\"),X47,O47/$E47*100)","v":28},3.8296251565233815E-2]
[{"$f":"Control!A69","v":"Region wide"},{"$f":"Control!B69","v":0},{"$f":"Control!C69","v":"Region wide"},null,112052918261,199332,562142.14607288339,null,42481670.520543598,0,0,5826660.3153546313,64656396.127130896,978091.35,4822017.2188234963,118764835.53185265,null,213.12017398382395,0,0,29.230932892634552,324.36536094119805,4.9068456143519352,{"$f":"O48/$E48*$G48","v":24.190883645493429},{"$f":"IF('Comparison - Category'!B48=\"Residential\",SUM(R48:W48,Control!$B$75),IF('Comparison - Category'!B48=\"Rural\",SUM(R48:W48,Control!$B$76),P48/$E48*$G48))","v":595.81419707750206},null,3.7912150062520356E-2,0,0,5.1999184008602473E-3,5.7701661974148284E-2,8.7288342434935456E-4,{"$f":"IF(OR(B48=\"Residential\",B48=\"Rural\"),\"n/a\",O48/$E48*100)","v":4.3033392558253416E-3},0.10598995311770362]
[]
["By category"]
["Region Wide",{"$f":"B22","v":"Regional CBD"},{"$f":"A51&B51","v":"Region WideRegional CBD"},null,{"$f":"SUMIF($B$22:$B$47,$B51,E$22:E$47)","v":7854191500},3401,{"$f":"E51/F51","v":2309377.094972067},null,{"$f":"SUMIF($B$22:$B$47,$B51,I$22:I$47)","v":3242974.474721483},0,0,6620.073536726286,25019166.072671905,135230.61302423512,865036.74131845124,29269027.975272797,null,{"$f":"I51/$E51*$G51","v":953.53557033857192},{"$f":"J51/$E51*$G51","v":0},{"$f":"K51/$E51*$G51","v":0},{"$f":"L51/$E51*$G51","v":1.9465079496401898},{"$f":"M51/$E51*$G51","v":7356.4146053137038},{"$f":"N51/$E51*$G51","v":39.762015002715415},{"$f":"O51/$E51*$G51","v":254.34776281048258},{"$f":"IF('Comparison - Category'!B51=\"Residential\",SUM(R51:W51,Control!$B$75),IF('Comparison - Category'!B51=\"Rural\",SUM(R51:W51,Control!$B$76),P51/$E51*$G51))","v":8606.0064614151124}]
["Region Wide",{"$f":"B23","v":"Business"},{"$f":"A52&B52","v":"Region WideBusiness"},null,11815134302,8254,1431443.457959777,null,4363120.5234142058,0,0,925501.38186053466,5205297.4833503868,145372.63211303085,1163826.4775050462,11803118.498243205,null,528.60679954133821,0,0,112.12762077302334,630.63938494673937,17.612385766056562,141.00151169191253,{"$f":"IF('Comparison - Category'!B52=\"Residential\",SUM(R52:W52,Control!$B$75),IF('Comparison - Category'!B52=\"Rural\",SUM(R52:W52,Control!$B$76),P52/$E52*$G52))","v":1429.9877027190701}]
["Region Wide",{"$f":"B24","v":"Residential"},{"$f":"A53&B53","v":"Region WideResidential"},null,82006689919,172672,474927.55003127316,null,31149946.143495981,0,0,4543692.8246271005,33685233.069664635,672938.01197773404,2409526,72461336.049765453,null,180.39952130916407,0,0,26.314010520681411,195.08219670626758,3.8972040167353943,13.954352761304671,{"$f":"IF('Comparison - Category'!B53=\"Residential\",SUM(R53:W53,Control!$B$75),IF('Comparison - Category'!B53=\"Rural\",SUM(R53:W53,Control!$B$76),P53/$E53*$G53))","v":419.69293255284845}]
["Region Wide",{"$f":"B25","v":"Rural"},{"$f":"A54&B54","v":"Region WideRural"},null,10376902540,15005,691562.9816727757,null,3725629.3789119427,0,0,350846.03533027106,746699.50144396978,24550.092884999998,383628,5231353.0085711842,null,248.29252775154566,0,0,23.381941708115363,49.763378969941336,1.6361274831722756,25.566677774075309,{"$f":"IF('Comparison - Category'!B54=\"Residential\",SUM(R54:W54,Control!$B$75),IF('Comparison - Category'!B54=\"Rural\",SUM(R54:W54,Control!$B$76),P54/$E54*$G54))","v":351.0739759127747}]
["Region Wide","Total",{"$f":"A55&B55","v":"Region WideTotal"},null,{"$f":"SUM(E51:E54)","v":112052918261},{"$f":"SUM(F51:F54)","v":199332},562142.14607288339,null,{"$f":"SUM(I51:I54)","v":42481670.520543613},0,0,5826660.3153546331,64656396.127130896,978091.35000000009,4822017.2188234972,118764835.53185263,null,213.12017398382403,0,0,29.230932892634563,324.36536094119805,4.9068456143519352,24.190883645493432,{"$f":"IF('Comparison - Category'!B55=\"Residential\",SUM(R55:W55,Control!$B$75),IF('Comparison - Category'!B55=\"Rural\",SUM(R55:W55,Control!$B$76),P55/$E55*$G55))","v":595.81419707750194}]
[]
[]
[null,null,null,null,null,null,null,null,{"$f":"IF(ABS(I19-SUM(I10:I18))>tolerance_dollar,1,0)","v":0},0,0,0,0,0,0,0]
[null,null,null,null,null,null,null,null,{"$f":"I48-SUM(I22:I47)","v":0},{"$f":"J48-SUM(J22:J47)","v":0},0,0,{"$f":"M48-SUM(M22:M47)","v":0},{"$f":"N48-SUM(N22:N47)","v":0},0,0]
[null,null,null,null,{"$f":"E48-E19","v":0},{"$f":"F48-F19","v":0},null,null,{"$f":"IF(ABS(I48-I19)>tolerance_dollar,1,0)","v":0},0,0,0,0,0,0,0,null,{"$f":"IF(ABS(R48-R19)>tolerance_dollar,1,0)","v":0},0,0,0,0,0,0,0]
[]
[]
[{"$f":"year_current&\" rates\"","v":"2018/19 rates"}]
[null,null,null,null,null,null,null,null,"Rates",null,null,null,null,null,null,null,null,"Rates / average CV",null,null,null,null,null,null,null,null,"Cents/$ OR Regional Strategy Rate $/property"]
[{"$f":"Control!A29","v":"TA full name"},{"$f":"Control!B29","v":"Category group"},{"$f":"Control!C29","v":"Concatenated  row"},null,"CV","CV Assessments","Average CV",null,"General Rate","Flood protection – regional rate","Flood protection – catchment rate","River management rate","Public transport rate","Stadium purposes rate","Regional strategy rate","District-Wide Rates",null,"General Rate","Flood protection – regional rate","Flood protection – catchment rate","River management rate","Public transport rate","Stadium purposes rate","Regional strategy rate","District-Wide Rates",null,"General Rate","Flood protection – regional rate","Flood protection – catchment rate","River management rate","Public transport rate","Stadium purposes rate","Regional strategy rate","District-Wide Rates"]
[]
["By TA"]
[{"$f":"Control!A30","v":"Wellington City"},{"$f":"Control!B30","v":"District wide"},{"$f":"Control!C30","v":"Wellington CityDistrict wide"},null,{"$f":"INDEX(capital_values,MATCH($C68,capital_values_rows,0),MATCH(E$65&\" \"&year_current,capital_values_header,0))","v":51575881451},{"$f":"INDEX(assessments,MATCH($C68,assessments_rows,0),MATCH(F$65&\" \"&year_current,assessments_header,0))","v":77106},{"$f":"E68/F68","v":668895.8245921199},null,{"$f":"INDEX(Gen!$D$10:$D$18,MATCH($A68,Gen!$A$10:$A$18,0),)","v":17763603.956695955},{"$f":"INDEX('FP - regional'!$D$10:$D$18,MATCH($A68,'FP - regional'!$A$10:$A$18,0),)","v":4745293.0166026242},{"$f":"INDEX('FP - catchment'!$C$10:$C$18,MATCH($A68,'FP - catchment'!$A$10:$A$18,0),)","v":54042},0,{"$f":"INDEX(Tran!$H$10:$H$18,MATCH($A68,Tran!$A$10:$A$18,0),)","v":41775892.755646847},{"$f":"INDEX(Stad!$F$10:$F$18,MATCH($A68,Stad!$A$10:$A$18,0),)","v":0},{"$f":"INDEX(WRS!$J$10:$J$18,MATCH($A68,WRS!$A$10:$A$18,0),)","v":2346550.1049939538},{"$f":"SUM(I68:O68)","v":66685381.833939381},null,{"$f":"I68/$E68*$G68","v":230.37901015090856},{"$f":"J68/$E68*$G68","v":61.542461242998257},{"$f":"K68/$E68*$G68","v":0.7008793090031904},{"$f":"L68/$E68*$G68","v":0},{"$f":"M68/$E68*$G68","v":541.79820968078809},{"$f":"N68/$E68*$G68","v":0},{"$f":"O68/$E68*$G68","v":30.432782208828801},{"$f":"IF('Comparison - Category'!B68=\"Residential\",SUM(R68:W68,Control!$B$75),IF('Comparison - Category'!B68=\"Rural\",SUM(R68:W68,Control!$B$76),P68/$E68*$G68))","v":864.85334259252681}]
[{"$f":"Control!A31","v":"Hutt City"},{"$f":"Control!B31","v":"District wide"},{"$f":"Control!C31","v":"Hutt CityDistrict wide"},null,21308578500,39145,{"$f":"E69/F69","v":544349.94252139481},null,{"$f":"INDEX(Gen!$D$10:$D$18,MATCH($A69,Gen!$A$10:$A$18,0),)","v":6211296.8326458521},{"$f":"INDEX('FP - regional'!$D$10:$D$18,MATCH($A69,'FP - regional'!$A$10:$A$18,0),)","v":1659259.2109041046},{"$f":"INDEX('FP - catchment'!$C$10:$C$18,MATCH($A69,'FP - catchment'!$A$10:$A$18,0),)","v":5167492},0,{"$f":"INDEX(Tran!$H$10:$H$18,MATCH($A69,Tran!$A$10:$A$18,0),)","v":10825287.610472854},{"$f":"INDEX(Stad!$F$10:$F$18,MATCH($A69,Stad!$A$10:$A$18,0),)","v":0},{"$f":"INDEX(WRS!$J$10:$J$18,MATCH($A69,WRS!$A$10:$A$18,0),)","v":883539.13968264661},{"$f":"SUM(I69:O69)","v":24746874.79370546},null,{"$f":"I69/$E69*$G69","v":158.67407926033599},42.387513370905729,132.00899220845574,0,276.5433033713847,0,22.570932167138757,{"$f":"IF('Comparison - Category'!B69=\"Residential\",SUM(R69:W69,Control!$B$75),IF('Comparison - Category'!B69=\"Rural\",SUM(R69:W69,Control!$B$76),P69/$E69*$G69))","v":632.18482037822093}]
[{"$f":"Control!A32","v":"Upper Hutt City"},{"$f":"Control!B32","v":"District wide"},{"$f":"Control!C32","v":"Upper Hutt CityDistrict wide"},null,8127444260,16736,485626.44956978969,null,{"$f":"INDEX(Gen!$D$10:$D$18,MATCH($A70,Gen!$A$10:$A$18,0),)","v":2362248.6952953734},{"$f":"INDEX('FP - regional'!$D$10:$D$18,MATCH($A70,'FP - regional'!$A$10:$A$18,0),)","v":631040.99058898317},{"$f":"INDEX('FP - catchment'!$C$10:$C$18,MATCH($A70,'FP - catchment'!$A$10:$A$18,0),)","v":881402},0,{"$f":"INDEX(Tran!$H$10:$H$18,MATCH($A70,Tran!$A$10:$A$18,0),)","v":4174873.755439186},{"$f":"INDEX(Stad!$F$10:$F$18,MATCH($A70,Stad!$A$10:$A$18,0),)","v":0},{"$f":"INDEX(WRS!$J$10:$J$18,MATCH($A70,WRS!$A$10:$A$18,0),)","v":352214.27155678056},8401779.7128803227,null,141.14774708982873,37.705604122190678,52.665033460803059,0,249.45469380014256,0,21.045307812905151,{"$f":"IF('Comparison - Category'!B70=\"Residential\",SUM(R70:W70,Control!$B$75),IF('Comparison - Category'!B70=\"Rural\",SUM(R70:W70,Control!$B$76),P70/$E70*$G70))","v":502.01838628587018}]
[{"$f":"Control!A33","v":"Porirua City"},{"$f":"Control!B33","v":"District wide"},{"$f":"Control!C33","v":"Porirua CityDistrict wide"},null,10194406250,18629,547233.14455955767,null,{"$f":"INDEX(Gen!$D$10:$D$18,MATCH($A71,Gen!$A$10:$A$18,0),)","v":2943593.8641138384},{"$f":"INDEX('FP - regional'!$D$10:$D$18,MATCH($A71,'FP - regional'!$A$10:$A$18,0),)","v":786339.04702814773},{"$f":"INDEX('FP - catchment'!$C$10:$C$18,MATCH($A71,'FP - catchment'!$A$10:$A$18,0),)","v":45121},0,{"$f":"INDEX(Tran!$H$10:$H$18,MATCH($A71,Tran!$A$10:$A$18,0),)","v":5486054.9306466337},{"$f":"INDEX(Stad!$F$10:$F$18,MATCH($A71,Stad!$A$10:$A$18,0),)","v":0},{"$f":"INDEX(WRS!$J$10:$J$18,MATCH($A71,WRS!$A$10:$A$18,0),)","v":362954.5636568194},9624063.4054454397,null,158.01137281195116,42.210480811001538,2.4220838477642386,0,294.49003868412871,0,19.483309015879509,{"$f":"IF('Comparison - Category'!B71=\"Residential\",SUM(R71:W71,Control!$B$75),IF('Comparison - Category'!B71=\"Rural\",SUM(R71:W71,Control!$B$76),P71/$E71*$G71))","v":516.61728517072515}]
[{"$f":"Control!A34","v":"Kapiti Coast District"},{"$f":"Control!B34","v":"District wide"},{"$f":"Control!C34","v":"Kapiti Coast DistrictDistrict wide"},null,14609528600,24840,588145.27375201287,null,{"$f":"INDEX(Gen!$D$10:$D$18,MATCH($A72,Gen!$A$10:$A$18,0),)","v":3780325.4705526493},{"$f":"INDEX('FP - regional'!$D$10:$D$18,MATCH($A72,'FP - regional'!$A$10:$A$18,0),)","v":1009859.9416891716},{"$f":"INDEX('FP - catchment'!$C$10:$C$18,MATCH($A72,'FP - catchment'!$A$10:$A$18,0),)","v":1619846},0,{"$f":"INDEX(Tran!$H$10:$H$18,MATCH($A72,Tran!$A$10:$A$18,0),)","v":3744973.8949052971},{"$f":"INDEX(Stad!$F$10:$F$18,MATCH($A72,Stad!$A$10:$A$18,0),)","v":0},{"$f":"INDEX(WRS!$J$10:$J$18,MATCH($A72,WRS!$A$10:$A$18,0),)","v":489421.57025823562},10644426.877405355,null,152.18701572273147,40.654587024523821,65.211191626409018,0,150.76384440037427,0,19.702961765629453,{"$f":"IF('Comparison - Category'!B72=\"Residential\",SUM(R72:W72,Control!$B$75),IF('Comparison - Category'!B72=\"Rural\",SUM(R72:W72,Control!$B$76),P72/$E72*$G72))","v":428.51960053966803}]
[{"$f":"Control!A35","v":"Masterton District"},{"$f":"Control!B35","v":"District wide"},{"$f":"Control!C35","v":"Masterton DistrictDistrict wide"},null,5909468000,12282,481148.67285458394,null,{"$f":"INDEX(Gen!$D$10:$D$18,MATCH($A73,Gen!$A$10:$A$18,0),)","v":1517336.3687850407},{"$f":"INDEX('FP - regional'!$D$10:$D$18,MATCH($A73,'FP - regional'!$A$10:$A$18,0),)","v":405334.73343503213},{"$f":"INDEX('FP - catchment'!$C$10:$C$18,MATCH($A73,'FP - catchment'!$A$10:$A$18,0),)","v":271627},0,{"$f":"INDEX(Tran!$H$10:$H$18,MATCH($A73,Tran!$A$10:$A$18,0),)","v":511304.95768023026},{"$f":"INDEX(Stad!$F$10:$F$18,MATCH($A73,Stad!$A$10:$A$18,0),)","v":0},{"$f":"INDEX(WRS!$J$10:$J$18,MATCH($A73,WRS!$A$10:$A$18,0),)","v":242660.13467105993},2948263.1945713633,null,123.54147278823,33.002339475250949,22.115860609021333,0,41.630431336934564,0,19.757379471670731,{"$f":"IF('Comparison - Category'!B73=\"Residential\",SUM(R73:W73,Control!$B$75),IF('Comparison - Category'!B73=\"Rural\",SUM(R73:W73,Control!$B$76),P73/$E73*$G73))","v":240.04748368110756}]
[{"$f":"Control!A36","v":"Carterton District"},{"$f":"Control!B36","v":"District wide"},{"$f":"Control!C36","v":"Carterton DistrictDistrict wide"},null,2707141800,4643,583058.75511522719,null,{"$f":"INDEX(Gen!$D$10:$D$18,MATCH($A74,Gen!$A$10:$A$18,0),)","v":699379.00943950808},{"$f":"INDEX('FP - regional'!$D$10:$D$18,MATCH($A74,'FP - regional'!$A$10:$A$18,0),)","v":186829.11066595578},{"$f":"INDEX('FP - catchment'!$C$10:$C$18,MATCH($A74,'FP - catchment'!$A$10:$A$18,0),)","v":144634},0,{"$f":"INDEX(Tran!$H$10:$H$18,MATCH($A74,Tran!$A$10:$A$18,0),)","v":255218.84613205437},{"$f":"INDEX(Stad!$F$10:$F$18,MATCH($A74,Stad!$A$10:$A$18,0),)","v":0},{"$f":"INDEX(WRS!$J$10:$J$18,MATCH($A74,WRS!$A$10:$A$18,0),)","v":91329.728506803149},1377390.6947443213,null,150.63084416099676,40.238878024112815,31.150979969847079,0,54.96852167392943,0,19.670413204135933,{"$f":"IF('Comparison - Category'!B74=\"Residential\",SUM(R74:W74,Control!$B$75),IF('Comparison - Category'!B74=\"Rural\",SUM(R74:W74,Control!$B$76),P74/$E74*$G74))","v":296.65963703302202}]
[{"$f":"Control!A37","v":"South Wairarapa District"},{"$f":"Control!B37","v":"District wide"},{"$f":"Control!C37","v":"South Wairarapa DistrictDistrict wide"},null,4460485300,6611,674706.59506882471,null,{"$f":"INDEX(Gen!$D$10:$D$18,MATCH($A75,Gen!$A$10:$A$18,0),)","v":1162553.2537605274},{"$f":"INDEX('FP - regional'!$D$10:$D$18,MATCH($A75,'FP - regional'!$A$10:$A$18,0),)","v":310559.49287920241},{"$f":"INDEX('FP - catchment'!$C$10:$C$18,MATCH($A75,'FP - catchment'!$A$10:$A$18,0),)","v":201926},0,{"$f":"INDEX(Tran!$H$10:$H$18,MATCH($A75,Tran!$A$10:$A$18,0),)","v":499403.6510402594},{"$f":"INDEX(Stad!$F$10:$F$18,MATCH($A75,Stad!$A$10:$A$18,0),)","v":0},{"$f":"INDEX(WRS!$J$10:$J$18,MATCH($A75,WRS!$A$10:$A$18,0),)","v":138939.30754689401},2313381.7052268833,null,175.85134680994213,46.976174993072519,30.543941914990167,0,75.541317658487287,0,21.016382929495389,{"$f":"IF('Comparison - Category'!B75=\"Residential\",SUM(R75:W75,Control!$B$75),IF('Comparison - Category'!B75=\"Rural\",SUM(R75:W75,Control!$B$76),P75/$E75*$G75))","v":349.92916430598751}]
[{"$f":"Control!A38","v":"Tararua District"},{"$f":"Control!B38","v":"District wide"},{"$f":"Control!C38","v":"Tararua DistrictDistrict wide"},null,10760500,10,1076050,null,{"$f":"INDEX(Gen!$D$10:$D$18,MATCH($A76,Gen!$A$10:$A$18,0),)","v":1813.5209272577977},{"$f":"INDEX('FP - regional'!$D$10:$D$18,MATCH($A76,'FP - regional'!$A$10:$A$18,0),)","v":484.45620677865014},{"$f":"INDEX('FP - catchment'!$C$10:$C$18,MATCH($A76,'FP - catchment'!$A$10:$A$18,0),)","v":0},0,{"$f":"INDEX(Tran!$H$10:$H$18,MATCH($A76,Tran!$A$10:$A$18,0),)","v":0},{"$f":"INDEX(Stad!$F$10:$F$18,MATCH($A76,Stad!$A$10:$A$18,0),)","v":0},{"$f":"INDEX(WRS!$J$10:$J$18,MATCH($A76,WRS!$A$10:$A$18,0),)","v":252},2549.9771340364478,null,181.35209272577978,48.445620677865016,0,0,0,0,25.2,{"$f":"IF('Comparison - Category'!B76=\"Residential\",SUM(R76:W76,Control!$B$75),IF('Comparison - Category'!B76=\"Rural\",SUM(R76:W76,Control!$B$76),P76/$E76*$G76))","v":254.99771340364478}]
["Region wide",null,{"$f":"Control!C39","v":"Region wide"},null,{"$f":"SUM(E68:E76)","v":118903694661},{"$f":"SUM(F68:F76)","v":200002},{"$f":"E77/F77","v":594512.52817971818},null,{"$f":"INDEX(ess_base_estract,MATCH(I65,ESSbase!$B$8:$B$26,0),MATCH(year_current,ESSbase!$F$6:$G$6,0))","v":36442150.972216003},{"$f":"INDEX(ess_base_estract,MATCH(J65,ESSbase!$B$8:$B$26,0),MATCH(year_current,ESSbase!$F$6:$G$6,0))","v":9735000},{"$f":"INDEX(ess_base_estract,MATCH(K65,ESSbase!$B$8:$B$26,0),MATCH(year_current,ESSbase!$F$6:$G$6,0))","v":8386090.4651872702},null,{"$f":"INDEX(ess_base_estract,MATCH(M65,ESSbase!$B$8:$B$26,0),MATCH(year_current,ESSbase!$F$6:$G$6,0))","v":67273010.401963353},{"$f":"INDEX(ess_base_estract,MATCH(N65,ESSbase!$B$8:$B$26,0),MATCH(year_current,ESSbase!$F$6:$G$6,0))","v":0},{"$f":"INDEX(ess_base_estract,MATCH(O65,ESSbase!$B$8:$B$26,0),MATCH(year_current,ESSbase!$F$6:$G$6,0))","v":4907860.8208731934},{"$f":"INDEX(ess_base_estract,MATCH(P65,ESSbase!$B$8:$B$26,0),MATCH(year_current,ESSbase!$F$6:$G$6,0))","v":126744112.66023982},null,182.2089327717523,48.674513254867449,41.930033025606093,{"$f":"L77/$E77*$G77","v":0},336.36168839293282,0,24.539058713778825,{"$f":"IF('Comparison - Category'!B77=\"Residential\",SUM(R77:W77,Control!$B$75),IF('Comparison - Category'!B77=\"Rural\",SUM(R77:W77,Control!$B$76),P77/$E77*$G77))","v":633.71422615893744}]
[]
["By TA & Category"]
[{"$f":"Control!A43","v":"Wellington City"},{"$f":"Control!B43","v":"Regional CBD"},{"$f":"Control!C43","v":"Wellington CityRegional CBD"},null,{"$f":"INDEX(capital_values,MATCH($C80,capital_values_rows,0),MATCH(E$65&\" \"&year_current,capital_values_header,0))","v":7819039000},{"$f":"INDEX(assessments,MATCH($C80,assessments_rows,0),MATCH(F$65&\" \"&year_current,assessments_header,0))","v":3382},{"$f":"E80/F80","v":2311957.1259609698},null,{"$f":"($E80/INDEX($E$68:$E$76,MATCH($A80,$A$68:$A$76,0),))\n*\nINDEX(I$68:I$76,MATCH($A80,$A$68:$A$76,0),)","v":2693008.9842462013},{"$f":"($E80/INDEX($E$68:$E$76,MATCH($A80,$A$68:$A$76,0),))\n*\nINDEX(J$68:J$76,MATCH($A80,$A$68:$A$76,0),)","v":719398.87636228022},{"$f":"($E80/INDEX($E$68:$E$76,MATCH($A80,$A$68:$A$76,0),))\n*\nINDEX(K$68:K$76,MATCH($A80,$A$68:$A$76,0),)","v":8192.9090448886},{"$f":"($E80/INDEX($E$68:$E$76,MATCH($A80,$A$68:$A$76,0),))\n*\nINDEX(L$68:L$76,MATCH($A80,$A$68:$A$76,0),)","v":0},{"$f":"INDEX(Tran!$H$23:$H$48,MATCH($C80,Tran!$C$23:$C$48,0),)","v":25944905.117295574},{"$f":"INDEX(Stad!$F$23:$F$48,MATCH($C80,Stad!$C$23:$C$48,0),)","v":0},{"$f":"INDEX(WRS!$J$23:$J$48,MATCH($C80,WRS!$C$23:$C$48,0),)","v":890280.03489600425},{"$f":"SUM(I80:O80)","v":30255785.921844948},null,{"$f":"I80/$E80*$G80","v":796.27705033891232},{"$f":"J80/$E80*$G80","v":212.71403795454768},{"$f":"K80/$E80*$G80","v":2.4225041528351858},{"$f":"L80/$E80*$G80","v":0},{"$f":"M80/$E80*$G80","v":7671.4681009153092},{"$f":"N80/$E80*$G80","v":0},{"$f":"IF('Comparison - Category'!B80=\"Residential\",Control!$B$75,IF('Comparison - Category'!B80=\"Rural\",Control!$B$76,O80/$E80*$G80))","v":263.24069630278069},{"$f":"IF('Comparison - Category'!B80=\"Residential\",SUM(R80:W80,Control!$B$75),IF('Comparison - Category'!B80=\"Rural\",SUM(R80:W80,Control!$B$76),P80/$E80*$G80))","v":8946.1223896643842},null,{"$f":"I80/$E80*100","v":3.4441687581379263E-2},{"$f":"J80/$E80*100","v":9.2006047848371166E-3},{"$f":"K80/$E80*100","v":1.0478153446847623E-4},{"$f":"L80/$E80*100","v":0},{"$f":"M80/$E80*100","v":0.33181705727897731},{"$f":"N80/$E80*100","v":0},{"$f":"IF(OR('Comparison - Category'!B80=\"Residential\",'Comparison - Category'!B80=\"Rural\"),X80,O80/$E80*100)","v":1.1386054410215939E-2},{"$f":"P80/$E80*100","v":0.38695018558987809}]
[{"$f":"Control!A44","v":"Wellington City"},{"$f":"Control!B44","v":"Business"},{"$f":"Control!C44","v":"Wellington CityBusiness"},null,3862866400,1900,2033087.5789473683,null,{"$f":"($E81/INDEX($E$68:$E$76,MATCH($A81,$A$68:$A$76,0),))\n*\nINDEX(I$68:I$76,MATCH($A81,$A$68:$A$76,0),)","v":1330436.3771740722},355407.07083026523,4047.5706883871871,0,{"$f":"INDEX(Tran!$H$23:$H$48,MATCH($C81,Tran!$C$23:$C$48,0),)","v":1683481.6257097539},{"$f":"INDEX(Stad!$F$23:$F$48,MATCH($C81,Stad!$C$23:$C$48,0),)","v":0},{"$f":"INDEX(WRS!$J$23:$J$48,MATCH($C81,WRS!$C$23:$C$48,0),)","v":439828.07009794971},3813200.7145004286,null,700.22967219688007,187.05635306856064,2.1303003623090455,0,886.04296089987054,0,{"$f":"IF('Comparison - Category'!B81=\"Residential\",Control!$B$75,IF('Comparison - Category'!B81=\"Rural\",Control!$B$76,O81/$E81*$G81))","v":231.48845794628932},{"$f":"IF('Comparison - Category'!B81=\"Residential\",SUM(R81:W81,Control!$B$75),IF('Comparison - Category'!B81=\"Rural\",SUM(R81:W81,Control!$B$76),P81/$E81*$G81))","v":2006.9477444739096},null,3.4441687581379263E-2,9.2006047848371148E-3,1.0478153446847623E-4,0,4.3581150663397371E-2,0,{"$f":"IF(OR('Comparison - Category'!B81=\"Residential\",'Comparison - Category'!B81=\"Rural\"),X81,O81/$E81*100)","v":1.1386054410215941E-2},9.8714278974298159E-2]
[{"$f":"Control!A45","v":"Wellington City"},{"$f":"Control!B45","v":"Residential"},{"$f":"Control!C45","v":"Wellington CityResidential"},null,39302266501,71045,553202.42805264273,null,13536363.840675497,3616046.2122404403,41181.5179206377,0,{"$f":"INDEX(Tran!$H$23:$H$48,MATCH($C82,Tran!$C$23:$C$48,0),)","v":14093633.304069273},{"$f":"INDEX(Stad!$F$23:$F$48,MATCH($C82,Stad!$C$23:$C$48,0),)","v":0},{"$f":"INDEX(WRS!$J$23:$J$48,MATCH($C82,WRS!$C$23:$C$48,0),)","v":994630},32281854.874905851,null,190.53225196249559,50.897969065246542,0.57965399283042729,0,198.37614616185903,0,{"$f":"IF('Comparison - Category'!B82=\"Residential\",Control!$B$75,IF('Comparison - Category'!B82=\"Rural\",Control!$B$76,O82/$E82*$G82))","v":14},{"$f":"IF('Comparison - Category'!B82=\"Residential\",SUM(R82:W82,Control!$B$75),IF('Comparison - Category'!B82=\"Rural\",SUM(R82:W82,Control!$B$76),P82/$E82*$G82))","v":454.38602118243159},null,3.4441687581379256E-2,9.2006047848371131E-3,1.0478153446847623E-4,0,3.5859594264648013E-2,0,{"$f":"IF(OR('Comparison - Category'!B82=\"Residential\",'Comparison - Category'!B82=\"Rural\"),X82,O82/$E82*100)","v":14},8.2137387354198718E-2]
[{"$f":"Control!A46","v":"Wellington City"},{"$f":"Control!B46","v":"Rural"},{"$f":"Control!C46","v":"Wellington CityRural"},null,591709550,779,759575.80231065466,null,203794.75460018512,54440.85716963817,620.00234608651556,0,{"$f":"INDEX(Tran!$H$23:$H$48,MATCH($C83,Tran!$C$23:$C$48,0),)","v":53872.708572248805},{"$f":"INDEX(Stad!$F$23:$F$48,MATCH($C83,Stad!$C$23:$C$48,0),)","v":0},{"$f":"INDEX(WRS!$J$23:$J$48,MATCH($C83,WRS!$C$23:$C$48,0),)","v":21812},334540.3226881586,null,261.61072477559065,69.885567611859017,0.79589518111234347,0,69.156236934850838,0,{"$f":"IF('Comparison - Category'!B83=\"Residential\",Control!$B$75,IF('Comparison - Category'!B83=\"Rural\",Control!$B$76,O83/$E83*$G83))","v":28},{"$f":"IF('Comparison - Category'!B83=\"Residential\",SUM(R83:W83,Control!$B$75),IF('Comparison - Category'!B83=\"Rural\",SUM(R83:W83,Control!$B$76),P83/$E83*$G83))","v":429.44842450341287},null,3.4441687581379263E-2,9.2006047848371166E-3,1.0478153446847623E-4,0,9.1045866290731334E-3,0,{"$f":"IF(OR('Comparison - Category'!B83=\"Residential\",'Comparison - Category'!B83=\"Rural\"),X83,O83/$E83*100)","v":28},5.6537928564471977E-2]
[{"$f":"Control!A47","v":"Hutt City"},{"$f":"Control!B47","v":"Business"},{"$f":"Control!C47","v":"Hutt CityBusiness"},null,3771653500,2358,1599513.7828668363,null,1099409.772378183,293691.61392974685,914654.59735017049,0,{"$f":"INDEX(Tran!$H$23:$H$48,MATCH($C84,Tran!$C$23:$C$48,0),)","v":2139766.7270293208},{"$f":"INDEX(Stad!$F$23:$F$48,MATCH($C84,Stad!$C$23:$C$48,0),)","v":0},{"$f":"INDEX(WRS!$J$23:$J$48,MATCH($C84,WRS!$C$23:$C$48,0),)","v":363453.13968264661},4810975.8503700681,null,466.24672280669336,124.55115094560936,387.89423127657778,0,907.44984182753217,0,{"$f":"IF('Comparison - Category'!B84=\"Residential\",Control!$B$75,IF('Comparison - Category'!B84=\"Rural\",Control!$B$76,O84/$E84*$G84))","v":154.13619155328524},{"$f":"IF('Comparison - Category'!B84=\"Residential\",SUM(R84:W84,Control!$B$75),IF('Comparison - Category'!B84=\"Rural\",SUM(R84:W84,Control!$B$76),P84/$E84*$G84))","v":2040.2781384096982},null,2.9149278224475897E-2,7.7868132353554444E-3,2.4250758913833693E-2,0,5.6732855418169269E-2,0,{"$f":"IF(OR('Comparison - Category'!B84=\"Residential\",'Comparison - Category'!B84=\"Rural\"),X84,O84/$E84*100)","v":9.6364403485804453E-3},0.12755614614041477]
[{"$f":"Control!A48","v":"Hutt City"},{"$f":"Control!B48","v":"Residential"},{"$f":"Control!C48","v":"Hutt CityResidential"},null,17222975000,36300,474462.12121212122,null,5020372.9012819268,1341120.8968219594,4176702.1450398485,0,{"$f":"INDEX(Tran!$H$23:$H$48,MATCH($C85,Tran!$C$23:$C$48,0),)","v":8645557.2511172127},{"$f":"INDEX(Stad!$F$23:$F$48,MATCH($C85,Stad!$C$23:$C$48,0),)","v":0},{"$f":"INDEX(WRS!$J$23:$J$48,MATCH($C85,WRS!$C$23:$C$48,0),)","v":506450},19690203.194260947,null,138.30228378187124,36.945479251293648,115.0606651526129,0,238.16962124289842,0,{"$f":"IF('Comparison - Category'!B85=\"Residential\",Control!$B$75,IF('Comparison - Category'!B85=\"Rural\",Control!$B$76,O85/$E85*$G85))","v":14},{"$f":"IF('Comparison - Category'!B85=\"Residential\",SUM(R85:W85,Control!$B$75),IF('Comparison - Category'!B85=\"Rural\",SUM(R85:W85,Control!$B$76),P85/$E85*$G85))","v":542.47804942867617},null,2.914927822447589E-2,7.7868132353554444E-3,2.4250758913833693E-2,0,5.0197815714864667E-2,0,{"$f":"IF(OR('Comparison - Category'!B85=\"Residential\",'Comparison - Category'!B85=\"Rural\"),X85,O85/$E85*100)","v":14},0.11432521497744116]
[{"$f":"Control!A49","v":"Hutt City"},{"$f":"Control!B49","v":"Rural"},{"$f":"Control!C49","v":"Hutt CityRural"},null,313950000,487,644661.19096509239,null,91514.158985742062,24446.700152398418,76135.257609980879,0,{"$f":"INDEX(Tran!$H$23:$H$48,MATCH($C86,Tran!$C$23:$C$48,0),)","v":39963.632326320279},{"$f":"INDEX(Stad!$F$23:$F$48,MATCH($C86,Stad!$C$23:$C$48,0),)","v":0},{"$f":"INDEX(WRS!$J$23:$J$48,MATCH($C86,WRS!$C$23:$C$48,0),)","v":13636},245695.74907444164,null,187.9140841596346,50.198562941269856,156.33523123199359,0,82.06084666595541,0,{"$f":"IF('Comparison - Category'!B86=\"Residential\",Control!$B$75,IF('Comparison - Category'!B86=\"Rural\",Control!$B$76,O86/$E86*$G86))","v":28},{"$f":"IF('Comparison - Category'!B86=\"Residential\",SUM(R86:W86,Control!$B$75),IF('Comparison - Category'!B86=\"Rural\",SUM(R86:W86,Control!$B$76),P86/$E86*$G86))","v":504.50872499885344},null,2.914927822447589E-2,7.7868132353554444E-3,2.4250758913833693E-2,0,1.2729298399847199E-2,0,{"$f":"IF(OR('Comparison - Category'!B86=\"Residential\",'Comparison - Category'!B86=\"Rural\"),X86,O86/$E86*100)","v":28},7.8259515551661621E-2]
[{"$f":"Control!A50","v":"Upper Hutt City"},{"$f":"Control!B50","v":"Business"},{"$f":"Control!C50","v":"Upper Hutt CityBusiness"},null,1176281500,712,1652080.7584269664,null,341887.23413958977,91330.290214933455,127564.93105287688,0,{"$f":"INDEX(Tran!$H$23:$H$48,MATCH($C87,Tran!$C$23:$C$48,0),)","v":719510.12202187651},{"$f":"INDEX(Stad!$F$23:$F$48,MATCH($C87,Stad!$C$23:$C$48,0),)","v":0},{"$f":"INDEX(WRS!$J$23:$J$48,MATCH($C87,WRS!$C$23:$C$48,0),)","v":113024.27155678054},1393316.8489860571,null,480.17869963425528,128.27287951535598,179.16422900684955,0,1010.5479241880289,0,{"$f":"IF('Comparison - Category'!B87=\"Residential\",Control!$B$75,IF('Comparison - Category'!B87=\"Rural\",Control!$B$76,O87/$E87*$G87))","v":158.74195443368055},{"$f":"IF('Comparison - Category'!B87=\"Residential\",SUM(R87:W87,Control!$B$75),IF('Comparison - Category'!B87=\"Rural\",SUM(R87:W87,Control!$B$76),P87/$E87*$G87))","v":1956.9056867781701},null,2.9065086387874819E-2,7.7643225890174639E-3,1.0844762163893327E-2,0,6.1168191629459148E-2,0,{"$f":"IF(OR('Comparison - Category'!B87=\"Residential\",'Comparison - Category'!B87=\"Rural\"),X87,O87/$E87*100)","v":9.6086074257548497E-3},0.11845097019599961]
[{"$f":"Control!A51","v":"Upper Hutt City"},{"$f":"Control!B51","v":"Residential"},{"$f":"Control!C51","v":"Upper Hutt CityResidential"},null,6108760420,14778,413368.54919474898,null,1775516.4933013048,474303.86519901804,662480.53871105111,0,{"$f":"INDEX(Tran!$H$23:$H$48,MATCH($C88,Tran!$C$23:$C$48,0),)","v":3338561.3987474386},{"$f":"INDEX(Stad!$F$23:$F$48,MATCH($C88,Stad!$C$23:$C$48,0),)","v":0},{"$f":"INDEX(WRS!$J$23:$J$48,MATCH($C88,WRS!$C$23:$C$48,0),)","v":206374},6457236.2959588123,null,120.14592592375861,32.095267641021657,44.828836020506913,0,225.91429142965481,0,{"$f":"IF('Comparison - Category'!B88=\"Residential\",Control!$B$75,IF('Comparison - Category'!B88=\"Rural\",Control!$B$76,O88/$E88*$G88))","v":14},{"$f":"IF('Comparison - Category'!B88=\"Residential\",SUM(R88:W88,Control!$B$75),IF('Comparison - Category'!B88=\"Rural\",SUM(R88:W88,Control!$B$76),P88/$E88*$G88))","v":436.984321014942},null,2.9065086387874819E-2,7.7643225890174621E-3,1.0844762163893327E-2,0,5.4652027076017469E-2,0,{"$f":"IF(OR('Comparison - Category'!B88=\"Residential\",'Comparison - Category'!B88=\"Rural\"),X88,O88/$E88*100)","v":14},0.10570452681067516]
[{"$f":"Control!A52","v":"Upper Hutt City"},{"$f":"Control!B52","v":"Rural"},{"$f":"Control!C52","v":"Upper Hutt CityRural"},null,842402340,1246,676085.34510433383,null,244844.96785447898,65406.835175031694,91356.530236072023,0,{"$f":"INDEX(Tran!$H$23:$H$48,MATCH($C89,Tran!$C$23:$C$48,0),)","v":116802.23466987103},{"$f":"INDEX(Stad!$F$23:$F$48,MATCH($C89,Stad!$C$23:$C$48,0),)","v":0},{"$f":"INDEX(WRS!$J$23:$J$48,MATCH($C89,WRS!$C$23:$C$48,0),)","v":32816},551226.56793545373,null,196.50478961033625,52.493447170972466,73.319847701502425,0,93.741761372288153,0,{"$f":"IF('Comparison - Category'!B89=\"Residential\",Control!$B$75,IF('Comparison - Category'!B89=\"Rural\",Control!$B$76,O89/$E89*$G89))","v":28},{"$f":"IF('Comparison - Category'!B89=\"Residential\",SUM(R89:W89,Control!$B$75),IF('Comparison - Category'!B89=\"Rural\",SUM(R89:W89,Control!$B$76),P89/$E89*$G89))","v":444.0598458550993},null,2.9065086387874819E-2,7.7643225890174639E-3,1.0844762163893327E-2,0,1.3865373957754086E-2,0,{"$f":"IF(OR('Comparison - Category'!B89=\"Residential\",'Comparison - Category'!B89=\"Rural\"),X89,O89/$E89*100)","v":28},6.5435070839838086E-2]
[{"$f":"Control!A53","v":"Porirua City"},{"$f":"Control!B53","v":"Business"},{"$f":"Control!C53","v":"Porirua CityBusiness"},null,1097240500,795,1380176.7295597484,null,316823.78787457093,84634.948615147485,4856.4465047191934,0,{"$f":"INDEX(Tran!$H$23:$H$48,MATCH($C90,Tran!$C$23:$C$48,0),)","v":681259.63960662647},{"$f":"INDEX(Stad!$F$23:$F$48,MATCH($C90,Stad!$C$23:$C$48,0),)","v":0},{"$f":"INDEX(WRS!$J$23:$J$48,MATCH($C90,WRS!$C$23:$C$48,0),)","v":104738.56365681939},1192313.3862578834,null,398.52048789254206,106.45905486182075,6.1087377417851485,0,856.93036428506468,0,{"$f":"IF('Comparison - Category'!B90=\"Residential\",Control!$B$75,IF('Comparison - Category'!B90=\"Rural\",Control!$B$76,O90/$E90*$G90))","v":131.74662095197405},{"$f":"IF('Comparison - Category'!B90=\"Residential\",SUM(R90:W90,Control!$B$75),IF('Comparison - Category'!B90=\"Rural\",SUM(R90:W90,Control!$B$76),P90/$E90*$G90))","v":1499.7652657331867},null,2.8874598401587522E-2,7.7134364448949427E-3,4.4260547297690823E-4,0,6.2088451857785637E-2,0,{"$f":"IF(OR('Comparison - Category'!B90=\"Residential\",'Comparison - Category'!B90=\"Rural\"),X90,O90/$E90*100)","v":9.5456341300580311E-3},0.10866472630730305]
[{"$f":"Control!A54","v":"Porirua City"},{"$f":"Control!B54","v":"Residential"},{"$f":"Control!C54","v":"Porirua CityResidential"},null,8483788000,17224,492556.20065025543,null,2449659.7142420737,654391.59549962368,37549.710003758184,0,{"$f":"INDEX(Tran!$H$23:$H$48,MATCH($C91,Tran!$C$23:$C$48,0),)","v":4718258.1208131965},{"$f":"INDEX(Stad!$F$23:$F$48,MATCH($C91,Stad!$C$23:$C$48,0),)","v":0},{"$f":"INDEX(WRS!$J$23:$J$48,MATCH($C91,WRS!$C$23:$C$48,0),)","v":241136},8100995.1405586526,null,{"$f":"I91/$E91*$G91","v":142.22362483987885},37.993009492546662,2.1800807015651524,0,273.93509758553159,0,{"$f":"IF('Comparison - Category'!B91=\"Residential\",Control!$B$75,IF('Comparison - Category'!B91=\"Rural\",Control!$B$76,O91/$E91*$G91))","v":14},{"$f":"IF('Comparison - Category'!B91=\"Residential\",SUM(R91:W91,Control!$B$75),IF('Comparison - Category'!B91=\"Rural\",SUM(R91:W91,Control!$B$76),P91/$E91*$G91))","v":470.33181261952222},null,2.8874598401587515E-2,7.7134364448949427E-3,4.4260547297690823E-4,0,5.5614993217807857E-2,0,{"$f":"IF(OR('Comparison - Category'!B91=\"Residential\",'Comparison - Category'!B91=\"Rural\"),X91,O91/$E91*100)","v":14},9.5487948786068824E-2]
[{"$f":"Control!A55","v":"Porirua City"},{"$f":"Control!B55","v":"Rural"},{"$f":"Control!C55","v":"Porirua CityRural"},null,613377750,610,1005537.2950819673,null,177110.36199719351,47312.502913376586,2714.843491522618,0,{"$f":"INDEX(Tran!$H$23:$H$48,MATCH($C92,Tran!$C$23:$C$48,0),)","v":86537.170226810616},{"$f":"INDEX(Stad!$F$23:$F$48,MATCH($C92,Stad!$C$23:$C$48,0),)","v":0},{"$f":"INDEX(WRS!$J$23:$J$48,MATCH($C92,WRS!$C$23:$C$48,0),)","v":17080},330754.8786289033,null,{"$f":"I92/$E92*$G92","v":290.34485573310411},77.56148018586326,4.4505631008567503,0,141.86421348657481,0,{"$f":"IF('Comparison - Category'!B92=\"Residential\",Control!$B$75,IF('Comparison - Category'!B92=\"Rural\",Control!$B$76,O92/$E92*$G92))","v":28},{"$f":"IF('Comparison - Category'!B92=\"Residential\",SUM(R92:W92,Control!$B$75),IF('Comparison - Category'!B92=\"Rural\",SUM(R92:W92,Control!$B$76),P92/$E92*$G92))","v":542.22111250639898},null,2.8874598401587522E-2,7.7134364448949427E-3,4.4260547297690823E-4,0,1.410829953104928E-2,0,{"$f":"IF(OR('Comparison - Category'!B92=\"Residential\",'Comparison - Category'!B92=\"Rural\"),X92,O92/$E92*100)","v":28},5.3923520804089048E-2]
[{"$f":"Control!A56","v":"Kapiti Coast District"},{"$f":"Control!B56","v":"Business"},{"$f":"Control!C56","v":"Kapiti Coast DistrictBusiness"},null,1513816000,1395,1085172.7598566308,null,391711.28235651145,104640.07288285365,167845.85317393471,0,{"$f":"INDEX(Tran!$H$23:$H$48,MATCH($C93,Tran!$C$23:$C$48,0),)","v":510744.74300001073},{"$f":"INDEX(Stad!$F$23:$F$48,MATCH($C93,Stad!$C$23:$C$48,0),)","v":0},{"$f":"INDEX(WRS!$J$23:$J$48,MATCH($C93,WRS!$C$23:$C$48,0),)","v":129495.5702582356},1304437.5216715462,null,280.79661817671075,75.010804933945266,120.31960800998904,0,366.12526379929085,0,{"$f":"IF('Comparison - Category'!B93=\"Residential\",Control!$B$75,IF('Comparison - Category'!B93=\"Rural\",Control!$B$76,O93/$E93*$G93))","v":92.828365776512982},{"$f":"IF('Comparison - Category'!B93=\"Residential\",SUM(R93:W93,Control!$B$75),IF('Comparison - Category'!B93=\"Rural\",SUM(R93:W93,Control!$B$76),P93/$E93*$G93))","v":935.08066069644894},null,2.5875752558865244E-2,6.9123376211411196E-3,1.1087599363062268E-2,0,3.3738891846830175E-2,0,{"$f":"IF(OR('Comparison - Category'!B93=\"Residential\",'Comparison - Category'!B93=\"Rural\"),X93,O93/$E93*100)","v":8.5542476931301827E-3},8.6168829083029003E-2]
[{"$f":"Control!A57","v":"Kapiti Coast District"},{"$f":"Control!B57","v":"Residential"},{"$f":"Control!C57","v":"Kapiti Coast DistrictResidential"},null,11056324900,20672,534845.43827399379,null,2860907.2732282048,764250.50557829335,1225881.0091904949,0,{"$f":"INDEX(Tran!$H$23:$H$48,MATCH($C94,Tran!$C$23:$C$48,0),)","v":3088888.5136318337},{"$f":"INDEX(Stad!$F$23:$F$48,MATCH($C94,Stad!$C$23:$C$48,0),)","v":0},{"$f":"INDEX(WRS!$J$23:$J$48,MATCH($C94,WRS!$C$23:$C$48,0),)","v":286622},8226549.3016288271,null,138.39528218015698,36.970322444770382,59.301519407434924,0,149.42378645664829,0,{"$f":"IF('Comparison - Category'!B94=\"Residential\",Control!$B$75,IF('Comparison - Category'!B94=\"Rural\",Control!$B$76,O94/$E94*$G94))","v":14},{"$f":"IF('Comparison - Category'!B94=\"Residential\",SUM(R94:W94,Control!$B$75),IF('Comparison - Category'!B94=\"Rural\",SUM(R94:W94,Control!$B$76),P94/$E94*$G94))","v":398.09091048901053},null,2.5875752558865244E-2,6.9123376211411205E-3,1.1087599363062268E-2,0,2.7937750939571553E-2,0,{"$f":"IF(OR('Comparison - Category'!B94=\"Residential\",'Comparison - Category'!B94=\"Rural\"),X94,O94/$E94*100)","v":14},7.4405820885643723E-2]
[{"$f":"Control!A58","v":"Kapiti Coast District"},{"$f":"Control!B58","v":"Rural"},{"$f":"Control!C58","v":"Kapiti Coast DistrictRural"},null,2039387700,2773,735444.53660295706,null,527706.91496793309,140969.36322802462,226119.13763557028,0,{"$f":"INDEX(Tran!$H$23:$H$48,MATCH($C95,Tran!$C$23:$C$48,0),)","v":145340.63827345235},{"$f":"INDEX(Stad!$F$23:$F$48,MATCH($C95,Stad!$C$23:$C$48,0),)","v":0},{"$f":"INDEX(WRS!$J$23:$J$48,MATCH($C95,WRS!$C$23:$C$48,0),)","v":73304},1113440.0541049803,null,190.3018084990743,50.836409386233179,81.543143756065732,0,52.412779759629402,0,{"$f":"IF('Comparison - Category'!B95=\"Residential\",Control!$B$75,IF('Comparison - Category'!B95=\"Rural\",Control!$B$76,O95/$E95*$G95))","v":28},{"$f":"IF('Comparison - Category'!B95=\"Residential\",SUM(R95:W95,Control!$B$75),IF('Comparison - Category'!B95=\"Rural\",SUM(R95:W95,Control!$B$76),P95/$E95*$G95))","v":403.09414140100262},null,2.5875752558865244E-2,6.9123376211411205E-3,1.108759936306227E-2,0,7.1266801439202731E-3,0,{"$f":"IF(OR('Comparison - Category'!B95=\"Residential\",'Comparison - Category'!B95=\"Rural\"),X95,O95/$E95*100)","v":28},5.4596781872567945E-2]
[{"$f":"Control!A59","v":"Masterton District"},{"$f":"Control!B59","v":"Business"},{"$f":"Control!C59","v":"Masterton DistrictBusiness"},null,435894100,550,792534.72727272729,null,111921.74504859377,29898.295215305883,20035.747160438132,0,{"$f":"INDEX(Tran!$H$23:$H$48,MATCH($C96,Tran!$C$23:$C$48,0),)","v":75174.303693441281},{"$f":"INDEX(Stad!$F$23:$F$48,MATCH($C96,Stad!$C$23:$C$48,0),)","v":0},{"$f":"INDEX(WRS!$J$23:$J$48,MATCH($C96,WRS!$C$23:$C$48,0),)","v":37000.134671059939},274030.22578883904,null,203.49408190653412,54.360536755101606,36.428631200796602,0,136.68055216989325,0,{"$f":"IF('Comparison - Category'!B96=\"Residential\",Control!$B$75,IF('Comparison - Category'!B96=\"Rural\",Control!$B$76,O96/$E96*$G96))","v":67.2729721291999},{"$f":"IF('Comparison - Category'!B96=\"Residential\",SUM(R96:W96,Control!$B$75),IF('Comparison - Category'!B96=\"Rural\",SUM(R96:W96,Control!$B$76),P96/$E96*$G96))","v":498.23677416152555},null,2.567636154024424E-2,6.8590731591241733E-3,4.596471289801383E-3,0,1.7246001653484475E-2,0,{"$f":"IF(OR('Comparison - Category'!B96=\"Residential\",'Comparison - Category'!B96=\"Rural\"),X96,O96/$E96*100)","v":8.4883311499421403E-3},6.2866238792596424E-2]
[{"$f":"Control!A60","v":"Masterton District"},{"$f":"Control!B60","v":"Residential"},{"$f":"Control!C60","v":"Masterton DistrictResidential"},null,2705770800,7878,343459.10129474488,null,694743.4930583589,185590.79869021941,124369.97798982919,0,{"$f":"INDEX(Tran!$H$23:$H$48,MATCH($C97,Tran!$C$23:$C$48,0),)","v":310881.2312248103},{"$f":"INDEX(Stad!$F$23:$F$48,MATCH($C97,Stad!$C$23:$C$48,0),)","v":0},{"$f":"INDEX(WRS!$J$23:$J$48,MATCH($C97,WRS!$C$23:$C$48,0),)","v":110096},1425681.5009632178,null,88.187800591312381,23.558111029476951,15.786998983222796,0,39.461948619549418,0,{"$f":"IF('Comparison - Category'!B97=\"Residential\",Control!$B$75,IF('Comparison - Category'!B97=\"Rural\",Control!$B$76,O97/$E97*$G97))","v":14},{"$f":"IF('Comparison - Category'!B97=\"Residential\",SUM(R97:W97,Control!$B$75),IF('Comparison - Category'!B97=\"Rural\",SUM(R97:W97,Control!$B$76),P97/$E97*$G97))","v":180.99485922356155},null,2.567636154024424E-2,6.8590731591241733E-3,4.5964712898013821E-3,0,1.1489562649756228E-2,0,{"$f":"IF(OR('Comparison - Category'!B97=\"Residential\",'Comparison - Category'!B97=\"Rural\"),X97,O97/$E97*100)","v":14},5.2690401602501512E-2]
[{"$f":"Control!A61","v":"Masterton District"},{"$f":"Control!B61","v":"Rural"},{"$f":"Control!C61","v":"Masterton DistrictRural"},null,2767803100,3854,718163.75194603007,null,710671.13067808794,189845.63952950682,127221.27484973267,0,{"$f":"INDEX(Tran!$H$23:$H$48,MATCH($C98,Tran!$C$23:$C$48,0),)","v":125249.42276197867},{"$f":"INDEX(Stad!$F$23:$F$48,MATCH($C98,Stad!$C$23:$C$48,0),)","v":0},{"$f":"INDEX(WRS!$J$23:$J$48,MATCH($C98,WRS!$C$23:$C$48,0),)","v":95564},1248551.4678193061,null,184.39832140064556,49.259377148289261,33.010190671959691,0,32.498552870259125,0,{"$f":"IF('Comparison - Category'!B98=\"Residential\",Control!$B$75,IF('Comparison - Category'!B98=\"Rural\",Control!$B$76,O98/$E98*$G98))","v":28},{"$f":"IF('Comparison - Category'!B98=\"Residential\",SUM(R98:W98,Control!$B$75),IF('Comparison - Category'!B98=\"Rural\",SUM(R98:W98,Control!$B$76),P98/$E98*$G98))","v":327.16644209115361},null,2.5676361540244247E-2,6.8590731591241733E-3,4.596471289801383E-3,0,4.5252287910935093E-3,0,{"$f":"IF(OR('Comparison - Category'!B98=\"Residential\",'Comparison - Category'!B98=\"Rural\"),X98,O98/$E98*100)","v":28},4.5109837033541371E-2]
[{"$f":"Control!A62","v":"Carterton District"},{"$f":"Control!B62","v":"Business"},{"$f":"Control!C62","v":"Carterton DistrictBusiness"},null,92706500,225,412028.88888888888,null,23950.345023893376,6397.9925055840922,4953.0142532615027,0,{"$f":"INDEX(Tran!$H$23:$H$48,MATCH($C99,Tran!$C$23:$C$48,0),)","v":20333.191088603326},{"$f":"INDEX(Stad!$F$23:$F$48,MATCH($C99,Stad!$C$23:$C$48,0),)","v":0},{"$f":"INDEX(WRS!$J$23:$J$48,MATCH($C99,WRS!$C$23:$C$48,0),)","v":7917.7285068031488},63552.271378145451,null,106.44597788397056,28.43552224704041,22.013396681162234,0,90.369738171570333,0,{"$f":"IF('Comparison - Category'!B99=\"Residential\",Control!$B$75,IF('Comparison - Category'!B99=\"Rural\",Control!$B$76,O99/$E99*$G99))","v":35.18990447468066},{"$f":"IF('Comparison - Category'!B99=\"Residential\",SUM(R99:W99,Control!$B$75),IF('Comparison - Category'!B99=\"Rural\",SUM(R99:W99,Control!$B$76),P99/$E99*$G99))","v":282.45453945842422},null,2.5834590912064824E-2,6.90134187525588E-3,5.3426828251109714E-3,0,2.1932864565702866E-2,0,{"$f":"IF(OR('Comparison - Category'!B99=\"Residential\",'Comparison - Category'!B99=\"Rural\"),X99,O99/$E99*100)","v":8.5406400919063371E-3},6.8552120270040873E-2]
[{"$f":"Control!A63","v":"Carterton District"},{"$f":"Control!B63","v":"Residential"},{"$f":"Control!C63","v":"Carterton DistrictResidential"},null,827583500,2356,351266.34125636675,null,213802.81168074801,57114.366638208252,44215.161517952256,0,{"$f":"INDEX(Tran!$H$23:$H$48,MATCH($C100,Tran!$C$23:$C$48,0),)","v":133579.85364964273},{"$f":"INDEX(Stad!$F$23:$F$48,MATCH($C100,Stad!$C$23:$C$48,0),)","v":0},{"$f":"INDEX(WRS!$J$23:$J$48,MATCH($C100,WRS!$C$23:$C$48,0),)","v":31836},480548.19348655129,null,90.74822227535995,24.24209110280486,18.767046484699598,0,56.697730751121711,0,{"$f":"IF('Comparison - Category'!B100=\"Residential\",Control!$B$75,IF('Comparison - Category'!B100=\"Rural\",Control!$B$76,O100/$E100*$G100))","v":14},{"$f":"IF('Comparison - Category'!B100=\"Residential\",SUM(R100:W100,Control!$B$75),IF('Comparison - Category'!B100=\"Rural\",SUM(R100:W100,Control!$B$76),P100/$E100*$G100))","v":204.4550906139861},null,2.5834590912064827E-2,6.90134187525588E-3,5.3426828251109714E-3,0,1.6140951777028269E-2,0,{"$f":"IF(OR('Comparison - Category'!B100=\"Residential\",'Comparison - Category'!B100=\"Rural\"),X100,O100/$E100*100)","v":14},5.8066429971906308E-2]
[{"$f":"Control!A64","v":"Carterton District"},{"$f":"Control!B64","v":"Rural"},{"$f":"Control!C64","v":"Carterton DistrictRural"},null,1786851800,2062,866562.46362754609,null,461625.85273486673,123316.75152216345,95465.824228786238,0,{"$f":"INDEX(Tran!$H$23:$H$48,MATCH($C101,Tran!$C$23:$C$48,0),)","v":101305.80139380833},{"$f":"INDEX(Stad!$F$23:$F$48,MATCH($C101,Stad!$C$23:$C$48,0),)","v":0},{"$f":"INDEX(WRS!$J$23:$J$48,MATCH($C101,WRS!$C$23:$C$48,0),)","v":51576},833290.22987962479,null,223.87286747568706,59.804438177576849,46.297683913087411,0,49.129874584776111,0,{"$f":"IF('Comparison - Category'!B101=\"Residential\",Control!$B$75,IF('Comparison - Category'!B101=\"Rural\",Control!$B$76,O101/$E101*$G101))","v":28},{"$f":"IF('Comparison - Category'!B101=\"Residential\",SUM(R101:W101,Control!$B$75),IF('Comparison - Category'!B101=\"Rural\",SUM(R101:W101,Control!$B$76),P101/$E101*$G101))","v":407.1048641511274},null,2.5834590912064824E-2,6.90134187525588E-3,5.3426828251109714E-3,0,5.6695133526914951E-3,0,{"$f":"IF(OR('Comparison - Category'!B101=\"Residential\",'Comparison - Category'!B101=\"Rural\"),X101,O101/$E101*100)","v":28},4.6634546294193217E-2]
[{"$f":"Control!A65","v":"South Wairarapa District"},{"$f":"Control!B65","v":"Business"},{"$f":"Control!C65","v":"South Wairarapa DistrictBusiness"},null,205904600,308,668521.42857142852,null,53665.699266907097,14336.024862024546,9321.2934161222311,0,{"$f":"INDEX(Tran!$H$23:$H$48,MATCH($C102,Tran!$C$23:$C$48,0),)","v":52469.049333806957},{"$f":"INDEX(Stad!$F$23:$F$48,MATCH($C102,Stad!$C$23:$C$48,0),)","v":0},{"$f":"INDEX(WRS!$J$23:$J$48,MATCH($C102,WRS!$C$23:$C$48,0),)","v":17741.307546894022},147533.37442575488,null,174.23928333411396,46.545535266313458,30.263939662734511,0,170.35405627859402,0,{"$f":"IF('Comparison - Category'!B102=\"Residential\",Control!$B$75,IF('Comparison - Category'!B102=\"Rural\",Control!$B$76,O102/$E102*$G102))","v":57.601647879526041},{"$f":"IF('Comparison - Category'!B102=\"Residential\",SUM(R102:W102,Control!$B$75),IF('Comparison - Category'!B102=\"Rural\",SUM(R102:W102,Control!$B$76),P102/$E102*$G102))","v":479.00446242128208},null,2.6063380452358568E-2,6.9624597323345591E-3,4.526996199270065E-3,0,2.5482213284116508E-2,0,{"$f":"IF(OR('Comparison - Category'!B102=\"Residential\",'Comparison - Category'!B102=\"Rural\"),X102,O102/$E102*100)","v":8.6162754726674499E-3},7.1651325140747166E-2]
[{"$f":"Control!A66","v":"South Wairarapa District"},{"$f":"Control!B66","v":"Residential"},{"$f":"Control!C66","v":"South Wairarapa DistrictResidential"},null,1295001100,3196,405194.33667083853,null,337521.06355522841,90163.930120789606,58624.650577505541,0,{"$f":"INDEX(Tran!$H$23:$H$48,MATCH($C103,Tran!$C$23:$C$48,0),)","v":254325.36540454463},{"$f":"INDEX(Stad!$F$23:$F$48,MATCH($C103,Stad!$C$23:$C$48,0),)","v":0},{"$f":"INDEX(WRS!$J$23:$J$48,MATCH($C103,WRS!$C$23:$C$48,0),)","v":43722},784357.00965806819,null,105.60734153793129,28.211492528407259,18.343132220746416,0,79.576146872510833,0,{"$f":"IF('Comparison - Category'!B103=\"Residential\",Control!$B$75,IF('Comparison - Category'!B103=\"Rural\",Control!$B$76,O103/$E103*$G103))","v":14},{"$f":"IF('Comparison - Category'!B103=\"Residential\",SUM(R103:W103,Control!$B$75),IF('Comparison - Category'!B103=\"Rural\",SUM(R103:W103,Control!$B$76),P103/$E103*$G103))","v":245.7381131595958},null,2.6063380452358568E-2,6.9624597323345591E-3,4.5269961992700659E-3,0,1.9639007673780712E-2,0,{"$f":"IF(OR('Comparison - Category'!B103=\"Residential\",'Comparison - Category'!B103=\"Rural\"),X103,O103/$E103*100)","v":14},6.0568057406134114E-2]
[{"$f":"Control!A67","v":"South Wairarapa District"},{"$f":"Control!B67","v":"Rural"},{"$f":"Control!C67","v":"South Wairarapa DistrictRural"},null,2959579600,3107,952552.17251367879,null,771366.49093839189,206059.53789638827,133980.05600637221,0,{"$f":"INDEX(Tran!$H$23:$H$48,MATCH($C104,Tran!$C$23:$C$48,0),)","v":192609.23630190783},{"$f":"INDEX(Stad!$F$23:$F$48,MATCH($C104,Stad!$C$23:$C$48,0),)","v":0},{"$f":"INDEX(WRS!$J$23:$J$48,MATCH($C104,WRS!$C$23:$C$48,0),)","v":77476},1381491.3211430602,null,248.26729672944703,66.321061440742923,43.122000645758682,0,61.992029707727013,0,{"$f":"IF('Comparison - Category'!B104=\"Residential\",Control!$B$75,IF('Comparison - Category'!B104=\"Rural\",Control!$B$76,O104/$E104*$G104))","v":28},{"$f":"IF('Comparison - Category'!B104=\"Residential\",SUM(R104:W104,Control!$B$75),IF('Comparison - Category'!B104=\"Rural\",SUM(R104:W104,Control!$B$76),P104/$E104*$G104))","v":447.70238852367567},null,2.6063380452358568E-2,6.9624597323345609E-3,4.5269961992700659E-3,0,6.507993104895974E-3,0,{"$f":"IF(OR('Comparison - Category'!B104=\"Residential\",'Comparison - Category'!B104=\"Rural\"),X104,O104/$E104*100)","v":28},4.6678633720243924E-2]
[{"$f":"Control!A68","v":"Tararua District"},{"$f":"Control!B68","v":"Rural"},{"$f":"Control!C68","v":"Tararua DistrictRural"},null,10760500,10,1076050,null,1813.5209272577977,484.45620677865014,0,0,{"$f":"INDEX(Tran!$H$23:$H$48,MATCH($C105,Tran!$C$23:$C$48,0),)","v":0},{"$f":"INDEX(Stad!$F$23:$F$48,MATCH($C105,Stad!$C$23:$C$48,0),)","v":0},{"$f":"INDEX(WRS!$J$23:$J$48,MATCH($C105,WRS!$C$23:$C$48,0),)","v":252},2549.9771340364478,null,181.35209272577978,48.445620677865016,0,0,0,0,{"$f":"IF('Comparison - Category'!B105=\"Residential\",Control!$B$75,IF('Comparison - Category'!B105=\"Rural\",Control!$B$76,O105/$E105*$G105))","v":28},{"$f":"IF('Comparison - Category'!B105=\"Residential\",SUM(R105:W105,Control!$B$75),IF('Comparison - Category'!B105=\"Rural\",SUM(R105:W105,Control!$B$76),P105/$E105*$G105))","v":257.79771340364482},null,1.6853500555344063E-2,4.5021718951596124E-3,0,0,0,0,{"$f":"IF(OR('Comparison - Category'!B105=\"Residential\",'Comparison - Category'!B105=\"Rural\"),X105,O105/$E105*100)","v":28},2.369757106116303E-2]
["Region wide",null,{"$f":"Control!C69","v":"Region wide"},null,{"$f":"SUM(E80:E105)","v":118903694661},{"$f":"SUM(F80:F105)","v":200002},594512.52817971818,null,{"$f":"SUM(I80:I105)","v":36442150.97221601},9735000.0000000019,8386089.9999999991,0,67273010.401963368,0,4907860.8208731944,126744112.19505258,null,182.20893277175233,48.674513254867456,41.930030699692992,0,336.36168839293293,0,{"$f":"O106/$E106*$G106","v":24.539058713778836},{"$f":"IF('Comparison - Category'!B106=\"Residential\",SUM(R106:W106,Control!$B$75),IF('Comparison - Category'!B106=\"Rural\",SUM(R106:W106,Control!$B$76),P106/$E106*$G106))","v":633.71422383302456},null,3.0648459727104602E-2,8.1872981556670235E-3,7.052842238341823E-3,0,5.6577729223437401E-2,0,{"$f":"IF(OR(B106=\"Residential\",B106=\"Rural\"),X106,O106/$E106*100)","v":4.1275932046230656E-3},0.10659392254917391]
[]
["By category"]
["Region Wide",{"$f":"B80","v":"Regional CBD"},{"$f":"A109&B109","v":"Region WideRegional CBD"},null,{"$f":"SUMIF($B$80:$B$105,$B109,E$80:E$105)","v":7819039000},{"$f":"SUMIF($B$80:$B$105,$B109,F$80:F$105)","v":3382},{"$f":"E109/F109","v":2311957.1259609698},null,{"$f":"SUMIF($B$80:$B$105,$B109,I$80:I$105)","v":2693008.9842462013},719398.87636228022,8192.9090448886,0,25944905.117295574,0,890280.03489600425,30255785.921844948,null,{"$f":"I109/$E109*$G109","v":796.27705033891232},{"$f":"J109/$E109*$G109","v":212.71403795454768},{"$f":"K109/$E109*$G109","v":2.4225041528351858},{"$f":"L109/$E109*$G109","v":0},{"$f":"M109/$E109*$G109","v":7671.4681009153092},{"$f":"N109/$E109*$G109","v":0},{"$f":"O109/$E109*$G109","v":263.24069630278069},{"$f":"IF('Comparison - Category'!B109=\"Residential\",SUM(R109:W109,Control!$B$75),IF('Comparison - Category'!B109=\"Rural\",SUM(R109:W109,Control!$B$76),P109/$E109*$G109))","v":8946.1223896643842}]
["Region Wide",{"$f":"B81","v":"Business"},"Region WideBusiness",null,{"$f":"SUMIF($B$80:$B$105,$B110,E$80:E$105)","v":12156363100},8243,1474749.8604876865,null,3669806.2432623212,980336.30905586132,1253279.4535999103,0,5882739.4014834408,0,1213198.785977189,12999360.193378724,null,445.20274696861833,118.92955344605862,152.04166609243117,0,713.66485520847266,0,147.17927768739403,{"$f":"IF('Comparison - Category'!B110=\"Residential\",SUM(R110:W110,Control!$B$75),IF('Comparison - Category'!B110=\"Rural\",SUM(R110:W110,Control!$B$76),P110/$E110*$G110))","v":1577.0180994029752}]
["Region Wide",{"$f":"B82","v":"Residential"},"Region WideResidential",null,87002470221,173449,501602.60492133134,null,26888887.591023348,7182982.1707885517,6371004.7109510778,0,34583685.038657963,0,2420866,77447425.51142092,null,155.02474843339166,41.412646776796358,36.731285340077356,0,199.38820655442211,0,13.95722085454514,{"$f":"IF('Comparison - Category'!B111=\"Residential\",SUM(R111:W111,Control!$B$75),IF('Comparison - Category'!B111=\"Rural\",SUM(R111:W111,Control!$B$76),P111/$E111*$G111))","v":446.55688710468746}]
["Region Wide",{"$f":"B83","v":"Rural"},"Region WideRural",null,11925822340,14928,798889.49222936761,null,3190448.1536841374,852282.64379330666,753612.92640412343,0,861680.84452639788,0,383516,6041540.5684079658,null,{"$f":"I112/$E112*$G112","v":213.72241115247436},57.092888785725265,50.483181029215125,0,{"$f":"M112/$E112*$G112","v":57.722457430760848},0,25.691050375133972,{"$f":"IF('Comparison - Category'!B112=\"Residential\",SUM(R112:W112,Control!$B$75),IF('Comparison - Category'!B112=\"Rural\",SUM(R112:W112,Control!$B$76),P112/$E112*$G112))","v":407.02093839817564}]
["Region Wide","Total","Region WideTotal",null,{"$f":"SUM(E109:E112)","v":118903694661},{"$f":"SUM(F109:F112)","v":200002},594512.52817971818,null,{"$f":"SUM(I109:I112)","v":36442150.97221601},9735000,8386090,0,67273010.401963383,0,4907860.8208731934,126744112.19505256,null,182.20893277175233,48.674513254867449,41.930030699693006,0,336.36168839293299,0,24.539058713778825,{"$f":"IF('Comparison - Category'!B113=\"Residential\",SUM(R113:W113,Control!$B$75),IF('Comparison - Category'!B113=\"Rural\",SUM(R113:W113,Control!$B$76),P113/$E113*$G113))","v":633.71422383302456}]
[]
[]
[null,null,null,null,null,null,null,null,{"$f":"IF(ABS(I77-SUM(I68:I76))>tolerance_dollar,1,0)","v":0},0,0,0,0,0,0,0]
[null,null,null,null,null,null,null,null,{"$f":"I106-SUM(I80:I105)","v":0},{"$f":"J106-SUM(J80:J105)","v":0},0,0,{"$f":"M106-SUM(M80:M105)","v":0},0,0,0]
[null,null,null,null,{"$f":"E106-E77","v":0},{"$f":"F106-F77","v":0},null,null,{"$f":"IF(ABS(I106-I77)>tolerance_dollar,1,0)","v":0},0,0,0,0,0,0,0,null,{"$f":"IF(ABS(R106-R77)>tolerance_dollar,1,0)","v":0},0,0,0,0,0,0,0]
[]
[]
["Delta"]
[null,null,null,null,null,null,null,null,"Rates",null,null,null,null,null,null,null,null,"Rates / average CV",null,null,null,null,null,null,null,null,"Cents/$ OR Regional Strategy Rate $/property"]
[{"$f":"Control!A29","v":"TA full name"},{"$f":"Control!B29","v":"Category group"},{"$f":"Control!C29","v":"Concatenated  row"},null,"CV","CV Assessments","Average CV",null,"General Rate","Flood protection – regional rate","Flood protection – catchment rate","River management rate","Public transport rate","Stadium purposes rate","Regional strategy rate","District-Wide Rates",null,"General Rate","Flood protection – regional rate","Flood protection – catchment rate","River management rate","Public transport rate","Stadium purposes rate","Regional strategy rate","District-Wide Rates",null,"General Rate","Flood protection – regional rate","Flood protection – catchment rate","River management rate","Public transport rate","Stadium purposes rate","Regional strategy rate","District-Wide Rates"]
[]
["By TA"]
[{"$f":"Control!A30","v":"Wellington City"},{"$f":"Control!B30","v":"District wide"},{"$f":"Control!C30","v":"Wellington CityDistrict wide"},null,{"$f":"E68-E10","v":256756000},135,2162.568547635572,null,{"$f":"I68-I10","v":-3425924.4502218775},4745293.0166026242,54042,-43255.424103945203,3318534.7523863539,-580986.26189999992,46699.13238937268,4114402.7651525289,null,{"$f":"R68-R10","v":-44.913351997404874},{"$f":"S68-S10","v":61.542461242998257},{"$f":"T68-T10","v":0.7008793090031904},{"$f":"U68-U10","v":-0.56197040578848145},{"$f":"V68-V10","v":42.163827858277102},{"$f":"W68-W10","v":-7.5481189266087219},0.55333446091619365,{"$f":"Y68-Y10","v":51.937061541392495}]
[{"$f":"Control!A31","v":"Hutt City"},{"$f":"Control!B31","v":"District wide"},{"$f":"Control!C31","v":"Hutt CityDistrict wide"},null,137757000,96,2189.5414867972722,null,-968159.22035180964,1659259.2109041046,5167492,-3685586.3029764807,-710725.58834808134,-190923.43151999998,21286.821604815777,1292643.4893125482,null,-25.183536888545206,42.387513370905729,132.00899220845574,-94.383628338151567,-18.880733065423783,-4.8893295992214902,0.48964153030219748,31.548919218321544]
[{"$f":"Control!A32","v":"Upper Hutt City"},{"$f":"Control!B32","v":"District wide"},{"$f":"Control!C32","v":"Upper Hutt CityDistrict wide"},null,115196500,166,2087.0554840926779,null,-355888.39556045039,631040.99058898317,881402,-678045.43376824516,-421509.80697006965,-51447.605009999999,9016.2607327867299,14568.010013003834,null,-22.891908363147962,37.705604122190678,52.665033460803059,-40.920062387944789,-27.937192887199302,-3.1048645147857572,0.33329750367196809,-4.1500930664121825]
[{"$f":"Control!A33","v":"Porirua City"},{"$f":"Control!B33","v":"District wide"},{"$f":"Control!C33","v":"Porirua CityDistrict wide"},null,149810950,115,4692.6184711920796,null,-424162.74230694212,786339.04702814773,45121,-28307.679875423506,-580016.31675388571,-70226.958930000008,8428.3928712672787,-262825.25796683691,null,-23.891868325608556,42.210480811001538,2.4220838477642386,-1.5289877862927248,-33.157754737094137,-3.7931813184617056,0.33422341657346522,-17.40500409211802]
[{"$f":"Control!A34","v":"Kapiti Coast District"},{"$f":"Control!B34","v":"District wide"},{"$f":"Control!C34","v":"Kapiti Coast DistrictDistrict wide"},null,3635022150,79,144927.85725025606,null,-549136.9278977029,1009859.9416891716,1619846,-1368225.7946305373,654353.807735126,-47339.621339999991,-1998.0756742703961,1317359.3298817892,null,-22.663046813125419,40.654587024523821,65.211191626409018,-55.257291491883905,25.945780220003087,-1.9118622567747665,-0.14355678905355518,51.8358015200983]
[{"$f":"Control!A35","v":"Masterton District"},{"$f":"Control!B35","v":"District wide"},{"$f":"Control!C35","v":"Masterton DistrictDistrict wide"},null,1185459600,-14,96958.009224135021,null,-158016.85611331253,405334.73343503213,271627,0,204556.39164951839,-19561.826999999997,1097.8414196114754,705037.28339084983,null,-12.710416029137704,33.002339475250949,22.115860609021333,0,16.683410677312587,-1.5909098080676642,0.11177982532651853,57.612064749706008]
[{"$f":"Control!A36","v":"Carterton District"},{"$f":"Control!B36","v":"District wide"},{"$f":"Control!C36","v":"Carterton DistrictDistrict wide"},null,518890600,82,103284.31968440063,null,-74794.159607329289,186829.11066595578,144634,-23239.68,56429.932522518415,-6846.6394500000006,425.06492871155206,283437.62905985629,null,-19.106750455718299,40.238878024112815,31.150979969847079,-5.0953036614777458,11.384019676662177,-1.5011268252576191,-0.26044923350747595,{"$f":"Y74-Y16","v":56.810247494660928}]
[{"$f":"Control!A37","v":"South Wairarapa District"},{"$f":"Control!B37","v":"District wide"},{"$f":"Control!C37","v":"South Wairarapa DistrictDistrict wide"},null,847929100,13,127183.67903366254,null,-82895.874313906068,310559.49287920241,201926,0,94991.102610987611,-10759.004849999999,888.1637774007977,514709.88010368496,null,-12.910267023709508,46.976174993072519,30.543941914990167,0,14.248115410946859,-1.6306463852682629,9.3202606747102124E-2,77.320521516778911]
[{"$f":"Control!A38","v":"Tararua District"},{"$f":"Control!B38","v":"District wide"},{"$f":"Control!C38","v":"Tararua DistrictDistrict wide"},null,3954500,-2,508883.33333333337,null,-540.92195427201568,484.45620677865014,0,0,0,0,0,-56.465747493365598,null,-14.851480735037995,48.445620677865016,0,0,0,0,4.2000000000000028,37.794139942827002]
["Region wide",null,{"$f":"Control!C39","v":"Region wide"},null,6850776400,670,32370.38210683479,null,-6039519.5483276024,9735000,8386090.4651872702,-5826660.3153546322,2616614.2748324499,-978091.35,85843.602049696259,7979277.1283871979,null,-30.911241212071701,48.674513254867449,41.930033025606093,-29.230932892634559,11.996327451734714,-4.9068456143519352,0.3481750682853928,37.900029081435605]
[]
["By TA & Category"]
[{"$f":"Control!A43","v":"Wellington City"},{"$f":"Control!B43","v":"Regional CBD"},{"$f":"Control!C43","v":"Wellington CityRegional CBD"},null,{"$f":"E80-E22","v":-35152500},-19,{"$f":"G80-G22","v":2580.0309889027849},null,{"$f":"I80-I22","v":-549965.49047528161},719398.87636228022,8192.9090448886,-6620.073536726286,925739.04462366924,-135230.61302423512,25243.293577553006,986757.94657215104,null,{"$f":"R80-R22","v":-157.2585199996596},{"$f":"S80-S22","v":212.71403795454768},2.4225041528351858,-1.9465079496401898,315.05349560160539,-39.762015002715415,8.8929334922981127,{"$f":"Y80-Y22","v":340.11592824927175},null,{"$f":"AA80-AA22","v":-6.8480425547077298E-3},9.2006047848371166E-3,1.0478153446847623E-4,{"$f":"AD80-AD22","v":-8.4287141925763908E-5},{"$f":"AE80-AE22","v":1.3271652921674537E-2},-1.7217636344139956E-3,{"$f":"AG80-AG22","v":3.7235883991502093E-4},1.4295304749847693E-2]
[{"$f":"Control!A44","v":"Wellington City"},{"$f":"Control!B44","v":"Business"},{"$f":"Control!C44","v":"Wellington CityBusiness"},null,43111000,-7,30069.540142963408,null,-246730.31934453803,355407.07083026523,4047.5706883871871,-3219.5626552150316,490711.95982286357,-65767.159400764853,19131.838811819674,553581.39875281835,null,-126.81107060260092,187.05635306856064,2.1303003623090455,-1.6882866571657218,260.5738125585541,-34.487236182886662,10.882148934160313,297.6560214809308,null,-6.8480425547077298E-3,9.2006047848371148E-3,1.0478153446847623E-4,-8.4287141925763921E-5,1.2354814393622338E-2,-1.7217636344139956E-3,3.7235883991502614E-4,1.3378466221795463E-2]
[{"$f":"Control!A45","v":"Wellington City"},{"$f":"Control!B45","v":"Residential"},{"$f":"Control!C45","v":"Wellington CityResidential"},null,235877500,156,2110.0300642383518,null,-2594042.7517513726,3616046.2122404403,41181.5179206377,-32927.942742543899,1894631.3061586078,-377152.02455999999,2184,2549920.3172657713,null,-37.012311967407072,50.897969065246542,0.57965399283042729,-0.4645000316345822,26.290180808832957,-5.3203180262099901,0,34.970673841658311,null,-6.8480425547077367E-3,9.2006047848371131E-3,1.0478153446847623E-4,-8.4287141925763921E-5,4.6332579948729878E-3,-9.6541306786850935E-4,{"$f":"AG82-AG24","v":0},6.0312118976470069E-3]
[{"$f":"Control!A46","v":"Wellington City"},{"$f":"Control!B46","v":"Rural"},{"$f":"Control!C46","v":"Wellington CityRural"},null,12920000,5,11785.686031584861,null,-35185.888650687149,54440.85716963817,620.00234608651556,-487.8451694599903,7452.4417812163738,-2836.4649149999996,140,24143.102561793872,null,-47.14979622036833,69.885567611859017,0.79589518111234347,-0.63029091661497461,9.1817320368761131,-3.6646833527131779,0,28.418424340151034,null,{"$f":"AA83-AA25","v":-6.8480425547077228E-3},9.2006047848371166E-3,1.0478153446847623E-4,-8.4287141925763908E-5,1.0843542680997135E-3,-4.9006843938353755E-4,0,2.9092443343636878E-3]
[{"$f":"Control!A47","v":"Hutt City"},{"$f":"Control!B47","v":"Business"},{"$f":"Control!C47","v":"Hutt CityBusiness"},null,-25202500,1,-11371.240467911353,null,-188181.30157048209,293691.61392974685,914654.59735017049,-660987.12645487417,47432.137188713066,-49784.849714999997,19998.821604815836,376823.89233309031,null,-80.0371439513317,124.55115094560936,387.89423127657778,-280.43577702794835,19.738942446705664,-21.122125462452271,8.4194677188216076,159.00874594598258,null,-4.7627551512608932E-3,7.7868132353554444E-3,2.4250758913833693E-2,-1.74088015572588E-2,1.6258250266925345E-3,-1.3112124798780886E-3,5.9068464760493426E-4,1.0771312635088848E-2]
[{"$f":"Control!A48","v":"Hutt City"},{"$f":"Control!B48","v":"Residential"},{"$f":"Control!C48","v":"Hutt CityResidential"},null,167049500,98,3329.9876283413032,null,-763638.24681887683,1341120.8968219594,4176702.1450398485,-2969232.2240489009,-753456.79771541804,-138888.97169999999,1372,893978.80157861114,null,{"$f":"R85-R27","v":-21.468202602881092},36.945479251293648,115.0606651526129,-82.018458208079693,-21.45730679512792,-3.8364999640903816,0,23.225676833727448,null,-4.762755151260907E-3,7.7868132353554444E-3,2.4250758913833693E-2,-1.74088015572588E-2,-4.909214676612067E-3,-8.1431507014966735E-4,0,4.1217294340601535E-3]
[{"$f":"Control!A49","v":"Hutt City"},{"$f":"Control!B49","v":"Rural"},{"$f":"Control!C49","v":"Hutt CityRural"},null,-4090000,-3,-4400.0335247035837,null,-16339.671962451263,24446.700152398418,76135.257609980879,-55366.952472705889,-4700.9278213766083,-2249.6101049999997,-84,21840.795400845527,null,-32.195774918311002,50.198562941269856,156.33523123199359,-112.99378055654265,-9.091316900772938,-4.5910410306122449,0,47.661880767024627,null,-4.762755151260914E-3,7.7868132353554444E-3,2.4250758913833693E-2,-1.74088015572588E-2,-1.3143942638733676E-3,-7.0733558829078102E-4,0,7.8737295896454951E-3]
[{"$f":"Control!A50","v":"Upper Hutt City"},{"$f":"Control!B50","v":"Business"},{"$f":"Control!C50","v":"Upper Hutt CityBusiness"},null,5719000,-10,30803.057595941471,null,-55223.469837806944,91330.290214933455,127564.93105287688,-99060.161622528438,-5963.1413855061401,-7726.9216650000008,7098.2607327867445,58019.787489755545,null,-69.836125819202721,128.27287951535598,179.16422900684955,-137.20243992039948,5.7373100503797332,-10.702107569252078,12.030028084658682,107.46377334838962,null,-4.8596894337832874E-3,7.7643225890174639E-3,1.0844762163893327E-2,-8.4626119171362854E-3,-8.0827382261049185E-4,-6.6010329777350637E-4,5.5945278223997613E-4,4.3778590638471893E-3]
[{"$f":"Control!A51","v":"Upper Hutt City"},{"$f":"Control!B51","v":"Residential"},{"$f":"Control!C51","v":"Upper Hutt CityResidential"},null,66807500,174,-350.49490275856806,null,-274202.49005882139,474303.86519901804,662480.53871105111,-511307.02783568384,-406027.46534667443,-41764.500645,2086,-94431.079976109788,null,-20.207332317827664,32.095267641021657,44.828836020506913,-35.011437129258006,-30.494149004069726,-2.8597987294576828,0,-11.648613519084506,null,-4.8596894337832874E-3,7.7643225890174621E-3,1.0844762163893327E-2,-8.4626119171362871E-3,-7.3244383760521711E-3,-6.9124174249606701E-4,0,-2.7317265445549188E-3]
[{"$f":"Control!A52","v":"Upper Hutt City"},{"$f":"Control!B52","v":"Rural"},{"$f":"Control!C52","v":"Upper Hutt CityRural"},null,42670000,2,33213.689155780827,null,-26462.435663821641,65406.835175031694,91356.530236072023,-67678.244310032882,-9519.2002378889883,-1956.1827000000001,-168,50979.30249936023,null,-21.587978491191564,52.493447170972466,73.319847701502425,-54.403733368193635,-7.8028004506700483,-1.5724941318327974,0,40.446288430586833,null,-4.8596894337832874E-3,7.7643225890174639E-3,1.0844762163893327E-2,-8.4626119171362871E-3,-1.930090173127506E-3,-2.4460467610950935E-4,0,2.8832343796427323E-3]
[{"$f":"Control!A53","v":"Porirua City"},{"$f":"Control!B53","v":"Business"},{"$f":"Control!C53","v":"Porirua CityBusiness"},null,2501000,-1,4875.8501627636142,null,{"$f":"I90-I32","v":-50220.983300508815},84634.948615147485,4856.4465047191934,-3085.1950115880913,-10712.581572946161,-12128.33274,6832.3928712672932,20176.695366090862,null,{"$f":"R90-R32","v":-62.591033684191245},106.45905486182075,6.1087377417851485,-3.8758731301357927,-12.381471367664744,-15.236598919597988,8.7489189600744481,27.231734462090571,null,{"$f":"AA90-AA32","v":-4.6534483323687967E-3},7.7134364448949427E-3,4.4260547297690823E-4,-2.8182001394743604E-4,-1.1203956515599828E-3,-1.1078738585754875E-3,6.0230370436752632E-4,1.5948077657876869E-3]
[{"$f":"Control!A54","v":"Porirua City"},{"$f":"Control!B54","v":"Residential"},{"$f":"Control!C54","v":"Porirua CityResidential"},null,134738950,118,4478.9733615847654,null,-349613.35308286268,654391.59549962368,37549.710003758184,-23529.291197188279,-559079.56168177072,-56729.298300000002,1652,-295358.19875843823,null,-21.419136023264883,37.993009492546662,2.1800807015651524,-1.3754993100191908,-34.572892739206338,-3.316339196773062,0,-20.51077707515168,null,-4.6534483323688106E-3,7.7134364448949427E-3,4.4260547297690823E-4,-2.8182001394743604E-4,-7.5938542915377355E-3,-6.7947017630708498E-4,0,-5.0786341748624009E-3]
[{"$f":"Control!A55","v":"Porirua City"},{"$f":"Control!B55","v":"Rural"},{"$f":"Control!C55","v":"Porirua CityRural"},null,12571000,-2,23826.91926497384,null,-24328.405923570623,47312.502913376586,2714.843491522618,-1693.1936666471372,-10224.173499168959,-1369.32789,-56,12356.245425512432,null,-38.803457862915707,77.56148018586326,4.4505631008567503,-2.7666563180508779,-16.242557307509458,-2.2374638725490197,0,21.961907925694959,null,-4.6534483323688036E-3,7.7134364448949427E-3,4.4260547297690823E-4,-2.8182001394743604E-4,-1.9969362583255202E-3,-2.2791486447181229E-4,0,9.2833837589714058E-4]
[{"$f":"Control!A56","v":"Kapiti Coast District"},{"$f":"Control!B56","v":"Business"},{"$f":"Control!C56","v":"Kapiti Coast DistrictBusiness"},null,245209000,6,171848.78577455739,null,-108756.44527518598,104640.07288285365,167845.85317393471,-158161.17367618496,107659.21017972246,-5889.2255613069892,-4000.0756742704107,103338.21604956244,null,-79.511321082970653,75.010804933945266,120.31960800998904,-113.8669356919978,75.926896038104189,-4.2399032118840818,-3.2808105607843601,70.358338434401617,null,-1.3574426072633514E-2,6.9123376211411196E-3,1.1087599363062268E-2,-1.246731049696123E-2,1.9650223332386349E-3,-4.642277365099664E-4,-1.9687626585788986E-3,-8.5097676472415812E-3]
[{"$f":"Control!A57","v":"Kapiti Coast District"},{"$f":"Control!B57","v":"Residential"},{"$f":"Control!C57","v":"Kapiti Coast DistrictResidential"},null,3033408550,89,145061.81343796407,null,-304147.55830251472,764250.50557829335,1225881.0091904949,-1000241.8922659687,539697.54139823187,-37244.602973693007,2030,1190225.0026248442,null,-15.375054093987671,36.970322444770382,59.301519407434924,-48.595534774618315,25.574446115900983,-1.8094836988627996,0,56.066215400637475,null,-1.3574426072633507E-2,6.9123376211411205E-3,1.1087599363062268E-2,-1.246731049696123E-2,-3.8361185740199942E-3,-4.642277365099663E-4,0,-1.3297004272242688E-2]
[{"$f":"Control!A58","v":"Kapiti Coast District"},{"$f":"Control!B58","v":"Rural"},{"$f":"Control!C58","v":"Kapiti Coast DistrictRural"},null,356404600,-16,132008.50218201766,null,-136232.9243200022,140969.36322802462,226119.13763557028,-209822.72868838353,6997.0561571710859,-4205.792805,-28,23796.111207380192,null,-47.754785006818594,50.836409386233179,81.543143756065732,-75.232244061808359,2.8094874985031026,-1.5079931176048764,0,10.694018454570198,null,-1.3574426072633507E-2,6.9123376211411205E-3,1.108759936306227E-2,-1.246731049696123E-2,-1.0934607544809804E-3,-2.4990107179329371E-4,0,-1.0148012231282533E-2]
[{"$f":"Control!A59","v":"Masterton District"},{"$f":"Control!B59","v":"Business"},{"$f":"Control!C59","v":"Masterton DistrictBusiness"},null,54745500,4,94460.368298368296,null,-23251.286433630637,29898.295215305883,20035.747160438132,0,36668.127674885065,-2325.988066294557,943.84141961148271,61968.736970315396,null,-44.075572822814621,54.360536755101606,36.428631200796602,0,{"$f":"V96-V38","v":66.15642026777563},-4.2600514034698849,1.2358050020049234,109.84576899939435,null,-9.7882922672797579E-3,6.8590731591241733E-3,4.596471289801383E-3,0,7.143334080113823E-3,-6.1025753900042059E-4,-9.715732682948567E-4,7.2287554544643584E-3]
[{"$f":"Control!A60","v":"Masterton District"},{"$f":"Control!B60","v":"Residential"},{"$f":"Control!C60","v":"Masterton DistrictResidential"},null,730874300,36,91623.281350853009,null,-5646.7137235491537,185590.79869021941,124369.97798982919,0,111364.00291167834,-12051.954778705442,546,404172.11108947231,null,-1.1249011151283383,23.558111029476951,15.786998983222796,0,14.019812899945752,-1.5368470771111249,0,50.703174720406025,null,-9.7882922672797509E-3,6.8590731591241733E-3,4.5964712898013821E-3,0,1.3868950763855758E-3,-6.1025753900042059E-4,0,9.6569654207198652E-4]
[{"$f":"Control!A61","v":"Masterton District"},{"$f":"Control!B61","v":"Rural"},{"$f":"Control!C61","v":"Masterton DistrictRural"},null,399839800,-54,112236.60250897787,null,-129118.85595613276,189845.63952950682,127221.27484973267,0,56524.261062954974,-5183.8841549999997,-392,238896.43533106172,null,-30.491644473003532,49.259377148289261,33.010190671959691,0,14.912789897121026,-1.3264800806038894,0,65.364233163762549,null,-9.788292267279744E-3,6.8590731591241733E-3,4.596471289801383E-3,0,1.6229388063195185E-3,-2.1891741966609027E-4,0,2.4717170724657747E-3]
[{"$f":"Control!A62","v":"Carterton District"},{"$f":"Control!B62","v":"Business"},{"$f":"Control!C62","v":"Carterton DistrictBusiness"},null,-339000,0,-1506.6666666666861,null,-8967.8727751177757,6397.9925055840922,4953.0142532615027,-988.16244014398353,3509.6559152137488,-506.46234923245612,-862.93507128844612,3535.2300382766916,null,-39.857212333856779,28.43552224704041,22.013396681162234,-4.3918330673065942,15.598470734283325,-2.2509437743664718,-3.8352669835042121,15.71213350345198,null,-9.5440333083554527E-3,6.90134187525588E-3,5.3426828251109714E-3,-1.0620206674626753E-3,3.8518878678619438E-3,-5.4431686565439071E-4,-8.9631664226307028E-4,4.0492250844932076E-3]
[{"$f":"Control!A63","v":"Carterton District"},{"$f":"Control!B63","v":"Residential"},{"$f":"Control!C63","v":"Carterton DistrictResidential"},null,219832000,57,86911.621813130565,null,{"$f":"I100-I42","v":-1211.3076982195489},57114.366638208252,44215.161517952256,-6454.4465368144201,23692.44655386408,-3308.0939157675439,756,114804.12655922311,null,{"$f":"R100-R42","v":-2.7768405254088862},24.24209110280486,18.767046484699598,-2.8075017559001392,8.8998155289474425,-1.4389273230828812,0,44.885683512059984,null,{"$f":"AA100-AA42","v":-9.5440333083554492E-3},6.90134187525588E-3,5.3426828251109714E-3,-1.0620206674626751E-3,-1.9400249208126503E-3,-5.4431686565439071E-4,0,-2.113440736323649E-3]
[{"$f":"Control!A64","v":"Carterton District"},{"$f":"Control!B64","v":"Rural"},{"$f":"Control!C64","v":"Carterton DistrictRural"},null,299397600,25,136344.39784453181,null,-64614.979133991932,123316.75152216345,95465.824228786238,-15797.071023041597,29227.830053440586,-3032.083185,532,165098.27246235684,null,-34.468238007306894,59.804438177576849,46.297683913087411,-7.7550667761618062,13.745499847236715,-1.4885042636229748,0,76.135812890809234,null,-9.5440333083554527E-3,6.90134187525588E-3,5.3426828251109714E-3,-1.0620206674626753E-3,8.2378624792633654E-4,-2.0384380137553141E-4,0,1.7126954286493939E-3]
[{"$f":"Control!A65","v":"South Wairarapa District"},{"$f":"Control!B65","v":"Business"},{"$f":"Control!C65","v":"South Wairarapa DistrictBusiness"},null,15484798,-4,58201.550366300275,null,-11982.60161461449,14336.024862024546,9321.2934161222311,0,8136.5503101069626,-1243.6926154320026,230.16377740080497,18797.738135608088,null,-36.171937439993712,46.545535266313458,30.263939662734511,0,28.262713253914541,-3.9861942802307779,1.4761870798682963,66.390243542606413,null,-8.4121836391961476E-3,6.9624597323345591E-3,4.526996199270065E-3,0,2.2007590666081878E-3,-6.5313197596540012E-4,-5.7979740713378844E-4,4.045101975917495E-3]
[{"$f":"Control!A66","v":"South Wairarapa District"},{"$f":"Control!B66","v":"Residential"},{"$f":"Control!C66","v":"South Wairarapa DistrictResidential"},null,407192002,49,123081.49968323129,null,31443.868963584653,90163.930120789606,58624.650577505541,0,47630.496714801091,-5798.565104567997,714,222778.38127211295,null,8.3473496117655088,28.211492528407259,18.343132220746416,0,13.896175887527178,-1.8425691466692078,0,66.955581101777142,null,-8.4121836391961406E-3,6.9624597323345591E-3,4.5269961992700659E-3,0,-3.6424465437276052E-3,-6.5313197596540023E-4,0,-2.686377545145828E-3]
[{"$f":"Control!A67","v":"South Wairarapa District"},{"$f":"Control!B67","v":"Rural"},{"$f":"Control!C67","v":"South Wairarapa DistrictRural"},null,425252300,-32,145184.44393769919,null,-102357.14166287612,206059.53789638827,133980.05600637221,0,39224.055586079601,-3716.7471299999997,-56,273133.76069596387,null,-30.077281990294296,66.321061440742923,43.122000645758682,0,13.127684146775046,-1.1840545173622172,0,91.309409725620185,null,-8.4121836391961406E-3,6.9624597323345609E-3,4.5269961992700659E-3,0,4.5568957189026302E-4,-1.466561611832852E-4,0,2.9448365722947872E-3]
[{"$f":"Control!A68","v":"Tararua District"},{"$f":"Control!B68","v":"Rural"},{"$f":"Control!C68","v":"Tararua DistrictRural"},null,3954500,-2,508883.33333333337,null,-540.92195427201568,484.45620677865014,0,0,0,0,0,-56.465747493365598,null,-14.851480735037995,48.445620677865016,0,0,0,0,0,33.594139942827042,null,-1.7740135670483347E-2,4.5021718951596124E-3,0,0,0,0,0,-1.4598680504070784E-2]
["Region wide",null,{"$f":"Control!C69","v":"Region wide"},null,6850776400,670,32370.38210683479,null,-6039519.5483275875,9735000.0000000019,8386089.9999999991,-5826660.3153546313,2616614.2748324722,-978091.35,85843.602049698122,7979276.6631999314,null,-30.911241212071616,48.674513254867456,41.930030699692992,-29.230932892634552,11.996327451734885,-4.9068456143519352,0.34817506828540701,37.900026755522504,null,-7.2636903354157539E-3,8.1872981556670235E-3,7.052842238341823E-3,-5.1999184008602473E-3,-1.1239327507108834E-3,-8.7288342434935456E-4,-1.7574605120227599E-4,6.0396943147028592E-4]
[]
["By category"]
["Region Wide",{"$f":"B138","v":"Regional CBD"},{"$f":"A167&B167","v":"Region WideRegional CBD"},null,{"$f":"E109-E51","v":-35152500},-19,2580.0309889027849,null,{"$f":"I109-I51","v":-549965.49047528161},719398.87636228022,8192.9090448886,-6620.073536726286,925739.04462366924,-135230.61302423512,25243.293577553006,986757.94657215104,null,{"$f":"R109-R51","v":-157.2585199996596},212.71403795454768,2.4225041528351858,-1.9465079496401898,315.05349560160539,-39.762015002715415,8.8929334922981127,340.11592824927175]
["Region Wide",{"$f":"B139","v":"Business"},"Region WideBusiness",null,{"$f":"E110-E52","v":341228798},-11,43306.402527909493,null,{"$f":"I110-I52","v":-693314.28015188454},980336.30905586132,1253279.4535999103,-925501.38186053466,677441.91813305393,-145372.63211303085,49372.308472142788,1196241.6951355189,null,{"$f":"R110-R52","v":-83.404052572719877},118.92955344605862,152.04166609243117,-112.12762077302334,83.02547026173329,-17.612385766056562,6.1777659954815078,147.03039668390511]
["Region Wide",{"$f":"B140","v":"Residential"},"Region WideResidential",null,{"$f":"E111-E53","v":4995780302},777,26675.054890058178,null,{"$f":"I111-I53","v":-4261058.5524726324},7182982.1707885517,6371004.7109510778,-4543692.8246271005,898451.96899332851,-672938.01197773404,11340,4986089.4616554677,null,{"$f":"R111-R53","v":-25.374772875772408},41.412646776796358,36.731285340077356,-26.314010520681411,4.306009848154531,-3.8972040167353943,2.8680932404689941E-3,26.863954551839015]
["Region Wide",{"$f":"B141","v":"Rural"},"Region WideRural",null,{"$f":"E112-E54","v":1548919800},-77,107326.51055659191,null,{"$f":"I112-I54","v":-535181.22522780532},852282.64379330666,753612.92640412343,-350846.03533027106,114981.34308242809,-24550.092884999998,-112,810187.55983678158,null,{"$f":"R112-R54","v":-34.570116599071298},57.092888785725265,50.483181029215125,-23.381941708115363,7.9590784608195122,-1.6361274831722756,0.12437260105866343,55.946962485400945]
["Region Wide","Total","Region WideTotal",null,{"$f":"E113-E55","v":6850776400},670,32370.38210683479,null,{"$f":"I113-I55","v":-6039519.5483276024},9735000,8386090,-5826660.3153546331,2616614.2748324871,-978091.35000000009,85843.602049696259,7979276.6631999314,null,{"$f":"R113-R55","v":-30.911241212071701},48.674513254867449,41.930030699693006,-29.230932892634563,11.996327451734942,-4.9068456143519352,0.3481750682853928,37.900026755522617]
[]
[]
[null,null,null,null,null,null,null,null,{"$f":"IF(ABS(I135-SUM(I126:I134))>tolerance_dollar,1,0)","v":0},0,0,0,0,0,0,0]
[null,null,null,null,null,null,null,null,{"$f":"IF(ABS(I164-SUM(I138:I163))>tolerance_dollar,1,0)","v":0},0,0,0,0,0,0,0]
[null,null,null,null,{"$f":"E164-E135","v":0},{"$f":"F164-F135","v":0},null,null,{"$f":"IF(ABS(I164-I135)>tolerance_dollar,1,0)","v":0},0,0,0,0,0,0,0,null,{"$f":"IF(ABS(R164-R135)>tolerance_dollar,1,0)","v":0},0,0,0,0,0,0,0]

{"sheet":"Rates Check","index":21,"n_rows":67,"n_cols":9,"rows_kept":67,"cut":false,"hidden":false,"merged":[[27,0,28,0],[61,0,63,0],[58,0,60,0],[7,3,7,5],[6,7,6,8],[6,3,6,5],[18,0,21,0],[14,0,17,0],[22,0,23,0]]}
["Wellington Regional Council"]
[{"$f":"B5&\" Check \"&year_current","v":"Masterton District Check 2018/19"}]
[{"$f":"check_total","v":8066.0526878890842}]
["Printed: ",{"$f":"NOW()","v":"2018-03-27T14:57:01"}]
["TA to view","Masterton District"]
[]
[null,null,null,"Excluding GST",null,null,null,"Including GST"]
[]
["Total (including Trentham)"]
["Rate","Categories",null,"Rateable Capital Value","Cents in Dollar","Rates Set",null,"Cents in Dollar","Rates Set"]
[null,null,null,"$","Cents / $","$",null,"Cents / $","$"]
["General Rate ","District Wide",null,{"$f":"INDEX(capital_values,MATCH($B$5&B12,capital_values_rows,0),MATCH(\"CV \"&year_current,capital_values_header,0))","v":5909468000},{"$f":"INDEX(Gen!$E$10:$E$19,MATCH(B5,Gen!$A$10:$A$19,0),)","v":2.5676361540244247E-2},{"$f":"+E12*D12/100","v":1517336.3687850409},null,{"$f":"+E12*(1+GST)","v":2.9527815771280882E-2},{"$f":"+F12*(1+GST)","v":1744936.8241027968}]
["Flood protection - regional rate","District Wide",null,{"$f":"INDEX(capital_values,MATCH($B$5&B13,capital_values_rows,0),MATCH(\"CV \"&year_current,capital_values_header,0))","v":5909468000},{"$f":"INDEX('FP - regional'!$E$10:$E$19,MATCH(B5,'FP - regional'!$A$10:$A$19,0),)","v":6.8590731591241733E-3},{"$f":"+E13*D13/100","v":405334.73343503207},null,7.8879341329927983E-3,466134.94345028687]
["Flood protection – catchment rate","District Wide",null,{"$f":"INDEX(capital_values,MATCH($B$5&B14,capital_values_rows,0),MATCH(\"CV \"&year_current,capital_values_header,0))","v":5909468000},{"$f":"INDEX('FP - catchment'!$D$10:$D$19,MATCH(B5,'FP - catchment'!$A$10:$A$19,0),)","v":4.596471289801383E-3},271627,null,5.2859419832715897E-3,312371.05]
["Regional Transport Rate","Regional CBD",null,{"$f":"IFERROR(INDEX(capital_values,MATCH($B$5&B15,capital_values_rows,0),MATCH(\"CV \"&year_current,capital_values_header,0)),0)","v":0},{"$f":"IFERROR(INDEX(Tran!$I$23:$I$49,MATCH($B$5&B15,Tran!$C$23:$C$49,0),),0)","v":0},0,null,0,0]
[null,"Business",null,435894100,{"$f":"IFERROR(INDEX(Tran!$I$23:$I$49,MATCH($B$5&B16,Tran!$C$23:$C$49,0),),0)","v":1.7246001653484475E-2},75174.303693441267,null,1.9832901901507147E-2,86450.449247457451]
[null,"Residential",null,2705770800,{"$f":"IFERROR(INDEX(Tran!$I$23:$I$49,MATCH($B$5&B17,Tran!$C$23:$C$49,0),),0)","v":1.1489562649756228E-2},310881.2312248103,null,1.3212997047219661E-2,357513.41590853181]
[null,"Rural",null,2767803100,{"$f":"IFERROR(INDEX(Tran!$I$23:$I$49,MATCH($B$5&B18,Tran!$C$23:$C$49,0),),0)","v":4.5252287910935093E-3},125249.42276197867,null,5.204013109757535E-3,144036.83617627545]
["Stadium Purposes Rate","Regional CBD",null,0,{"$f":"IFERROR(INDEX(Stad!$G$23:$G$48,MATCH($B$5&B19,Stad!$C$23:$C$48,0),),0)","v":0},0,null,0,0]
[null,"Business",null,435894100,{"$f":"IFERROR(INDEX(Stad!$G$23:$G$48,MATCH($B$5&B20,Stad!$C$23:$C$48,0),),0)","v":0},0,null,0,0]
[null,"Residential",null,2705770800,{"$f":"IFERROR(INDEX(Stad!$G$23:$G$48,MATCH($B$5&B21,Stad!$C$23:$C$48,0),),0)","v":0},0,null,0,0]
[null,"Rural",null,2767803100,{"$f":"IFERROR(INDEX(Stad!$G$23:$G$48,MATCH($B$5&B22,Stad!$C$23:$C$48,0),),0)","v":0},0,null,0,0]
["WRS Rate","Regional CBD",null,0,{"$f":"IFERROR(INDEX(WRS!$K$23:$K$48,MATCH($B$5&B23,WRS!$C$23:$C$48,0),),0)","v":0},0,null,0,0]
[null,"Business",null,435894100,{"$f":"IFERROR(INDEX(WRS!$K$23:$K$48,MATCH($B$5&B24,WRS!$C$23:$C$48,0),),0)","v":8.4883311499421403E-3},37000.134671059946,null,9.7615808224334605E-3,42550.154871718936]
[]
["Rate","Categories",null,"Number of assessments","Amount per rating unit","Rates Set",null,"Amount per rating unit","Rates Set"]
[null,null,null,"#","$","$",null,"$","$"]
[{"$f":"+A23","v":"WRS Rate"},"Residential",null,{"$f":"IFERROR(INDEX(WRS!$F$23:$F$48,MATCH($B$5&B28,WRS!$C$23:$C$48,0),),0)","v":7864},{"$f":"INDEX(WRS_value,MATCH(B28,WRS_categories,0),)","v":14},{"$f":"D28*E28","v":110096},null,{"$f":"+E28*(1+GST)","v":16.099999999999998},{"$f":"+F28*(1+GST)","v":126610.4}]
[null,"Rural",null,{"$f":"IFERROR(INDEX(WRS!$F$23:$F$48,MATCH($B$5&B29,WRS!$C$23:$C$48,0),),0)","v":3413},{"$f":"INDEX(WRS_value,MATCH(B29,WRS_categories,0),)","v":28},{"$f":"D29*E29","v":95564},null,{"$f":"+E29*(1+GST)","v":32.199999999999996},{"$f":"+F29*(1+GST)","v":109898.59999999999}]
[]
[]
["District-Wide Rates",null,null,null,null,{"$f":"SUM(F12:F30)","v":2948263.1945713628},null,null,{"$f":"SUM(I12:I30)","v":3390502.673757067}]
[]
[]
["Rate","Categories",null,"No of Hectares","Cents Per","Rates",null,"Cents Per","Rates"]
[null,null,null,"#","$","$",null,"$","$"]
["Regional Possum/Predator Rate",null,null,{"$f":"INDEX(Pest!$B$10:$B$18,MATCH(B5,Pest!$A$10:$A$18,0),)","v":207207.73449999999},{"$f":"INDEX(Pest!$C$10:$C$18,MATCH(B5,Pest!$A$10:$A$18,0),)","v":0.86682366680113054},{"$f":"+D37*E37","v":179612.56820884513},null,{"$f":"+E37*(1+GST)","v":0.99684721682130006},{"$f":"+F37*(1+GST)","v":206554.45344017187}]
[]
[]
["Rate","Categories",null,"Rateable Capital Value or Land Value","Cents in Dollar","Rates Set",null,"Cents in Dollar","Rates Set"]
[null,null,null,"$","Cents / $","$",null,"Cents / $","$"]
["Greytown River Management Rate","Greytown Urban -CV",null,{"$f":"INDEX('Capital values'!$D$47:$E$48,MATCH(B42,'Capital values'!$A$47:$A$48,0),MATCH(\"CV \"&year_current,capital_values_header,0))","v":739130000},{"$f":"IF($B$5=\"South Wairarapa District\",INDEX('FP - catchment'!$D$29:$D$30,MATCH(A42,'FP - catchment'!$A$29:$A$30,0),),0)","v":0},{"$f":"+E42*D42/100","v":0},null,{"$f":"+E42*(1+GST)","v":0},{"$f":"+F42*(1+GST)","v":0}]
["Donalds Creek Stopbank River Management Rate","Featherston Urban - LV",null,{"$f":"INDEX('Capital values'!$D$47:$E$48,MATCH(B43,'Capital values'!$A$47:$A$48,0),MATCH(\"CV \"&year_current,capital_values_header,0))","v":162213500},{"$f":"IF($B$5=\"South Wairarapa District\",INDEX('FP - catchment'!$D$29:$D$30,MATCH(A43,'FP - catchment'!$A$29:$A$30,0),),0)","v":0},0,null,{"$f":"+E43*(1+GST)","v":0},{"$f":"+F43*(1+GST)","v":0}]
[]
[]
["Total Regional Rates (excl Special rates)",null,null,null,null,{"$f":"SUM(F32:F45)","v":3127875.7627802081},null,null,{"$f":"SUM(I32:I45)","v":3597057.1271972386}]
[]
["Check",null,null,null,null,{"$f":"INDEX('Comparison - TA'!$B$47:$L$47,,MATCH(B5,'Comparison - TA'!$B$31:$L$31,0))-F46","v":0}]
[]
[]
[]
[]
["Trentham Military Camp (UPPER HUTT ONLY)"]
["Rate","Categories",null,"Rateable Capital Value","Cents in Dollar","Rates Set",null,"Cents in Dollar","Rates Set"]
[null,null,null,"$","Cents / $","$",null,"Cents / $","$"]
["General Rate ","Trentham Military Camp",null,{"$f":"Gen!B23","v":87721000},{"$f":"IF(B5=\"Upper Hutt City\",Gen!E23,0)","v":0},{"$f":"+E56*D56/100","v":0},null,{"$f":"+E56*(1+GST)","v":0},{"$f":"+F56*(1+GST)","v":0}]
["FP - regional","Trentham Military Camp",null,{"$f":"'FP - regional'!B23","v":87721000},{"$f":"IF(B5=\"Upper Hutt City\",'FP - regional'!E23,0)","v":0},{"$f":"+E57*D57/100","v":0},null,0,0]
["FP - catchment","Trentham Military Camp",null,{"$f":"'FP - catchment'!B23","v":87721000},{"$f":"IF(B5=\"Upper Hutt City\",'FP - catchment'!D23,0)","v":0},{"$f":"+E58*D58/100","v":0},null,0,0]
["Regional Transport Rate","Business",null,{"$f":"Tran!D53","v":56325000},{"$f":"IF(B5=\"Upper Hutt City\",Tran!I53,0)","v":0},{"$f":"+E59*D59/100","v":0},null,0,0]
[null,"Residential",null,{"$f":"Tran!D55","v":26720000},{"$f":"IF(B5=\"Upper Hutt City\",Tran!I55,0)","v":0},0,null,0,0]
[null,"Rural",null,{"$f":"Tran!D57","v":4676000},{"$f":"IF(B5=\"Upper Hutt City\",Tran!I57,0)","v":0},0,null,0,0]
["Stadium Purposes Rate","Business",null,{"$f":"Stad!E53","v":56325000},{"$f":"IF(B5=\"Upper Hutt City\",Stad!G53,0)","v":0},{"$f":"+E62*D62/100","v":0},null,0,0]
[null,"Residential",null,{"$f":"Stad!E55","v":26720000},{"$f":"IF(B5=\"Upper Hutt City\",Stad!G55,0)","v":0},0,null,0,0]
[null,"Rural",null,{"$f":"Stad!E57","v":4676000},{"$f":"IF(B5=\"Upper Hutt City\",Stad!G57,0)","v":0},0,null,0,0]
["Economic development rate","Business",null,{"$f":"'UHCC Adjustments'!D9","v":56325000},{"$f":"IF(B5=\"Upper Hutt City\",WRS!K30,0)","v":0},{"$f":"+E65*D65/100","v":0},null,0,0]
[null,"No change for residential or rural as it is a fixed charge per property"]
["Trentham Military Camp",null,null,null,null,{"$f":"SUM(F56:F66)","v":0},null,null,{"$f":"SUM(I56:I66)","v":0}]

{"sheet":"Checks","index":22,"n_rows":44,"n_cols":4,"rows_kept":44,"cut":false,"hidden":false,"merged":[[2,0,2,1]]}
["Wellington Regional Council"]
["Value checks"]
[{"$f":"check_total","v":8066.0526878890842}]
[]
["Tab/component","Check",null,"Check notes"]
[]
["OVERALL",{"$f":"SUM(B9:B45)","v":8066.0526878890842},null,"checked ok"]
[]
[]
["Capital values tab"]
["Populated",{"$f":"SUM('Capital values'!I8:J137)","v":0}]
["TA total matches category"]
["Capital values",{"$f":"SUM('Capital values'!D50:E50)","v":0}]
["No. of Assessments (#)",{"$f":"SUM('Capital values'!D95:E95)","v":0}]
["Number of Assessments Contiguous for WRS",{"$f":"SUM('Capital values'!D140:E140)","v":0}]
[]
["Rate model checks"]
["General rate",{"$f":"SUM(Gen!B28:D29)","v":0}]
["FP - regional",{"$f":"SUM('FP - regional'!B28:D29)","v":0}]
["FP - catchment",{"$f":"SUM('FP - catchment'!B34:C36)","v":0}]
["Stadium",{"$f":"SUM(Stad!D62:F65)","v":0}]
["WRS",{"$f":"SUM(WRS!D51:J53)","v":0}]
["Transport",{"$f":"SUM(Tran!D62:H65)","v":0}]
["Pest",{"$f":"SUM(Pest!B21:D21)","v":0}]
["Water Levy",{"$f":"SUM('Water levy'!B21:C21)","v":0}]
["Class rates - schemes",{"$f":"SUM('Class Rates'!B141:H141)","v":0}]
[]
["Comparison - TA",{"$f":"SUM('Comparison - TA'!M7:M74)","v":0}]
[]
["Comparison - category"]
["Previous year",{"$f":"SUM('Comparison - Category'!E58:Y60)","v":0}]
["Current year",{"$f":"SUM('Comparison - Category'!E116:Y118)","v":0}]
["Delta",{"$f":"SUM('Comparison - Category'!E174:Y176)","v":0}]
[]
["Rates check",{"$f":"'Rates Check'!F48","v":0}]
[]
["Rates"]
[1,{"$f":"SUM('1'!J19:K49)","v":6173.8298146536526},null,"checked ok"]
[2,{"$f":"SUM('2'!J19:K41)","v":1892.2228732354313},null,"checked ok"]
["3 - changes",{"$f":"SUM('3'!V14:Y39)","v":0}]
["3 - inputs",{"$f":"SUM('3'!V61:V121)","v":0}]
[4,{"$f":"SUM('4'!Z16:AA24)","v":0}]
[5,{"$f":"SUM('5'!R33:S40)","v":0}]
["Impact for annual plan",{"$f":"Impact!L258+Impact!L262","v":0}]

{"sheet":">>Rates","index":23,"n_rows":0,"n_cols":0,"rows_kept":0,"cut":false,"hidden":false,"merged":[]}

{"sheet":"1","index":24,"n_rows":60,"n_cols":13,"rows_kept":60,"cut":false,"hidden":false,"merged":[[2,0,4,4],[6,0,7,4],[57,0,58,4],[59,0,60,4],[50,0,51,4],[54,0,54,4],[55,0,55,4]]}
["SUMMARY OF RATES AND LEVIES"]
[]
["This table shows the rates and levies for GWRC in 2018/19, together with the changes from 2017/18. Rates comprise the general rate and various targeted rates. GWRC also charges a water supply levy directly to the four city councils in the region. The city councils then rate accordingly for this levy. "]
[]
[]
[]
["The total rate increase in regional rates for 2018/19 is 6.7%. The water supply levy, which is charged to the four metropolitan city councils is proposed to increase by 7.1% over 2018/19. When the water supply levy is included, Greater Wellington Regional Council's overall increase is 6.8%."]
[]
[]
["By rate and levy type:",{"$f":"year_previous","v":"2017/18"},{"$f":"year_current","v":"2018/19"}]
[null,"Budget","Plan","Change","Change"]
[null,"$000s","$000s","$000s","%  ",null,"Row lookup","Column lookup"]
["General rates"]
[" Flood protection 1",{"$f":"ESSbase!F39/1000","v":21662.719477799379},0,{"$f":"C14-B14","v":-21662.719477799379},{"$f":"ROUND(D14/B14,4)","v":-1}]
["Environment, Parks",{"$f":"ESSbase!F44/1000-SUM(B14,B16:B18)","v":25441.153851229068},{"$f":"ESSbase!G44/1000-SUM(C14,C16:C18)","v":27529.113792328164},2087.9599410990959,{"$f":"ROUND(D15/B15,4)","v":8.2100000000000006E-2}]
["Council costs, Strategy and Planning",{"$f":"ESSbase!F40/1000","v":5273.3592280416124},{"$f":"ESSbase!G40/1000","v":6446.7444822720936},1173.3852542304812,{"$f":"ROUND(D16/B16,4)","v":0.2225}]
[" Biosecurity and land management",{"$f":"ESSbase!F39/1000-B14","v":0},{"$f":"ESSbase!G39/1000-C14","v":11132.109251689699},11132.109251689699,{"$f":"ROUND(D17/B17,4)","v":{"$error":"#DIV/0!"}}]
[" Investment management 2",{"$f":"ESSbase!F42/1000","v":-9897.8937680854469},{"$f":"ESSbase!G42/1000","v":-8665.8165540739737},1232.0772140114732,{"$f":"-ROUND(D18/B18,4)","v":0.1245}]
["General rate",{"$f":"INDEX('Comparison - TA'!$B$7:$L$26,MATCH(G19,'Comparison - TA'!$A$7:$A$26,0),MATCH(H19,'Comparison - TA'!$B$6:$L$6,0))/1000","v":42481.670520543601},{"$f":"INDEX('Comparison - TA'!$B$32:$L$51,MATCH(G19,'Comparison - TA'!$A$32:$A$51,0),MATCH(H19,'Comparison - TA'!$B$31:$L$31,0))/1000","v":36442.150972216004},-6039.5195483275966,{"$f":"ROUND(D19/B19,4)","v":-0.14219999999999999},null,"General rate","Region wide",null,{"$f":"INDEX(ess_base_estract,MATCH($G19,ESSbase!$B$8:$B$26,0),MATCH(B$10,ESSbase!$F$6:$G$6,0))/1000-B19","v":0},{"$f":"INDEX(ess_base_estract,MATCH($G19,ESSbase!$B$8:$B$26,0),MATCH(C$10,ESSbase!$F$6:$G$6,0))/1000-C19","v":0}]
[]
["Targeted rates:"]
["Region wide targeted rates:"]
["Flood protection – regional rate",{"$f":"INDEX('Comparison - TA'!$B$7:$L$26,MATCH(G23,'Comparison - TA'!$A$7:$A$26,0),MATCH(H23,'Comparison - TA'!$B$6:$L$6,0))/1000","v":0},{"$f":"INDEX('Comparison - TA'!$B$32:$L$51,MATCH(G23,'Comparison - TA'!$A$32:$A$51,0),MATCH(H23,'Comparison - TA'!$B$31:$L$31,0))/1000","v":9735},9735,{"$f":"ROUND(D23/B23,4)","v":{"$error":"#DIV/0!"}},null,"Flood protection – regional rate","Region wide",null,{"$f":"INDEX(ess_base_estract,MATCH($G23,ESSbase!$B$8:$B$26,0),MATCH(B$10,ESSbase!$F$6:$G$6,0))/1000-B23","v":0},{"$f":"INDEX(ess_base_estract,MATCH($G23,ESSbase!$B$8:$B$26,0),MATCH(C$10,ESSbase!$F$6:$G$6,0))/1000-C23","v":0}]
["Flood protection – catchment rate",0,{"$f":"INDEX('Comparison - TA'!$B$32:$L$51,MATCH(G24,'Comparison - TA'!$A$32:$A$51,0),MATCH(H24,'Comparison - TA'!$B$31:$L$31,0))/1000","v":8386.0904651872697},8386.0904651872697,{"$error":"#DIV/0!"},null,"Flood protection – catchment rate","Region wide",null,{"$f":"INDEX(ess_base_estract,MATCH($G24,ESSbase!$B$8:$B$26,0),MATCH(B$10,ESSbase!$F$6:$G$6,0))/1000-B24","v":5826.6604174182212},{"$f":"INDEX(ess_base_estract,MATCH($G24,ESSbase!$B$8:$B$26,0),MATCH(C$10,ESSbase!$F$6:$G$6,0))/1000-C24","v":0}]
["River management rate",5826.6604174182212,null,-5826.6604174182212,-1,null,"River management rate","Region wide"]
["Public transport rate",{"$f":"INDEX('Comparison - TA'!$B$7:$L$26,MATCH(G26,'Comparison - TA'!$A$7:$A$26,0),MATCH(H26,'Comparison - TA'!$B$6:$L$6,0))/1000","v":64656.396127130902},{"$f":"INDEX('Comparison - TA'!$B$32:$L$51,MATCH(G26,'Comparison - TA'!$A$32:$A$51,0),MATCH(H26,'Comparison - TA'!$B$31:$L$31,0))/1000","v":67273.010401963358},2616.6142748324564,4.0500000000000001E-2,null,"Public transport rate","Region wide",null,{"$f":"INDEX(ess_base_estract,MATCH($G26,ESSbase!$B$8:$B$26,0),MATCH(B$10,ESSbase!$F$6:$G$6,0))/1000-B26","v":0},{"$f":"INDEX(ess_base_estract,MATCH($G26,ESSbase!$B$8:$B$26,0),MATCH(C$10,ESSbase!$F$6:$G$6,0))/1000-C26","v":0}]
["Stadium purposes rate",{"$f":"INDEX('Comparison - TA'!$B$7:$L$26,MATCH(G27,'Comparison - TA'!$A$7:$A$26,0),MATCH(H27,'Comparison - TA'!$B$6:$L$6,0))/1000","v":978.09134999999992},{"$f":"INDEX('Comparison - TA'!$B$32:$L$51,MATCH(G27,'Comparison - TA'!$A$32:$A$51,0),MATCH(H27,'Comparison - TA'!$B$31:$L$31,0))/1000","v":0},-978.09134999999992,-1,null,"Stadium purposes rate","Region wide",null,{"$f":"INDEX(ess_base_estract,MATCH($G27,ESSbase!$B$8:$B$26,0),MATCH(B$10,ESSbase!$F$6:$G$6,0))/1000-B27","v":0},{"$f":"INDEX(ess_base_estract,MATCH($G27,ESSbase!$B$8:$B$26,0),MATCH(C$10,ESSbase!$F$6:$G$6,0))/1000-C27","v":0}]
["Wellington regional strategy rate",{"$f":"INDEX('Comparison - TA'!$B$7:$L$26,MATCH(G28,'Comparison - TA'!$A$7:$A$26,0),MATCH(H28,'Comparison - TA'!$B$6:$L$6,0))/1000","v":4822.0172188234974},{"$f":"INDEX('Comparison - TA'!$B$32:$L$51,MATCH(G28,'Comparison - TA'!$A$32:$A$51,0),MATCH(H28,'Comparison - TA'!$B$31:$L$31,0))/1000","v":4907.860820873193},85.843602049695619,1.78E-2,null,"Regional strategy rate","Region wide",null,{"$f":"INDEX(ess_base_estract,MATCH($G28,ESSbase!$B$8:$B$26,0),MATCH(B$10,ESSbase!$F$6:$G$6,0))/1000-B28","v":0},{"$f":"INDEX(ess_base_estract,MATCH($G28,ESSbase!$B$8:$B$26,0),MATCH(C$10,ESSbase!$F$6:$G$6,0))/1000-C28","v":0}]
[]
["Specific area targeted rates:"]
[]
["Pest management rate",{"$f":"INDEX('Comparison - TA'!$B$7:$L$26,MATCH(G32,'Comparison - TA'!$A$7:$A$26,0),MATCH(H32,'Comparison - TA'!$B$6:$L$6,0))/1000","v":472},{"$f":"INDEX('Comparison - TA'!$B$32:$L$51,MATCH(G32,'Comparison - TA'!$A$32:$A$51,0),MATCH(H32,'Comparison - TA'!$B$31:$L$31,0))/1000","v":532},60,{"$f":"ROUND(D32/B32,4)","v":0.12709999999999999},null,"Pest management rate","Region wide",null,{"$f":"INDEX(ess_base_estract,MATCH($G32,ESSbase!$B$8:$B$26,0),MATCH(B$10,ESSbase!$F$6:$G$6,0))/1000-B32","v":0},{"$f":"INDEX(ess_base_estract,MATCH($G32,ESSbase!$B$8:$B$26,0),MATCH(C$10,ESSbase!$F$6:$G$6,0))/1000-C32","v":0}]
["Flood protection – property ",0,{"$f":"Impact!L181/1000","v":1228.5836027645687},1228.5836027645687]
["Drainage scheme rate",0,{"$f":"+Impact!E242/1000+Impact!L253/1000","v":284.29500000000002},284.29500000000002]
["Land management - scheme rate",0,{"$f":"Impact!L219/1000","v":62.875443627073054},62.875443627073054,null,null,null,null,null,null,null,null,"This is the old area specific catchment rates "]
["Wairarapa scheme and stop bank rate",{"$f":"INDEX('Comparison - TA'!$B$7:$L$26,MATCH(G37,'Comparison - TA'!$A$7:$A$26,0),MATCH(H37,'Comparison - TA'!$B$6:$L$6,0))/1000","v":1451.756116},null,-1451.756116,{"$f":"ROUND(D33/B37,4)","v":13.1685},null,"River  Mgmt Rates - Non District Wide","Region wide",null,{"$f":"INDEX(ess_base_estract,MATCH($G36,ESSbase!$B$8:$B$26,0),MATCH(B$10,ESSbase!$F$6:$G$6,0))/1000-B37","v":0},{"$f":"INDEX(ess_base_estract,MATCH($G36,ESSbase!$B$8:$B$26,0),MATCH(C$10,ESSbase!$F$6:$G$6,0))/1000-C33","v":-1133.4196027645687}]
["South Wairarapa dictrict river rate",{"$f":"INDEX('Comparison - TA'!$B$7:$L$26,MATCH(G36,'Comparison - TA'!$A$7:$A$26,0),MATCH(H36,'Comparison - TA'!$B$6:$L$6,0))/1000","v":93.297359999999998},null,-93.297359999999998,{"$f":"ROUND(D37/B36,4)","v":-6.4299999999999996E-2},null,"Special Rates","Region wide",null,{"$f":"INDEX(ess_base_estract,MATCH($G37,ESSbase!$B$8:$B$26,0),MATCH(B$10,ESSbase!$F$6:$G$6,0))/1000-B36","v":0},{"$f":"INDEX(ess_base_estract,MATCH($G37,ESSbase!$B$8:$B$26,0),MATCH(C$10,ESSbase!$F$6:$G$6,0))/1000-C37","v":1480.5889999999999}]
["Total targeted rates 1",{"$f":"SUM(B23:B37)","v":78300.218589372627},{"$f":"SUM(C23:C37)","v":92409.715734415455},{"$f":"SUM(D23:D37)","v":14109.497145042842},{"$f":"ROUND(D38/B38,4)","v":0.1802}]
[]
["Total regional rates",{"$f":"INDEX('Comparison - TA'!$B$7:$L$26,MATCH(G40,'Comparison - TA'!$A$7:$A$26,0),MATCH(H40,'Comparison - TA'!$B$6:$L$6,0))/1000","v":120781.88910991621},{"$f":"INDEX('Comparison - TA'!$B$32:$L$51,MATCH(G40,'Comparison - TA'!$A$32:$A$51,0),MATCH(H40,'Comparison - TA'!$B$31:$L$31,0))/1000","v":128851.86566023981},{"$f":"C40-B40","v":8069.9765503235976},{"$f":"ROUND(D40/B40,4)","v":6.6799999999999998E-2},null,"Total Regnl Rates","Region wide",null,{"$f":"INDEX(ess_base_estract,MATCH($G40,ESSbase!$B$8:$B$26,0),MATCH(B$10,ESSbase!$F$6:$G$6,0))/1000-B40","v":0},{"$f":"INDEX(ess_base_estract,MATCH($G40,ESSbase!$B$8:$B$26,0),MATCH(C$10,ESSbase!$F$6:$G$6,0))/1000-C40","v":0}]
[]
["Water supply levy",{"$f":"INDEX('Comparison - TA'!$B$7:$L$26,MATCH(G42,'Comparison - TA'!$A$7:$A$26,0),MATCH(H42,'Comparison - TA'!$B$6:$L$6,0))/1000","v":30862.765437637678},{"$f":"INDEX('Comparison - TA'!$B$32:$L$51,MATCH(G42,'Comparison - TA'!$A$32:$A$51,0),MATCH(H42,'Comparison - TA'!$B$31:$L$31,0))/1000","v":33068.89804},{"$f":"C42-B42","v":2206.1326023623224},{"$f":"ROUND(D42/B42,4)","v":7.1499999999999994E-2},null,"Bulk Water Levies","Region wide",null,{"$f":"INDEX(ess_base_estract,MATCH($G42,ESSbase!$B$8:$B$26,0),MATCH(B$10,ESSbase!$F$6:$G$6,0))/1000-B42","v":0},{"$f":"INDEX(ess_base_estract,MATCH($G42,ESSbase!$B$8:$B$26,0),MATCH(C$10,ESSbase!$F$6:$G$6,0))/1000-C42","v":0}]
[]
["Total regional rates and levies 1",{"$f":"INDEX('Comparison - TA'!$B$7:$L$26,MATCH(G44,'Comparison - TA'!$A$7:$A$26,0),MATCH(H44,'Comparison - TA'!$B$6:$L$6,0))/1000","v":151644.65454755389},{"$f":"INDEX('Comparison - TA'!$B$32:$L$51,MATCH(G44,'Comparison - TA'!$A$32:$A$51,0),MATCH(H44,'Comparison - TA'!$B$31:$L$31,0))/1000","v":161920.7637002398},{"$f":"C44-B44","v":10276.109152685909},{"$f":"ROUND(D44/B44,4)","v":6.7799999999999999E-2},null,"Total Regnl Rates & levies","Region wide",null,{"$f":"INDEX(ess_base_estract,MATCH($G44,ESSbase!$B$8:$B$26,0),MATCH(B$10,ESSbase!$F$6:$G$6,0))/1000-B44","v":0},{"$f":"INDEX(ess_base_estract,MATCH($G44,ESSbase!$B$8:$B$26,0),MATCH(C$10,ESSbase!$F$6:$G$6,0))/1000-C44","v":0}]
[]
["Warm Wellington rates 2",{"$f":"INDEX('Comparison - TA'!$B$7:$L$26,MATCH(G46,'Comparison - TA'!$A$7:$A$26,0),MATCH(H46,'Comparison - TA'!$B$6:$L$6,0))/1000","v":3181.7669999999998},{"$f":"INDEX('Comparison - TA'!$B$32:$L$51,MATCH(G46,'Comparison - TA'!$A$32:$A$51,0),MATCH(H46,'Comparison - TA'!$B$31:$L$31,0))/1000","v":3237.058},null,null,null,"Warm Greater Wellington rate","Region wide",null,{"$f":"INDEX(ess_base_estract,MATCH($G46,ESSbase!$B$8:$B$26,0),MATCH(B$10,ESSbase!$F$6:$G$6,0))/1000-B46","v":0},{"$f":"INDEX(ess_base_estract,MATCH($G46,ESSbase!$B$8:$B$26,0),MATCH(C$10,ESSbase!$F$6:$G$6,0))/1000-C46","v":0}]
[]
["Total rates and levies",{"$f":"INDEX('Comparison - TA'!$B$7:$L$26,MATCH(G48,'Comparison - TA'!$A$7:$A$26,0),MATCH(H48,'Comparison - TA'!$B$6:$L$6,0))/1000","v":154826.42154755391},{"$f":"INDEX('Comparison - TA'!$B$32:$L$51,MATCH(G48,'Comparison - TA'!$A$32:$A$51,0),MATCH(H48,'Comparison - TA'!$B$31:$L$31,0))/1000","v":165157.82170023982},null,null,null,"Total Rates & Levies","Region wide",null,{"$f":"INDEX(ess_base_estract,MATCH($G48,ESSbase!$B$8:$B$26,0),MATCH(B$10,ESSbase!$F$6:$G$6,0))/1000-B48","v":0},{"$f":"INDEX(ess_base_estract,MATCH($G48,ESSbase!$B$8:$B$26,0),MATCH(C$10,ESSbase!$F$6:$G$6,0))/1000-C48","v":0}]
[]
[]
["All figures on this page exclude GST"]
[]
[]
[]
["Figures labelled “2017/18 Budget” are sourced from GWRC's 2017/18  Annual plan."]
[]
[]
["1 This total excludes any \"Warm Greater Wellington\" targeted rates as they impact only those ratepayers that participate in the scheme."]
[]
["2  Warm Greater Wellington is the scheme to assist regional ratepayers install insulation in their home. Only ratepayers participating in the scheme are charged this rate. "]

{"sheet":"2","index":25,"n_rows":59,"n_cols":11,"rows_kept":59,"cut":false,"hidden":false,"merged":[[2,0,4,4],[51,0,51,4],[42,0,43,4],[47,0,47,4],[56,0,57,4],[52,0,54,4],[55,0,55,4]]}
["WHAT IS THE IMPACT ON YOUR CITY OR DISTRICT?"]
[]
["Rates increases vary between city and district councils because of differing capital values. Further, some of GWRC's work programmes impact differently across the region, especially flood protection and public transport. See the next page for a break down by city and rate type"]
[]
[]
[]
["By area:",{"$f":"year_previous","v":"2017/18"},{"$f":"year_current","v":"2018/19"}]
[null,"Budget","Plan","Change","Change",null,"Row lookup","Column lookup"]
[null,"$000s","$000s","$000s","%  "]
["Wellington city",{"$f":"INDEX('Comparison - TA'!$B$7:$L$26,MATCH(G10,'Comparison - TA'!$A$7:$A$26,0),MATCH(H10,'Comparison - TA'!$B$6:$L$6,0))/1000","v":62570.978382812369},{"$f":"INDEX('Comparison - TA'!$B$32:$L$51,MATCH(G10,'Comparison - TA'!$A$32:$A$51,0),MATCH($H10,'Comparison - TA'!$B$31:$L$31,0))/1000","v":66685.381833939377},{"$f":"C10-B10","v":4114.4034511270074},{"$f":"ROUND(+D10/B10,4)","v":6.5799999999999997E-2},null,"District-wide rates","Wellington city"]
["Hutt city",{"$f":"INDEX('Comparison - TA'!$B$7:$L$26,MATCH(G11,'Comparison - TA'!$A$7:$A$26,0),MATCH(H11,'Comparison - TA'!$B$6:$L$6,0))/1000","v":23454.231569882813},{"$f":"INDEX('Comparison - TA'!$B$32:$L$51,MATCH(G11,'Comparison - TA'!$A$32:$A$51,0),MATCH($H11,'Comparison - TA'!$B$31:$L$31,0))/1000","v":24746.874793705461},{"$f":"C11-B11","v":1292.643223822648},{"$f":"ROUND(+D11/B11,4)","v":5.5100000000000003E-2},null,"District-wide rates","Hutt city"]
["Upper Hutt city",{"$f":"INDEX('Comparison - TA'!$B$7:$L$26,MATCH(G12,'Comparison - TA'!$A$7:$A$26,0),MATCH(H12,'Comparison - TA'!$B$6:$L$6,0))/1000","v":8387.2106640848742},{"$f":"INDEX('Comparison - TA'!$B$32:$L$51,MATCH(G12,'Comparison - TA'!$A$32:$A$51,0),MATCH($H12,'Comparison - TA'!$B$31:$L$31,0))/1000","v":8401.7797128803231},14.569048795448907,{"$f":"ROUND(+D12/B12,4)","v":1.6999999999999999E-3},null,"District-wide rates","Upper Hutt city"]
["Porirua city",{"$f":"INDEX('Comparison - TA'!$B$7:$L$26,MATCH(G13,'Comparison - TA'!$A$7:$A$26,0),MATCH(H13,'Comparison - TA'!$B$6:$L$6,0))/1000","v":9886.8880246029694},{"$f":"INDEX('Comparison - TA'!$B$32:$L$51,MATCH(G13,'Comparison - TA'!$A$32:$A$51,0),MATCH($H13,'Comparison - TA'!$B$31:$L$31,0))/1000","v":9624.0634054454422},-262.8246191575272,-2.6599999999999999E-2,null,"District-wide rates","Porirua city"]
["Kapiti Coast district",{"$f":"INDEX('Comparison - TA'!$B$7:$L$26,MATCH(G14,'Comparison - TA'!$A$7:$A$26,0),MATCH(H14,'Comparison - TA'!$B$6:$L$6,0))/1000","v":9327.0681315477359},{"$f":"INDEX('Comparison - TA'!$B$32:$L$51,MATCH(G14,'Comparison - TA'!$A$32:$A$51,0),MATCH($H14,'Comparison - TA'!$B$31:$L$31,0))/1000","v":10644.426877405353},1317.3587458576167,0.14119999999999999,null,"District-wide rates","Kapiti Coast district"]
["Masterton district",{"$f":"INDEX('Comparison - TA'!$B$7:$L$26,MATCH(G15,'Comparison - TA'!$A$7:$A$26,0),MATCH(H15,'Comparison - TA'!$B$6:$L$6,0))/1000","v":2243.2260841790844},{"$f":"INDEX('Comparison - TA'!$B$32:$L$51,MATCH(G15,'Comparison - TA'!$A$32:$A$51,0),MATCH($H15,'Comparison - TA'!$B$31:$L$31,0))/1000","v":2948.2631945713629},705.03711039227846,0.31430000000000002,null,"District-wide rates","Masterton district"]
["Carterton district",{"$f":"INDEX('Comparison - TA'!$B$7:$L$26,MATCH(G16,'Comparison - TA'!$A$7:$A$26,0),MATCH(H16,'Comparison - TA'!$B$6:$L$6,0))/1000","v":1093.9527462341168},{"$f":"INDEX('Comparison - TA'!$B$32:$L$51,MATCH(G16,'Comparison - TA'!$A$32:$A$51,0),MATCH($H16,'Comparison - TA'!$B$31:$L$31,0))/1000","v":1377.3906947443213},283.43794851020448,0.2591,null,"District-wide rates","Carterton district"]
["South Wairarapa district",{"$f":"INDEX('Comparison - TA'!$B$7:$L$26,MATCH(G17,'Comparison - TA'!$A$7:$A$26,0),MATCH(H17,'Comparison - TA'!$B$6:$L$6,0))/1000","v":1798.6728202725044},{"$f":"INDEX('Comparison - TA'!$B$32:$L$51,MATCH(G17,'Comparison - TA'!$A$32:$A$51,0),MATCH($H17,'Comparison - TA'!$B$31:$L$31,0))/1000","v":2313.3817052268832},514.70888495437885,{"$f":"ROUND(+D17/B17,4)","v":0.28620000000000001},null,"District-wide rates","South Wairarapa district"]
["Tararua district1",{"$f":"INDEX('Comparison - TA'!$B$7:$L$26,MATCH(G18,'Comparison - TA'!$A$7:$A$26,0),MATCH(H18,'Comparison - TA'!$B$6:$L$6,0))/1000","v":2.6064428815298135},{"$f":"INDEX('Comparison - TA'!$B$32:$L$51,MATCH(G18,'Comparison - TA'!$A$32:$A$51,0),MATCH($H18,'Comparison - TA'!$B$31:$L$31,0))/1000","v":2.5499771340364479},-5.6465747493365637E-2,-2.1700000000000001E-2,null,"District-wide rates","Tararua district"]
["Region-wide rates2",{"$f":"INDEX('Comparison - TA'!$B$7:$L$26,MATCH(G19,'Comparison - TA'!$A$7:$A$26,0),MATCH(H19,'Comparison - TA'!$B$6:$L$6,0))/1000","v":118764.83563391621},{"$f":"INDEX('Comparison - TA'!$B$32:$L$51,MATCH(G19,'Comparison - TA'!$A$32:$A$51,0),MATCH($H19,'Comparison - TA'!$B$31:$L$31,0))/1000","v":126744.11266023981},{"$f":"C19-B19","v":7979.2770263236016},6.7199999999999996E-2,null,"District-wide rates","Region wide",null,{"$f":"INDEX(ess_base_estract,MATCH($G19,ESSbase!$B$8:$B$26,0),MATCH(B$7,ESSbase!$F$6:$G$6,0))/1000-B19","v":0},{"$f":"INDEX(ess_base_estract,MATCH($G19,ESSbase!$B$8:$B$26,0),MATCH(C$7,ESSbase!$F$6:$G$6,0))/1000-C19","v":0}]
[]
["Pest management rate",{"$f":"'1'!B32","v":472},{"$f":"'1'!C32","v":532},{"$f":"'1'!D32","v":60},{"$f":"ROUND(+D21/B21,4)","v":0.12709999999999999},null,"Pest management rate","Region wide",null,{"$f":"INDEX(ess_base_estract,MATCH($G21,ESSbase!$B$8:$B$26,0),MATCH(B$7,ESSbase!$F$6:$G$6,0))/1000-B21","v":0},{"$f":"INDEX(ess_base_estract,MATCH($G21,ESSbase!$B$8:$B$26,0),MATCH(C$7,ESSbase!$F$6:$G$6,0))/1000-C21","v":0}]
["Flood protection – property ",{"$f":"'1'!B33","v":0},{"$f":"'1'!C33","v":1228.5836027645687},{"$f":"'1'!D33","v":1228.5836027645687},{"$error":"#DIV/0!"},null,"River  Mgmt Rates - Non District Wide","Region wide",null,{"$f":"INDEX(ess_base_estract,MATCH($G22,ESSbase!$B$8:$B$26,0),MATCH(B$7,ESSbase!$F$6:$G$6,0))/1000-B22","v":93.297359999999998},{"$f":"INDEX(ess_base_estract,MATCH($G22,ESSbase!$B$8:$B$26,0),MATCH(C$7,ESSbase!$F$6:$G$6,0))/1000-C22","v":-1133.4196027645687}]
["Drainage scheme rate",{"$f":"'1'!B34","v":0},{"$f":"'1'!C34","v":284.29500000000002},{"$f":"'1'!D34","v":284.29500000000002}]
["Land management - scheme rate",{"$f":"'1'!B35","v":0},{"$f":"'1'!C35","v":62.875443627073054},{"$f":"'1'!D35","v":62.875443627073054}]
["Wairarapa scheme and stop bank rate",{"$f":"'1'!B36","v":1451.756116},{"$f":"'1'!C36","v":0},{"$f":"'1'!D36","v":-1451.756116}]
["South Wairarapa dictrict river rate",{"$f":"'1'!B37","v":93.297359999999998},{"$f":"'1'!C37","v":0},{"$f":"'1'!D37","v":-93.297359999999998}]
[null,null,null,null,null,null,"Special Rates","Region wide",null,{"$f":"INDEX(ess_base_estract,MATCH($G27,ESSbase!$B$8:$B$26,0),MATCH(B$7,ESSbase!$F$6:$G$6,0))/1000-B27","v":1451.756116},{"$f":"INDEX(ess_base_estract,MATCH($G27,ESSbase!$B$8:$B$26,0),MATCH(C$7,ESSbase!$F$6:$G$6,0))/1000-C27","v":1480.5889999999999}]
["Total regional rates",{"$f":"INDEX('Comparison - TA'!$B$7:$L$26,MATCH(G28,'Comparison - TA'!$A$7:$A$26,0),MATCH(H28,'Comparison - TA'!$B$6:$L$6,0))/1000","v":120781.88910991621},{"$f":"INDEX('Comparison - TA'!$B$32:$L$51,MATCH(G28,'Comparison - TA'!$A$32:$A$51,0),MATCH($H28,'Comparison - TA'!$B$31:$L$31,0))/1000","v":128851.86566023981},{"$f":"ROUND(C28-B28,0)","v":8070},{"$f":"ROUND(+D28/B28,4)","v":6.6799999999999998E-2},null,"Total Regnl Rates","Region wide",null,{"$f":"INDEX(ess_base_estract,MATCH($G28,ESSbase!$B$8:$B$26,0),MATCH(B$7,ESSbase!$F$6:$G$6,0))/1000-B28","v":0},{"$f":"INDEX(ess_base_estract,MATCH($G28,ESSbase!$B$8:$B$26,0),MATCH(C$7,ESSbase!$F$6:$G$6,0))/1000-C28","v":0}]
[]
["Water supply levy"]
["Wellington City Council",{"$f":"INDEX('Comparison - TA'!$B$7:$L$26,MATCH(G31,'Comparison - TA'!$A$7:$A$26,0),MATCH(H31,'Comparison - TA'!$B$6:$L$6,0))/1000","v":16514.665785679925},{"$f":"INDEX('Comparison - TA'!$B$32:$L$51,MATCH(G31,'Comparison - TA'!$A$32:$A$51,0),MATCH($H31,'Comparison - TA'!$B$31:$L$31,0))/1000","v":17696.562021405687},{"$f":"ROUND(C31-B31,0)","v":1182},{"$f":"ROUND(+D31/B31,4)","v":7.1599999999999997E-2},null,"Bulk Water Levies","Wellington city"]
["Hutt City Council",{"$f":"INDEX('Comparison - TA'!$B$7:$L$26,MATCH(G32,'Comparison - TA'!$A$7:$A$26,0),MATCH(H32,'Comparison - TA'!$B$6:$L$6,0))/1000","v":7660.1383816216721},{"$f":"INDEX('Comparison - TA'!$B$32:$L$51,MATCH(G32,'Comparison - TA'!$A$32:$A$51,0),MATCH($H32,'Comparison - TA'!$B$31:$L$31,0))/1000","v":8206.3400099263545},546,7.1300000000000002E-2,null,"Bulk Water Levies","Hutt city"]
["Upper Hutt City Council",{"$f":"INDEX('Comparison - TA'!$B$7:$L$26,MATCH(G33,'Comparison - TA'!$A$7:$A$26,0),MATCH(H33,'Comparison - TA'!$B$6:$L$6,0))/1000","v":3095.5353733950592},{"$f":"INDEX('Comparison - TA'!$B$32:$L$51,MATCH(G33,'Comparison - TA'!$A$32:$A$51,0),MATCH($H33,'Comparison - TA'!$B$31:$L$31,0))/1000","v":3317.5670040129153},222,7.17E-2,null,"Bulk Water Levies","Upper Hutt city"]
["Porirua City Council",{"$f":"INDEX('Comparison - TA'!$B$7:$L$26,MATCH(G34,'Comparison - TA'!$A$7:$A$26,0),MATCH(H34,'Comparison - TA'!$B$6:$L$6,0))/1000","v":3592.4258969410262},{"$f":"INDEX('Comparison - TA'!$B$32:$L$51,MATCH(G34,'Comparison - TA'!$A$32:$A$51,0),MATCH($H34,'Comparison - TA'!$B$31:$L$31,0))/1000","v":3848.4290046550436},256,7.1300000000000002E-2,null,"Bulk Water Levies","Porirua city"]
["Water supply levy",{"$f":"INDEX('Comparison - TA'!$B$7:$L$26,MATCH(G35,'Comparison - TA'!$A$7:$A$26,0),MATCH(H35,'Comparison - TA'!$B$6:$L$6,0))/1000","v":30862.765437637678},{"$f":"INDEX('Comparison - TA'!$B$32:$L$51,MATCH(G35,'Comparison - TA'!$A$32:$A$51,0),MATCH($H35,'Comparison - TA'!$B$31:$L$31,0))/1000","v":33068.89804},2206,7.1499999999999994E-2,null,"Bulk Water Levies","Region wide",null,{"$f":"INDEX(ess_base_estract,MATCH($G35,ESSbase!$B$8:$B$26,0),MATCH(B$7,ESSbase!$F$6:$G$6,0))/1000-B35","v":0},{"$f":"INDEX(ess_base_estract,MATCH($G35,ESSbase!$B$8:$B$26,0),MATCH(C$7,ESSbase!$F$6:$G$6,0))/1000-C35","v":0}]
[]
["Total regional rates and levies 3",{"$f":"INDEX('Comparison - TA'!$B$7:$L$26,MATCH(G37,'Comparison - TA'!$A$7:$A$26,0),MATCH(H37,'Comparison - TA'!$B$6:$L$6,0))/1000","v":151644.65454755389},{"$f":"INDEX('Comparison - TA'!$B$32:$L$51,MATCH(G37,'Comparison - TA'!$A$32:$A$51,0),MATCH($H37,'Comparison - TA'!$B$31:$L$31,0))/1000","v":161920.7637002398},{"$f":"ROUND(C37-B37,0)","v":10276},{"$f":"ROUND(+D37/B37,4)","v":6.7799999999999999E-2},null,"Total Regnl Rates & levies","Region wide",null,{"$f":"INDEX(ess_base_estract,MATCH($G37,ESSbase!$B$8:$B$26,0),MATCH(B$7,ESSbase!$F$6:$G$6,0))/1000-B37","v":0},{"$f":"INDEX(ess_base_estract,MATCH($G37,ESSbase!$B$8:$B$26,0),MATCH(C$7,ESSbase!$F$6:$G$6,0))/1000-C37","v":0}]
[]
["Warm Wellington rate 4",{"$f":"INDEX('Comparison - TA'!$B$7:$L$26,MATCH(G39,'Comparison - TA'!$A$7:$A$26,0),MATCH(H39,'Comparison - TA'!$B$6:$L$6,0))/1000","v":3181.7669999999998},{"$f":"INDEX('Comparison - TA'!$B$32:$L$51,MATCH(G39,'Comparison - TA'!$A$32:$A$51,0),MATCH($H39,'Comparison - TA'!$B$31:$L$31,0))/1000","v":3237.058},null,null,null,"Warm Greater Wellington rate","Region wide",null,{"$f":"INDEX(ess_base_estract,MATCH($G39,ESSbase!$B$8:$B$26,0),MATCH(B$7,ESSbase!$F$6:$G$6,0))/1000-B39","v":0},{"$f":"INDEX(ess_base_estract,MATCH($G39,ESSbase!$B$8:$B$26,0),MATCH(C$7,ESSbase!$F$6:$G$6,0))/1000-C39","v":0}]
[]
["Total rates and levies",{"$f":"INDEX('Comparison - TA'!$B$7:$L$26,MATCH(G41,'Comparison - TA'!$A$7:$A$26,0),MATCH(H41,'Comparison - TA'!$B$6:$L$6,0))/1000","v":154826.42154755391},{"$f":"INDEX('Comparison - TA'!$B$32:$L$51,MATCH(G41,'Comparison - TA'!$A$32:$A$51,0),MATCH($H41,'Comparison - TA'!$B$31:$L$31,0))/1000","v":165157.82170023982},null,null,null,"Total Rates & Levies","Region wide",null,{"$f":"INDEX(ess_base_estract,MATCH($G41,ESSbase!$B$8:$B$26,0),MATCH(B$7,ESSbase!$F$6:$G$6,0))/1000-B41","v":0},{"$f":"INDEX(ess_base_estract,MATCH($G41,ESSbase!$B$8:$B$26,0),MATCH(C$7,ESSbase!$F$6:$G$6,0))/1000-C41","v":0}]
[]
[{"$f":"+'1'!$A$51","v":"All figures on this page exclude GST"}]
[]
[]
[]
["Notes:"]
[{"$f":"+'1'!$A$55","v":"Figures labelled “2017/18 Budget” are sourced from GWRC's 2017/18  Annual plan."}]
[]
[null,null,null,null,null,null,null,null,null,"Certain comparatives have been reclassified to aid comparability"]
[]
["1 10 rural properties in the Tararua District are within the boundaries of the Greater Wellington region."]
["2  Region-wide rates are rates that are charged to all ratepayers in  the region. It excludes Pest management rate, Flood protection – property rate, Drainage scheme rate, Land management - scheme rate and any \"Warm Greater Wellington\" targeted rates as they impact only certain ratepayers that are covered by these programmes."]
[]
[]
["3 This total excludes any \"Warm Greater Wellington\" targeted rates as they impact only those ratepayers that participate in the scheme."]
["4 Warm Wellington is the scheme to assist regional ratepayers install insulation or clean heating appliances in their home. Only ratepayers participating in the scheme are charged this rate."]
[]
[{"$f":"'1'!A62","v":0}]

{"sheet":"3","index":26,"n_rows":159,"n_cols":25,"rows_kept":159,"cut":false,"hidden":false,"merged":[[129,7,129,8],[129,5,129,6],[129,3,129,4],[27,0,28,15],[25,0,25,3],[50,0,51,15],[8,14,9,15],[55,0,56,15],[44,0,47,19],[48,0,49,19],[8,16,9,17],[8,18,9,19],[8,2,9,3],[8,4,9,5],[8,10,9,11],[8,12,9,13],[8,8,9,9],[8,6,9,7]]}
["PAGE xx gone"]
[]
["RATES AND LEVIES - REGION-WIDE CHANGES BY CITY AND RATE TYPE"]
["WHAT IS THE IMPACT ON YOUR CITY OR DISTRICT?"]
[]
[]
["Changes in Region-wide rates due to equalised capital value (ECV) movements and apportionment from 2017/18 to 2018/19"]
[]
[null,null,"ECV movements1",null,"General rate",null,"Flood protection - Regional rate",null,"Flood protection - Catchment rate",null,"River management rate",null,"Transport rate",null,"Stadium-purposes rate",null,"WRS rate",null,"Total Region-wide rates2"]
[]
[null,null,null,null,"General rate","General rate","Flood protection – regional rate","Flood protection - Regional rates","Flood protection – catchment rate","Flood protection - Catchment rates","River management rate","River  Mgmt Rate","Public transport rate","Transport Rate","Stadium purposes rate","Stadium Rate","Regional strategy rate","WRS Rate","District-Wide Rates","Region-wide rates"]
[null,null,"Change","Change","Change","Change","Change","Change","Change","Change","Change","Change","Change","Change","Change","Change","Change","Change","Change","Change"]
[null,null,"$000s","%  ","$000s","%  ","$000s","%  ","$000s","%  ","$000s","%  ","$000s","%  ","$000s","%  ","$000s","%  ","$000s","%  ",null,"Check $","Check $","Check %","Check %"]
["Wellington City",null,{"$f":"INDEX($K$87:$K$96,MATCH(A14,$A$87:$A$96,0),)/1000","v":-1201.0610434452519},{"$f":"C14*1000/INDEX($K$61:$K$70,MATCH($A14,$A$61:$A$70,0))","v":-1.9195177402048895E-2},{"$f":"INDEX($D$100:$K$109,MATCH($A14,$A$100:$A$109,0),MATCH(E$11,$D$99:$K$99,0))/1000","v":-2943.9434962828941},{"$f":"E14*1000/INDEX($K$61:$K$70,MATCH($A14,$A$61:$A$70,0))","v":-4.7049663279944781E-2},{"$f":"INDEX($D$100:$K$109,MATCH($A14,$A$100:$A$109,0),MATCH(G$11,$D$99:$K$99,0))/1000","v":4745.2930166026244},{"$f":"G14*1000/INDEX($K$61:$K$70,MATCH($A14,$A$61:$A$70,0))","v":7.5838561058568829E-2},{"$f":"INDEX($D$100:$K$109,MATCH($A14,$A$100:$A$109,0),MATCH(I$11,$D$99:$K$99,0))/1000","v":54.042000000000002},{"$f":"I14*1000/INDEX($K$61:$K$70,MATCH($A14,$A$61:$A$70,0))","v":8.6369113611902098E-4},{"$f":"INDEX($D$100:$K$109,MATCH($A14,$A$100:$A$109,0),MATCH(K$11,$D$99:$K$99,0))/1000","v":-43.255424103945202},{"$f":"K14*1000/INDEX($K$61:$K$70,MATCH($A14,$A$61:$A$70,0))","v":-6.9130169845021494E-4},{"$f":"INDEX($D$100:$K$109,MATCH($A14,$A$100:$A$109,0),MATCH(M$11,$D$99:$K$99,0))/1000","v":4037.6148418926223},{"$f":"M14*1000/INDEX($K$61:$K$70,MATCH($A14,$A$61:$A$70,0))","v":6.4528554642782662E-2},{"$f":"INDEX($D$100:$K$109,MATCH($A14,$A$100:$A$109,0),MATCH(O$11,$D$99:$K$99,0))/1000","v":-580.98626189999993},{"$f":"O14*1000/INDEX($K$61:$K$70,MATCH($A14,$A$61:$A$70,0))","v":-9.285235272749973E-3},{"$f":"INDEX($D$100:$K$109,MATCH($A14,$A$100:$A$109,0),MATCH(Q$11,$D$99:$K$99,0))/1000","v":46.699132389372679},{"$f":"Q14*1000/INDEX($K$61:$K$70,MATCH($A14,$A$61:$A$70,0))","v":7.463385276109297E-4},{"$f":"INDEX('Comparison - TA'!$B$65:$K$65,MATCH('3'!A14,'Comparison - TA'!$B$56:$K$56,0))/1000","v":4114.4034511270074},{"$f":"S14*1000/INDEX($K$61:$K$70,MATCH($A14,$A$61:$A$70,0),)","v":6.5755778675028798E-2},null,{"$f":"IF(ABS((C14+E14+G14+I14+K14+M14+O14+Q14-S14)*1000)>tolerance_dollar,1,0)","v":0},{"$f":"ROUND(INDEX('2'!$D$10:$D$19,MATCH(A14,'2'!$H$10:$H$19,0),)-S14,3)","v":0},{"$f":"ROUND(D14+F14+H14+J14+L14+N14+P14+R14-T14,2)","v":0},{"$f":"ROUND(INDEX('2'!$E$10:$E$19,MATCH(A14,'2'!$H$10:$H$19,0),)-T14,2)","v":0}]
["Hutt City",null,276.10073990605588,1.1771894645481003E-2,-1029.3917247044649,-4.3889382318475847E-2,1659.2592109041047,7.0744557319741705E-2,5167.4920000000002,0.22032237735423643,-3685.5863029764805,-0.15713950524083817,-925.59382390148198,-3.9463831147948165E-2,-190.92343151999998,-8.1402553356860839E-3,21.286821604815778,9.0758982157854032E-4,{"$f":"INDEX('Comparison - TA'!$B$65:$K$65,MATCH('3'!A15,'Comparison - TA'!$B$56:$K$56,0))/1000","v":1292.643223822646},5.5113433778600854E-2,null,0,{"$f":"ROUND(INDEX('2'!$D$10:$D$19,MATCH(A15,'2'!$H$10:$H$19,0),)-S15,3)","v":0},{"$f":"ROUND(D15+F15+H15+J15+L15+N15+P15+R15-T15,2)","v":0},{"$f":"ROUND(INDEX('2'!$E$10:$E$19,MATCH(A15,'2'!$H$10:$H$19,0),)-T15,2)","v":0}]
["Upper Hutt City",null,126.88986328833829,1.5128968694680583E-2,-391.49300446411644,-4.6677372449091453E-2,631.04099058898316,7.5238471728721293E-2,881.40200000000004,0.10508879842614166,-678.04543376824518,-8.084277085034626E-2,-512.79506135474196,-6.1140111818023361E-2,-51.447605009999997,-6.1340534652787786E-3,9.0162607327867299,1.0750009719802779E-3,{"$f":"INDEX('Comparison - TA'!$B$65:$K$65,MATCH('3'!A16,'Comparison - TA'!$B$56:$K$56,0))/1000","v":14.569048795448616},1.7370550919166528E-3,null,0,{"$f":"ROUND(INDEX('2'!$D$10:$D$19,MATCH(A16,'2'!$H$10:$H$19,0),)-S16,3)","v":0},0,{"$f":"ROUND(INDEX('2'!$E$10:$E$19,MATCH(A16,'2'!$H$10:$H$19,0),)-T16,2)","v":0}]
["Porirua City",null,237.16648357649055,2.3987979601121243E-2,-487.8387309850836,-4.9341986907407445E-2,786.33904702814777,7.95335189661939E-2,45.121000000000002,4.5637208565902192E-3,-28.307679875423506,-2.8631534994603279E-3,-753.50681165223477,-7.621273358126153E-2,-70.226958930000009,-7.1030393201335466E-3,8.4283928712672793,8.5248182296799267E-4,{"$f":"INDEX('Comparison - TA'!$B$65:$K$65,MATCH('3'!A17,'Comparison - TA'!$B$56:$K$56,0))/1000","v":-262.8246191575285},-2.6583147449626428E-2,null,0,{"$f":"ROUND(INDEX('2'!$D$10:$D$19,MATCH(A17,'2'!$H$10:$H$19,0),)-S17,3)","v":0},0,{"$f":"ROUND(INDEX('2'!$E$10:$E$19,MATCH(A17,'2'!$H$10:$H$19,0),)-T17,2)","v":0}]
["Kapiti Coast District",null,199.96932013570611,2.1439677488858763E-2,-626.50938458189182,-6.7171099747019264E-2,1009.8599416891716,0.10827196613980779,1619.846,0.17367152020144705,-1368.2257946305372,-0.14669410161973315,531.75694428360885,5.7012232577300877E-2,-47.339621339999994,-5.0755096496078404E-3,-1.9980756742703962,-2.1422335199029475E-4,{"$f":"INDEX('Comparison - TA'!$B$65:$K$65,MATCH('3'!A18,'Comparison - TA'!$B$56:$K$56,0))/1000","v":1317.3587458576169},0.14124039942300937,null,0,{"$f":"ROUND(INDEX('2'!$D$10:$D$19,MATCH(A18,'2'!$H$10:$H$19,0),)-S18,3)","v":0},0,{"$f":"ROUND(INDEX('2'!$E$10:$E$19,MATCH(A18,'2'!$H$10:$H$19,0),)-T18,2)","v":0}]
["Masterton District",null,125.65949522448319,5.6017316222223022E-2,-251.46656868998775,-0.11210042084332546,405.33473343503215,0.1806927832880291,271.62700000000001,0.12108767050441852,0,0,172.34660900171042,7.6829804855014269E-2,-19.561826999999997,-8.7203998948574227E-3,1.0978414196114754,4.8940296835004403E-4,{"$f":"INDEX('Comparison - TA'!$B$65:$K$65,MATCH('3'!A19,'Comparison - TA'!$B$56:$K$56,0))/1000","v":705.03711039227858},0.31429607997941134,null,0,{"$f":"ROUND(INDEX('2'!$D$10:$D$19,MATCH(A19,'2'!$H$10:$H$19,0),)-S19,3)","v":0},0,{"$f":"ROUND(INDEX('2'!$E$10:$E$19,MATCH(A19,'2'!$H$10:$H$19,0),)-T19,2)","v":0}]
["Carterton District",null,59.785591770987722,5.4650965975017451E-2,-115.90735141897284,-0.10595276438706433,186.8291106659558,0.17078347922455017,144.63399999999999,0.13221225346583343,-23.23968,-2.1243763310320254E-2,37.75753256317423,3.4514764616112741E-2,-6.8466394500000005,-6.2586226637759753E-3,0.42506492871155205,3.8855865214436531E-4,{"$f":"INDEX('Comparison - TA'!$B$65:$K$65,MATCH('3'!A20,'Comparison - TA'!$B$56:$K$56,0))/1000","v":283.43794851020442},0.25909516358717172,null,0,{"$f":"ROUND(INDEX('2'!$D$10:$D$19,MATCH(A20,'2'!$H$10:$H$19,0),)-S20,3)","v":0},0,{"$f":"ROUND(INDEX('2'!$E$10:$E$19,MATCH(A20,'2'!$H$10:$H$19,0),)-T20,2)","v":0}]
["South Wairarapa District",null,175.72991857180989,9.7699822789948598E-2,-192.66873427454033,-0.10711722482301277,310.55949287920242,0.17266045341980654,201.92599999999999,0.11226394786395749,0,0,29.034043999811985,1.6141935173651437E-2,-10.75900485,-5.9816386178524099E-3,0.88816377740079766,4.937886750630365E-4,{"$f":"INDEX('Comparison - TA'!$B$65:$K$65,MATCH('3'!A21,'Comparison - TA'!$B$56:$K$56,0))/1000","v":514.70888495437896},0.28616053121259316,null,0,{"$f":"ROUND(INDEX('2'!$D$10:$D$19,MATCH(A21,'2'!$H$10:$H$19,0),)-S21,3)","v":0},0,{"$f":"ROUND(INDEX('2'!$E$10:$E$19,MATCH(A21,'2'!$H$10:$H$19,0),)-T21,2)","v":0}]
["Tararua District",null,-0.24036902862760962,-9.2221099618545466E-2,-0.30055292564440605,-0.11531153349809874,0.48445620677865014,0.18586872177851282,0,0,0,0,0,0,0,0,0,0,{"$f":"INDEX('Comparison - TA'!$B$65:$K$65,MATCH('3'!A22,'Comparison - TA'!$B$56:$K$56,0))/1000","v":-5.6465747493365595E-2},-2.1663911338131399E-2,null,0,{"$f":"ROUND(INDEX('2'!$D$10:$D$19,MATCH(A22,'2'!$H$10:$H$19,0),)-S22,3)","v":0},0,{"$f":"ROUND(INDEX('2'!$E$10:$E$19,MATCH(A22,'2'!$H$10:$H$19,0),)-T22,2)","v":0}]
["Region wide",2,{"$f":"SUM(C14:C22)","v":-7.8707595996263535E-12},-6.6271801450147446E-17,{"$f":"INDEX($D$100:$K$109,MATCH(\"Region wide\",$A$100:$A$109,0),MATCH(E$11,$D$99:$K$99,0))/1000","v":-6039.5195483275957},-5.0852758910340946E-2,{"$f":"INDEX($D$100:$K$109,MATCH(\"Region wide\",$A$100:$A$109,0),MATCH(G$11,$D$99:$K$99,0))/1000","v":9735.0000000000018},8.1968706952733353E-2,{"$f":"INDEX($D$100:$K$109,MATCH(\"Region wide\",$A$100:$A$109,0),MATCH(I$11,$D$99:$K$99,0))/1000","v":8386.09},7.0610883789342327E-2,{"$f":"INDEX($D$100:$K$109,MATCH(\"Region wide\",$A$100:$A$109,0),MATCH(K$11,$D$99:$K$99,0))/1000","v":-5826.6603153546303},-4.9060484016684593E-2,{"$f":"INDEX($D$100:$K$109,MATCH(\"Region wide\",$A$100:$A$109,0),MATCH(M$11,$D$99:$K$99,0))/1000","v":2616.6142748324696},2.2031894062874324E-2,{"$f":"INDEX($D$100:$K$109,MATCH(\"Region wide\",$A$100:$A$109,0),MATCH(O$11,$D$99:$K$99,0))/1000","v":-978.09134999999992},-8.2355298655524736E-3,{"$f":"INDEX($D$100:$K$109,MATCH(\"Region wide\",$A$100:$A$109,0),MATCH(Q$11,$D$99:$K$99,0))/1000","v":85.843602049695889},7.2280319056790775E-4,{"$f":"INDEX($D$100:$K$109,MATCH(\"Region wide\",$A$100:$A$109,0),MATCH(S$11,$D$99:$K$99,0))/1000","v":7979.2766631999366},6.7185515202939861E-2,null,0,{"$f":"ROUND(INDEX('2'!$D$10:$D$19,MATCH(A23,'2'!$H$10:$H$19,0),)-S23,3)","v":0},0,{"$f":"ROUND(INDEX('2'!$E$10:$E$19,MATCH(A23,'2'!$H$10:$H$19,0),)-T23,2)","v":0}]
[null,null,null,null,null,null,null,null,null,null,null,null,null,null,null,null,null,null,null,null,null,"Doesn't incl area specifc rates"]
[]
["WATER SUPPLY LEVY"]
[]
["This table shows that the proposed water supply levy will increase by 5.4% from the 2016/17 level. The amounts charged to each of the four cities are based on the 2016/17 water consumption budgets and will be based on actual usage when the annual plan is finalised in June 2017."]
[]
[]
[]
[null,null,null,null,null,null,null,null,null,null,null,null,null,null,null,null,{"$f":"year_previous","v":"2017/18"},{"$f":"year_current","v":"2018/19"}]
[null,null,null,null,null,null,null,null,null,null,null,null,null,null,null,null,"Budget","Plan","Change","Change"]
[null,null,null,null,null,null,null,null,null,null,null,null,null,null,null,null,"$000s","$000s","$000s","%  "]
["Wellington City",null,null,null,null,null,null,null,null,null,null,null,null,null,null,null,{"$f":"INDEX('Comparison - TA'!$B$23:$K$23,,MATCH(A35,'Comparison - TA'!$B$6:$K$6,0))/1000","v":16514.665785679925},{"$f":"INDEX('Water levy'!$C$10:$C$19,MATCH(A35,'Water levy'!$A$10:$A$19,0),)/1000","v":17696.562021405687},{"$f":"+R35-Q35","v":1181.8962357257624},{"$f":"S35/Q35","v":7.1566464078891598E-2}]
["Hutt City",null,null,null,null,null,null,null,null,null,null,null,null,null,null,null,{"$f":"INDEX('Comparison - TA'!$B$23:$K$23,,MATCH(A36,'Comparison - TA'!$B$6:$K$6,0))/1000","v":7660.1383816216721},{"$f":"INDEX('Water levy'!$C$10:$C$19,MATCH(A36,'Water levy'!$A$10:$A$19,0),)/1000","v":8206.3400099263545},{"$f":"+R36-Q36","v":546.20162830468234},7.1304407452369017E-2]
["Upper Hutt City",null,null,null,null,null,null,null,null,null,null,null,null,null,null,null,{"$f":"INDEX('Comparison - TA'!$B$23:$K$23,,MATCH(A37,'Comparison - TA'!$B$6:$K$6,0))/1000","v":3095.5353733950592},{"$f":"INDEX('Water levy'!$C$10:$C$19,MATCH(A37,'Water levy'!$A$10:$A$19,0),)/1000","v":3317.5670040129153},{"$f":"+R37-Q37","v":222.03163061785608},7.1726407175357415E-2]
["Porirua City",null,null,null,null,null,null,null,null,null,null,null,null,null,null,null,{"$f":"INDEX('Comparison - TA'!$B$23:$K$23,,MATCH(A38,'Comparison - TA'!$B$6:$K$6,0))/1000","v":3592.4258969410262},{"$f":"INDEX('Water levy'!$C$10:$C$19,MATCH(A38,'Water levy'!$A$10:$A$19,0),)/1000","v":3848.4290046550436},{"$f":"+R38-Q38","v":256.00310771401746},7.1261903532096729E-2]
["Bulk Water Levies",null,null,null,null,null,null,null,null,null,null,null,null,null,null,null,{"$f":"INDEX(ESSbase!$F$8:$F$26,MATCH(A39,ESSbase!$B$8:$B$26,0),)/1000","v":30862.765437637678},{"$f":"INDEX(ESSbase!$G$8:$G$26,MATCH(A39,ESSbase!$B$8:$B$26,0),)/1000","v":33068.89804},{"$f":"+R39-Q39","v":2206.1326023623224},{"$f":"ROUND(S39/Q39,4)","v":7.1499999999999994E-2},null,{"$f":"Q39-SUM(Q35:Q38)","v":0},{"$f":"R39-SUM(R35:R38)","v":0}]
[]
[]
[]
["Notes:"]
[]
["1 Rates for Greater Wellington are mostly allocated to ratepayers on the basis of their capital values. The territorial local authorities undertake valuations in different years. To ensure properties are valued on the same basis in each territorial area,  Greater Wellington undertakes an equalised capital value (ECV) calculation. The movements in ECV reflect the extent to which capital values in each area have moved relative to each other.\nThe ECV change by city amount shows how much the general rate changes as a direct consequence of the relative changes in capital values between the cities and districts from 2017/18 to 2018/19"]
[]
[]
[]
["2  Region-wide rates are rates that are charged to all ratepayers in  the region. It excludes  South Wairarapa Region river rates, Wairarapa river and drainage schemes and any \"Warm Greater Wellington\" targeted rates as they impact only certain ratepayers that are covered by these programmes"]
[]
[{"$f":"+'1'!$A$51","v":"All figures on this page exclude GST"}]
[]
[]
[]
[]
["Movement workings"]
[]
[]
["Last years rate"]
[null,null,null,"General Rate","Flood protection – regional rate","Flood protection – catchment rate","River management rate","Public transport rate","Stadium purposes rate","Regional strategy rate","District-Wide Rates",null,null,null,null,null,null,null,null,null,null,"Checks"]
["Wellington City",null,null,{"$f":"INDEX('Comparison - Category'!$I$10:$P$19,MATCH($A61,'Comparison - Category'!$A$10:$A$19,0),MATCH(D$60,'Comparison - Category'!$I$7:$P$7,0))","v":21189528.406917833},{"$f":"INDEX('Comparison - Category'!$I$10:$P$19,MATCH($A61,'Comparison - Category'!$A$10:$A$19,0),MATCH(E$60,'Comparison - Category'!$I$7:$P$7,0))","v":0},{"$f":"INDEX('Comparison - Category'!$I$10:$P$19,MATCH($A61,'Comparison - Category'!$A$10:$A$19,0),MATCH(F$60,'Comparison - Category'!$I$7:$P$7,0))","v":0},{"$f":"INDEX('Comparison - Category'!$I$10:$P$19,MATCH($A61,'Comparison - Category'!$A$10:$A$19,0),MATCH(G$60,'Comparison - Category'!$I$7:$P$7,0))","v":43255.424103945203},{"$f":"INDEX('Comparison - Category'!$I$10:$P$19,MATCH($A61,'Comparison - Category'!$A$10:$A$19,0),MATCH(H$60,'Comparison - Category'!$I$7:$P$7,0))","v":38457358.003260493},{"$f":"INDEX('Comparison - Category'!$I$10:$P$19,MATCH($A61,'Comparison - Category'!$A$10:$A$19,0),MATCH(I$60,'Comparison - Category'!$I$7:$P$7,0))","v":580986.26189999992},{"$f":"INDEX('Comparison - Category'!$I$10:$P$19,MATCH($A61,'Comparison - Category'!$A$10:$A$19,0),MATCH(J$60,'Comparison - Category'!$I$7:$P$7,0))","v":2299850.9726045812},{"$f":"INDEX('Comparison - Category'!$I$10:$P$19,MATCH($A61,'Comparison - Category'!$A$10:$A$19,0),MATCH(K$60,'Comparison - Category'!$I$7:$P$7,0))","v":62570979.068786852},null,null,null,null,null,null,null,null,null,null,{"$f":"K61-SUM(D61:J61)","v":0}]
["Hutt City",null,null,{"$f":"INDEX('Comparison - Category'!$I$10:$P$19,MATCH($A62,'Comparison - Category'!$A$10:$A$19,0),MATCH(D$60,'Comparison - Category'!$I$7:$P$7,0))","v":7179456.0529976618},{"$f":"INDEX('Comparison - Category'!$I$10:$P$19,MATCH($A62,'Comparison - Category'!$A$10:$A$19,0),MATCH(E$60,'Comparison - Category'!$I$7:$P$7,0))","v":0},{"$f":"INDEX('Comparison - Category'!$I$10:$P$19,MATCH($A62,'Comparison - Category'!$A$10:$A$19,0),MATCH(F$60,'Comparison - Category'!$I$7:$P$7,0))","v":0},{"$f":"INDEX('Comparison - Category'!$I$10:$P$19,MATCH($A62,'Comparison - Category'!$A$10:$A$19,0),MATCH(G$60,'Comparison - Category'!$I$7:$P$7,0))","v":3685586.3029764807},{"$f":"INDEX('Comparison - Category'!$I$10:$P$19,MATCH($A62,'Comparison - Category'!$A$10:$A$19,0),MATCH(H$60,'Comparison - Category'!$I$7:$P$7,0))","v":11536013.198820936},{"$f":"INDEX('Comparison - Category'!$I$10:$P$19,MATCH($A62,'Comparison - Category'!$A$10:$A$19,0),MATCH(I$60,'Comparison - Category'!$I$7:$P$7,0))","v":190923.43151999998},{"$f":"INDEX('Comparison - Category'!$I$10:$P$19,MATCH($A62,'Comparison - Category'!$A$10:$A$19,0),MATCH(J$60,'Comparison - Category'!$I$7:$P$7,0))","v":862252.31807783083},{"$f":"INDEX('Comparison - Category'!$I$10:$P$19,MATCH($A62,'Comparison - Category'!$A$10:$A$19,0),MATCH(K$60,'Comparison - Category'!$I$7:$P$7,0))","v":23454231.304392911},null,null,null,null,null,null,null,null,null,null,0]
["Upper Hutt City",null,null,{"$f":"INDEX('Comparison - Category'!$I$10:$P$19,MATCH($A63,'Comparison - Category'!$A$10:$A$19,0),MATCH(D$60,'Comparison - Category'!$I$7:$P$7,0))","v":2718137.0908558238},{"$f":"INDEX('Comparison - Category'!$I$10:$P$19,MATCH($A63,'Comparison - Category'!$A$10:$A$19,0),MATCH(E$60,'Comparison - Category'!$I$7:$P$7,0))","v":0},{"$f":"INDEX('Comparison - Category'!$I$10:$P$19,MATCH($A63,'Comparison - Category'!$A$10:$A$19,0),MATCH(F$60,'Comparison - Category'!$I$7:$P$7,0))","v":0},{"$f":"INDEX('Comparison - Category'!$I$10:$P$19,MATCH($A63,'Comparison - Category'!$A$10:$A$19,0),MATCH(G$60,'Comparison - Category'!$I$7:$P$7,0))","v":678045.43376824516},{"$f":"INDEX('Comparison - Category'!$I$10:$P$19,MATCH($A63,'Comparison - Category'!$A$10:$A$19,0),MATCH(H$60,'Comparison - Category'!$I$7:$P$7,0))","v":4596383.5624092557},{"$f":"INDEX('Comparison - Category'!$I$10:$P$19,MATCH($A63,'Comparison - Category'!$A$10:$A$19,0),MATCH(I$60,'Comparison - Category'!$I$7:$P$7,0))","v":51447.605009999999},{"$f":"INDEX('Comparison - Category'!$I$10:$P$19,MATCH($A63,'Comparison - Category'!$A$10:$A$19,0),MATCH(J$60,'Comparison - Category'!$I$7:$P$7,0))","v":343198.01082399383},{"$f":"INDEX('Comparison - Category'!$I$10:$P$19,MATCH($A63,'Comparison - Category'!$A$10:$A$19,0),MATCH(K$60,'Comparison - Category'!$I$7:$P$7,0))","v":8387211.7028673189},null,null,null,null,null,null,null,null,null,null,0]
["Porirua City",null,null,{"$f":"INDEX('Comparison - Category'!$I$10:$P$19,MATCH($A64,'Comparison - Category'!$A$10:$A$19,0),MATCH(D$60,'Comparison - Category'!$I$7:$P$7,0))","v":3367756.6064207805},{"$f":"INDEX('Comparison - Category'!$I$10:$P$19,MATCH($A64,'Comparison - Category'!$A$10:$A$19,0),MATCH(E$60,'Comparison - Category'!$I$7:$P$7,0))","v":0},{"$f":"INDEX('Comparison - Category'!$I$10:$P$19,MATCH($A64,'Comparison - Category'!$A$10:$A$19,0),MATCH(F$60,'Comparison - Category'!$I$7:$P$7,0))","v":0},{"$f":"INDEX('Comparison - Category'!$I$10:$P$19,MATCH($A64,'Comparison - Category'!$A$10:$A$19,0),MATCH(G$60,'Comparison - Category'!$I$7:$P$7,0))","v":28307.679875423506},{"$f":"INDEX('Comparison - Category'!$I$10:$P$19,MATCH($A64,'Comparison - Category'!$A$10:$A$19,0),MATCH(H$60,'Comparison - Category'!$I$7:$P$7,0))","v":6066071.2474005194},{"$f":"INDEX('Comparison - Category'!$I$10:$P$19,MATCH($A64,'Comparison - Category'!$A$10:$A$19,0),MATCH(I$60,'Comparison - Category'!$I$7:$P$7,0))","v":70226.958930000008},{"$f":"INDEX('Comparison - Category'!$I$10:$P$19,MATCH($A64,'Comparison - Category'!$A$10:$A$19,0),MATCH(J$60,'Comparison - Category'!$I$7:$P$7,0))","v":354526.17078555212},{"$f":"INDEX('Comparison - Category'!$I$10:$P$19,MATCH($A64,'Comparison - Category'!$A$10:$A$19,0),MATCH(K$60,'Comparison - Category'!$I$7:$P$7,0))","v":9886888.6634122767},null,null,null,null,null,null,null,null,null,null,0]
["Kapiti Coast District",null,null,{"$f":"INDEX('Comparison - Category'!$I$10:$P$19,MATCH($A65,'Comparison - Category'!$A$10:$A$19,0),MATCH(D$60,'Comparison - Category'!$I$7:$P$7,0))","v":4329462.3984503523},{"$f":"INDEX('Comparison - Category'!$I$10:$P$19,MATCH($A65,'Comparison - Category'!$A$10:$A$19,0),MATCH(E$60,'Comparison - Category'!$I$7:$P$7,0))","v":0},{"$f":"INDEX('Comparison - Category'!$I$10:$P$19,MATCH($A65,'Comparison - Category'!$A$10:$A$19,0),MATCH(F$60,'Comparison - Category'!$I$7:$P$7,0))","v":0},{"$f":"INDEX('Comparison - Category'!$I$10:$P$19,MATCH($A65,'Comparison - Category'!$A$10:$A$19,0),MATCH(G$60,'Comparison - Category'!$I$7:$P$7,0))","v":1368225.7946305373},{"$f":"INDEX('Comparison - Category'!$I$10:$P$19,MATCH($A65,'Comparison - Category'!$A$10:$A$19,0),MATCH(H$60,'Comparison - Category'!$I$7:$P$7,0))","v":3090620.0871701711},{"$f":"INDEX('Comparison - Category'!$I$10:$P$19,MATCH($A65,'Comparison - Category'!$A$10:$A$19,0),MATCH(I$60,'Comparison - Category'!$I$7:$P$7,0))","v":47339.621339999991},{"$f":"INDEX('Comparison - Category'!$I$10:$P$19,MATCH($A65,'Comparison - Category'!$A$10:$A$19,0),MATCH(J$60,'Comparison - Category'!$I$7:$P$7,0))","v":491419.64593250601},{"$f":"INDEX('Comparison - Category'!$I$10:$P$19,MATCH($A65,'Comparison - Category'!$A$10:$A$19,0),MATCH(K$60,'Comparison - Category'!$I$7:$P$7,0))","v":9327067.5475235656},null,null,null,null,null,null,null,null,null,null,0]
["Masterton District",null,null,{"$f":"INDEX('Comparison - Category'!$I$10:$P$19,MATCH($A66,'Comparison - Category'!$A$10:$A$19,0),MATCH(D$60,'Comparison - Category'!$I$7:$P$7,0))","v":1675353.2248983532},{"$f":"INDEX('Comparison - Category'!$I$10:$P$19,MATCH($A66,'Comparison - Category'!$A$10:$A$19,0),MATCH(E$60,'Comparison - Category'!$I$7:$P$7,0))","v":0},{"$f":"INDEX('Comparison - Category'!$I$10:$P$19,MATCH($A66,'Comparison - Category'!$A$10:$A$19,0),MATCH(F$60,'Comparison - Category'!$I$7:$P$7,0))","v":0},{"$f":"INDEX('Comparison - Category'!$I$10:$P$19,MATCH($A66,'Comparison - Category'!$A$10:$A$19,0),MATCH(G$60,'Comparison - Category'!$I$7:$P$7,0))","v":0},{"$f":"INDEX('Comparison - Category'!$I$10:$P$19,MATCH($A66,'Comparison - Category'!$A$10:$A$19,0),MATCH(H$60,'Comparison - Category'!$I$7:$P$7,0))","v":306748.56603071187},{"$f":"INDEX('Comparison - Category'!$I$10:$P$19,MATCH($A66,'Comparison - Category'!$A$10:$A$19,0),MATCH(I$60,'Comparison - Category'!$I$7:$P$7,0))","v":19561.826999999997},{"$f":"INDEX('Comparison - Category'!$I$10:$P$19,MATCH($A66,'Comparison - Category'!$A$10:$A$19,0),MATCH(J$60,'Comparison - Category'!$I$7:$P$7,0))","v":241562.29325144846},{"$f":"INDEX('Comparison - Category'!$I$10:$P$19,MATCH($A66,'Comparison - Category'!$A$10:$A$19,0),MATCH(K$60,'Comparison - Category'!$I$7:$P$7,0))","v":2243225.9111805134},null,null,null,null,null,null,null,null,null,null,0]
["Carterton District",null,null,{"$f":"INDEX('Comparison - Category'!$I$10:$P$19,MATCH($A67,'Comparison - Category'!$A$10:$A$19,0),MATCH(D$60,'Comparison - Category'!$I$7:$P$7,0))","v":774173.16904683737},{"$f":"INDEX('Comparison - Category'!$I$10:$P$19,MATCH($A67,'Comparison - Category'!$A$10:$A$19,0),MATCH(E$60,'Comparison - Category'!$I$7:$P$7,0))","v":0},{"$f":"INDEX('Comparison - Category'!$I$10:$P$19,MATCH($A67,'Comparison - Category'!$A$10:$A$19,0),MATCH(F$60,'Comparison - Category'!$I$7:$P$7,0))","v":0},{"$f":"INDEX('Comparison - Category'!$I$10:$P$19,MATCH($A67,'Comparison - Category'!$A$10:$A$19,0),MATCH(G$60,'Comparison - Category'!$I$7:$P$7,0))","v":23239.68},{"$f":"INDEX('Comparison - Category'!$I$10:$P$19,MATCH($A67,'Comparison - Category'!$A$10:$A$19,0),MATCH(H$60,'Comparison - Category'!$I$7:$P$7,0))","v":198788.91360953596},{"$f":"INDEX('Comparison - Category'!$I$10:$P$19,MATCH($A67,'Comparison - Category'!$A$10:$A$19,0),MATCH(I$60,'Comparison - Category'!$I$7:$P$7,0))","v":6846.6394500000006},{"$f":"INDEX('Comparison - Category'!$I$10:$P$19,MATCH($A67,'Comparison - Category'!$A$10:$A$19,0),MATCH(J$60,'Comparison - Category'!$I$7:$P$7,0))","v":90904.663578091597},{"$f":"INDEX('Comparison - Category'!$I$10:$P$19,MATCH($A67,'Comparison - Category'!$A$10:$A$19,0),MATCH(K$60,'Comparison - Category'!$I$7:$P$7,0))","v":1093953.065684465},null,null,null,null,null,null,null,null,null,null,0]
["South Wairarapa District",null,null,{"$f":"INDEX('Comparison - Category'!$I$10:$P$19,MATCH($A68,'Comparison - Category'!$A$10:$A$19,0),MATCH(D$60,'Comparison - Category'!$I$7:$P$7,0))","v":1245449.1280744334},{"$f":"INDEX('Comparison - Category'!$I$10:$P$19,MATCH($A68,'Comparison - Category'!$A$10:$A$19,0),MATCH(E$60,'Comparison - Category'!$I$7:$P$7,0))","v":0},{"$f":"INDEX('Comparison - Category'!$I$10:$P$19,MATCH($A68,'Comparison - Category'!$A$10:$A$19,0),MATCH(F$60,'Comparison - Category'!$I$7:$P$7,0))","v":0},{"$f":"INDEX('Comparison - Category'!$I$10:$P$19,MATCH($A68,'Comparison - Category'!$A$10:$A$19,0),MATCH(G$60,'Comparison - Category'!$I$7:$P$7,0))","v":0},{"$f":"INDEX('Comparison - Category'!$I$10:$P$19,MATCH($A68,'Comparison - Category'!$A$10:$A$19,0),MATCH(H$60,'Comparison - Category'!$I$7:$P$7,0))","v":404412.54842927179},{"$f":"INDEX('Comparison - Category'!$I$10:$P$19,MATCH($A68,'Comparison - Category'!$A$10:$A$19,0),MATCH(I$60,'Comparison - Category'!$I$7:$P$7,0))","v":10759.004849999999},{"$f":"INDEX('Comparison - Category'!$I$10:$P$19,MATCH($A68,'Comparison - Category'!$A$10:$A$19,0),MATCH(J$60,'Comparison - Category'!$I$7:$P$7,0))","v":138051.14376949321},{"$f":"INDEX('Comparison - Category'!$I$10:$P$19,MATCH($A68,'Comparison - Category'!$A$10:$A$19,0),MATCH(K$60,'Comparison - Category'!$I$7:$P$7,0))","v":1798671.8251231983},null,null,null,null,null,null,null,null,null,null,0]
["Tararua District",null,null,{"$f":"INDEX('Comparison - Category'!$I$10:$P$19,MATCH($A69,'Comparison - Category'!$A$10:$A$19,0),MATCH(D$60,'Comparison - Category'!$I$7:$P$7,0))","v":2354.4428815298133},{"$f":"INDEX('Comparison - Category'!$I$10:$P$19,MATCH($A69,'Comparison - Category'!$A$10:$A$19,0),MATCH(E$60,'Comparison - Category'!$I$7:$P$7,0))","v":0},{"$f":"INDEX('Comparison - Category'!$I$10:$P$19,MATCH($A69,'Comparison - Category'!$A$10:$A$19,0),MATCH(F$60,'Comparison - Category'!$I$7:$P$7,0))","v":0},{"$f":"INDEX('Comparison - Category'!$I$10:$P$19,MATCH($A69,'Comparison - Category'!$A$10:$A$19,0),MATCH(G$60,'Comparison - Category'!$I$7:$P$7,0))","v":0},{"$f":"INDEX('Comparison - Category'!$I$10:$P$19,MATCH($A69,'Comparison - Category'!$A$10:$A$19,0),MATCH(H$60,'Comparison - Category'!$I$7:$P$7,0))","v":0},{"$f":"INDEX('Comparison - Category'!$I$10:$P$19,MATCH($A69,'Comparison - Category'!$A$10:$A$19,0),MATCH(I$60,'Comparison - Category'!$I$7:$P$7,0))","v":0},{"$f":"INDEX('Comparison - Category'!$I$10:$P$19,MATCH($A69,'Comparison - Category'!$A$10:$A$19,0),MATCH(J$60,'Comparison - Category'!$I$7:$P$7,0))","v":252},{"$f":"INDEX('Comparison - Category'!$I$10:$P$19,MATCH($A69,'Comparison - Category'!$A$10:$A$19,0),MATCH(K$60,'Comparison - Category'!$I$7:$P$7,0))","v":2606.4428815298133},null,null,null,null,null,null,null,null,null,null,0]
["Region wide",null,null,{"$f":"SUM(D61:D69)","v":42481670.520543598},{"$f":"SUM(E61:E69)","v":0},0,5826660.3153546304,64656396.127130888,978091.35,4822017.2188234963,118764835.53185263]
[]
["Last years rate, this years ECV"]
[null,null,{"$f":"\"ECV \"&year_current","v":"ECV 2018/19"},"General Rate","Flood protection – regional rate","Flood protection – catchment rate","River management rate","Public transport rate","Stadium purposes rate","Regional strategy rate","District-Wide Rates",null,null,null,null,null,null,null,null,null,null,"Checks"]
["Wellington City",null,{"$f":"INDEX('Capital values'!$F$8:$G$17,MATCH($A74,'Capital values'!$A$8:$A$17,0),MATCH(C$73,'Capital values'!$F$6:$G$6,0))","v":68975077410},{"$f":"D$70*$C74/$C$83","v":20707547.452978849},{"$f":"E$70*$C74/$C$83","v":0},{"$f":"F61","v":0},{"$f":"G61","v":43255.424103945203},{"$f":"SUMIF($A$133:$A$158,A74,$L$133:$L$158)","v":37738277.913754225},{"$f":"I61","v":580986.26189999992},{"$f":"J61","v":2299850.9726045812},{"$f":"SUM(D74:J74)","v":61369918.0253416}]
["Hutt City",null,{"$f":"INDEX('Capital values'!$F$8:$G$17,MATCH($A75,'Capital values'!$A$8:$A$17,0),MATCH(C$73,'Capital values'!$F$6:$G$6,0))","v":24118117072},7240688.557350317,0,{"$f":"F62","v":0},3685586.3029764807,{"$f":"SUMIF($A$133:$A$158,A75,$L$133:$L$158)","v":11750881.434374336},190923.43151999998,862252.31807783083,{"$f":"SUM(D75:J75)","v":23730332.044298965}]
["Upper Hutt City",null,{"$f":"INDEX('Capital values'!$F$8:$G$17,MATCH($A76,'Capital values'!$A$8:$A$17,0),MATCH(C$73,'Capital values'!$F$6:$G$6,0))","v":9172479133},2753741.6997594899,0,{"$f":"F63","v":0},678045.43376824516,4687668.8167939279,51447.605009999999,343198.01082399383,8514101.5661556572]
["Porirua City",null,{"$f":"INDEX('Capital values'!$F$8:$G$17,MATCH($A77,'Capital values'!$A$8:$A$17,0),MATCH(C$73,'Capital values'!$F$6:$G$6,0))","v":11429809803},3431432.595098922,0,{"$f":"F64","v":0},28307.679875423506,6239561.7422988685,70226.958930000008,354526.17078555212,10124055.146988766]
["Kapiti Coast District",null,{"$f":"INDEX('Capital values'!$F$8:$G$17,MATCH($A78,'Capital values'!$A$8:$A$17,0),MATCH(C$73,'Capital values'!$F$6:$G$6,0))","v":14678791680},4406834.8551345412,0,{"$f":"F65","v":0},1368225.7946305373,3213216.9506216883,47339.621339999991,491419.64593250601,9527036.8676592726]
["Masterton District",null,{"$f":"INDEX('Capital values'!$F$8:$G$17,MATCH($A79,'Capital values'!$A$8:$A$17,0),MATCH(C$73,'Capital values'!$F$6:$G$6,0))","v":5891731979},1768802.9374750284,0,{"$f":"F66","v":0},0,338958.34867851983,19561.826999999997,241562.29325144846,2368885.4064049968]
["Carterton District",null,{"$f":"INDEX('Capital values'!$F$8:$G$17,MATCH($A80,'Capital values'!$A$8:$A$17,0),MATCH(C$73,'Capital values'!$F$6:$G$6,0))","v":2715649450},815286.36085848091,0,{"$f":"F67","v":0},23239.68,217461.31356888014,6846.6394500000006,90904.663578091597,1153738.6574554527]
["South Wairarapa District",null,{"$f":"INDEX('Capital values'!$F$8:$G$17,MATCH($A81,'Capital values'!$A$8:$A$17,0),MATCH(C$73,'Capital values'!$F$6:$G$6,0))","v":4514129051},1355221.9880350677,0,{"$f":"F68","v":0},0,470369.60704044742,10759.004849999999,138051.14376949321,1974401.7436950081]
["Tararua District",null,{"$f":"INDEX('Capital values'!$F$8:$G$17,MATCH($A82,'Capital values'!$A$8:$A$17,0),MATCH(C$73,'Capital values'!$F$6:$G$6,0))","v":7041800},2114.0738529022037,0,{"$f":"F69","v":0},0,0,0,252,2366.0738529022037]
["Region wide",null,{"$f":"INDEX('Capital values'!$F$8:$G$17,MATCH($A83,'Capital values'!$A$8:$A$17,0),MATCH(C$73,'Capital values'!$F$6:$G$6,0))","v":141502827378},{"$f":"SUM(D74:D82)","v":42481670.52054359},{"$f":"SUM(E74:E82)","v":0},{"$f":"SUM(F74:F82)","v":0},{"$f":"SUM(G74:G82)","v":5826660.3153546304},{"$f":"SUM(H74:H82)","v":64656396.127130896},{"$f":"SUM(I74:I82)","v":978091.35},{"$f":"SUM(J74:J82)","v":4822017.2188234963},{"$f":"SUM(K74:K82)","v":118764835.53185262},null,null,null,null,null,null,null,null,null,null,{"$f":"K83-K70","v":0}]
[]
["ECV movements"]
[null,null,null,"General Rate","Flood protection – regional rate","Flood protection – catchment rate","River management rate","Public transport rate","Stadium purposes rate","Regional strategy rate","District-Wide Rates"]
["Wellington City",null,null,{"$f":"D74-D61","v":-481980.95393898338},{"$f":"E74-E61","v":0},{"$f":"F74-F61","v":0},{"$f":"G74-G61","v":0},{"$f":"H74-H61","v":-719080.0895062685},{"$f":"I74-I61","v":0},{"$f":"J74-J61","v":0},{"$f":"SUM(D87:J87)","v":-1201061.0434452519}]
["Hutt City",null,null,{"$f":"D75-D62","v":61232.504352655262},0,0,{"$f":"G75-G62","v":0},{"$f":"H75-H62","v":214868.23555340059},0,{"$f":"J75-J62","v":0},{"$f":"SUM(D88:J88)","v":276100.73990605585}]
["Upper Hutt City",null,null,{"$f":"D76-D63","v":35604.608903666027},0,0,{"$f":"G76-G63","v":0},{"$f":"H76-H63","v":91285.254384672269},0,{"$f":"J76-J63","v":0},126889.8632883383]
["Porirua City",null,null,{"$f":"D77-D64","v":63675.988678141497},0,0,{"$f":"G77-G64","v":0},{"$f":"H77-H64","v":173490.49489834905},0,{"$f":"J77-J64","v":0},237166.48357649054]
["Kapiti Coast District",null,null,{"$f":"D78-D65","v":77372.456684188917},0,0,{"$f":"G78-G65","v":0},{"$f":"H78-H65","v":122596.86345151719},0,{"$f":"J78-J65","v":0},199969.3201357061]
["Masterton District",null,null,{"$f":"D79-D66","v":93449.712576675229},0,0,{"$f":"G79-G66","v":0},{"$f":"H79-H66","v":32209.782647807966},0,{"$f":"J79-J66","v":0},125659.49522448319]
["Carterton District",null,null,{"$f":"D80-D67","v":41113.191811643541},0,0,{"$f":"G80-G67","v":0},{"$f":"H80-H67","v":18672.399959344184},0,{"$f":"J80-J67","v":0},59785.591770987725]
["South Wairarapa District",null,null,{"$f":"D81-D68","v":109772.85996063426},0,0,{"$f":"G81-G68","v":0},{"$f":"H81-H68","v":65957.058611175627},0,{"$f":"J81-J68","v":0},175729.91857180989]
["Tararua District",null,null,{"$f":"D82-D69","v":-240.36902862760962},0,0,{"$f":"G82-G69","v":0},{"$f":"H82-H69","v":0},0,{"$f":"J82-J69","v":0},-240.36902862760962]
["Region wide",null,null,{"$f":"SUM(D87:D95)","v":-6.2564140534959733E-9},{"$f":"SUM(E87:E95)","v":0},{"$f":"SUM(F87:F95)","v":0},{"$f":"SUM(G87:G95)","v":0},{"$f":"SUM(H87:H95)","v":-1.6298145055770874E-9},{"$f":"SUM(I87:I95)","v":0},{"$f":"SUM(J87:J95)","v":0},{"$f":"SUM(K87:K95)","v":-7.8862285590730608E-9}]
[]
["Rate movements"]
[null,null,null,"General Rate","Flood protection – regional rate","Flood protection – catchment rate","River management rate","Public transport rate","Stadium purposes rate","Regional strategy rate","District-Wide Rates"]
["Wellington City",null,null,{"$f":"D113-D87-D61","v":-2943943.4962828942},{"$f":"E113-E87-E61","v":4745293.0166026242},54042,-43255.424103945203,4037614.8418926224,-580986.26189999992,46699.13238937268,{"$f":"SUM(D100:J100)","v":5315463.8085977789}]
["Hutt City",null,null,{"$f":"D114-D88-D62","v":-1029391.7247044649},1659259.2109041046,5167492,-3685586.3029764807,-925593.82390148193,-190923.43151999998,21286.821604815777,{"$f":"SUM(D101:J101)","v":1016542.7494064929}]
["Upper Hutt City",null,null,{"$f":"D115-D89-D63","v":-391493.00446411641},{"$f":"E115-E89-E63","v":631040.99058898317},881402,-678045.43376824516,-512795.06135474192,-51447.605009999999,9016.2607327867299,-112321.85327533371]
["Porirua City",null,null,{"$f":"D116-D90-D64","v":-487838.73098508362},786339.04702814773,45121,-28307.679875423506,-753506.81165223476,-70226.958930000008,8428.3928712672787,-499991.74154332688]
["Kapiti Coast District",null,null,{"$f":"D117-D91-D65","v":-626509.38458189182},1009859.9416891716,1619846,-1368225.7946305373,531756.94428360881,-47339.621339999991,-1998.0756742703961,1117390.0097460807]
["Masterton District",null,null,{"$f":"D118-D92-D66","v":-251466.56868998776},405334.73343503213,271627,0,172346.60900171043,-19561.826999999997,1097.8414196114754,579377.78816636617]
["Carterton District",null,null,{"$f":"D119-D93-D67","v":-115907.35141897283},186829.11066595578,144634,-23239.68,37757.532563174231,-6846.6394500000006,425.06492871155206,223652.03728886874]
["South Wairarapa District",null,null,{"$f":"D120-D94-D68","v":-192668.73427454033},310559.49287920241,201926,0,29034.043999811984,-10759.004849999999,888.1637774007977,338979.96153187484]
["Tararua District",null,null,{"$f":"D121-D95-D69","v":-300.55292564440606},{"$f":"E121-E95-E69","v":484.45620677865014},{"$f":"F121-F95-F69","v":0},0,0,0,{"$f":"J121-J95-J69","v":0},183.90328113424408]
["Region wide",null,null,{"$f":"SUM(D100:D108)","v":-6039519.5483275959},{"$f":"SUM(E100:E108)","v":9735000.0000000019},{"$f":"SUM(F100:F108)","v":8386090},{"$f":"SUM(G100:G108)","v":-5826660.3153546304},{"$f":"SUM(H100:H108)","v":2616614.2748324694},{"$f":"SUM(I100:I108)","v":-978091.35},{"$f":"SUM(J100:J108)","v":85843.602049695895},{"$f":"SUM(K100:K108)","v":7979276.663199937}]
[]
["This years rate"]
[null,null,null,"General Rate","Flood protection – regional rate","Flood protection – catchment rate","River management rate","Public transport rate","Stadium purposes rate","Regional strategy rate","District-Wide Rates",null,null,null,null,null,null,null,null,null,null,"Checks"]
["Wellington City",null,null,{"$f":"INDEX('Comparison - Category'!$I$68:$P$77,MATCH($A113,'Comparison - Category'!$A$68:$A$77,0),MATCH(D$60,'Comparison - Category'!$I$7:$P$7,0))","v":17763603.956695955},{"$f":"INDEX('Comparison - Category'!$I$68:$P$77,MATCH($A113,'Comparison - Category'!$A$68:$A$77,0),MATCH(E$60,'Comparison - Category'!$I$7:$P$7,0))","v":4745293.0166026242},{"$f":"INDEX('Comparison - Category'!$I$68:$P$77,MATCH($A113,'Comparison - Category'!$A$68:$A$77,0),MATCH(F$60,'Comparison - Category'!$I$7:$P$7,0))","v":54042},{"$f":"INDEX('Comparison - Category'!$I$68:$P$77,MATCH($A113,'Comparison - Category'!$A$68:$A$77,0),MATCH(G$60,'Comparison - Category'!$I$7:$P$7,0))","v":0},{"$f":"INDEX('Comparison - Category'!$I$68:$P$77,MATCH($A113,'Comparison - Category'!$A$68:$A$77,0),MATCH(H$60,'Comparison - Category'!$I$7:$P$7,0))","v":41775892.755646847},{"$f":"INDEX('Comparison - Category'!$I$68:$P$77,MATCH($A113,'Comparison - Category'!$A$68:$A$77,0),MATCH(I$60,'Comparison - Category'!$I$7:$P$7,0))","v":0},{"$f":"INDEX('Comparison - Category'!$I$68:$P$77,MATCH($A113,'Comparison - Category'!$A$68:$A$77,0),MATCH(J$60,'Comparison - Category'!$I$7:$P$7,0))","v":2346550.1049939538},{"$f":"INDEX('Comparison - Category'!$I$68:$P$77,MATCH($A113,'Comparison - Category'!$A$68:$A$77,0),MATCH(K$60,'Comparison - Category'!$I$7:$P$7,0))","v":66685381.833939381},null,null,null,null,null,null,null,null,null,null,{"$f":"K113-SUM(D113:J113)","v":0}]
["Hutt City",null,null,{"$f":"INDEX('Comparison - Category'!$I$68:$P$77,MATCH($A114,'Comparison - Category'!$A$68:$A$77,0),MATCH(D$60,'Comparison - Category'!$I$7:$P$7,0))","v":6211296.8326458521},{"$f":"INDEX('Comparison - Category'!$I$68:$P$77,MATCH($A114,'Comparison - Category'!$A$68:$A$77,0),MATCH(E$60,'Comparison - Category'!$I$7:$P$7,0))","v":1659259.2109041046},{"$f":"INDEX('Comparison - Category'!$I$68:$P$77,MATCH($A114,'Comparison - Category'!$A$68:$A$77,0),MATCH(F$60,'Comparison - Category'!$I$7:$P$7,0))","v":5167492},{"$f":"INDEX('Comparison - Category'!$I$68:$P$77,MATCH($A114,'Comparison - Category'!$A$68:$A$77,0),MATCH(G$60,'Comparison - Category'!$I$7:$P$7,0))","v":0},{"$f":"INDEX('Comparison - Category'!$I$68:$P$77,MATCH($A114,'Comparison - Category'!$A$68:$A$77,0),MATCH(H$60,'Comparison - Category'!$I$7:$P$7,0))","v":10825287.610472854},{"$f":"INDEX('Comparison - Category'!$I$68:$P$77,MATCH($A114,'Comparison - Category'!$A$68:$A$77,0),MATCH(I$60,'Comparison - Category'!$I$7:$P$7,0))","v":0},{"$f":"INDEX('Comparison - Category'!$I$68:$P$77,MATCH($A114,'Comparison - Category'!$A$68:$A$77,0),MATCH(J$60,'Comparison - Category'!$I$7:$P$7,0))","v":883539.13968264661},{"$f":"INDEX('Comparison - Category'!$I$68:$P$77,MATCH($A114,'Comparison - Category'!$A$68:$A$77,0),MATCH(K$60,'Comparison - Category'!$I$7:$P$7,0))","v":24746874.79370546},null,null,null,null,null,null,null,null,null,null,0]
["Upper Hutt City",null,null,{"$f":"INDEX('Comparison - Category'!$I$68:$P$77,MATCH($A115,'Comparison - Category'!$A$68:$A$77,0),MATCH(D$60,'Comparison - Category'!$I$7:$P$7,0))","v":2362248.6952953734},{"$f":"INDEX('Comparison - Category'!$I$68:$P$77,MATCH($A115,'Comparison - Category'!$A$68:$A$77,0),MATCH(E$60,'Comparison - Category'!$I$7:$P$7,0))","v":631040.99058898317},{"$f":"INDEX('Comparison - Category'!$I$68:$P$77,MATCH($A115,'Comparison - Category'!$A$68:$A$77,0),MATCH(F$60,'Comparison - Category'!$I$7:$P$7,0))","v":881402},{"$f":"INDEX('Comparison - Category'!$I$68:$P$77,MATCH($A115,'Comparison - Category'!$A$68:$A$77,0),MATCH(G$60,'Comparison - Category'!$I$7:$P$7,0))","v":0},{"$f":"INDEX('Comparison - Category'!$I$68:$P$77,MATCH($A115,'Comparison - Category'!$A$68:$A$77,0),MATCH(H$60,'Comparison - Category'!$I$7:$P$7,0))","v":4174873.755439186},{"$f":"INDEX('Comparison - Category'!$I$68:$P$77,MATCH($A115,'Comparison - Category'!$A$68:$A$77,0),MATCH(I$60,'Comparison - Category'!$I$7:$P$7,0))","v":0},{"$f":"INDEX('Comparison - Category'!$I$68:$P$77,MATCH($A115,'Comparison - Category'!$A$68:$A$77,0),MATCH(J$60,'Comparison - Category'!$I$7:$P$7,0))","v":352214.27155678056},{"$f":"INDEX('Comparison - Category'!$I$68:$P$77,MATCH($A115,'Comparison - Category'!$A$68:$A$77,0),MATCH(K$60,'Comparison - Category'!$I$7:$P$7,0))","v":8401779.7128803227},null,null,null,null,null,null,null,null,null,null,0]
["Porirua City",null,null,{"$f":"INDEX('Comparison - Category'!$I$68:$P$77,MATCH($A116,'Comparison - Category'!$A$68:$A$77,0),MATCH(D$60,'Comparison - Category'!$I$7:$P$7,0))","v":2943593.8641138384},{"$f":"INDEX('Comparison - Category'!$I$68:$P$77,MATCH($A116,'Comparison - Category'!$A$68:$A$77,0),MATCH(E$60,'Comparison - Category'!$I$7:$P$7,0))","v":786339.04702814773},{"$f":"INDEX('Comparison - Category'!$I$68:$P$77,MATCH($A116,'Comparison - Category'!$A$68:$A$77,0),MATCH(F$60,'Comparison - Category'!$I$7:$P$7,0))","v":45121},{"$f":"INDEX('Comparison - Category'!$I$68:$P$77,MATCH($A116,'Comparison - Category'!$A$68:$A$77,0),MATCH(G$60,'Comparison - Category'!$I$7:$P$7,0))","v":0},{"$f":"INDEX('Comparison - Category'!$I$68:$P$77,MATCH($A116,'Comparison - Category'!$A$68:$A$77,0),MATCH(H$60,'Comparison - Category'!$I$7:$P$7,0))","v":5486054.9306466337},{"$f":"INDEX('Comparison - Category'!$I$68:$P$77,MATCH($A116,'Comparison - Category'!$A$68:$A$77,0),MATCH(I$60,'Comparison - Category'!$I$7:$P$7,0))","v":0},{"$f":"INDEX('Comparison - Category'!$I$68:$P$77,MATCH($A116,'Comparison - Category'!$A$68:$A$77,0),MATCH(J$60,'Comparison - Category'!$I$7:$P$7,0))","v":362954.5636568194},{"$f":"INDEX('Comparison - Category'!$I$68:$P$77,MATCH($A116,'Comparison - Category'!$A$68:$A$77,0),MATCH(K$60,'Comparison - Category'!$I$7:$P$7,0))","v":9624063.4054454397},null,null,null,null,null,null,null,null,null,null,0]
["Kapiti Coast District",null,null,{"$f":"INDEX('Comparison - Category'!$I$68:$P$77,MATCH($A117,'Comparison - Category'!$A$68:$A$77,0),MATCH(D$60,'Comparison - Category'!$I$7:$P$7,0))","v":3780325.4705526493},{"$f":"INDEX('Comparison - Category'!$I$68:$P$77,MATCH($A117,'Comparison - Category'!$A$68:$A$77,0),MATCH(E$60,'Comparison - Category'!$I$7:$P$7,0))","v":1009859.9416891716},{"$f":"INDEX('Comparison - Category'!$I$68:$P$77,MATCH($A117,'Comparison - Category'!$A$68:$A$77,0),MATCH(F$60,'Comparison - Category'!$I$7:$P$7,0))","v":1619846},{"$f":"INDEX('Comparison - Category'!$I$68:$P$77,MATCH($A117,'Comparison - Category'!$A$68:$A$77,0),MATCH(G$60,'Comparison - Category'!$I$7:$P$7,0))","v":0},{"$f":"INDEX('Comparison - Category'!$I$68:$P$77,MATCH($A117,'Comparison - Category'!$A$68:$A$77,0),MATCH(H$60,'Comparison - Category'!$I$7:$P$7,0))","v":3744973.8949052971},{"$f":"INDEX('Comparison - Category'!$I$68:$P$77,MATCH($A117,'Comparison - Category'!$A$68:$A$77,0),MATCH(I$60,'Comparison - Category'!$I$7:$P$7,0))","v":0},{"$f":"INDEX('Comparison - Category'!$I$68:$P$77,MATCH($A117,'Comparison - Category'!$A$68:$A$77,0),MATCH(J$60,'Comparison - Category'!$I$7:$P$7,0))","v":489421.57025823562},{"$f":"INDEX('Comparison - Category'!$I$68:$P$77,MATCH($A117,'Comparison - Category'!$A$68:$A$77,0),MATCH(K$60,'Comparison - Category'!$I$7:$P$7,0))","v":10644426.877405355},null,null,null,null,null,null,null,null,null,null,0]
["Masterton District",null,null,{"$f":"INDEX('Comparison - Category'!$I$68:$P$77,MATCH($A118,'Comparison - Category'!$A$68:$A$77,0),MATCH(D$60,'Comparison - Category'!$I$7:$P$7,0))","v":1517336.3687850407},{"$f":"INDEX('Comparison - Category'!$I$68:$P$77,MATCH($A118,'Comparison - Category'!$A$68:$A$77,0),MATCH(E$60,'Comparison - Category'!$I$7:$P$7,0))","v":405334.73343503213},{"$f":"INDEX('Comparison - Category'!$I$68:$P$77,MATCH($A118,'Comparison - Category'!$A$68:$A$77,0),MATCH(F$60,'Comparison - Category'!$I$7:$P$7,0))","v":271627},{"$f":"INDEX('Comparison - Category'!$I$68:$P$77,MATCH($A118,'Comparison - Category'!$A$68:$A$77,0),MATCH(G$60,'Comparison - Category'!$I$7:$P$7,0))","v":0},{"$f":"INDEX('Comparison - Category'!$I$68:$P$77,MATCH($A118,'Comparison - Category'!$A$68:$A$77,0),MATCH(H$60,'Comparison - Category'!$I$7:$P$7,0))","v":511304.95768023026},{"$f":"INDEX('Comparison - Category'!$I$68:$P$77,MATCH($A118,'Comparison - Category'!$A$68:$A$77,0),MATCH(I$60,'Comparison - Category'!$I$7:$P$7,0))","v":0},{"$f":"INDEX('Comparison - Category'!$I$68:$P$77,MATCH($A118,'Comparison - Category'!$A$68:$A$77,0),MATCH(J$60,'Comparison - Category'!$I$7:$P$7,0))","v":242660.13467105993},{"$f":"INDEX('Comparison - Category'!$I$68:$P$77,MATCH($A118,'Comparison - Category'!$A$68:$A$77,0),MATCH(K$60,'Comparison - Category'!$I$7:$P$7,0))","v":2948263.1945713633},null,null,null,null,null,null,null,null,null,null,0]
["Carterton District",null,null,{"$f":"INDEX('Comparison - Category'!$I$68:$P$77,MATCH($A119,'Comparison - Category'!$A$68:$A$77,0),MATCH(D$60,'Comparison - Category'!$I$7:$P$7,0))","v":699379.00943950808},{"$f":"INDEX('Comparison - Category'!$I$68:$P$77,MATCH($A119,'Comparison - Category'!$A$68:$A$77,0),MATCH(E$60,'Comparison - Category'!$I$7:$P$7,0))","v":186829.11066595578},{"$f":"INDEX('Comparison - Category'!$I$68:$P$77,MATCH($A119,'Comparison - Category'!$A$68:$A$77,0),MATCH(F$60,'Comparison - Category'!$I$7:$P$7,0))","v":144634},{"$f":"INDEX('Comparison - Category'!$I$68:$P$77,MATCH($A119,'Comparison - Category'!$A$68:$A$77,0),MATCH(G$60,'Comparison - Category'!$I$7:$P$7,0))","v":0},{"$f":"INDEX('Comparison - Category'!$I$68:$P$77,MATCH($A119,'Comparison - Category'!$A$68:$A$77,0),MATCH(H$60,'Comparison - Category'!$I$7:$P$7,0))","v":255218.84613205437},{"$f":"INDEX('Comparison - Category'!$I$68:$P$77,MATCH($A119,'Comparison - Category'!$A$68:$A$77,0),MATCH(I$60,'Comparison - Category'!$I$7:$P$7,0))","v":0},{"$f":"INDEX('Comparison - Category'!$I$68:$P$77,MATCH($A119,'Comparison - Category'!$A$68:$A$77,0),MATCH(J$60,'Comparison - Category'!$I$7:$P$7,0))","v":91329.728506803149},{"$f":"INDEX('Comparison - Category'!$I$68:$P$77,MATCH($A119,'Comparison - Category'!$A$68:$A$77,0),MATCH(K$60,'Comparison - Category'!$I$7:$P$7,0))","v":1377390.6947443213},null,null,null,null,null,null,null,null,null,null,0]
["South Wairarapa District",null,null,{"$f":"INDEX('Comparison - Category'!$I$68:$P$77,MATCH($A120,'Comparison - Category'!$A$68:$A$77,0),MATCH(D$60,'Comparison - Category'!$I$7:$P$7,0))","v":1162553.2537605274},{"$f":"INDEX('Comparison - Category'!$I$68:$P$77,MATCH($A120,'Comparison - Category'!$A$68:$A$77,0),MATCH(E$60,'Comparison - Category'!$I$7:$P$7,0))","v":310559.49287920241},{"$f":"INDEX('Comparison - Category'!$I$68:$P$77,MATCH($A120,'Comparison - Category'!$A$68:$A$77,0),MATCH(F$60,'Comparison - Category'!$I$7:$P$7,0))","v":201926},{"$f":"INDEX('Comparison - Category'!$I$68:$P$77,MATCH($A120,'Comparison - Category'!$A$68:$A$77,0),MATCH(G$60,'Comparison - Category'!$I$7:$P$7,0))","v":0},{"$f":"INDEX('Comparison - Category'!$I$68:$P$77,MATCH($A120,'Comparison - Category'!$A$68:$A$77,0),MATCH(H$60,'Comparison - Category'!$I$7:$P$7,0))","v":499403.6510402594},{"$f":"INDEX('Comparison - Category'!$I$68:$P$77,MATCH($A120,'Comparison - Category'!$A$68:$A$77,0),MATCH(I$60,'Comparison - Category'!$I$7:$P$7,0))","v":0},{"$f":"INDEX('Comparison - Category'!$I$68:$P$77,MATCH($A120,'Comparison - Category'!$A$68:$A$77,0),MATCH(J$60,'Comparison - Category'!$I$7:$P$7,0))","v":138939.30754689401},{"$f":"INDEX('Comparison - Category'!$I$68:$P$77,MATCH($A120,'Comparison - Category'!$A$68:$A$77,0),MATCH(K$60,'Comparison - Category'!$I$7:$P$7,0))","v":2313381.7052268833},null,null,null,null,null,null,null,null,null,null,0]
["Tararua District",null,null,{"$f":"INDEX('Comparison - Category'!$I$68:$P$77,MATCH($A121,'Comparison - Category'!$A$68:$A$77,0),MATCH(D$60,'Comparison - Category'!$I$7:$P$7,0))","v":1813.5209272577977},{"$f":"INDEX('Comparison - Category'!$I$68:$P$77,MATCH($A121,'Comparison - Category'!$A$68:$A$77,0),MATCH(E$60,'Comparison - Category'!$I$7:$P$7,0))","v":484.45620677865014},{"$f":"INDEX('Comparison - Category'!$I$68:$P$77,MATCH($A121,'Comparison - Category'!$A$68:$A$77,0),MATCH(F$60,'Comparison - Category'!$I$7:$P$7,0))","v":0},{"$f":"INDEX('Comparison - Category'!$I$68:$P$77,MATCH($A121,'Comparison - Category'!$A$68:$A$77,0),MATCH(G$60,'Comparison - Category'!$I$7:$P$7,0))","v":0},{"$f":"INDEX('Comparison - Category'!$I$68:$P$77,MATCH($A121,'Comparison - Category'!$A$68:$A$77,0),MATCH(H$60,'Comparison - Category'!$I$7:$P$7,0))","v":0},{"$f":"INDEX('Comparison - Category'!$I$68:$P$77,MATCH($A121,'Comparison - Category'!$A$68:$A$77,0),MATCH(I$60,'Comparison - Category'!$I$7:$P$7,0))","v":0},{"$f":"INDEX('Comparison - Category'!$I$68:$P$77,MATCH($A121,'Comparison - Category'!$A$68:$A$77,0),MATCH(J$60,'Comparison - Category'!$I$7:$P$7,0))","v":252},{"$f":"INDEX('Comparison - Category'!$I$68:$P$77,MATCH($A121,'Comparison - Category'!$A$68:$A$77,0),MATCH(K$60,'Comparison - Category'!$I$7:$P$7,0))","v":2549.9771340364478},null,null,null,null,null,null,null,null,null,null,0]
["Region wide",null,null,{"$f":"SUM(D113:D121)","v":36442150.972215995},{"$f":"SUM(E113:E121)","v":9735000.0000000019},{"$f":"SUM(F113:F121)","v":8386090},{"$f":"SUM(G113:G121)","v":0},{"$f":"SUM(H113:H121)","v":67273010.401963368},{"$f":"SUM(I113:I121)","v":0},{"$f":"SUM(J113:J121)","v":4907860.8208731944},{"$f":"SUM(K113:K121)","v":126744112.19505256}]
[]
[]
[]
[]
[]
[]
[]
[null,null,null,"Differential",null,"ECV $000",null,"Rate",null,null,"Last years rate & differential, this years ECV",null,null,null,"Last years rate, this years differential and ECV"]
["PT",null,null,{"$f":"year_previous","v":"2017/18"},{"$f":"year_current","v":"2018/19"},{"$f":"year_previous","v":"2017/18"},{"$f":"year_current","v":"2018/19"},{"$f":"year_previous","v":"2017/18"},{"$f":"year_current","v":"2018/19"},null,"ECV multiplied","Proxy rate","ECV movement",null,"ECV multiplied","Proxy rate","Differenital impact",null,"Rate change impact"]
["By TA & Category"]
[{"$f":"Control!A43","v":"Wellington City"},{"$f":"Control!B43","v":"Regional CBD"},{"$f":"Control!C43","v":"Wellington CityRegional CBD"},{"$f":"IF(VALUE(LEFT(year_current,4))>2020,Control!J43,INDEX(Control!$G43:$I43,,MATCH(year_current,Control!$G$42:$I$42,0)-1))","v":6.7432051306625684},{"$f":"INDEX(Control!$E$43:$E$68,MATCH(C133,Control!$C$43:$C$68,0),)","v":7.1621367537750453},{"$f":"INDEX('Capital values'!$F$19:$F$44,MATCH($C133,'Capital values'!$C$19:$C$44,0),)/1000","v":9699270.1905155852},{"$f":"INDEX('Capital values'!$G$19:$G$44,MATCH($C133,'Capital values'!$C$19:$C$44,0),)/1000","v":10456802.775328083},{"$f":"INDEX('Comparison - Category'!$M$22:$M$48,MATCH(C133,'Comparison - Category'!$C$22:$C$48,0),)","v":25019166.072671905},{"$f":"INDEX('Comparison - Category'!$M$80:$M$106,MATCH(C133,'Comparison - Category'!$C$80:$C$106,0),)","v":25944905.117295574},null,{"$f":"D133*G133","v":70512366.124918908},{"$f":"$H$159*K133/$K$159","v":24456621.673236392},{"$f":"L133-H133","v":-562544.39943551272},null,{"$f":"E133*G133","v":74893051.484154165},{"$f":"$H$159*O133/$O$159","v":24935766.256354865},{"$f":"P133-L133","v":479144.58311847225},null,{"$f":"I133-P133","v":1009138.8609407097}]
[{"$f":"Control!A44","v":"Wellington City"},{"$f":"Control!B44","v":"Business"},{"$f":"Control!C44","v":"Wellington CityBusiness"},{"$f":"IF(VALUE(LEFT(year_current,4))>2020,Control!J44,INDEX(Control!$G44:$I44,,MATCH(year_current,Control!$G$42:$I$42,0)-1))","v":0.66102222184300141},{"$f":"INDEX(Control!$E$43:$E$68,MATCH(C134,Control!$C$43:$C$68,0),)","v":0.94068148122866746},{"$f":"INDEX('Capital values'!$F$19:$F$44,MATCH($C134,'Capital values'!$C$19:$C$44,0),)/1000","v":4717078.7325825868},{"$f":"INDEX('Capital values'!$G$19:$G$44,MATCH($C134,'Capital values'!$C$19:$C$44,0),)/1000","v":5166009.7989332965},{"$f":"INDEX('Comparison - Category'!$M$22:$M$48,MATCH(C134,'Comparison - Category'!$C$22:$C$48,0),)","v":1192769.6658868904},{"$f":"INDEX('Comparison - Category'!$M$80:$M$106,MATCH(C134,'Comparison - Category'!$C$80:$C$106,0),)","v":1683481.6257097539},null,3414847.2753536045,{"$f":"$H$159*K134/$K$159","v":1184411.0824085788},{"$f":"L134-H134","v":-8358.5834783115424},null,{"$f":"E134*G134","v":4859569.7497023838},{"$f":"$H$159*O134/$O$159","v":1618001.8437447452},{"$f":"P134-L134","v":433590.76133616641},null,{"$f":"I134-P134","v":65479.781965008704}]
[{"$f":"Control!A45","v":"Wellington City"},{"$f":"Control!B45","v":"Residential"},{"$f":"Control!C45","v":"Wellington CityResidential"},{"$f":"IF(VALUE(LEFT(year_current,4))>2020,Control!J45,INDEX(Control!$G45:$I45,,MATCH(year_current,Control!$G$42:$I$42,0)-1))","v":0.6610222218430013},{"$f":"INDEX(Control!$E$43:$E$68,MATCH(C135,Control!$C$43:$C$68,0),)","v":0.77401481456200083},{"$f":"INDEX('Capital values'!$F$19:$F$44,MATCH($C135,'Capital values'!$C$19:$C$44,0),)/1000","v":48243725.95046673},{"$f":"INDEX('Capital values'!$G$19:$G$44,MATCH($C135,'Capital values'!$C$19:$C$44,0),)/1000","v":52560941.238986105},{"$f":"INDEX('Comparison - Category'!$M$22:$M$48,MATCH(C135,'Comparison - Category'!$C$22:$C$48,0),)","v":12199001.997910665},{"$f":"INDEX('Comparison - Category'!$M$80:$M$106,MATCH(C135,'Comparison - Category'!$C$80:$C$106,0),)","v":14093633.304069273},null,34743950.159954026,12050647.158690194,-148354.83922047168,null,40682947.18629805,13545455.039601332,1494807.8809111379,null,548178.2644679416]
[{"$f":"Control!A46","v":"Wellington City"},{"$f":"Control!B46","v":"Rural"},{"$f":"Control!C46","v":"Wellington CityRural"},{"$f":"IF(VALUE(LEFT(year_current,4))>2020,Control!J46,INDEX(Control!$G46:$I46,,MATCH(year_current,Control!$G$42:$I$42,0)-1))","v":0.16977822083083538},{"$f":"INDEX(Control!$E$43:$E$68,MATCH(C136,Control!$C$43:$C$68,0),)","v":0.19651881388722359},{"$f":"INDEX('Capital values'!$F$19:$F$44,MATCH($C136,'Capital values'!$C$19:$C$44,0),)/1000","v":714756.7294350958},{"$f":"INDEX('Capital values'!$G$19:$G$44,MATCH($C136,'Capital values'!$C$19:$C$44,0),)/1000","v":791323.59675250773},{"$f":"INDEX('Comparison - Category'!$M$22:$M$48,MATCH(C136,'Comparison - Category'!$C$22:$C$48,0),)","v":46420.266791032431},{"$f":"INDEX('Comparison - Category'!$M$80:$M$106,MATCH(C136,'Comparison - Category'!$C$80:$C$106,0),)","v":53872.708572248805},null,134349.51235809817,46597.999419064072,177.73262803164107,null,155509.97463477444,51777.305119485813,5179.3057004217408,null,2095.4034527629919]
[{"$f":"Control!A47","v":"Hutt City"},{"$f":"Control!B47","v":"Business"},{"$f":"Control!C47","v":"Hutt CityBusiness"},{"$f":"IF(VALUE(LEFT(year_current,4))>2020,Control!J47,INDEX(Control!$G47:$I47,,MATCH(year_current,Control!$G$42:$I$42,0)-1))","v":1.4203332341454968},{"$f":"INDEX(Control!$E$43:$E$68,MATCH(C137,Control!$C$43:$C$68,0),)","v":1.4468888227636645},{"$f":"INDEX('Capital values'!$F$19:$F$44,MATCH($C137,'Capital values'!$C$19:$C$44,0),)/1000","v":3850999.6974912379},{"$f":"INDEX('Capital values'!$G$19:$G$44,MATCH($C137,'Capital values'!$C$19:$C$44,0),)/1000","v":4268946.4559082882},{"$f":"INDEX('Comparison - Category'!$M$22:$M$48,MATCH(C137,'Comparison - Category'!$C$22:$C$48,0),)","v":2092334.5898406077},{"$f":"INDEX('Comparison - Category'!$M$80:$M$106,MATCH(C137,'Comparison - Category'!$C$80:$C$106,0),)","v":2139766.7270293208},null,6063326.526114176,2103013.8552969117,10679.265456303954,null,6176690.912030261,2056539.5289404858,-46474.326356425881,null,83227.198088834994]
[{"$f":"Control!A48","v":"Hutt City"},{"$f":"Control!B48","v":"Residential"},{"$f":"Control!C48","v":"Hutt CityResidential"},{"$f":"IF(VALUE(LEFT(year_current,4))>2020,Control!J48,INDEX(Control!$G48:$I48,,MATCH(year_current,Control!$G$42:$I$42,0)-1))","v":1.4203332341454968},{"$f":"INDEX(Control!$E$43:$E$68,MATCH(C138,Control!$C$43:$C$68,0),)","v":1.280222156096998},{"$f":"INDEX('Capital values'!$F$19:$F$44,MATCH($C138,'Capital values'!$C$19:$C$44,0),)/1000","v":17299145.382635817},{"$f":"INDEX('Capital values'!$G$19:$G$44,MATCH($C138,'Capital values'!$C$19:$C$44,0),)/1000","v":19493826.271805469},{"$f":"INDEX('Comparison - Category'!$M$22:$M$48,MATCH(C138,'Comparison - Category'!$C$22:$C$48,0),)","v":9399014.0488326307},{"$f":"INDEX('Comparison - Category'!$M$80:$M$106,MATCH(C138,'Comparison - Category'!$C$80:$C$106,0),)","v":8645557.2511172127},null,27687729.314503916,9603256.25204763,204242.20321499929,null,24956428.300271101,8309284.3776128851,-1293971.8744347449,null,336272.87350432761]
[{"$f":"Control!A49","v":"Hutt City"},{"$f":"Control!B49","v":"Rural"},{"$f":"Control!C49","v":"Hutt CityRural"},{"$f":"IF(VALUE(LEFT(year_current,4))>2020,Control!J49,INDEX(Control!$G49:$I49,,MATCH(year_current,Control!$G$42:$I$42,0)-1))","v":0.36196331536479831},{"$f":"INDEX(Control!$E$43:$E$68,MATCH(C139,Control!$C$43:$C$68,0),)","v":0.32464221024319889},{"$f":"INDEX('Capital values'!$F$19:$F$44,MATCH($C139,'Capital values'!$C$19:$C$44,0),)/1000","v":322575.29487294576},{"$f":"INDEX('Capital values'!$G$19:$G$44,MATCH($C139,'Capital values'!$C$19:$C$44,0),)/1000","v":355344.34428624128},{"$f":"INDEX('Comparison - Category'!$M$22:$M$48,MATCH(C139,'Comparison - Category'!$C$22:$C$48,0),)","v":44664.560147696888},{"$f":"INDEX('Comparison - Category'!$M$80:$M$106,MATCH(C139,'Comparison - Category'!$C$80:$C$106,0),)","v":39963.632326320279},null,128621.61695397821,44611.327029794673,-53.233117902214872,null,115359.77332650559,38409.228707478294,-6202.0983223163785,null,1554.403618841985]
[{"$f":"Control!A50","v":"Upper Hutt City"},{"$f":"Control!B50","v":"Business"},{"$f":"Control!C50","v":"Upper Hutt CityBusiness"},{"$f":"IF(VALUE(LEFT(year_current,4))>2020,Control!J50,INDEX(Control!$G50:$I50,,MATCH(year_current,Control!$G$42:$I$42,0)-1))","v":1.5967866383588816},{"$f":"INDEX(Control!$E$43:$E$68,MATCH(C140,Control!$C$43:$C$68,0),)","v":1.5645244255725876},{"$f":"INDEX('Capital values'!$F$19:$F$44,MATCH($C140,'Capital values'!$C$19:$C$44,0),)/1000","v":1187700.995936275},{"$f":"INDEX('Capital values'!$G$19:$G$44,MATCH($C140,'Capital values'!$C$19:$C$44,0),)/1000","v":1327528.9461393291},{"$f":"INDEX('Comparison - Category'!$M$22:$M$48,MATCH(C140,'Comparison - Category'!$C$22:$C$48,0),)","v":725473.26340738265},{"$f":"INDEX('Comparison - Category'!$M$80:$M$106,MATCH(C140,'Comparison - Category'!$C$80:$C$106,0),)","v":719510.12202187651},null,2119780.4832299282,735228.04803941329,9754.7846320306417,null,2076951.4618896164,691524.44923988427,-43703.59879952902,null,27985.672781992238]
[{"$f":"Control!A51","v":"Upper Hutt City"},{"$f":"Control!B51","v":"Residential"},{"$f":"Control!C51","v":"Upper Hutt CityResidential"},{"$f":"IF(VALUE(LEFT(year_current,4))>2020,Control!J51,INDEX(Control!$G51:$I51,,MATCH(year_current,Control!$G$42:$I$42,0)-1))","v":1.5967866383588838},{"$f":"INDEX(Control!$E$43:$E$68,MATCH(C141,Control!$C$43:$C$68,0),)","v":1.3978577589059225},{"$f":"INDEX('Capital values'!$F$19:$F$44,MATCH($C141,'Capital values'!$C$19:$C$44,0),)/1000","v":6130414.6514894199},{"$f":"INDEX('Capital values'!$G$19:$G$44,MATCH($C141,'Capital values'!$C$19:$C$44,0),)/1000","v":6894230.915457095},{"$f":"INDEX('Comparison - Category'!$M$22:$M$48,MATCH(C141,'Comparison - Category'!$C$22:$C$48,0),)","v":3744588.864094113},{"$f":"INDEX('Comparison - Category'!$M$80:$M$106,MATCH(C141,'Comparison - Category'!$C$80:$C$106,0),)","v":3338561.3987474386},null,11008615.807562625,3818245.8871766939,73657.023082580883,null,9637154.1768607814,3208706.5377687146,-609539.34940797929,null,129854.86097872397]
[{"$f":"Control!A52","v":"Upper Hutt City"},{"$f":"Control!B52","v":"Rural"},{"$f":"Control!C52","v":"Upper Hutt CityRural"},{"$f":"IF(VALUE(LEFT(year_current,4))>2020,Control!J52,INDEX(Control!$G52:$I52,,MATCH(year_current,Control!$G$42:$I$42,0)-1))","v":0.40696070495298714},{"$f":"INDEX(Control!$E$43:$E$68,MATCH(C142,Control!$C$43:$C$68,0),)","v":0.35464046996865811},{"$f":"INDEX('Capital values'!$F$19:$F$44,MATCH($C142,'Capital values'!$C$19:$C$44,0),)/1000","v":811441.41957430518},{"$f":"INDEX('Capital values'!$G$19:$G$44,MATCH($C142,'Capital values'!$C$19:$C$44,0),)/1000","v":950719.27140357543},{"$f":"INDEX('Comparison - Category'!$M$22:$M$48,MATCH(C142,'Comparison - Category'!$C$22:$C$48,0),)","v":126321.43490776002},{"$f":"INDEX('Comparison - Category'!$M$80:$M$106,MATCH(C142,'Comparison - Category'!$C$80:$C$106,0),)","v":116802.23466987103},null,386905.38490278937,134194.88157782069,7873.4466700606717,null,337163.52921882423,112259.1587358023,-21935.722842018396,null,4543.0759340687364]
[{"$f":"Control!A53","v":"Porirua City"},{"$f":"Control!B53","v":"Business"},{"$f":"Control!C53","v":"Porirua CityBusiness"},{"$f":"IF(VALUE(LEFT(year_current,4))>2020,Control!J53,INDEX(Control!$G53:$I53,,MATCH(year_current,Control!$G$42:$I$42,0)-1))","v":1.6478083166527571},{"$f":"INDEX(Control!$E$43:$E$68,MATCH(C143,Control!$C$43:$C$68,0),)","v":1.5985388777685046},{"$f":"INDEX('Capital values'!$F$19:$F$44,MATCH($C143,'Capital values'!$C$19:$C$44,0),)/1000","v":1097778.1155520245},{"$f":"INDEX('Capital values'!$G$19:$G$44,MATCH($C143,'Capital values'!$C$19:$C$44,0),)/1000","v":1230208.9906558923},{"$f":"INDEX('Comparison - Category'!$M$22:$M$48,MATCH(C143,'Comparison - Category'!$C$22:$C$48,0),)","v":691972.22117957263},{"$f":"INDEX('Comparison - Category'!$M$80:$M$106,MATCH(C143,'Comparison - Category'!$C$80:$C$106,0),)","v":681259.63960662647},null,2027148.6060237733,703099.45981845993,11127.238638887298,null,1966536.8993437947,654761.73670008581,-48337.723118374124,null,26497.902906540665]
[{"$f":"Control!A54","v":"Porirua City"},{"$f":"Control!B54","v":"Residential"},{"$f":"Control!C54","v":"Porirua CityResidential"},{"$f":"IF(VALUE(LEFT(year_current,4))>2020,Control!J54,INDEX(Control!$G54:$I54,,MATCH(year_current,Control!$G$42:$I$42,0)-1))","v":1.6478083166527566},{"$f":"INDEX(Control!$E$43:$E$68,MATCH(C144,Control!$C$43:$C$68,0),)","v":1.4318722111018378},{"$f":"INDEX('Capital values'!$F$19:$F$44,MATCH($C144,'Capital values'!$C$19:$C$44,0),)/1000","v":8372223.1021721782},{"$f":"INDEX('Capital values'!$G$19:$G$44,MATCH($C144,'Capital values'!$C$19:$C$44,0),)/1000","v":9511891.2147506159},{"$f":"INDEX('Comparison - Category'!$M$22:$M$48,MATCH(C144,'Comparison - Category'!$C$22:$C$48,0),)","v":5277337.6824949672},{"$f":"INDEX('Comparison - Category'!$M$80:$M$106,MATCH(C144,'Comparison - Category'!$C$80:$C$106,0),)","v":4718258.1208131965},null,15673773.450762358,5436316.6142831333,158978.93178816605,null,13619812.70542511,4534739.3295847941,-901577.28469833918,null,183518.79122840241]
[{"$f":"Control!A55","v":"Porirua City"},{"$f":"Control!B55","v":"Rural"},{"$f":"Control!C55","v":"Porirua CityRural"},{"$f":"IF(VALUE(LEFT(year_current,4))>2020,Control!J55,INDEX(Control!$G55:$I55,,MATCH(year_current,Control!$G$42:$I$42,0)-1))","v":0.41985169040555043},{"$f":"INDEX(Control!$E$43:$E$68,MATCH(C145,Control!$C$43:$C$68,0),)","v":0.36323446027036693},{"$f":"INDEX('Capital values'!$F$19:$F$44,MATCH($C145,'Capital values'!$C$19:$C$44,0),)/1000","v":602474.38027579733},{"$f":"INDEX('Capital values'!$G$19:$G$44,MATCH($C145,'Capital values'!$C$19:$C$44,0),)/1000","v":687709.59759349236},{"$f":"INDEX('Comparison - Category'!$M$22:$M$48,MATCH(C145,'Comparison - Category'!$C$22:$C$48,0),)","v":96761.343725979576},{"$f":"INDEX('Comparison - Category'!$M$80:$M$106,MATCH(C145,'Comparison - Category'!$C$80:$C$106,0),)","v":86537.170226810616},null,288736.03705774865,100145.66819727527,3384.3244712956948,null,249799.82450462342,83171.267711580353,-16974.400485694918,null,3365.9025152302638]
[{"$f":"Control!A56","v":"Kapiti Coast District"},{"$f":"Control!B56","v":"Business"},{"$f":"Control!C56","v":"Kapiti Coast DistrictBusiness"},{"$f":"IF(VALUE(LEFT(year_current,4))>2020,Control!J56,INDEX(Control!$G56:$I56,,MATCH(year_current,Control!$G$42:$I$42,0)-1))","v":0.70397657056626128},{"$f":"INDEX(Control!$E$43:$E$68,MATCH(C146,Control!$C$43:$C$68,0),)","v":0.96931771371084086},{"$f":"INDEX('Capital values'!$F$19:$F$44,MATCH($C146,'Capital values'!$C$19:$C$44,0),)/1000","v":1496826.9870055292},{"$f":"INDEX('Capital values'!$G$19:$G$44,MATCH($C146,'Capital values'!$C$19:$C$44,0),)/1000","v":1520992.929631616},{"$f":"INDEX('Comparison - Category'!$M$22:$M$48,MATCH(C146,'Comparison - Category'!$C$22:$C$48,0),)","v":403085.53282028827},{"$f":"INDEX('Comparison - Category'!$M$80:$M$106,MATCH(C146,'Comparison - Category'!$C$80:$C$106,0),)","v":510744.74300001073},null,1070743.3864575957,371378.34610912343,-31707.186711164832,null,1474325.3891208719,490879.09439376876,119500.74828464532,null,19865.648606241972]
[{"$f":"Control!A57","v":"Kapiti Coast District"},{"$f":"Control!B57","v":"Residential"},{"$f":"Control!C57","v":"Kapiti Coast DistrictResidential"},{"$f":"IF(VALUE(LEFT(year_current,4))>2020,Control!J57,INDEX(Control!$G57:$I57,,MATCH(year_current,Control!$G$42:$I$42,0)-1))","v":0.70397657056626128},{"$f":"INDEX(Control!$E$43:$E$68,MATCH(C147,Control!$C$43:$C$68,0),)","v":0.80265104704417423},{"$f":"INDEX('Capital values'!$F$19:$F$44,MATCH($C147,'Capital values'!$C$19:$C$44,0),)/1000","v":9466223.7455475945},{"$f":"INDEX('Capital values'!$G$19:$G$44,MATCH($C147,'Capital values'!$C$19:$C$44,0),)/1000","v":11108742.410312735},{"$f":"INDEX('Comparison - Category'!$M$22:$M$48,MATCH(C147,'Comparison - Category'!$C$22:$C$48,0),)","v":2549190.9722336018},{"$f":"INDEX('Comparison - Category'!$M$80:$M$106,MATCH(C147,'Comparison - Category'!$C$80:$C$106,0),)","v":3088888.5136318337},null,7820294.3853159426,2712403.3934157914,163212.4211821896,null,8916443.7269815393,2968744.79284631,256341.3994305185,null,120143.72078552376]
[{"$f":"Control!A58","v":"Kapiti Coast District"},{"$f":"Control!B58","v":"Rural"},{"$f":"Control!C58","v":"Kapiti Coast DistrictRural"},{"$f":"IF(VALUE(LEFT(year_current,4))>2020,Control!J58,INDEX(Control!$G58:$I58,,MATCH(year_current,Control!$G$42:$I$42,0)-1))","v":0.18212407515403917},{"$f":"INDEX(Control!$E$43:$E$68,MATCH(C148,Control!$C$43:$C$68,0),)","v":0.20474938343602608},{"$f":"INDEX('Capital values'!$F$19:$F$44,MATCH($C148,'Capital values'!$C$19:$C$44,0),)/1000","v":1985748.5594468778},{"$f":"INDEX('Capital values'!$G$19:$G$44,MATCH($C148,'Capital values'!$C$19:$C$44,0),)/1000","v":2049056.3400556492},{"$f":"INDEX('Comparison - Category'!$M$22:$M$48,MATCH(C148,'Comparison - Category'!$C$22:$C$48,0),)","v":138343.58211628126},{"$f":"INDEX('Comparison - Category'!$M$80:$M$106,MATCH(C148,'Comparison - Category'!$C$80:$C$106,0),)","v":145340.63827345235},null,373182.49087115546,129435.21109677326,-8908.3710195080057,null,419543.02225207438,139687.54817762875,10252.33708085549,null,5653.0900958236016]
[{"$f":"Control!A59","v":"Masterton District"},{"$f":"Control!B59","v":"Business"},{"$f":"Control!C59","v":"Masterton DistrictBusiness"},{"$f":"IF(VALUE(LEFT(year_current,4))>2020,Control!J59,INDEX(Control!$G59:$I59,,MATCH(year_current,Control!$G$42:$I$42,0)-1))","v":0.24898742270676497},{"$f":"INDEX(Control!$E$43:$E$68,MATCH(C149,Control!$C$43:$C$68,0),)","v":0.49932494847117659},{"$f":"INDEX('Capital values'!$F$19:$F$44,MATCH($C149,'Capital values'!$C$19:$C$44,0),)/1000","v":404283.09412757982},{"$f":"INDEX('Capital values'!$G$19:$G$44,MATCH($C149,'Capital values'!$C$19:$C$44,0),)/1000","v":434585.85585494735},{"$f":"INDEX('Comparison - Category'!$M$22:$M$48,MATCH(C149,'Comparison - Category'!$C$22:$C$48,0),)","v":38506.176018556216},{"$f":"INDEX('Comparison - Category'!$M$80:$M$106,MATCH(C149,'Comparison - Category'!$C$80:$C$106,0),)","v":75174.303693441281},null,108206.41219413701,37530.484808324465,-975.69121023175103,null,216999.56008107375,72250.365029636378,34719.880221311912,null,2923.9386638049036]
[{"$f":"Control!A60","v":"Masterton District"},{"$f":"Control!B60","v":"Residential"},{"$f":"Control!C60","v":"Masterton DistrictResidential"},{"$f":"IF(VALUE(LEFT(year_current,4))>2020,Control!J60,INDEX(Control!$G60:$I60,,MATCH(year_current,Control!$G$42:$I$42,0)-1))","v":0.24898742270676497},{"$f":"INDEX(Control!$E$43:$E$68,MATCH(C150,Control!$C$43:$C$68,0),)","v":0.33265828180450996},{"$f":"INDEX('Capital values'!$F$19:$F$44,MATCH($C150,'Capital values'!$C$19:$C$44,0),)/1000","v":2094766.3656687392},{"$f":"INDEX('Capital values'!$G$19:$G$44,MATCH($C150,'Capital values'!$C$19:$C$44,0),)/1000","v":2697650.0000007469},{"$f":"INDEX('Comparison - Category'!$M$22:$M$48,MATCH(C150,'Comparison - Category'!$C$22:$C$48,0),)","v":199517.22831313196},{"$f":"INDEX('Comparison - Category'!$M$80:$M$106,MATCH(C150,'Comparison - Category'!$C$80:$C$106,0),)","v":310881.2312248103},null,671680.92086509045,232966.8832503306,33449.654937198648,null,897395.61391018471,298789.36462719791,65822.481376867305,null,12091.866597612388]
[{"$f":"Control!A61","v":"Masterton District"},{"$f":"Control!B61","v":"Rural"},{"$f":"Control!C61","v":"Masterton DistrictRural"},{"$f":"IF(VALUE(LEFT(year_current,4))>2020,Control!J61,INDEX(Control!$G61:$I61,,MATCH(year_current,Control!$G$42:$I$42,0)-1))","v":7.1528999445780297E-2},{"$f":"INDEX(Control!$E$43:$E$68,MATCH(C151,Control!$C$43:$C$68,0),)","v":0.13101933296385354},{"$f":"INDEX('Capital values'!$F$19:$F$44,MATCH($C151,'Capital values'!$C$19:$C$44,0),)/1000","v":2511691.0562036815},{"$f":"INDEX('Capital values'!$G$19:$G$44,MATCH($C151,'Capital values'!$C$19:$C$44,0),)/1000","v":2759496.1231443058},{"$f":"INDEX('Comparison - Category'!$M$22:$M$48,MATCH(C151,'Comparison - Category'!$C$22:$C$48,0),)","v":68725.161699023694},{"$f":"INDEX('Comparison - Category'!$M$80:$M$106,MATCH(C151,'Comparison - Category'!$C$80:$C$106,0),)","v":125249.42276197867},null,197383.99666302191,68460.980619864757,-264.18107915893779,null,361547.3413707068,120377.78961288511,51916.808993020357,null,4871.6331490935554]
[{"$f":"Control!A62","v":"Carterton District"},{"$f":"Control!B62","v":"Business"},{"$f":"Control!C62","v":"Carterton DistrictBusiness"},{"$f":"IF(VALUE(LEFT(year_current,4))>2020,Control!J62,INDEX(Control!$G62:$I62,,MATCH(year_current,Control!$G$42:$I$42,0)-1))","v":0.4467021244082775},{"$f":"INDEX(Control!$E$43:$E$68,MATCH(C152,Control!$C$43:$C$68,0),)","v":0.6311347496055183},{"$f":"INDEX('Capital values'!$F$19:$F$44,MATCH($C152,'Capital values'!$C$19:$C$44,0),)/1000","v":98453.654542029501},{"$f":"INDEX('Capital values'!$G$19:$G$44,MATCH($C152,'Capital values'!$C$19:$C$44,0),)/1000","v":92997.845822640316},{"$f":"INDEX('Comparison - Category'!$M$22:$M$48,MATCH(C152,'Comparison - Category'!$C$22:$C$48,0),)","v":16823.535173389577},{"$f":"INDEX('Comparison - Category'!$M$80:$M$106,MATCH(C152,'Comparison - Category'!$C$80:$C$106,0),)","v":20333.191088603326},null,41542.335294366887,14408.609915559471,-2414.9252578301057,null,58694.172137124689,19542.322391967995,5133.7124764085238,null,790.86869663533071]
[{"$f":"Control!A63","v":"Carterton District"},{"$f":"Control!B63","v":"Residential"},{"$f":"Control!C63","v":"Carterton DistrictResidential"},{"$f":"IF(VALUE(LEFT(year_current,4))>2020,Control!J63,INDEX(Control!$G63:$I63,,MATCH(year_current,Control!$G$42:$I$42,0)-1))","v":0.44670212440827739},{"$f":"INDEX(Control!$E$43:$E$68,MATCH(C153,Control!$C$43:$C$68,0),)","v":0.46446808293885161},{"$f":"INDEX('Capital values'!$F$19:$F$44,MATCH($C153,'Capital values'!$C$19:$C$44,0),)/1000","v":643076.30383414833},{"$f":"INDEX('Capital values'!$G$19:$G$44,MATCH($C153,'Capital values'!$C$19:$C$44,0),)/1000","v":830184.32082282321},{"$f":"INDEX('Comparison - Category'!$M$22:$M$48,MATCH(C153,'Comparison - Category'!$C$22:$C$48,0),)","v":109887.40709577865},{"$f":"INDEX('Comparison - Category'!$M$80:$M$106,MATCH(C153,'Comparison - Category'!$C$80:$C$106,0),)","v":133579.85364964273},null,370845.09976199805,128624.50663171848,18737.099535939837,null,385594.11997846927,128384.20460998734,-240.3020217311423,null,5195.6490396553854]
[{"$f":"Control!A64","v":"Carterton District"},{"$f":"Control!B64","v":"Rural"},{"$f":"Control!C64","v":"Carterton DistrictRural"},{"$f":"IF(VALUE(LEFT(year_current,4))>2020,Control!J64,INDEX(Control!$G64:$I64,,MATCH(year_current,Control!$G$42:$I$42,0)-1))","v":0.11971679562309516},{"$f":"INDEX(Control!$E$43:$E$68,MATCH(C154,Control!$C$43:$C$68,0),)","v":0.16314453041539678},{"$f":"INDEX('Capital values'!$F$19:$F$44,MATCH($C154,'Capital values'!$C$19:$C$44,0),)/1000","v":1573910.6346238223},{"$f":"INDEX('Capital values'!$G$19:$G$44,MATCH($C154,'Capital values'!$C$19:$C$44,0),)/1000","v":1792467.2833545366},{"$f":"INDEX('Comparison - Category'!$M$22:$M$48,MATCH(C154,'Comparison - Category'!$C$22:$C$48,0),)","v":72077.971340367745},{"$f":"INDEX('Comparison - Category'!$M$80:$M$106,MATCH(C154,'Comparison - Category'!$C$80:$C$106,0),)","v":101305.80139380833},null,214588.43942243967,74428.197021602187,2350.2256812344422,null,292431.23322783783,97365.466265849711,22937.269244247524,null,3940.3351279586204]
[{"$f":"Control!A65","v":"South Wairarapa District"},{"$f":"Control!B65","v":"Business"},{"$f":"Control!C65","v":"South Wairarapa DistrictBusiness"},{"$f":"IF(VALUE(LEFT(year_current,4))>2020,Control!J65,INDEX(Control!$G65:$I65,,MATCH(year_current,Control!$G$42:$I$42,0)-1))","v":0.59024972692395639},{"$f":"INDEX(Control!$E$43:$E$68,MATCH(C155,Control!$C$43:$C$68,0),)","v":0.72683315128263759},{"$f":"INDEX('Capital values'!$F$19:$F$44,MATCH($C155,'Capital values'!$C$19:$C$44,0),)/1000","v":196344.62520795071},{"$f":"INDEX('Capital values'!$G$19:$G$44,MATCH($C155,'Capital values'!$C$19:$C$44,0),)/1000","v":208380.89895611463},{"$f":"INDEX('Comparison - Category'!$M$22:$M$48,MATCH(C155,'Comparison - Category'!$C$22:$C$48,0),)","v":44332.499023699995},{"$f":"INDEX('Comparison - Category'!$M$80:$M$106,MATCH(C155,'Comparison - Category'!$C$80:$C$106,0),)","v":52469.049333806957},null,122996.7687050152,42660.395680383612,-1672.103343316383,null,151458.14545538169,50428.241844244672,7767.8461638610606,null,2040.8074895622849]
[{"$f":"Control!A66","v":"South Wairarapa District"},{"$f":"Control!B66","v":"Residential"},{"$f":"Control!C66","v":"South Wairarapa DistrictResidential"},{"$f":"IF(VALUE(LEFT(year_current,4))>2020,Control!J66,INDEX(Control!$G66:$I66,,MATCH(year_current,Control!$G$42:$I$42,0)-1))","v":0.59024972692395627},{"$f":"INDEX(Control!$E$43:$E$68,MATCH(C156,Control!$C$43:$C$68,0),)","v":0.56016648461597085},{"$f":"INDEX('Capital values'!$F$19:$F$44,MATCH($C156,'Capital values'!$C$19:$C$44,0),)/1000","v":915432.86345302884},{"$f":"INDEX('Capital values'!$G$19:$G$44,MATCH($C156,'Capital values'!$C$19:$C$44,0),)/1000","v":1310575.3507554336},{"$f":"INDEX('Comparison - Category'!$M$22:$M$48,MATCH(C156,'Comparison - Category'!$C$22:$C$48,0),)","v":206694.86868974354},{"$f":"INDEX('Comparison - Category'!$M$80:$M$106,MATCH(C156,'Comparison - Category'!$C$80:$C$106,0),)","v":254325.36540454463},null,773566.74289666291,268305.12447284814,61610.2557831046,null,734140.38705701416,244433.26487874304,-23871.859594105103,null,9892.1005258015939]
[{"$f":"Control!A67","v":"South Wairarapa District"},{"$f":"Control!B67","v":"Rural"},{"$f":"Control!C67","v":"South Wairarapa DistrictRural"},{"$f":"IF(VALUE(LEFT(year_current,4))>2020,Control!J67,INDEX(Control!$G67:$I67,,MATCH(year_current,Control!$G$42:$I$42,0)-1))","v":0.15344275637777782},{"$f":"INDEX(Control!$E$43:$E$68,MATCH(C157,Control!$C$43:$C$68,0),)","v":0.18562850425185187},{"$f":"INDEX('Capital values'!$F$19:$F$44,MATCH($C157,'Capital values'!$C$19:$C$44,0),)/1000","v":2613181.7103390205},{"$f":"INDEX('Capital values'!$G$19:$G$44,MATCH($C157,'Capital values'!$C$19:$C$44,0),)/1000","v":2995172.8012884515},{"$f":"INDEX('Comparison - Category'!$M$22:$M$48,MATCH(C157,'Comparison - Category'!$C$22:$C$48,0),)","v":153385.18071582823},{"$f":"INDEX('Comparison - Category'!$M$80:$M$106,MATCH(C157,'Comparison - Category'!$C$80:$C$106,0),)","v":192609.23630190783},null,459587.57045745023,159404.08688721564,6018.9061713874107,null,555989.44707900437,185117.61263053061,25713.525743314967,null,7491.6236713772232]
[{"$f":"Control!A68","v":"Tararua District"},{"$f":"Control!B68","v":"Rural"},{"$f":"Control!C68","v":"Tararua DistrictRural"},{"$f":"IF(VALUE(LEFT(year_current,4))>2020,Control!J68,INDEX(Control!$G68:$I68,,MATCH(year_current,Control!$G$42:$I$42,0)-1))","v":0},{"$f":"INDEX(Control!$E$43:$E$68,MATCH(C158,Control!$C$43:$C$68,0),)","v":0},{"$f":"INDEX('Capital values'!$F$19:$F$44,MATCH($C158,'Capital values'!$C$19:$C$44,0),)/1000","v":7041.7999999999993},{"$f":"INDEX('Capital values'!$G$19:$G$44,MATCH($C158,'Capital values'!$C$19:$C$44,0),)/1000","v":7041.8},{"$f":"INDEX('Comparison - Category'!$M$22:$M$48,MATCH(C158,'Comparison - Category'!$C$22:$C$48,0),)","v":0},{"$f":"INDEX('Comparison - Category'!$M$80:$M$106,MATCH(C158,'Comparison - Category'!$C$80:$C$106,0),)","v":0},null,0,0,0,null,0,0,0,null,0]
[{"$f":"Control!A69","v":"Region wide"},{"$f":"Control!B69","v":0},{"$f":"Control!C69","v":"Region wide"},null,null,{"$f":"SUM(F133:F158)","v":127056566.043},{"$f":"SUM(G133:G158)","v":141502827.37800005},{"$f":"SUM(H133:H158)","v":64656396.127130896},{"$f":"SUM(I133:I158)","v":67273010.401963368},null,{"$f":"SUM(K133:K158)","v":186414768.8486008},{"$f":"SUM(L133:L158)","v":64656396.127130888},0,null,{"$f":"SUM(O133:O158)","v":194191538.13631129},{"$f":"SUM(P133:P158)","v":64656396.127130874},0,null,2616614.2748324946]

{"sheet":"4","index":27,"n_rows":50,"n_cols":27,"rows_kept":50,"cut":false,"hidden":false,"merged":[[11,18,11,20],[11,21,11,23],[11,15,11,17],[47,0,47,23],[52,0,53,23],[49,0,50,23],[30,21,30,23],[27,0,28,23],[31,21,31,23],[11,3,11,5],[11,6,11,8],[11,12,11,14],[11,9,11,11],[10,21,10,23],[10,3,10,5],[10,9,10,11],[10,15,10,17],[10,18,10,20],[10,6,10,8],[10,12,10,14]]}
["PAGE xx gone"]
[]
["RATES AND LEVIES - REGION-WIDE TOTAL RATES BY CITY AND RATE TYPE"]
[{"$f":"+'3'!A4","v":"WHAT IS THE IMPACT ON YOUR CITY OR DISTRICT?"}]
[]
[]
[]
[]
["Percentage changes in each rate type which together make up the changes in region-wide rates from 2017/18 to 2018/19"]
[]
[null,null,null,"General rate",null,null,"Flood protection - regional rate",null,null,"Flood protection - catchment rate",null,null,"River management rate",null,null,"Transport rate",null,null,"Stadium-purposes rate",null,null,"WRS rate"]
[null,null,null,"General rate",null,null,"Flood protection – regional rate",null,null,"Flood protection – catchment rate",null,null,"River Management rate",null,null,"Public transport rate",null,null,"Stadium purposes rate",null,null,"Regional strategy rate"]
[null,null,null,{"$f":"year_previous","v":"2017/18"},{"$f":"year_current","v":"2018/19"},null,{"$f":"year_previous","v":"2017/18"},{"$f":"year_current","v":"2018/19"},null,{"$f":"year_previous","v":"2017/18"},{"$f":"year_current","v":"2018/19"},null,{"$f":"year_previous","v":"2017/18"},{"$f":"year_current","v":"2018/19"},null,{"$f":"year_previous","v":"2017/18"},{"$f":"year_current","v":"2018/19"},null,{"$f":"year_previous","v":"2017/18"},{"$f":"year_current","v":"2018/19"},null,{"$f":"year_previous","v":"2017/18"},{"$f":"year_current","v":"2018/19"}]
[null,null,null,"Budget","Plan","Change","Budget","Plan","Change","Budget","Plan","Change","Budget","Plan","Change","Budget","Plan","Change","Budget","Plan","Change","Budget","Plan","Change"]
[null,null,null,"$000s","$000s","%   ","$000s","$000s","%   ","$000s","$000s","%   ","$000s","$000s","%   ","$000s","$000s","%   ","$000s","$000s","%   ","$000s","$000s","%   "]
["Wellington city",null,null,{"$f":"INDEX('Comparison - TA'!$B$7:$L$24,MATCH(D$12,'Comparison - TA'!$A$7:$A$24,0),MATCH($A16,'Comparison - TA'!$B$6:$L$6,0))/1000","v":21189.528406917834},{"$f":"INDEX('Comparison - TA'!$B$32:$L$49,MATCH(D$12,'Comparison - TA'!$A$32:$A$49,0),MATCH($A16,'Comparison - TA'!$B$31:$L$31,0))/1000","v":17763.603956695955},{"$f":"IF(D16=0,\"n/a\",E16/D16-1)","v":-0.16168007066657519},{"$f":"INDEX('Comparison - TA'!$B$7:$L$24,MATCH(G$12,'Comparison - TA'!$A$7:$A$24,0),MATCH($A16,'Comparison - TA'!$B$6:$L$6,0))/1000","v":0},{"$f":"INDEX('Comparison - TA'!$B$32:$L$49,MATCH(G$12,'Comparison - TA'!$A$32:$A$49,0),MATCH($A16,'Comparison - TA'!$B$31:$L$31,0))/1000","v":4745.2930166026244},{"$f":"IF(G16=0,\"n/a\",H16/G16-1)","v":"n/a"},{"$f":"INDEX('Comparison - TA'!$B$7:$L$24,MATCH(J$12,'Comparison - TA'!$A$7:$A$24,0),MATCH($A16,'Comparison - TA'!$B$6:$L$6,0))/1000","v":43.255000000000003},{"$f":"INDEX('Comparison - TA'!$B$32:$L$49,MATCH(J$12,'Comparison - TA'!$A$32:$A$49,0),MATCH($A16,'Comparison - TA'!$B$31:$L$31,0))/1000","v":54.042000000000002},{"$f":"IF(J16=0,\"n/a\",K16/J16-1)","v":0.24938157438446429},{"$f":"INDEX('Comparison - TA'!$B$7:$L$24,MATCH(M$12,'Comparison - TA'!$A$7:$A$24,0),MATCH($A16,'Comparison - TA'!$B$6:$L$6,0))/1000","v":0},{"$f":"INDEX('Comparison - TA'!$B$32:$L$49,MATCH(M$12,'Comparison - TA'!$A$32:$A$49,0),MATCH($A16,'Comparison - TA'!$B$31:$L$31,0))/1000","v":0},{"$f":"IF(M16=0,\"n/a\",N16/M16-1)","v":"n/a"},{"$f":"INDEX('Comparison - TA'!$B$7:$L$24,MATCH(P$12,'Comparison - TA'!$A$7:$A$24,0),MATCH($A16,'Comparison - TA'!$B$6:$L$6,0))/1000","v":38457.358003260495},{"$f":"INDEX('Comparison - TA'!$B$32:$L$49,MATCH(P$12,'Comparison - TA'!$A$32:$A$49,0),MATCH($A16,'Comparison - TA'!$B$31:$L$31,0))/1000","v":41775.892755646848},{"$f":"IF(P16=0,\"n/a\",Q16/P16-1)","v":8.6291282726832064E-2},{"$f":"INDEX('Comparison - TA'!$B$7:$L$24,MATCH(S$12,'Comparison - TA'!$A$7:$A$24,0),MATCH($A16,'Comparison - TA'!$B$6:$L$6,0))/1000","v":580.98599999999999},{"$f":"INDEX('Comparison - TA'!$B$32:$L$49,MATCH(S$12,'Comparison - TA'!$A$32:$A$49,0),MATCH($A16,'Comparison - TA'!$B$31:$L$31,0))/1000","v":0},{"$f":"IF(S16=0,\"n/a\",T16/S16-1)","v":-1},{"$f":"INDEX('Comparison - TA'!$B$7:$L$24,MATCH(V$12,'Comparison - TA'!$A$7:$A$24,0),MATCH($A16,'Comparison - TA'!$B$6:$L$6,0))/1000","v":2299.8509726340426},{"$f":"INDEX('Comparison - TA'!$B$32:$L$49,MATCH(V$12,'Comparison - TA'!$A$32:$A$49,0),MATCH($A16,'Comparison - TA'!$B$31:$L$31,0))/1000","v":2346.5501049939539},{"$f":"IF(V16=0,\"n/a\",W16/V16-1)","v":2.0305286262277455E-2},null,{"$f":"+D16+G16+J16+M16+P16+S16+V16-V36","v":0},{"$f":"+E16+H16+K16+Q16+T16+W16-W36","v":0}]
["Hutt city",null,null,{"$f":"INDEX('Comparison - TA'!$B$7:$L$24,MATCH(D$12,'Comparison - TA'!$A$7:$A$24,0),MATCH($A17,'Comparison - TA'!$B$6:$L$6,0))/1000","v":7179.4560529976616},{"$f":"INDEX('Comparison - TA'!$B$32:$L$49,MATCH(D$12,'Comparison - TA'!$A$32:$A$49,0),MATCH($A17,'Comparison - TA'!$B$31:$L$31,0))/1000","v":6211.2968326458522},{"$f":"IF(D17=0,\"n/a\",E17/D17-1)","v":-0.13485133319362974},{"$f":"INDEX('Comparison - TA'!$B$7:$L$24,MATCH(G$12,'Comparison - TA'!$A$7:$A$24,0),MATCH($A17,'Comparison - TA'!$B$6:$L$6,0))/1000","v":0},{"$f":"INDEX('Comparison - TA'!$B$32:$L$49,MATCH(G$12,'Comparison - TA'!$A$32:$A$49,0),MATCH($A17,'Comparison - TA'!$B$31:$L$31,0))/1000","v":1659.2592109041047},{"$f":"IF(G17=0,\"n/a\",H17/G17-1)","v":"n/a"},{"$f":"INDEX('Comparison - TA'!$B$7:$L$24,MATCH(J$12,'Comparison - TA'!$A$7:$A$24,0),MATCH($A17,'Comparison - TA'!$B$6:$L$6,0))/1000","v":3685.5859999999998},{"$f":"INDEX('Comparison - TA'!$B$32:$L$49,MATCH(J$12,'Comparison - TA'!$A$32:$A$49,0),MATCH($A17,'Comparison - TA'!$B$31:$L$31,0))/1000","v":5167.4920000000002},{"$f":"IF(J17=0,\"n/a\",K17/J17-1)","v":0.40208151431007177},{"$f":"INDEX('Comparison - TA'!$B$7:$L$24,MATCH(M$12,'Comparison - TA'!$A$7:$A$24,0),MATCH($A17,'Comparison - TA'!$B$6:$L$6,0))/1000","v":0},{"$f":"INDEX('Comparison - TA'!$B$32:$L$49,MATCH(M$12,'Comparison - TA'!$A$32:$A$49,0),MATCH($A17,'Comparison - TA'!$B$31:$L$31,0))/1000","v":0},{"$f":"IF(M17=0,\"n/a\",N17/M17-1)","v":"n/a"},{"$f":"INDEX('Comparison - TA'!$B$7:$L$24,MATCH(P$12,'Comparison - TA'!$A$7:$A$24,0),MATCH($A17,'Comparison - TA'!$B$6:$L$6,0))/1000","v":11536.013198820936},{"$f":"INDEX('Comparison - TA'!$B$32:$L$49,MATCH(P$12,'Comparison - TA'!$A$32:$A$49,0),MATCH($A17,'Comparison - TA'!$B$31:$L$31,0))/1000","v":10825.287610472855},{"$f":"IF(P17=0,\"n/a\",Q17/P17-1)","v":-6.1609290497407043E-2},{"$f":"INDEX('Comparison - TA'!$B$7:$L$24,MATCH(S$12,'Comparison - TA'!$A$7:$A$24,0),MATCH($A17,'Comparison - TA'!$B$6:$L$6,0))/1000","v":190.92400000000001},{"$f":"INDEX('Comparison - TA'!$B$32:$L$49,MATCH(S$12,'Comparison - TA'!$A$32:$A$49,0),MATCH($A17,'Comparison - TA'!$B$31:$L$31,0))/1000","v":0},{"$f":"IF(S17=0,\"n/a\",T17/S17-1)","v":-1},{"$f":"INDEX('Comparison - TA'!$B$7:$L$24,MATCH(V$12,'Comparison - TA'!$A$7:$A$24,0),MATCH($A17,'Comparison - TA'!$B$6:$L$6,0))/1000","v":862.25231806421573},{"$f":"INDEX('Comparison - TA'!$B$32:$L$49,MATCH(V$12,'Comparison - TA'!$A$32:$A$49,0),MATCH($A17,'Comparison - TA'!$B$31:$L$31,0))/1000","v":883.53913968264658},{"$f":"IF(V17=0,\"n/a\",W17/V17-1)","v":2.4687462326828502E-2},null,{"$f":"+D17+G17+J17+M17+P17+S17+V17-V37","v":0},{"$f":"+E17+H17+K17+Q17+T17+W17-W37","v":0}]
["Upper Hutt city",null,null,{"$f":"INDEX('Comparison - TA'!$B$7:$L$24,MATCH(D$12,'Comparison - TA'!$A$7:$A$24,0),MATCH($A18,'Comparison - TA'!$B$6:$L$6,0))/1000","v":2718.1370908558238},{"$f":"INDEX('Comparison - TA'!$B$32:$L$49,MATCH(D$12,'Comparison - TA'!$A$32:$A$49,0),MATCH($A18,'Comparison - TA'!$B$31:$L$31,0))/1000","v":2362.2486952953736},-0.13093099562847887,{"$f":"INDEX('Comparison - TA'!$B$7:$L$24,MATCH(G$12,'Comparison - TA'!$A$7:$A$24,0),MATCH($A18,'Comparison - TA'!$B$6:$L$6,0))/1000","v":0},{"$f":"INDEX('Comparison - TA'!$B$32:$L$49,MATCH(G$12,'Comparison - TA'!$A$32:$A$49,0),MATCH($A18,'Comparison - TA'!$B$31:$L$31,0))/1000","v":631.04099058898316},"n/a",{"$f":"INDEX('Comparison - TA'!$B$7:$L$24,MATCH(J$12,'Comparison - TA'!$A$7:$A$24,0),MATCH($A18,'Comparison - TA'!$B$6:$L$6,0))/1000","v":678.04499999999996},{"$f":"INDEX('Comparison - TA'!$B$32:$L$49,MATCH(J$12,'Comparison - TA'!$A$32:$A$49,0),MATCH($A18,'Comparison - TA'!$B$31:$L$31,0))/1000","v":881.40200000000004},0.29991667219727325,{"$f":"INDEX('Comparison - TA'!$B$7:$L$24,MATCH(M$12,'Comparison - TA'!$A$7:$A$24,0),MATCH($A18,'Comparison - TA'!$B$6:$L$6,0))/1000","v":0},{"$f":"INDEX('Comparison - TA'!$B$32:$L$49,MATCH(M$12,'Comparison - TA'!$A$32:$A$49,0),MATCH($A18,'Comparison - TA'!$B$31:$L$31,0))/1000","v":0},"n/a",{"$f":"INDEX('Comparison - TA'!$B$7:$L$24,MATCH(P$12,'Comparison - TA'!$A$7:$A$24,0),MATCH($A18,'Comparison - TA'!$B$6:$L$6,0))/1000","v":4596.3835624092553},{"$f":"INDEX('Comparison - TA'!$B$32:$L$49,MATCH(P$12,'Comparison - TA'!$A$32:$A$49,0),MATCH($A18,'Comparison - TA'!$B$31:$L$31,0))/1000","v":4174.8737554391864},-9.17046632960129E-2,{"$f":"INDEX('Comparison - TA'!$B$7:$L$24,MATCH(S$12,'Comparison - TA'!$A$7:$A$24,0),MATCH($A18,'Comparison - TA'!$B$6:$L$6,0))/1000","v":51.447000000000003},{"$f":"INDEX('Comparison - TA'!$B$32:$L$49,MATCH(S$12,'Comparison - TA'!$A$32:$A$49,0),MATCH($A18,'Comparison - TA'!$B$31:$L$31,0))/1000","v":0},-1,{"$f":"INDEX('Comparison - TA'!$B$7:$L$24,MATCH(V$12,'Comparison - TA'!$A$7:$A$24,0),MATCH($A18,'Comparison - TA'!$B$6:$L$6,0))/1000","v":343.19801081979472},{"$f":"INDEX('Comparison - TA'!$B$32:$L$49,MATCH(V$12,'Comparison - TA'!$A$32:$A$49,0),MATCH($A18,'Comparison - TA'!$B$31:$L$31,0))/1000","v":352.21427155678055},2.6271308261515802E-2,null,0,0]
["Porirua city",null,null,{"$f":"INDEX('Comparison - TA'!$B$7:$L$24,MATCH(D$12,'Comparison - TA'!$A$7:$A$24,0),MATCH($A19,'Comparison - TA'!$B$6:$L$6,0))/1000","v":3367.7566064207804},{"$f":"INDEX('Comparison - TA'!$B$32:$L$49,MATCH(D$12,'Comparison - TA'!$A$32:$A$49,0),MATCH($A19,'Comparison - TA'!$B$31:$L$31,0))/1000","v":2943.5938641138382},-0.12594815833729101,{"$f":"INDEX('Comparison - TA'!$B$7:$L$24,MATCH(G$12,'Comparison - TA'!$A$7:$A$24,0),MATCH($A19,'Comparison - TA'!$B$6:$L$6,0))/1000","v":0},{"$f":"INDEX('Comparison - TA'!$B$32:$L$49,MATCH(G$12,'Comparison - TA'!$A$32:$A$49,0),MATCH($A19,'Comparison - TA'!$B$31:$L$31,0))/1000","v":786.33904702814777},"n/a",{"$f":"INDEX('Comparison - TA'!$B$7:$L$24,MATCH(J$12,'Comparison - TA'!$A$7:$A$24,0),MATCH($A19,'Comparison - TA'!$B$6:$L$6,0))/1000","v":28.308},{"$f":"INDEX('Comparison - TA'!$B$32:$L$49,MATCH(J$12,'Comparison - TA'!$A$32:$A$49,0),MATCH($A19,'Comparison - TA'!$B$31:$L$31,0))/1000","v":45.121000000000002},0.59393104422778031,{"$f":"INDEX('Comparison - TA'!$B$7:$L$24,MATCH(M$12,'Comparison - TA'!$A$7:$A$24,0),MATCH($A19,'Comparison - TA'!$B$6:$L$6,0))/1000","v":0},{"$f":"INDEX('Comparison - TA'!$B$32:$L$49,MATCH(M$12,'Comparison - TA'!$A$32:$A$49,0),MATCH($A19,'Comparison - TA'!$B$31:$L$31,0))/1000","v":0},"n/a",{"$f":"INDEX('Comparison - TA'!$B$7:$L$24,MATCH(P$12,'Comparison - TA'!$A$7:$A$24,0),MATCH($A19,'Comparison - TA'!$B$6:$L$6,0))/1000","v":6066.0712474005195},{"$f":"INDEX('Comparison - TA'!$B$32:$L$49,MATCH(P$12,'Comparison - TA'!$A$32:$A$49,0),MATCH($A19,'Comparison - TA'!$B$31:$L$31,0))/1000","v":5486.0549306466337},-9.5616469556377037E-2,{"$f":"INDEX('Comparison - TA'!$B$7:$L$24,MATCH(S$12,'Comparison - TA'!$A$7:$A$24,0),MATCH($A19,'Comparison - TA'!$B$6:$L$6,0))/1000","v":70.225999999999999},{"$f":"INDEX('Comparison - TA'!$B$32:$L$49,MATCH(S$12,'Comparison - TA'!$A$32:$A$49,0),MATCH($A19,'Comparison - TA'!$B$31:$L$31,0))/1000","v":0},-1,{"$f":"INDEX('Comparison - TA'!$B$7:$L$24,MATCH(V$12,'Comparison - TA'!$A$7:$A$24,0),MATCH($A19,'Comparison - TA'!$B$6:$L$6,0))/1000","v":354.52617078167094},{"$f":"INDEX('Comparison - TA'!$B$32:$L$49,MATCH(V$12,'Comparison - TA'!$A$32:$A$49,0),MATCH($A19,'Comparison - TA'!$B$31:$L$31,0))/1000","v":362.9545636568194},2.3773683213753394E-2,null,0,0]
["Kapiti Coast district",null,null,{"$f":"INDEX('Comparison - TA'!$B$7:$L$24,MATCH(D$12,'Comparison - TA'!$A$7:$A$24,0),MATCH($A20,'Comparison - TA'!$B$6:$L$6,0))/1000","v":4329.4623984503523},{"$f":"INDEX('Comparison - TA'!$B$32:$L$49,MATCH(D$12,'Comparison - TA'!$A$32:$A$49,0),MATCH($A20,'Comparison - TA'!$B$31:$L$31,0))/1000","v":3780.3254705526492},-0.12683720918658536,{"$f":"INDEX('Comparison - TA'!$B$7:$L$24,MATCH(G$12,'Comparison - TA'!$A$7:$A$24,0),MATCH($A20,'Comparison - TA'!$B$6:$L$6,0))/1000","v":0},{"$f":"INDEX('Comparison - TA'!$B$32:$L$49,MATCH(G$12,'Comparison - TA'!$A$32:$A$49,0),MATCH($A20,'Comparison - TA'!$B$31:$L$31,0))/1000","v":1009.8599416891716},"n/a",{"$f":"INDEX('Comparison - TA'!$B$7:$L$24,MATCH(J$12,'Comparison - TA'!$A$7:$A$24,0),MATCH($A20,'Comparison - TA'!$B$6:$L$6,0))/1000","v":1368.2260000000001},{"$f":"INDEX('Comparison - TA'!$B$32:$L$49,MATCH(J$12,'Comparison - TA'!$A$32:$A$49,0),MATCH($A20,'Comparison - TA'!$B$31:$L$31,0))/1000","v":1619.846},0.18390236700662022,{"$f":"INDEX('Comparison - TA'!$B$7:$L$24,MATCH(M$12,'Comparison - TA'!$A$7:$A$24,0),MATCH($A20,'Comparison - TA'!$B$6:$L$6,0))/1000","v":0},{"$f":"INDEX('Comparison - TA'!$B$32:$L$49,MATCH(M$12,'Comparison - TA'!$A$32:$A$49,0),MATCH($A20,'Comparison - TA'!$B$31:$L$31,0))/1000","v":0},"n/a",{"$f":"INDEX('Comparison - TA'!$B$7:$L$24,MATCH(P$12,'Comparison - TA'!$A$7:$A$24,0),MATCH($A20,'Comparison - TA'!$B$6:$L$6,0))/1000","v":3090.6200871701712},{"$f":"INDEX('Comparison - TA'!$B$32:$L$49,MATCH(P$12,'Comparison - TA'!$A$32:$A$49,0),MATCH($A20,'Comparison - TA'!$B$31:$L$31,0))/1000","v":3744.9738949052971},0.21172249881228988,{"$f":"INDEX('Comparison - TA'!$B$7:$L$24,MATCH(S$12,'Comparison - TA'!$A$7:$A$24,0),MATCH($A20,'Comparison - TA'!$B$6:$L$6,0))/1000","v":47.34},{"$f":"INDEX('Comparison - TA'!$B$32:$L$49,MATCH(S$12,'Comparison - TA'!$A$32:$A$49,0),MATCH($A20,'Comparison - TA'!$B$31:$L$31,0))/1000","v":0},-1,{"$f":"INDEX('Comparison - TA'!$B$7:$L$24,MATCH(V$12,'Comparison - TA'!$A$7:$A$24,0),MATCH($A20,'Comparison - TA'!$B$6:$L$6,0))/1000","v":491.41964592721399},{"$f":"INDEX('Comparison - TA'!$B$32:$L$49,MATCH(V$12,'Comparison - TA'!$A$32:$A$49,0),MATCH($A20,'Comparison - TA'!$B$31:$L$31,0))/1000","v":489.42157025823559},-4.0659254987830407E-3,null,0,0]
["Masterton district",null,null,{"$f":"INDEX('Comparison - TA'!$B$7:$L$24,MATCH(D$12,'Comparison - TA'!$A$7:$A$24,0),MATCH($A21,'Comparison - TA'!$B$6:$L$6,0))/1000","v":1675.3532248983531},{"$f":"INDEX('Comparison - TA'!$B$32:$L$49,MATCH(D$12,'Comparison - TA'!$A$32:$A$49,0),MATCH($A21,'Comparison - TA'!$B$31:$L$31,0))/1000","v":1517.3363687850406},-9.4318531617653134E-2,{"$f":"INDEX('Comparison - TA'!$B$7:$L$24,MATCH(G$12,'Comparison - TA'!$A$7:$A$24,0),MATCH($A21,'Comparison - TA'!$B$6:$L$6,0))/1000","v":0},{"$f":"INDEX('Comparison - TA'!$B$32:$L$49,MATCH(G$12,'Comparison - TA'!$A$32:$A$49,0),MATCH($A21,'Comparison - TA'!$B$31:$L$31,0))/1000","v":405.33473343503215},"n/a",{"$f":"INDEX('Comparison - TA'!$B$7:$L$24,MATCH(J$12,'Comparison - TA'!$A$7:$A$24,0),MATCH($A21,'Comparison - TA'!$B$6:$L$6,0))/1000","v":0},{"$f":"INDEX('Comparison - TA'!$B$32:$L$49,MATCH(J$12,'Comparison - TA'!$A$32:$A$49,0),MATCH($A21,'Comparison - TA'!$B$31:$L$31,0))/1000","v":271.62700000000001},"n/a",{"$f":"INDEX('Comparison - TA'!$B$7:$L$24,MATCH(M$12,'Comparison - TA'!$A$7:$A$24,0),MATCH($A21,'Comparison - TA'!$B$6:$L$6,0))/1000","v":0},{"$f":"INDEX('Comparison - TA'!$B$32:$L$49,MATCH(M$12,'Comparison - TA'!$A$32:$A$49,0),MATCH($A21,'Comparison - TA'!$B$31:$L$31,0))/1000","v":0},"n/a",{"$f":"INDEX('Comparison - TA'!$B$7:$L$24,MATCH(P$12,'Comparison - TA'!$A$7:$A$24,0),MATCH($A21,'Comparison - TA'!$B$6:$L$6,0))/1000","v":306.74856603071186},{"$f":"INDEX('Comparison - TA'!$B$32:$L$49,MATCH(P$12,'Comparison - TA'!$A$32:$A$49,0),MATCH($A21,'Comparison - TA'!$B$31:$L$31,0))/1000","v":511.30495768023025},0.66685361987654113,{"$f":"INDEX('Comparison - TA'!$B$7:$L$24,MATCH(S$12,'Comparison - TA'!$A$7:$A$24,0),MATCH($A21,'Comparison - TA'!$B$6:$L$6,0))/1000","v":19.562000000000001},{"$f":"INDEX('Comparison - TA'!$B$32:$L$49,MATCH(S$12,'Comparison - TA'!$A$32:$A$49,0),MATCH($A21,'Comparison - TA'!$B$31:$L$31,0))/1000","v":0},-1,{"$f":"INDEX('Comparison - TA'!$B$7:$L$24,MATCH(V$12,'Comparison - TA'!$A$7:$A$24,0),MATCH($A21,'Comparison - TA'!$B$6:$L$6,0))/1000","v":241.56229325001914},{"$f":"INDEX('Comparison - TA'!$B$32:$L$49,MATCH(V$12,'Comparison - TA'!$A$32:$A$49,0),MATCH($A21,'Comparison - TA'!$B$31:$L$31,0))/1000","v":242.66013467105992},4.544754921267824E-3,null,0,0]
["Carterton district",null,null,{"$f":"INDEX('Comparison - TA'!$B$7:$L$24,MATCH(D$12,'Comparison - TA'!$A$7:$A$24,0),MATCH($A22,'Comparison - TA'!$B$6:$L$6,0))/1000","v":774.17316904683742},{"$f":"INDEX('Comparison - TA'!$B$32:$L$49,MATCH(D$12,'Comparison - TA'!$A$32:$A$49,0),MATCH($A22,'Comparison - TA'!$B$31:$L$31,0))/1000","v":699.37900943950808},-9.6611665965401494E-2,{"$f":"INDEX('Comparison - TA'!$B$7:$L$24,MATCH(G$12,'Comparison - TA'!$A$7:$A$24,0),MATCH($A22,'Comparison - TA'!$B$6:$L$6,0))/1000","v":0},{"$f":"INDEX('Comparison - TA'!$B$32:$L$49,MATCH(G$12,'Comparison - TA'!$A$32:$A$49,0),MATCH($A22,'Comparison - TA'!$B$31:$L$31,0))/1000","v":186.8291106659558},"n/a",{"$f":"INDEX('Comparison - TA'!$B$7:$L$24,MATCH(J$12,'Comparison - TA'!$A$7:$A$24,0),MATCH($A22,'Comparison - TA'!$B$6:$L$6,0))/1000","v":23.24},{"$f":"INDEX('Comparison - TA'!$B$32:$L$49,MATCH(J$12,'Comparison - TA'!$A$32:$A$49,0),MATCH($A22,'Comparison - TA'!$B$31:$L$31,0))/1000","v":144.63399999999999},5.2234939759036143,{"$f":"INDEX('Comparison - TA'!$B$7:$L$24,MATCH(M$12,'Comparison - TA'!$A$7:$A$24,0),MATCH($A22,'Comparison - TA'!$B$6:$L$6,0))/1000","v":0},{"$f":"INDEX('Comparison - TA'!$B$32:$L$49,MATCH(M$12,'Comparison - TA'!$A$32:$A$49,0),MATCH($A22,'Comparison - TA'!$B$31:$L$31,0))/1000","v":0},"n/a",{"$f":"INDEX('Comparison - TA'!$B$7:$L$24,MATCH(P$12,'Comparison - TA'!$A$7:$A$24,0),MATCH($A22,'Comparison - TA'!$B$6:$L$6,0))/1000","v":198.78891360953597},{"$f":"INDEX('Comparison - TA'!$B$32:$L$49,MATCH(P$12,'Comparison - TA'!$A$32:$A$49,0),MATCH($A22,'Comparison - TA'!$B$31:$L$31,0))/1000","v":255.21884613205438},0.28386860966179883,{"$f":"INDEX('Comparison - TA'!$B$7:$L$24,MATCH(S$12,'Comparison - TA'!$A$7:$A$24,0),MATCH($A22,'Comparison - TA'!$B$6:$L$6,0))/1000","v":6.8460000000000001},{"$f":"INDEX('Comparison - TA'!$B$32:$L$49,MATCH(S$12,'Comparison - TA'!$A$32:$A$49,0),MATCH($A22,'Comparison - TA'!$B$31:$L$31,0))/1000","v":0},-1,{"$f":"INDEX('Comparison - TA'!$B$7:$L$24,MATCH(V$12,'Comparison - TA'!$A$7:$A$24,0),MATCH($A22,'Comparison - TA'!$B$6:$L$6,0))/1000","v":90.90466357774352},{"$f":"INDEX('Comparison - TA'!$B$32:$L$49,MATCH(V$12,'Comparison - TA'!$A$32:$A$49,0),MATCH($A22,'Comparison - TA'!$B$31:$L$31,0))/1000","v":91.32972850680315},4.6759419410435932E-3,null,0,0]
["South Wairarapa district",null,null,{"$f":"INDEX('Comparison - TA'!$B$7:$L$24,MATCH(D$12,'Comparison - TA'!$A$7:$A$24,0),MATCH($A23,'Comparison - TA'!$B$6:$L$6,0))/1000","v":1245.4491280744335},{"$f":"INDEX('Comparison - TA'!$B$32:$L$49,MATCH(D$12,'Comparison - TA'!$A$32:$A$49,0),MATCH($A23,'Comparison - TA'!$B$31:$L$31,0))/1000","v":1162.5532537605272},-6.6559020714133887E-2,{"$f":"INDEX('Comparison - TA'!$B$7:$L$24,MATCH(G$12,'Comparison - TA'!$A$7:$A$24,0),MATCH($A23,'Comparison - TA'!$B$6:$L$6,0))/1000","v":0},{"$f":"INDEX('Comparison - TA'!$B$32:$L$49,MATCH(G$12,'Comparison - TA'!$A$32:$A$49,0),MATCH($A23,'Comparison - TA'!$B$31:$L$31,0))/1000","v":310.55949287920242},"n/a",{"$f":"INDEX('Comparison - TA'!$B$7:$L$24,MATCH(J$12,'Comparison - TA'!$A$7:$A$24,0),MATCH($A23,'Comparison - TA'!$B$6:$L$6,0))/1000","v":0},{"$f":"INDEX('Comparison - TA'!$B$32:$L$49,MATCH(J$12,'Comparison - TA'!$A$32:$A$49,0),MATCH($A23,'Comparison - TA'!$B$31:$L$31,0))/1000","v":201.92599999999999},"n/a",{"$f":"INDEX('Comparison - TA'!$B$7:$L$24,MATCH(M$12,'Comparison - TA'!$A$7:$A$24,0),MATCH($A23,'Comparison - TA'!$B$6:$L$6,0))/1000","v":0},{"$f":"INDEX('Comparison - TA'!$B$32:$L$49,MATCH(M$12,'Comparison - TA'!$A$32:$A$49,0),MATCH($A23,'Comparison - TA'!$B$31:$L$31,0))/1000","v":0},"n/a",{"$f":"INDEX('Comparison - TA'!$B$7:$L$24,MATCH(P$12,'Comparison - TA'!$A$7:$A$24,0),MATCH($A23,'Comparison - TA'!$B$6:$L$6,0))/1000","v":404.41254842927179},{"$f":"INDEX('Comparison - TA'!$B$32:$L$49,MATCH(P$12,'Comparison - TA'!$A$32:$A$49,0),MATCH($A23,'Comparison - TA'!$B$31:$L$31,0))/1000","v":499.40365104025938},0.23488663489778117,{"$f":"INDEX('Comparison - TA'!$B$7:$L$24,MATCH(S$12,'Comparison - TA'!$A$7:$A$24,0),MATCH($A23,'Comparison - TA'!$B$6:$L$6,0))/1000","v":10.76},{"$f":"INDEX('Comparison - TA'!$B$32:$L$49,MATCH(S$12,'Comparison - TA'!$A$32:$A$49,0),MATCH($A23,'Comparison - TA'!$B$31:$L$31,0))/1000","v":0},-1,{"$f":"INDEX('Comparison - TA'!$B$7:$L$24,MATCH(V$12,'Comparison - TA'!$A$7:$A$24,0),MATCH($A23,'Comparison - TA'!$B$6:$L$6,0))/1000","v":138.05114376879905},{"$f":"INDEX('Comparison - TA'!$B$32:$L$49,MATCH(V$12,'Comparison - TA'!$A$32:$A$49,0),MATCH($A23,'Comparison - TA'!$B$31:$L$31,0))/1000","v":138.93930754689401},6.4335850746910506E-3,null,0,0]
["Tararua district",null,null,{"$f":"INDEX('Comparison - TA'!$B$7:$L$24,MATCH(D$12,'Comparison - TA'!$A$7:$A$24,0),MATCH($A24,'Comparison - TA'!$B$6:$L$6,0))/1000","v":2.3544428815298133},{"$f":"INDEX('Comparison - TA'!$B$32:$L$49,MATCH(D$12,'Comparison - TA'!$A$32:$A$49,0),MATCH($A24,'Comparison - TA'!$B$31:$L$31,0))/1000","v":1.8135209272577977},-0.22974520151474154,{"$f":"INDEX('Comparison - TA'!$B$7:$L$24,MATCH(G$12,'Comparison - TA'!$A$7:$A$24,0),MATCH($A24,'Comparison - TA'!$B$6:$L$6,0))/1000","v":0},{"$f":"INDEX('Comparison - TA'!$B$32:$L$49,MATCH(G$12,'Comparison - TA'!$A$32:$A$49,0),MATCH($A24,'Comparison - TA'!$B$31:$L$31,0))/1000","v":0.48445620677865014},"n/a",{"$f":"INDEX('Comparison - TA'!$B$7:$L$24,MATCH(J$12,'Comparison - TA'!$A$7:$A$24,0),MATCH($A24,'Comparison - TA'!$B$6:$L$6,0))/1000","v":0},{"$f":"INDEX('Comparison - TA'!$B$32:$L$49,MATCH(J$12,'Comparison - TA'!$A$32:$A$49,0),MATCH($A24,'Comparison - TA'!$B$31:$L$31,0))/1000","v":0},"n/a",{"$f":"INDEX('Comparison - TA'!$B$7:$L$24,MATCH(M$12,'Comparison - TA'!$A$7:$A$24,0),MATCH($A24,'Comparison - TA'!$B$6:$L$6,0))/1000","v":0},{"$f":"INDEX('Comparison - TA'!$B$32:$L$49,MATCH(M$12,'Comparison - TA'!$A$32:$A$49,0),MATCH($A24,'Comparison - TA'!$B$31:$L$31,0))/1000","v":0},"n/a",{"$f":"INDEX('Comparison - TA'!$B$7:$L$24,MATCH(P$12,'Comparison - TA'!$A$7:$A$24,0),MATCH($A24,'Comparison - TA'!$B$6:$L$6,0))/1000","v":0},{"$f":"INDEX('Comparison - TA'!$B$32:$L$49,MATCH(P$12,'Comparison - TA'!$A$32:$A$49,0),MATCH($A24,'Comparison - TA'!$B$31:$L$31,0))/1000","v":0},"n/a",{"$f":"INDEX('Comparison - TA'!$B$7:$L$24,MATCH(S$12,'Comparison - TA'!$A$7:$A$24,0),MATCH($A24,'Comparison - TA'!$B$6:$L$6,0))/1000","v":0},{"$f":"INDEX('Comparison - TA'!$B$32:$L$49,MATCH(S$12,'Comparison - TA'!$A$32:$A$49,0),MATCH($A24,'Comparison - TA'!$B$31:$L$31,0))/1000","v":0},"n/a",{"$f":"INDEX('Comparison - TA'!$B$7:$L$24,MATCH(V$12,'Comparison - TA'!$A$7:$A$24,0),MATCH($A24,'Comparison - TA'!$B$6:$L$6,0))/1000","v":0.252},{"$f":"INDEX('Comparison - TA'!$B$32:$L$49,MATCH(V$12,'Comparison - TA'!$A$32:$A$49,0),MATCH($A24,'Comparison - TA'!$B$31:$L$31,0))/1000","v":0.252},0,null,0,0]
["Region-wide rates1",null,null,{"$f":"SUM(D16:D24)","v":42481.670520543608},{"$f":"SUM(E16:E24)","v":36442.150972216004},-0.14216765664634035,{"$f":"SUM(G16:G24)","v":0},{"$f":"SUM(H16:H24)","v":9735},"n/a",{"$f":"SUM(J16:J24)","v":5826.66},{"$f":"SUM(K16:K24)","v":8386.09},0.43926194423563425,{"$f":"SUM(M16:M24)","v":0},{"$f":"SUM(N16:N24)","v":0},"n/a",{"$f":"SUM(P16:P24)","v":64656.396127130894},{"$f":"SUM(Q16:Q24)","v":67273.010401963358},4.0469534826647946E-2,{"$f":"SUM(S16:S24)","v":978.09100000000001},{"$f":"SUM(T16:T24)","v":0},-1,{"$f":"SUM(V16:V24)","v":4822.0172188235001},{"$f":"SUM(W16:W24)","v":4907.8608208731939},1.7802425448542492E-2]
[null,null,null,{"$f":"E17-D17","v":-968.15922035180938}]
[]
["Rates increases vary between city and district councils because of differing capital values.  In addition, some of Greater Wellington’s work programmes impact differently across the region, especially flood protection and public transport"]
[]
[]
[null,null,null,null,null,null,null,null,null,null,null,null,null,null,null,null,null,null,null,null,null,"Total Region-wide rates1"]
[null,null,null,null,null,null,null,null,null,null,null,null,null,null,null,null,null,null,null,null,null,"District-Wide Rates"]
[null,null,null,null,null,null,null,null,null,null,null,null,null,null,null,null,null,null,null,null,null,{"$f":"+P13","v":"2017/18"},{"$f":"+Q13","v":"2018/19"},"Change"]
[null,null,null,null,null,null,null,null,null,null,null,null,null,null,null,null,null,null,null,null,null,"Budget","Plan"]
[null,null,null,null,null,null,null,null,null,null,null,null,null,null,null,null,null,null,null,null,null,"$000s","$000s","%   "]
[{"$f":"+A16","v":"Wellington city"},null,null,null,null,null,null,null,null,null,null,null,null,null,null,null,null,null,null,null,null,{"$f":"INDEX('Comparison - TA'!$B$7:$L$24,MATCH(V$32,'Comparison - TA'!$A$7:$A$24,0),MATCH($A36,'Comparison - TA'!$B$6:$L$6,0))/1000","v":62570.978382812369},{"$f":"INDEX('Comparison - TA'!$B$32:$L$49,MATCH(V$32,'Comparison - TA'!$A$32:$A$49,0),MATCH($A36,'Comparison - TA'!$B$31:$L$31,0))/1000","v":66685.381833939377},{"$f":"IF(V36=0,\"n/a\",W36/V36-1)","v":6.5755779395918701E-2}]
["Hutt city",null,null,null,null,null,null,null,null,null,null,null,null,null,null,null,null,null,null,null,null,{"$f":"INDEX('Comparison - TA'!$B$7:$L$24,MATCH(V$32,'Comparison - TA'!$A$7:$A$24,0),MATCH($A37,'Comparison - TA'!$B$6:$L$6,0))/1000","v":23454.231569882813},{"$f":"INDEX('Comparison - TA'!$B$32:$L$49,MATCH(V$32,'Comparison - TA'!$A$32:$A$49,0),MATCH($A37,'Comparison - TA'!$B$31:$L$31,0))/1000","v":24746.874793705461},{"$f":"IF(V37=0,\"n/a\",W37/V37-1)","v":5.5113433154745151E-2}]
["Upper Hutt city",null,null,null,null,null,null,null,null,null,null,null,null,null,null,null,null,null,null,null,null,{"$f":"INDEX('Comparison - TA'!$B$7:$L$24,MATCH(V$32,'Comparison - TA'!$A$7:$A$24,0),MATCH($A38,'Comparison - TA'!$B$6:$L$6,0))/1000","v":8387.2106640848742},{"$f":"INDEX('Comparison - TA'!$B$32:$L$49,MATCH(V$32,'Comparison - TA'!$A$32:$A$49,0),MATCH($A38,'Comparison - TA'!$B$31:$L$31,0))/1000","v":8401.7797128803231},1.7370553070563677E-3]
["Porirua city",null,null,null,null,null,null,null,null,null,null,null,null,null,null,null,null,null,null,null,null,{"$f":"INDEX('Comparison - TA'!$B$7:$L$24,MATCH(V$32,'Comparison - TA'!$A$7:$A$24,0),MATCH($A39,'Comparison - TA'!$B$6:$L$6,0))/1000","v":9886.8880246029694},{"$f":"INDEX('Comparison - TA'!$B$32:$L$49,MATCH(V$32,'Comparison - TA'!$A$32:$A$49,0),MATCH($A39,'Comparison - TA'!$B$31:$L$31,0))/1000","v":9624.0634054454422},-2.6583149167210385E-2]
["Kapiti Coast district",null,null,null,null,null,null,null,null,null,null,null,null,null,null,null,null,null,null,null,null,{"$f":"INDEX('Comparison - TA'!$B$7:$L$24,MATCH(V$32,'Comparison - TA'!$A$7:$A$24,0),MATCH($A40,'Comparison - TA'!$B$6:$L$6,0))/1000","v":9327.0681315477359},{"$f":"INDEX('Comparison - TA'!$B$32:$L$49,MATCH(V$32,'Comparison - TA'!$A$32:$A$49,0),MATCH($A40,'Comparison - TA'!$B$31:$L$31,0))/1000","v":10644.426877405353},0.14124039057909332]
["Masterton district",null,null,null,null,null,null,null,null,null,null,null,null,null,null,null,null,null,null,null,null,{"$f":"INDEX('Comparison - TA'!$B$7:$L$24,MATCH(V$32,'Comparison - TA'!$A$7:$A$24,0),MATCH($A41,'Comparison - TA'!$B$6:$L$6,0))/1000","v":2243.2260841790844},{"$f":"INDEX('Comparison - TA'!$B$32:$L$49,MATCH(V$32,'Comparison - TA'!$A$32:$A$49,0),MATCH($A41,'Comparison - TA'!$B$31:$L$31,0))/1000","v":2948.2631945713629},0.31429605574076103]
["Carterton district",null,null,null,null,null,null,null,null,null,null,null,null,null,null,null,null,null,null,null,null,{"$f":"INDEX('Comparison - TA'!$B$7:$L$24,MATCH(V$32,'Comparison - TA'!$A$7:$A$24,0),MATCH($A42,'Comparison - TA'!$B$6:$L$6,0))/1000","v":1093.9527462341168},{"$f":"INDEX('Comparison - TA'!$B$32:$L$49,MATCH(V$32,'Comparison - TA'!$A$32:$A$49,0),MATCH($A42,'Comparison - TA'!$B$31:$L$31,0))/1000","v":1377.3906947443213},0.25909523924678357]
["South Wairarapa district",null,null,null,null,null,null,null,null,null,null,null,null,null,null,null,null,null,null,null,null,{"$f":"INDEX('Comparison - TA'!$B$7:$L$24,MATCH(V$32,'Comparison - TA'!$A$7:$A$24,0),MATCH($A43,'Comparison - TA'!$B$6:$L$6,0))/1000","v":1798.6728202725044},{"$f":"INDEX('Comparison - TA'!$B$32:$L$49,MATCH(V$32,'Comparison - TA'!$A$32:$A$49,0),MATCH($A43,'Comparison - TA'!$B$31:$L$31,0))/1000","v":2313.3817052268832},0.28616037288893859]
["Tararua district",null,null,null,null,null,null,null,null,null,null,null,null,null,null,null,null,null,null,null,null,{"$f":"INDEX('Comparison - TA'!$B$7:$L$24,MATCH(V$32,'Comparison - TA'!$A$7:$A$24,0),MATCH($A44,'Comparison - TA'!$B$6:$L$6,0))/1000","v":2.6064428815298135},{"$f":"INDEX('Comparison - TA'!$B$32:$L$49,MATCH(V$32,'Comparison - TA'!$A$32:$A$49,0),MATCH($A44,'Comparison - TA'!$B$31:$L$31,0))/1000","v":2.5499771340364479},-2.1663911338131392E-2]
["Region-wide rates1",null,null,null,null,null,null,null,null,null,null,null,null,null,null,null,null,null,null,null,null,{"$f":"SUM(V36:V44)","v":118764.83486649801},{"$f":"SUM(W36:W44)","v":126744.11219505256},6.7185521181618579E-2]
[]
[]
[{"$f":"+'1'!$A$51","v":"All figures on this page exclude GST"}]
[]
["1 Region-wide rates are rates that are charged to all ratepayers in  the region. It excludes South Wairarapa Region river rates, Wairarapa river and drainage schemes and any \"Warm Greater Wellington\" targeted rates as they impact only certain ratepayers that are covered by these programmes"]

{"sheet":"5","index":28,"n_rows":59,"n_cols":34,"rows_kept":59,"cut":false,"hidden":false,"merged":[[26,7,26,8],[13,2,13,3],[13,6,13,7],[13,10,13,11],[9,14,9,15],[11,14,12,15],[13,14,13,15],[9,2,9,3],[9,6,9,7],[9,10,9,11],[11,12,12,13],[11,2,12,3],[11,6,12,7],[11,10,12,11],[9,12,9,13],[9,4,9,5],[28,20,29,20],[26,20,26,24],[9,22,9,23],[9,20,9,21],[11,22,12,23],[11,20,12,21],[57,0,57,11],[48,0,49,11],[51,0,53,11],[55,0,56,11],[28,5,29,6],[45,0,45,8],[46,0,46,8],[42,0,42,4],[30,5,30,6],[28,7,29,8],[26,3,29,4],[28,10,29,11],[30,10,30,11],[41,0,41,11],[26,10,26,11],[26,5,26,6],[11,4,12,5],[9,8,9,9],[11,8,12,9],[13,12,13,13],[9,32,9,33],[11,24,12,25],[11,30,12,31],[11,32,12,33],[9,24,9,25],[9,30,9,31],[9,26,9,27],[9,28,9,29],[11,26,12,27],[11,28,12,29]]}
["RATES AND LEVIES - RESIDENTIAL REGION-WIDE RATES"]
["WHAT IS THE IMPACT ON YOUR CITY OR DISTRICT?"]
[]
[]
[]
[]
["2018/19 Residential Region wide rates by rate type and for an average valued residential property"]
[]
[]
[null,null,"General rate",null,"Flood protection - Regional rate",null,"Flood protection - Catchment rate",null,"River management rate",null,"Transport rate",null,"Stadium-purposes rate",null,"Region-wide residential1",null,null,null,null,null,"General rates",null,"Flood protection - Regional rates",null,"Flood protection - Catchment rates",null,"River management rate",null,"Transport rate",null,"Stadium-purposes rate",null,"Region-wide residential1"]
[null,null,"General rate","General rate","Flood protection – regional rate","Flood protection – regional rate","Flood protection – catchment rate","Flood protection – catchment rate","River management rate","River management rate","Public transport rate","Public transport rate","Stadium purposes rate","Stadium purposes rate"]
[null,null,"per average valued residential property",null,{"$f":"+C12","v":"per average valued residential property"},null,{"$f":"+E12","v":"per average valued residential property"},null,{"$f":"+G12","v":"per average valued residential property"},null,{"$f":"+G12","v":"per average valued residential property"},null,{"$f":"+K12","v":"per average valued residential property"},null,{"$f":"+M12","v":"per average valued residential property"},null,null,null,null,null,"per $100k of valued residential property",null,"per $100k of valued residential property",null,"per $100k of valued residential property",null,{"$f":"+U12","v":"per $100k of valued residential property"},null,{"$f":"+AA12","v":"per $100k of valued residential property"},null,{"$f":"+AC12","v":"per $100k of valued residential property"},null,{"$f":"+AE12","v":"per $100k of valued residential property"}]
[]
[null,null,null,null,null,null,null,null,null,null,null,null,null,null,"excluding WRS rate"]
[null,null,{"$f":"year_previous","v":"2017/18"},{"$f":"year_current","v":"2018/19"},{"$f":"year_previous","v":"2017/18"},{"$f":"year_current","v":"2018/19"},{"$f":"year_previous","v":"2017/18"},{"$f":"year_current","v":"2018/19"},{"$f":"year_previous","v":"2017/18"},{"$f":"year_current","v":"2018/19"},{"$f":"year_previous","v":"2017/18"},{"$f":"year_current","v":"2018/19"},{"$f":"year_previous","v":"2017/18"},{"$f":"year_current","v":"2018/19"},{"$f":"year_previous","v":"2017/18"},{"$f":"year_current","v":"2018/19"},null,null,null,null,{"$f":"year_previous","v":"2017/18"},{"$f":"year_current","v":"2018/19"},{"$f":"year_previous","v":"2017/18"},{"$f":"year_current","v":"2018/19"},{"$f":"year_previous","v":"2017/18"},{"$f":"year_current","v":"2018/19"},{"$f":"year_previous","v":"2017/18"},{"$f":"year_current","v":"2018/19"},{"$f":"year_previous","v":"2017/18"},{"$f":"year_current","v":"2018/19"},{"$f":"year_previous","v":"2017/18"},{"$f":"year_current","v":"2018/19"},{"$f":"year_previous","v":"2017/18"},{"$f":"year_current","v":"2018/19"}]
["Wellington City",null,{"$f":"INDEX('Comparison - Category'!$R$22:$X$48,MATCH($A16&\"residential\",'Comparison - Category'!$C$22:$C$48,0),MATCH(C$11,'Comparison - Category'!$R$7:$X$7,0))","v":227.54456392990267},{"$f":"INDEX('Comparison - Category'!$R$80:$X$106,MATCH($A16&\"residential\",'Comparison - Category'!$C$80:$C$106,0),MATCH(D$11,'Comparison - Category'!$R$7:$X$7,0))","v":190.53225196249559},{"$f":"INDEX('Comparison - Category'!$R$22:$X$48,MATCH($A16&\"residential\",'Comparison - Category'!$C$22:$C$48,0),MATCH(E$11,'Comparison - Category'!$R$7:$X$7,0))","v":0},{"$f":"INDEX('Comparison - Category'!$R$80:$X$106,MATCH($A16&\"residential\",'Comparison - Category'!$C$80:$C$106,0),MATCH(F$11,'Comparison - Category'!$R$7:$X$7,0))","v":50.897969065246542},{"$f":"INDEX('Comparison - Category'!$R$22:$X$48,MATCH($A16&\"residential\",'Comparison - Category'!$C$22:$C$48,0),MATCH(G$11,'Comparison - Category'!$R$7:$X$7,0))","v":0},{"$f":"INDEX('Comparison - Category'!$R$80:$X$106,MATCH($A16&\"residential\",'Comparison - Category'!$C$80:$C$106,0),MATCH(H$11,'Comparison - Category'!$R$7:$X$7,0))","v":0.57965399283042729},{"$f":"INDEX('Comparison - Category'!$R$22:$X$48,MATCH($A16&\"residential\",'Comparison - Category'!$C$22:$C$48,0),MATCH(I$11,'Comparison - Category'!$R$7:$X$7,0))","v":0.4645000316345822},{"$f":"INDEX('Comparison - Category'!$R$80:$X$106,MATCH($A16&\"residential\",'Comparison - Category'!$C$80:$C$106,0),MATCH(J$11,'Comparison - Category'!$R$7:$X$7,0))","v":0},{"$f":"INDEX('Comparison - Category'!$R$22:$X$48,MATCH($A16&\"residential\",'Comparison - Category'!$C$22:$C$48,0),MATCH(K$11,'Comparison - Category'!$R$7:$X$7,0))","v":172.08596535302607},{"$f":"INDEX('Comparison - Category'!$R$80:$X$106,MATCH($A16&\"residential\",'Comparison - Category'!$C$80:$C$106,0),MATCH(L$11,'Comparison - Category'!$R$7:$X$7,0))","v":198.37614616185903},{"$f":"INDEX('Comparison - Category'!$R$22:$X$48,MATCH($A16&\"residential\",'Comparison - Category'!$C$22:$C$48,0),MATCH(M$11,'Comparison - Category'!$R$7:$X$7,0))","v":5.3203180262099901},{"$f":"INDEX('Comparison - Category'!$R$80:$X$106,MATCH($A16&\"residential\",'Comparison - Category'!$C$80:$C$106,0),MATCH(N$11,'Comparison - Category'!$R$7:$X$7,0))","v":0},{"$f":"SUM(C16,E16,G16,I16,K16,M16)","v":405.41534734077328},{"$f":"SUM(D16,F16,H16,J16,L16,N16)","v":440.38602118243159},null,null,null,null,{"$f":"C16/$D33*100000","v":41.289730136086995},{"$f":"D16/$E33*100000","v":34.441687581379256},0,{"$f":"F16/$E33*100000","v":9.2006047848371146},0,{"$f":"H16/$E33*100000","v":0.10478153446847623},8.428714192576392E-2,{"$f":"J16/$E33*100000","v":0},31.226336269775025,{"$f":"L16/$E33*100000","v":35.859594264648017},0.96541306786850933,{"$f":"N16/$E33*100000","v":0},73.565766615656287,{"$f":"P16/$E33*100000","v":79.606668165332863}]
["Hutt City",null,{"$f":"INDEX('Comparison - Category'!$R$22:$X$48,MATCH($A17&\"residential\",'Comparison - Category'!$C$22:$C$48,0),MATCH(C$11,'Comparison - Category'!$R$7:$X$7,0))","v":159.77048638475233},{"$f":"INDEX('Comparison - Category'!$R$80:$X$106,MATCH($A17&\"residential\",'Comparison - Category'!$C$80:$C$106,0),MATCH(D$11,'Comparison - Category'!$R$7:$X$7,0))","v":138.30228378187124},{"$f":"INDEX('Comparison - Category'!$R$22:$X$48,MATCH($A17&\"residential\",'Comparison - Category'!$C$22:$C$48,0),MATCH(E$11,'Comparison - Category'!$R$7:$X$7,0))","v":0},{"$f":"INDEX('Comparison - Category'!$R$80:$X$106,MATCH($A17&\"residential\",'Comparison - Category'!$C$80:$C$106,0),MATCH(F$11,'Comparison - Category'!$R$7:$X$7,0))","v":36.945479251293648},{"$f":"INDEX('Comparison - Category'!$R$22:$X$48,MATCH($A17&\"residential\",'Comparison - Category'!$C$22:$C$48,0),MATCH(G$11,'Comparison - Category'!$R$7:$X$7,0))","v":0},{"$f":"INDEX('Comparison - Category'!$R$80:$X$106,MATCH($A17&\"residential\",'Comparison - Category'!$C$80:$C$106,0),MATCH(H$11,'Comparison - Category'!$R$7:$X$7,0))","v":115.0606651526129},{"$f":"INDEX('Comparison - Category'!$R$22:$X$48,MATCH($A17&\"residential\",'Comparison - Category'!$C$22:$C$48,0),MATCH(I$11,'Comparison - Category'!$R$7:$X$7,0))","v":82.018458208079693},{"$f":"INDEX('Comparison - Category'!$R$80:$X$106,MATCH($A17&\"residential\",'Comparison - Category'!$C$80:$C$106,0),MATCH(J$11,'Comparison - Category'!$R$7:$X$7,0))","v":0},{"$f":"INDEX('Comparison - Category'!$R$22:$X$48,MATCH($A17&\"residential\",'Comparison - Category'!$C$22:$C$48,0),MATCH(K$11,'Comparison - Category'!$R$7:$X$7,0))","v":259.62692803802634},{"$f":"INDEX('Comparison - Category'!$R$80:$X$106,MATCH($A17&\"residential\",'Comparison - Category'!$C$80:$C$106,0),MATCH(L$11,'Comparison - Category'!$R$7:$X$7,0))","v":238.16962124289842},{"$f":"INDEX('Comparison - Category'!$R$22:$X$48,MATCH($A17&\"residential\",'Comparison - Category'!$C$22:$C$48,0),MATCH(M$11,'Comparison - Category'!$R$7:$X$7,0))","v":3.8364999640903816},{"$f":"INDEX('Comparison - Category'!$R$80:$X$106,MATCH($A17&\"residential\",'Comparison - Category'!$C$80:$C$106,0),MATCH(N$11,'Comparison - Category'!$R$7:$X$7,0))","v":0},{"$f":"SUM(C17,E17,G17,I17,K17,M17)","v":505.25237259494872},528.47804942867617,null,null,null,null,33.912033375736797,{"$f":"D17/$E34*100000","v":29.149278224475889},0,{"$f":"F17/$E34*100000","v":7.7868132353554449},0,24.250758913833693,17.408801557258801,{"$f":"J17/$E34*100000","v":0},55.107030391476727,{"$f":"L17/$E34*100000","v":50.197815714864667},0.81431507014966731,{"$f":"N17/$E34*100000","v":0},107.242180394622,{"$f":"P17/$E34*100000","v":111.38466608852967}]
["Upper Hutt City",null,{"$f":"INDEX('Comparison - Category'!$R$22:$X$48,MATCH($A18&\"residential\",'Comparison - Category'!$C$22:$C$48,0),MATCH(C$11,'Comparison - Category'!$R$7:$X$7,0))","v":140.35325824158627},{"$f":"INDEX('Comparison - Category'!$R$80:$X$106,MATCH($A18&\"residential\",'Comparison - Category'!$C$80:$C$106,0),MATCH(D$11,'Comparison - Category'!$R$7:$X$7,0))","v":120.14592592375861},{"$f":"INDEX('Comparison - Category'!$R$22:$X$48,MATCH($A18&\"residential\",'Comparison - Category'!$C$22:$C$48,0),MATCH(E$11,'Comparison - Category'!$R$7:$X$7,0))","v":0},{"$f":"INDEX('Comparison - Category'!$R$80:$X$106,MATCH($A18&\"residential\",'Comparison - Category'!$C$80:$C$106,0),MATCH(F$11,'Comparison - Category'!$R$7:$X$7,0))","v":32.095267641021657},{"$f":"INDEX('Comparison - Category'!$R$22:$X$48,MATCH($A18&\"residential\",'Comparison - Category'!$C$22:$C$48,0),MATCH(G$11,'Comparison - Category'!$R$7:$X$7,0))","v":0},{"$f":"INDEX('Comparison - Category'!$R$80:$X$106,MATCH($A18&\"residential\",'Comparison - Category'!$C$80:$C$106,0),MATCH(H$11,'Comparison - Category'!$R$7:$X$7,0))","v":44.828836020506913},{"$f":"INDEX('Comparison - Category'!$R$22:$X$48,MATCH($A18&\"residential\",'Comparison - Category'!$C$22:$C$48,0),MATCH(I$11,'Comparison - Category'!$R$7:$X$7,0))","v":35.011437129258006},{"$f":"INDEX('Comparison - Category'!$R$80:$X$106,MATCH($A18&\"residential\",'Comparison - Category'!$C$80:$C$106,0),MATCH(J$11,'Comparison - Category'!$R$7:$X$7,0))","v":0},{"$f":"INDEX('Comparison - Category'!$R$22:$X$48,MATCH($A18&\"residential\",'Comparison - Category'!$C$22:$C$48,0),MATCH(K$11,'Comparison - Category'!$R$7:$X$7,0))","v":256.40844043372454},{"$f":"INDEX('Comparison - Category'!$R$80:$X$106,MATCH($A18&\"residential\",'Comparison - Category'!$C$80:$C$106,0),MATCH(L$11,'Comparison - Category'!$R$7:$X$7,0))","v":225.91429142965481},{"$f":"INDEX('Comparison - Category'!$R$22:$X$48,MATCH($A18&\"residential\",'Comparison - Category'!$C$22:$C$48,0),MATCH(M$11,'Comparison - Category'!$R$7:$X$7,0))","v":2.8597987294576828},{"$f":"INDEX('Comparison - Category'!$R$80:$X$106,MATCH($A18&\"residential\",'Comparison - Category'!$C$80:$C$106,0),MATCH(N$11,'Comparison - Category'!$R$7:$X$7,0))","v":0},434.6329345340265,422.984321014942,null,null,null,null,33.924775821658102,29.065086387874821,0,7.7643225890174623,0,10.844762163893327,8.4626119171362877,0,61.97646545206964,54.652027076017468,0.69124174249606696,0,105.0550949333601,102.32619821680308]
["Porirua City",null,{"$f":"INDEX('Comparison - Category'!$R$22:$X$48,MATCH($A19&\"residential\",'Comparison - Category'!$C$22:$C$48,0),MATCH(C$11,'Comparison - Category'!$R$7:$X$7,0))","v":163.64276086314374},{"$f":"INDEX('Comparison - Category'!$R$80:$X$106,MATCH($A19&\"residential\",'Comparison - Category'!$C$80:$C$106,0),MATCH(D$11,'Comparison - Category'!$R$7:$X$7,0))","v":142.22362483987885},{"$f":"INDEX('Comparison - Category'!$R$22:$X$48,MATCH($A19&\"residential\",'Comparison - Category'!$C$22:$C$48,0),MATCH(E$11,'Comparison - Category'!$R$7:$X$7,0))","v":0},{"$f":"INDEX('Comparison - Category'!$R$80:$X$106,MATCH($A19&\"residential\",'Comparison - Category'!$C$80:$C$106,0),MATCH(F$11,'Comparison - Category'!$R$7:$X$7,0))","v":37.993009492546662},{"$f":"INDEX('Comparison - Category'!$R$22:$X$48,MATCH($A19&\"residential\",'Comparison - Category'!$C$22:$C$48,0),MATCH(G$11,'Comparison - Category'!$R$7:$X$7,0))","v":0},{"$f":"INDEX('Comparison - Category'!$R$80:$X$106,MATCH($A19&\"residential\",'Comparison - Category'!$C$80:$C$106,0),MATCH(H$11,'Comparison - Category'!$R$7:$X$7,0))","v":2.1800807015651524},{"$f":"INDEX('Comparison - Category'!$R$22:$X$48,MATCH($A19&\"residential\",'Comparison - Category'!$C$22:$C$48,0),MATCH(I$11,'Comparison - Category'!$R$7:$X$7,0))","v":1.3754993100191908},{"$f":"INDEX('Comparison - Category'!$R$80:$X$106,MATCH($A19&\"residential\",'Comparison - Category'!$C$80:$C$106,0),MATCH(J$11,'Comparison - Category'!$R$7:$X$7,0))","v":0},{"$f":"INDEX('Comparison - Category'!$R$22:$X$48,MATCH($A19&\"residential\",'Comparison - Category'!$C$22:$C$48,0),MATCH(K$11,'Comparison - Category'!$R$7:$X$7,0))","v":308.50799032473793},{"$f":"INDEX('Comparison - Category'!$R$80:$X$106,MATCH($A19&\"residential\",'Comparison - Category'!$C$80:$C$106,0),MATCH(L$11,'Comparison - Category'!$R$7:$X$7,0))","v":273.93509758553159},{"$f":"INDEX('Comparison - Category'!$R$22:$X$48,MATCH($A19&\"residential\",'Comparison - Category'!$C$22:$C$48,0),MATCH(M$11,'Comparison - Category'!$R$7:$X$7,0))","v":3.316339196773062},{"$f":"INDEX('Comparison - Category'!$R$80:$X$106,MATCH($A19&\"residential\",'Comparison - Category'!$C$80:$C$106,0),MATCH(N$11,'Comparison - Category'!$R$7:$X$7,0))","v":0},476.8425896946739,456.33181261952222,null,null,null,null,33.528046733956323,28.874598401587516,0,7.713436444894942,0,0.44260547297690822,0.28182001394743605,0,63.208847509345595,55.614993217807857,0.67947017630708495,0,97.698184433556435,92.645633537267216]
["Kapiti Coast District",null,{"$f":"INDEX('Comparison - Category'!$R$22:$X$48,MATCH($A20&\"residential\",'Comparison - Category'!$C$22:$C$48,0),MATCH(C$11,'Comparison - Category'!$R$7:$X$7,0))","v":153.77033627414465},{"$f":"INDEX('Comparison - Category'!$R$80:$X$106,MATCH($A20&\"residential\",'Comparison - Category'!$C$80:$C$106,0),MATCH(D$11,'Comparison - Category'!$R$7:$X$7,0))","v":138.39528218015698},{"$f":"INDEX('Comparison - Category'!$R$22:$X$48,MATCH($A20&\"residential\",'Comparison - Category'!$C$22:$C$48,0),MATCH(E$11,'Comparison - Category'!$R$7:$X$7,0))","v":0},{"$f":"INDEX('Comparison - Category'!$R$80:$X$106,MATCH($A20&\"residential\",'Comparison - Category'!$C$80:$C$106,0),MATCH(F$11,'Comparison - Category'!$R$7:$X$7,0))","v":36.970322444770382},{"$f":"INDEX('Comparison - Category'!$R$22:$X$48,MATCH($A20&\"residential\",'Comparison - Category'!$C$22:$C$48,0),MATCH(G$11,'Comparison - Category'!$R$7:$X$7,0))","v":0},{"$f":"INDEX('Comparison - Category'!$R$80:$X$106,MATCH($A20&\"residential\",'Comparison - Category'!$C$80:$C$106,0),MATCH(H$11,'Comparison - Category'!$R$7:$X$7,0))","v":59.301519407434924},{"$f":"INDEX('Comparison - Category'!$R$22:$X$48,MATCH($A20&\"residential\",'Comparison - Category'!$C$22:$C$48,0),MATCH(I$11,'Comparison - Category'!$R$7:$X$7,0))","v":48.595534774618315},{"$f":"INDEX('Comparison - Category'!$R$80:$X$106,MATCH($A20&\"residential\",'Comparison - Category'!$C$80:$C$106,0),MATCH(J$11,'Comparison - Category'!$R$7:$X$7,0))","v":0},{"$f":"INDEX('Comparison - Category'!$R$22:$X$48,MATCH($A20&\"residential\",'Comparison - Category'!$C$22:$C$48,0),MATCH(K$11,'Comparison - Category'!$R$7:$X$7,0))","v":123.8493403407473},{"$f":"INDEX('Comparison - Category'!$R$80:$X$106,MATCH($A20&\"residential\",'Comparison - Category'!$C$80:$C$106,0),MATCH(L$11,'Comparison - Category'!$R$7:$X$7,0))","v":149.42378645664829},{"$f":"INDEX('Comparison - Category'!$R$22:$X$48,MATCH($A20&\"residential\",'Comparison - Category'!$C$22:$C$48,0),MATCH(M$11,'Comparison - Category'!$R$7:$X$7,0))","v":1.8094836988627996},{"$f":"INDEX('Comparison - Category'!$R$80:$X$106,MATCH($A20&\"residential\",'Comparison - Category'!$C$80:$C$106,0),MATCH(N$11,'Comparison - Category'!$R$7:$X$7,0))","v":0},328.02469508837305,384.09091048901053,null,null,null,null,39.450178631498751,25.875752558865244,0,6.9123376211411207,0,11.087599363062267,12.467310496961229,0,31.773869513591549,27.937750939571554,0.46422773650996629,0,84.155586378561495,71.813440482640175]
["Masterton District",null,{"$f":"INDEX('Comparison - Category'!$R$22:$X$48,MATCH($A21&\"residential\",'Comparison - Category'!$C$22:$C$48,0),MATCH(C$11,'Comparison - Category'!$R$7:$X$7,0))","v":89.31270170644072},{"$f":"INDEX('Comparison - Category'!$R$80:$X$106,MATCH($A21&\"residential\",'Comparison - Category'!$C$80:$C$106,0),MATCH(D$11,'Comparison - Category'!$R$7:$X$7,0))","v":88.187800591312381},{"$f":"INDEX('Comparison - Category'!$R$22:$X$48,MATCH($A21&\"residential\",'Comparison - Category'!$C$22:$C$48,0),MATCH(E$11,'Comparison - Category'!$R$7:$X$7,0))","v":0},{"$f":"INDEX('Comparison - Category'!$R$80:$X$106,MATCH($A21&\"residential\",'Comparison - Category'!$C$80:$C$106,0),MATCH(F$11,'Comparison - Category'!$R$7:$X$7,0))","v":23.558111029476951},{"$f":"INDEX('Comparison - Category'!$R$22:$X$48,MATCH($A21&\"residential\",'Comparison - Category'!$C$22:$C$48,0),MATCH(G$11,'Comparison - Category'!$R$7:$X$7,0))","v":0},{"$f":"INDEX('Comparison - Category'!$R$80:$X$106,MATCH($A21&\"residential\",'Comparison - Category'!$C$80:$C$106,0),MATCH(H$11,'Comparison - Category'!$R$7:$X$7,0))","v":15.786998983222796},{"$f":"INDEX('Comparison - Category'!$R$22:$X$48,MATCH($A21&\"residential\",'Comparison - Category'!$C$22:$C$48,0),MATCH(I$11,'Comparison - Category'!$R$7:$X$7,0))","v":0},{"$f":"INDEX('Comparison - Category'!$R$80:$X$106,MATCH($A21&\"residential\",'Comparison - Category'!$C$80:$C$106,0),MATCH(J$11,'Comparison - Category'!$R$7:$X$7,0))","v":0},{"$f":"INDEX('Comparison - Category'!$R$22:$X$48,MATCH($A21&\"residential\",'Comparison - Category'!$C$22:$C$48,0),MATCH(K$11,'Comparison - Category'!$R$7:$X$7,0))","v":25.442135719603666},{"$f":"INDEX('Comparison - Category'!$R$80:$X$106,MATCH($A21&\"residential\",'Comparison - Category'!$C$80:$C$106,0),MATCH(L$11,'Comparison - Category'!$R$7:$X$7,0))","v":39.461948619549418},{"$f":"INDEX('Comparison - Category'!$R$22:$X$48,MATCH($A21&\"residential\",'Comparison - Category'!$C$22:$C$48,0),MATCH(M$11,'Comparison - Category'!$R$7:$X$7,0))","v":1.5368470771111249},{"$f":"INDEX('Comparison - Category'!$R$80:$X$106,MATCH($A21&\"residential\",'Comparison - Category'!$C$80:$C$106,0),MATCH(N$11,'Comparison - Category'!$R$7:$X$7,0))","v":0},116.29168450315551,166.99485922356155,null,null,null,null,35.464653807523995,25.67636154024424,0,6.8590731591241738,0,4.5964712898013822,0,0,10.102667573370653,11.489562649756229,0.61025753900042057,0,46.177578919895062,48.621468638926025]
["Carterton District",null,{"$f":"INDEX('Comparison - Category'!$R$22:$X$48,MATCH($A22&\"residential\",'Comparison - Category'!$C$22:$C$48,0),MATCH(C$11,'Comparison - Category'!$R$7:$X$7,0))","v":93.525062800768836},{"$f":"INDEX('Comparison - Category'!$R$80:$X$106,MATCH($A22&\"residential\",'Comparison - Category'!$C$80:$C$106,0),MATCH(D$11,'Comparison - Category'!$R$7:$X$7,0))","v":90.74822227535995},{"$f":"INDEX('Comparison - Category'!$R$22:$X$48,MATCH($A22&\"residential\",'Comparison - Category'!$C$22:$C$48,0),MATCH(E$11,'Comparison - Category'!$R$7:$X$7,0))","v":0},{"$f":"INDEX('Comparison - Category'!$R$80:$X$106,MATCH($A22&\"residential\",'Comparison - Category'!$C$80:$C$106,0),MATCH(F$11,'Comparison - Category'!$R$7:$X$7,0))","v":24.24209110280486},{"$f":"INDEX('Comparison - Category'!$R$22:$X$48,MATCH($A22&\"residential\",'Comparison - Category'!$C$22:$C$48,0),MATCH(G$11,'Comparison - Category'!$R$7:$X$7,0))","v":0},{"$f":"INDEX('Comparison - Category'!$R$80:$X$106,MATCH($A22&\"residential\",'Comparison - Category'!$C$80:$C$106,0),MATCH(H$11,'Comparison - Category'!$R$7:$X$7,0))","v":18.767046484699598},{"$f":"INDEX('Comparison - Category'!$R$22:$X$48,MATCH($A22&\"residential\",'Comparison - Category'!$C$22:$C$48,0),MATCH(I$11,'Comparison - Category'!$R$7:$X$7,0))","v":2.8075017559001392},{"$f":"INDEX('Comparison - Category'!$R$80:$X$106,MATCH($A22&\"residential\",'Comparison - Category'!$C$80:$C$106,0),MATCH(J$11,'Comparison - Category'!$R$7:$X$7,0))","v":0},{"$f":"INDEX('Comparison - Category'!$R$22:$X$48,MATCH($A22&\"residential\",'Comparison - Category'!$C$22:$C$48,0),MATCH(K$11,'Comparison - Category'!$R$7:$X$7,0))","v":47.797915222174268},{"$f":"INDEX('Comparison - Category'!$R$80:$X$106,MATCH($A22&\"residential\",'Comparison - Category'!$C$80:$C$106,0),MATCH(L$11,'Comparison - Category'!$R$7:$X$7,0))","v":56.697730751121711},{"$f":"INDEX('Comparison - Category'!$R$22:$X$48,MATCH($A22&\"residential\",'Comparison - Category'!$C$22:$C$48,0),MATCH(M$11,'Comparison - Category'!$R$7:$X$7,0))","v":1.4389273230828812},{"$f":"INDEX('Comparison - Category'!$R$80:$X$106,MATCH($A22&\"residential\",'Comparison - Category'!$C$80:$C$106,0),MATCH(N$11,'Comparison - Category'!$R$7:$X$7,0))","v":0},145.56940710192612,190.4550906139861,null,null,null,null,35.378624220420278,25.834590912064829,0,6.9013418752558806,0,5.3426828251109706,1.0620206674626751,0,18.080976697840917,16.140951777028267,0.54431686565439064,0,55.065938451378258,54.219567389459939]
["South Wairarapa District",null,{"$f":"INDEX('Comparison - Category'!$R$22:$X$48,MATCH($A23&\"residential\",'Comparison - Category'!$C$22:$C$48,0),MATCH(C$11,'Comparison - Category'!$R$7:$X$7,0))","v":97.259991926165782},{"$f":"INDEX('Comparison - Category'!$R$80:$X$106,MATCH($A23&\"residential\",'Comparison - Category'!$C$80:$C$106,0),MATCH(D$11,'Comparison - Category'!$R$7:$X$7,0))","v":105.60734153793129},{"$f":"INDEX('Comparison - Category'!$R$22:$X$48,MATCH($A23&\"residential\",'Comparison - Category'!$C$22:$C$48,0),MATCH(E$11,'Comparison - Category'!$R$7:$X$7,0))","v":0},{"$f":"INDEX('Comparison - Category'!$R$80:$X$106,MATCH($A23&\"residential\",'Comparison - Category'!$C$80:$C$106,0),MATCH(F$11,'Comparison - Category'!$R$7:$X$7,0))","v":28.211492528407259},{"$f":"INDEX('Comparison - Category'!$R$22:$X$48,MATCH($A23&\"residential\",'Comparison - Category'!$C$22:$C$48,0),MATCH(G$11,'Comparison - Category'!$R$7:$X$7,0))","v":0},{"$f":"INDEX('Comparison - Category'!$R$80:$X$106,MATCH($A23&\"residential\",'Comparison - Category'!$C$80:$C$106,0),MATCH(H$11,'Comparison - Category'!$R$7:$X$7,0))","v":18.343132220746416},{"$f":"INDEX('Comparison - Category'!$R$22:$X$48,MATCH($A23&\"residential\",'Comparison - Category'!$C$22:$C$48,0),MATCH(I$11,'Comparison - Category'!$R$7:$X$7,0))","v":0},{"$f":"INDEX('Comparison - Category'!$R$80:$X$106,MATCH($A23&\"residential\",'Comparison - Category'!$C$80:$C$106,0),MATCH(J$11,'Comparison - Category'!$R$7:$X$7,0))","v":0},{"$f":"INDEX('Comparison - Category'!$R$22:$X$48,MATCH($A23&\"residential\",'Comparison - Category'!$C$22:$C$48,0),MATCH(K$11,'Comparison - Category'!$R$7:$X$7,0))","v":65.679970984983655},{"$f":"INDEX('Comparison - Category'!$R$80:$X$106,MATCH($A23&\"residential\",'Comparison - Category'!$C$80:$C$106,0),MATCH(L$11,'Comparison - Category'!$R$7:$X$7,0))","v":79.576146872510833},{"$f":"INDEX('Comparison - Category'!$R$22:$X$48,MATCH($A23&\"residential\",'Comparison - Category'!$C$22:$C$48,0),MATCH(M$11,'Comparison - Category'!$R$7:$X$7,0))","v":1.8425691466692078},{"$f":"INDEX('Comparison - Category'!$R$80:$X$106,MATCH($A23&\"residential\",'Comparison - Category'!$C$80:$C$106,0),MATCH(N$11,'Comparison - Category'!$R$7:$X$7,0))","v":0},164.78253205781866,231.7381131595958,null,null,null,null,34.475564091554709,26.063380452358569,0,6.9624597323345592,0,{"$f":"H23/$E40*100000","v":4.5269961992700658},0,0,23.281454217508319,19.639007673780711,0.65313197596540029,0,58.410150285028429,57.191844057743907]
[]
[]
[]
[null,null,null,"Average value of residential property in each city or district",null,"Total Region-wide1",null,"WRS rate2",null,null,"Total Region-wide1",null,null,null,null,null,null,null,null,null,"Total Region-wide change summary"]
[null,null,null,null,null,null,null,"Regional strategy rate","Regional strategy rate"]
[null,null,null,null,null,{"$f":"+C12","v":"per average valued residential property"},null,"per residential property",null,null,"rates per average residential property",null,null,null,null,null,null,null,null,null,"% change","Change $ Incl GST","Change $ Excl GST","Total $ Incl GST","Change per week"]
[]
[null,null,null,null,null,"excluding WRS rate",null,null,null,null,"including WRS rate"]
[null,null,null,{"$f":"year_previous","v":"2017/18"},{"$f":"year_current","v":"2018/19"},{"$f":"year_previous","v":"2017/18"},{"$f":"year_current","v":"2018/19"},{"$f":"year_previous","v":"2017/18"},{"$f":"year_current","v":"2018/19"},null,{"$f":"year_previous","v":"2017/18"},{"$f":"year_current","v":"2018/19"},null,null,null,null,null,null,null,null,null,null,null,"inc GST"]
[{"$f":"Control!A17","v":"Wellington City"},null,null,{"$f":"INDEX('Comparison - Category'!$G$22:$G$48,MATCH($A33&\"residential\",'Comparison - Category'!$C$22:$C$48,0),)","v":551092.39798840438},{"$f":"INDEX('Comparison - Category'!$G$80:$G$106,MATCH($A33&\"residential\",'Comparison - Category'!$C$80:$C$106,0),)","v":553202.42805264273},{"$f":"O16","v":405.41534734077328},{"$f":"P16","v":440.38602118243159},{"$f":"INDEX('Comparison - Category'!$R$22:$X$48,MATCH($A33&\"residential\",'Comparison - Category'!$C$22:$C$48,0),MATCH(H$28,'Comparison - Category'!$R$7:$X$7,0))","v":14},{"$f":"INDEX('Comparison - Category'!$R$80:$X$106,MATCH($A33&\"residential\",'Comparison - Category'!$C$80:$C$106,0),MATCH(I$28,'Comparison - Category'!$R$7:$X$7,0))","v":14},null,{"$f":"INDEX('Comparison - Category'!$Y$22:$Y$48,MATCH(A16&\"Residential\",'Comparison - Category'!$C$22:$C$48,0),)","v":419.41534734077328},{"$f":"INDEX('Comparison - Category'!$Y$80:$Y$106,MATCH(A16&\"Residential\",'Comparison - Category'!$C$80:$C$106,0),)","v":454.38602118243159},null,null,null,null,null,{"$f":"ROUND(K33-F33-H33,10)","v":0},{"$f":"ROUND(L33-G33-I33,10)","v":0},null,{"$f":"+L33/K33-1","v":8.3379576029784186E-2},{"$f":"(+L33-K33)*(1+GST)","v":40.216274917907057},{"$f":"+L33-K33","v":34.970673841658311},{"$f":"+L33*(1+GST)","v":522.54392435979628},{"$f":"+V33/52","v":0.77338990226744342}]
[{"$f":"Control!A18","v":"Hutt City"},null,null,{"$f":"INDEX('Comparison - Category'!$G$22:$G$48,MATCH($A34&\"residential\",'Comparison - Category'!$C$22:$C$48,0),)","v":471132.13358377991},{"$f":"INDEX('Comparison - Category'!$G$80:$G$106,MATCH($A34&\"residential\",'Comparison - Category'!$C$80:$C$106,0),)","v":474462.12121212122},{"$f":"O17","v":505.25237259494872},528.47804942867617,{"$f":"INDEX('Comparison - Category'!$R$22:$X$48,MATCH($A34&\"residential\",'Comparison - Category'!$C$22:$C$48,0),MATCH(H$28,'Comparison - Category'!$R$7:$X$7,0))","v":14},{"$f":"INDEX('Comparison - Category'!$R$80:$X$106,MATCH($A34&\"residential\",'Comparison - Category'!$C$80:$C$106,0),MATCH(I$28,'Comparison - Category'!$R$7:$X$7,0))","v":14},null,{"$f":"INDEX('Comparison - Category'!$Y$22:$Y$48,MATCH(A17&\"Residential\",'Comparison - Category'!$C$22:$C$48,0),)","v":519.25237259494872},{"$f":"INDEX('Comparison - Category'!$Y$80:$Y$106,MATCH(A17&\"Residential\",'Comparison - Category'!$C$80:$C$106,0),)","v":542.47804942867617},null,null,null,null,null,{"$f":"ROUND(K34-F34-H34,10)","v":0},0,null,4.4729072142045023E-2,26.709528358786564,23.225676833727448,623.84975684297751,{"$f":"+V34/52","v":0.51364477613051085}]
[{"$f":"Control!A19","v":"Upper Hutt City"},null,null,{"$f":"INDEX('Comparison - Category'!$G$22:$G$48,MATCH($A35&\"residential\",'Comparison - Category'!$C$22:$C$48,0),)","v":413719.04409750755},{"$f":"INDEX('Comparison - Category'!$G$80:$G$106,MATCH($A35&\"residential\",'Comparison - Category'!$C$80:$C$106,0),)","v":413368.54919474898},434.6329345340265,422.984321014942,{"$f":"INDEX('Comparison - Category'!$R$22:$X$48,MATCH($A35&\"residential\",'Comparison - Category'!$C$22:$C$48,0),MATCH(H$28,'Comparison - Category'!$R$7:$X$7,0))","v":14},{"$f":"INDEX('Comparison - Category'!$R$80:$X$106,MATCH($A35&\"residential\",'Comparison - Category'!$C$80:$C$106,0),MATCH(I$28,'Comparison - Category'!$R$7:$X$7,0))","v":14},null,{"$f":"INDEX('Comparison - Category'!$Y$22:$Y$48,MATCH(A18&\"Residential\",'Comparison - Category'!$C$22:$C$48,0),)","v":448.6329345340265},{"$f":"INDEX('Comparison - Category'!$Y$80:$Y$106,MATCH(A18&\"Residential\",'Comparison - Category'!$C$80:$C$106,0),)","v":436.984321014942},null,null,null,null,null,0,0,null,-2.5964686545323246E-2,-13.395905546947182,-11.648613519084506,502.53196916718326,-0.25761356821052273]
[{"$f":"Control!A20","v":"Porirua City"},null,null,{"$f":"INDEX('Comparison - Category'!$G$22:$G$48,MATCH($A36&\"residential\",'Comparison - Category'!$C$22:$C$48,0),)","v":488077.22728867066},{"$f":"INDEX('Comparison - Category'!$G$80:$G$106,MATCH($A36&\"residential\",'Comparison - Category'!$C$80:$C$106,0),)","v":492556.20065025543},476.8425896946739,456.33181261952222,{"$f":"INDEX('Comparison - Category'!$R$22:$X$48,MATCH($A36&\"residential\",'Comparison - Category'!$C$22:$C$48,0),MATCH(H$28,'Comparison - Category'!$R$7:$X$7,0))","v":14},{"$f":"INDEX('Comparison - Category'!$R$80:$X$106,MATCH($A36&\"residential\",'Comparison - Category'!$C$80:$C$106,0),MATCH(I$28,'Comparison - Category'!$R$7:$X$7,0))","v":14},null,{"$f":"INDEX('Comparison - Category'!$Y$22:$Y$48,MATCH(A19&\"Residential\",'Comparison - Category'!$C$22:$C$48,0),)","v":490.8425896946739},{"$f":"INDEX('Comparison - Category'!$Y$80:$Y$106,MATCH(A19&\"Residential\",'Comparison - Category'!$C$80:$C$106,0),)","v":470.33181261952222},null,null,null,null,null,0,0,null,-4.1786873237528721E-2,-23.58739363642443,-20.51077707515168,540.88158451245056,-0.45360372377739289]
[{"$f":"Control!A21","v":"Kapiti Coast District"},null,null,{"$f":"INDEX('Comparison - Category'!$G$22:$G$48,MATCH($A37&\"residential\",'Comparison - Category'!$C$22:$C$48,0),)","v":389783.62483602972},{"$f":"INDEX('Comparison - Category'!$G$80:$G$106,MATCH($A37&\"residential\",'Comparison - Category'!$C$80:$C$106,0),)","v":534845.43827399379},328.02469508837305,384.09091048901053,{"$f":"INDEX('Comparison - Category'!$R$22:$X$48,MATCH($A37&\"residential\",'Comparison - Category'!$C$22:$C$48,0),MATCH(H$28,'Comparison - Category'!$R$7:$X$7,0))","v":14},{"$f":"INDEX('Comparison - Category'!$R$80:$X$106,MATCH($A37&\"residential\",'Comparison - Category'!$C$80:$C$106,0),MATCH(I$28,'Comparison - Category'!$R$7:$X$7,0))","v":14},null,{"$f":"INDEX('Comparison - Category'!$Y$22:$Y$48,MATCH(A20&\"Residential\",'Comparison - Category'!$C$22:$C$48,0),)","v":342.02469508837305},{"$f":"INDEX('Comparison - Category'!$Y$80:$Y$106,MATCH(A20&\"Residential\",'Comparison - Category'!$C$80:$C$106,0),)","v":398.09091048901053},null,null,null,null,null,0,0,null,0.16392446570605368,64.476147710733088,56.066215400637475,457.80454706236208,1.2399259175140978]
[{"$f":"Control!A22","v":"Masterton District"},null,null,{"$f":"INDEX('Comparison - Category'!$G$22:$G$48,MATCH($A38&\"residential\",'Comparison - Category'!$C$22:$C$48,0),)","v":251835.81994389187},{"$f":"INDEX('Comparison - Category'!$G$80:$G$106,MATCH($A38&\"residential\",'Comparison - Category'!$C$80:$C$106,0),)","v":343459.10129474488},116.29168450315551,166.99485922356155,{"$f":"INDEX('Comparison - Category'!$R$22:$X$48,MATCH($A38&\"residential\",'Comparison - Category'!$C$22:$C$48,0),MATCH(H$28,'Comparison - Category'!$R$7:$X$7,0))","v":14},{"$f":"INDEX('Comparison - Category'!$R$80:$X$106,MATCH($A38&\"residential\",'Comparison - Category'!$C$80:$C$106,0),MATCH(I$28,'Comparison - Category'!$R$7:$X$7,0))","v":14},null,{"$f":"INDEX('Comparison - Category'!$Y$22:$Y$48,MATCH(A21&\"Residential\",'Comparison - Category'!$C$22:$C$48,0),)","v":130.29168450315552},{"$f":"INDEX('Comparison - Category'!$Y$80:$Y$106,MATCH(A21&\"Residential\",'Comparison - Category'!$C$80:$C$106,0),)","v":180.99485922356155},null,null,null,null,null,0,0,null,0.38915127173122133,58.308650928466925,50.703174720406025,208.14408810709577,1.1213202101628255]
[{"$f":"Control!A23","v":"Carterton District"},null,null,{"$f":"INDEX('Comparison - Category'!$G$22:$G$48,MATCH($A39&\"residential\",'Comparison - Category'!$C$22:$C$48,0),)","v":264354.71944323619},{"$f":"INDEX('Comparison - Category'!$G$80:$G$106,MATCH($A39&\"residential\",'Comparison - Category'!$C$80:$C$106,0),)","v":351266.34125636675},145.56940710192612,190.4550906139861,{"$f":"INDEX('Comparison - Category'!$R$22:$X$48,MATCH($A39&\"residential\",'Comparison - Category'!$C$22:$C$48,0),MATCH(H$28,'Comparison - Category'!$R$7:$X$7,0))","v":14},{"$f":"INDEX('Comparison - Category'!$R$80:$X$106,MATCH($A39&\"residential\",'Comparison - Category'!$C$80:$C$106,0),MATCH(I$28,'Comparison - Category'!$R$7:$X$7,0))","v":14},null,{"$f":"INDEX('Comparison - Category'!$Y$22:$Y$48,MATCH(A22&\"Residential\",'Comparison - Category'!$C$22:$C$48,0),)","v":159.56940710192612},{"$f":"INDEX('Comparison - Category'!$Y$80:$Y$106,MATCH(A22&\"Residential\",'Comparison - Category'!$C$80:$C$106,0),)","v":204.4550906139861},null,null,null,null,null,0,0,null,0.28129253800754506,51.618536038868974,44.885683512059984,235.123354206084,0.99266415459363411]
[{"$f":"Control!A24","v":"South Wairarapa District"},null,null,{"$f":"INDEX('Comparison - Category'!$G$22:$G$48,MATCH($A40&\"residential\",'Comparison - Category'!$C$22:$C$48,0),)","v":282112.83698760724},{"$f":"INDEX('Comparison - Category'!$G$80:$G$106,MATCH($A40&\"residential\",'Comparison - Category'!$C$80:$C$106,0),)","v":405194.33667083853},164.78253205781866,231.7381131595958,{"$f":"INDEX('Comparison - Category'!$R$22:$X$48,MATCH($A40&\"residential\",'Comparison - Category'!$C$22:$C$48,0),MATCH(H$28,'Comparison - Category'!$R$7:$X$7,0))","v":14},{"$f":"INDEX('Comparison - Category'!$R$80:$X$106,MATCH($A40&\"residential\",'Comparison - Category'!$C$80:$C$106,0),MATCH(I$28,'Comparison - Category'!$R$7:$X$7,0))","v":14},null,{"$f":"INDEX('Comparison - Category'!$Y$22:$Y$48,MATCH(A23&\"Residential\",'Comparison - Category'!$C$22:$C$48,0),)","v":178.78253205781866},{"$f":"INDEX('Comparison - Category'!$Y$80:$Y$106,MATCH(A23&\"Residential\",'Comparison - Category'!$C$80:$C$106,0),)","v":245.7381131595958},null,null,null,null,null,0,0,null,0.37450851786864492,76.998918267043706,66.955581101777142,282.59883013353516,1.4807484282123791]
[]
[{"$f":"+'1'!$A$51","v":"All figures on this page exclude GST"}]
[]
[]
["Notes:"]
[{"$f":"+'1'!$A$55","v":"Figures labelled “2017/18 Budget” are sourced from GWRC's 2017/18  Annual plan."}]
[]
[]
["1  Region-wide rates are rates that are charged to all ratepayers in  the region. It excludes Pest management rate, Flood protection – property rate, Drainage scheme rate, Land management - scheme rate and any \"Warm Greater Wellington\" targeted rates as they impact only certain ratepayers that are covered by these programmes."]
[]
[]
["2 The WRS rate is a targeted rate allocated on a fixed amount basis for residential and rural ratepayers. It is allocated on capital value for businesses. For residential properties the fixed amount is $14.00 + GST and rural properties $28.00 + GST. This rate is used to fund Wellington Regional Strategy activities including WREDA, the region’s economic development agency."]
[]
[]
[]
["Rates for Greater Wellington region are mostly allocated to ratepayers on the basis of their capital values. The territorial authorities undertake valuations in different years. To ensure properties are valued on the same basis in each territorial area,  GWRC undertakes an equalised capital value (ECV) calculation to ensure fair distribution of rates based on capital values."]
[]
[]
[{"$f":"'1'!A62","v":0}]

{"sheet":"5b","index":29,"n_rows":44,"n_cols":7,"rows_kept":44,"cut":false,"hidden":false,"merged":[[8,10,9,10],[8,11,9,11],[43,0,44,7],[46,0,46,7],[3,2,3,3],[3,4,3,5],[8,7,9,7],[8,8,9,8],[8,9,9,9]]}
["RATES AND LEVIES - REGION-WIDE RATES"]
["WHAT IS THE IMPACT ON YOUR CITY OR DISTRICT?"]
[]
[]
["Residential Property - including GST",null,"Average Capital Value","Average Increase \nper year","Average Increase \nper week","Average Rates \nper year","Average rates\nper week"]
["Wellington city",null,{"$f":"'Changes '!C66","v":553000},{"$f":"'Changes '!D66","v":40},{"$f":"'Changes '!E66","v":0.76923076923076927},{"$f":"'Changes '!F66","v":523},{"$f":"'Changes '!G66","v":10.057692307692308}]
["Lower Hutt city",null,{"$f":"'Changes '!C67","v":474000},{"$f":"'Changes '!D67","v":27},{"$f":"'Changes '!E67","v":0.51923076923076927},{"$f":"'Changes '!F67","v":624},{"$f":"'Changes '!G67","v":12}]
["Upper Hutt city",null,{"$f":"'Changes '!C68","v":413000},{"$f":"'Changes '!D68","v":-13},{"$f":"'Changes '!E68","v":-0.25},{"$f":"'Changes '!F68","v":503},{"$f":"'Changes '!G68","v":9.6730769230769234}]
["Porirua city",null,{"$f":"'Changes '!C69","v":493000},{"$f":"'Changes '!D69","v":-24},{"$f":"'Changes '!E69","v":-0.46153846153846156},{"$f":"'Changes '!F69","v":541},{"$f":"'Changes '!G69","v":10.403846153846153}]
["Kapiti Coast district",null,{"$f":"'Changes '!C70","v":535000},{"$f":"'Changes '!D70","v":64},{"$f":"'Changes '!E70","v":1.2307692307692308},{"$f":"'Changes '!F70","v":458},{"$f":"'Changes '!G70","v":8.8076923076923084}]
["Masterton district",null,{"$f":"'Changes '!C71","v":343000},{"$f":"'Changes '!D71","v":58},{"$f":"'Changes '!E71","v":1.1153846153846154},{"$f":"'Changes '!F71","v":208},{"$f":"'Changes '!G71","v":4}]
["Carterton district",null,{"$f":"'Changes '!C72","v":351000},{"$f":"'Changes '!D72","v":52},{"$f":"'Changes '!E72","v":1},{"$f":"'Changes '!F72","v":235},{"$f":"'Changes '!G72","v":4.5192307692307692}]
["South Wairarapa district",null,{"$f":"'Changes '!C73","v":405000},{"$f":"'Changes '!D73","v":77},{"$f":"'Changes '!E73","v":1.4807692307692308},{"$f":"'Changes '!F73","v":283},{"$f":"'Changes '!G73","v":5.4423076923076925}]
["These projected rates exclude the targeted rural pest and river management rates that are not charged to all ratepayers"]
[]
["Rural Property - excluding GST",null,"Average Capital Value","Average Increase \nper year","Average Increase \nper week","Average Rates \nper year","Average rates\nper week"]
["Wellington city",null,{"$f":"'Changes '!C77","v":760000},{"$f":"'Changes '!D77","v":28},{"$f":"'Changes '!E77","v":0.53846153846153844},{"$f":"'Changes '!F77","v":429},{"$f":"'Changes '!G77","v":8.25}]
["Lower Hutt city",null,{"$f":"'Changes '!C78","v":645000},{"$f":"'Changes '!D78","v":48},{"$f":"'Changes '!E78","v":0.92307692307692313},{"$f":"'Changes '!F78","v":505},{"$f":"'Changes '!G78","v":9.7115384615384617}]
["Upper Hutt city",null,{"$f":"'Changes '!C79","v":676000},{"$f":"'Changes '!D79","v":40},{"$f":"'Changes '!E79","v":0.76923076923076927},{"$f":"'Changes '!F79","v":444},{"$f":"'Changes '!G79","v":8.5384615384615383}]
["Porirua city",null,{"$f":"'Changes '!C80","v":1006000},{"$f":"'Changes '!D80","v":22},{"$f":"'Changes '!E80","v":0.42307692307692307},{"$f":"'Changes '!F80","v":542},{"$f":"'Changes '!G80","v":10.423076923076923}]
["Kapiti Coast district",null,{"$f":"'Changes '!C81","v":735000},{"$f":"'Changes '!D81","v":11},{"$f":"'Changes '!E81","v":0.21153846153846154},{"$f":"'Changes '!F81","v":403},{"$f":"'Changes '!G81","v":7.75}]
["Masterton district",null,{"$f":"'Changes '!C82","v":718000},{"$f":"'Changes '!D82","v":65},{"$f":"'Changes '!E82","v":1.25},{"$f":"'Changes '!F82","v":327},{"$f":"'Changes '!G82","v":6.2884615384615383}]
["Carterton district",null,{"$f":"'Changes '!C83","v":867000},{"$f":"'Changes '!D83","v":76},{"$f":"'Changes '!E83","v":1.4615384615384615},{"$f":"'Changes '!F83","v":407},{"$f":"'Changes '!G83","v":7.8269230769230766}]
["South Wairarapa district",null,{"$f":"'Changes '!C84","v":953000},{"$f":"'Changes '!D84","v":91},{"$f":"'Changes '!E84","v":1.75},{"$f":"'Changes '!F84","v":448},{"$f":"'Changes '!G84","v":8.615384615384615}]
["Tararua",null,{"$f":"'Changes '!C85","v":1076000},{"$f":"'Changes '!D85","v":34},{"$f":"'Changes '!E85","v":0.65384615384615385},{"$f":"'Changes '!F85","v":258},{"$f":"'Changes '!G85","v":4.9615384615384617}]
["These projected rates exclude the targeted rural pest and river management rates that are not charged to all ratepayers"]
[]
[]
["Business Property - excluding GST",null,"Average Capital Value","Average Increase \nper year","Average Increase \nper week","Average Rates \nper year","Average rates\nper week"]
["Wellington city",null,{"$f":"'Changes '!C90","v":2033000},{"$f":"'Changes '!D90","v":298},{"$f":"'Changes '!E90","v":5.7307692307692308},{"$f":"'Changes '!F90","v":2007},{"$f":"'Changes '!G90","v":38.596153846153847}]
["Wellington city - CBD",null,{"$f":"'Changes '!C91","v":2312000},{"$f":"'Changes '!D91","v":340},{"$f":"'Changes '!E91","v":6.5384615384615383},{"$f":"'Changes '!F91","v":8946},{"$f":"'Changes '!G91","v":172.03846153846155}]
["Lower Hutt city",null,{"$f":"'Changes '!C92","v":1600000},{"$f":"'Changes '!D92","v":159},{"$f":"'Changes '!E92","v":3.0576923076923075},{"$f":"'Changes '!F92","v":2040},{"$f":"'Changes '!G92","v":39.230769230769234}]
["Upper Hutt city",null,{"$f":"'Changes '!C93","v":1652000},{"$f":"'Changes '!D93","v":107},{"$f":"'Changes '!E93","v":2.0576923076923075},{"$f":"'Changes '!F93","v":1957},{"$f":"'Changes '!G93","v":37.634615384615387}]
["Porirua city",null,{"$f":"'Changes '!C94","v":1380000},{"$f":"'Changes '!D94","v":27},{"$f":"'Changes '!E94","v":0.51923076923076927},{"$f":"'Changes '!F94","v":1500},{"$f":"'Changes '!G94","v":28.846153846153847}]
["Kapiti Coast district",null,{"$f":"'Changes '!C95","v":1085000},{"$f":"'Changes '!D95","v":70},{"$f":"'Changes '!E95","v":1.3461538461538463},{"$f":"'Changes '!F95","v":935},{"$f":"'Changes '!G95","v":17.98076923076923}]
["Masterton district",null,{"$f":"'Changes '!C96","v":793000},{"$f":"'Changes '!D96","v":110},{"$f":"'Changes '!E96","v":2.1153846153846154},{"$f":"'Changes '!F96","v":498},{"$f":"'Changes '!G96","v":9.5769230769230766}]
["Carterton district",null,{"$f":"'Changes '!C97","v":412000},{"$f":"'Changes '!D97","v":16},{"$f":"'Changes '!E97","v":0.30769230769230771},{"$f":"'Changes '!F97","v":282},{"$f":"'Changes '!G97","v":5.4230769230769234}]
["South Wairarapa district",null,{"$f":"'Changes '!C98","v":669000},{"$f":"'Changes '!D98","v":66},{"$f":"'Changes '!E98","v":1.2692307692307692},{"$f":"'Changes '!F98","v":479},{"$f":"'Changes '!G98","v":9.2115384615384617}]
["These projected rates exclude the targeted rural pest and river management rates that are not charged to all ratepayers"]
[]
[]
["Notes:"]
[]
["Rates for Greater Wellington are mostly allocated to ratepayers on the basis of their capital values. The territorial authorities undertake valuations in different years. To ensure properties are valued on the same basis in each territorial area,  Greater Wellington undertakes an equalised capital value (ECV) calculation to ensure fair distribution of rates based on capital values."]

{"sheet":"6","index":30,"n_rows":43,"n_cols":9,"rows_kept":43,"cut":false,"hidden":false,"merged":[[5,0,6,8],[42,0,43,8],[11,3,15,3],[11,8,15,8],[11,1,15,1],[11,6,15,6],[7,0,7,8],[37,0,38,8],[39,0,40,8],[41,0,41,8]]}
["RATES AND LEVIES - RESIDENTIAL REGION-WIDE RATES CALCULATOR"]
["WHAT IS THE IMPACT ON YOUR PROPERTY?"]
[]
[]
[]
[{"$f":"\"The table below shows how you can calculate your own residential proposed region-wide rates for \"&year_current&\". For example, if you live in Hutt city and have a residential property with a capital value of $350,000 your indicative annual regional rates are $\"&DOLLAR(I30,2)&\" plus GST @ 15% = $\"&DOLLAR(I32,2)&\"\"","v":"The table below shows how you can calculate your own residential proposed region-wide rates for 2018/19. For example, if you live in Hutt city and have a residential property with a capital value of $350,000 your indicative annual regional rates are $$403.85 plus GST @ 15% = $$464.43"}]
[]
[]
["Please note: The above calculation does not include rates set by your local city or district council and any district or property specific targeted rate"]
[]
[]
[null,{"$f":"year_current&\" Region-wide1 rates per $100,000 of capital value, excluding the WRS rate\"","v":"2018/19 Region-wide1 rates per $100,000 of capital value, excluding the WRS rate"},null,"Enter the capital value of your property",null,null,"WRS rate2 \nresidential property",null,{"$f":"\"Indicative rates on your property for \"&year_current&\" 1\"","v":"Indicative rates on your property for 2018/19 1"}]
[]
[]
[]
[]
[]
[{"$f":"+'5'!A16","v":"Wellington City"},{"$f":"+'5'!AH16","v":79.606668165332863},"x",null,"÷ 100,000","+",{"$f":"+'5'!I33","v":14},"="]
[{"$f":"+'5'!A17","v":"Hutt City"},{"$f":"+'5'!AH17","v":111.38466608852967},"x",null,"÷ 100,000","+",{"$f":"+G18","v":14},"="]
[{"$f":"+'5'!A18","v":"Upper Hutt City"},{"$f":"+'5'!AH18","v":102.32619821680308},"x",null,"÷ 100,000","+",{"$f":"+G19","v":14},"="]
[{"$f":"+'5'!A19","v":"Porirua City"},{"$f":"+'5'!AH19","v":92.645633537267216},"x",null,"÷ 100,000","+",14,"="]
[{"$f":"+'5'!A20","v":"Kapiti Coast District"},{"$f":"+'5'!AH20","v":71.813440482640175},"x",null,"÷ 100,000","+",14,"="]
[{"$f":"+'5'!A21","v":"Masterton District"},{"$f":"+'5'!AH21","v":48.621468638926025},"x",null,"÷ 100,000","+",14,"="]
[{"$f":"+'5'!A22","v":"Carterton District"},{"$f":"+'5'!AH22","v":54.219567389459939},"x",null,"÷ 100,000","+",14,"="]
[{"$f":"+'5'!A23","v":"South Wairarapa District"},{"$f":"+'5'!AH23","v":57.191844057743907},"x",null,"÷ 100,000","+",14,"="]
[]
[]
[]
[]
[{"$f":"A19&\" example\"","v":"Hutt City example"},{"$f":"+B19","v":111.38466608852967},"x",350000,"÷ 100,000","+",{"$f":"+G18","v":14},"=",{"$f":"ROUND(+B30*D30/100000+G30,2)","v":403.85}]
[]
[null,null,null,null,null,null,{"$f":"\"Including GST @ \"&ROUND(GST*100,0)&\"%\"","v":"Including GST @ 15%"},null,{"$f":"ROUND(I30*(1+GST),2)","v":464.43}]
[]
[]
[]
["A calulator to assist you check your region-wide rates for all property types is available on our website www.gw.govt.nz"]
[]
["1  Region-wide rates are rates that are charged to all ratepayers in  the region. It excludes South Wairarapa Region river rates, Wairarapa river and drainage scheme rates and any \"Warm Greater Wellington\" targeted rates as they impact only certain ratepayers that are covered by these programmes"]
[]
[{"$f":"'5'!A52","v":"2 The WRS rate is a targeted rate allocated on a fixed amount basis for residential and rural ratepayers. It is allocated on capital value for businesses. For residential properties the fixed amount is $14.00 + GST and rural properties $28.00 + GST. This rate is used to fund Wellington Regional Strategy activities including WREDA, the region’s economic development agency."}]
[]
[]
["Greater Wellington rates are set and assessed by Greater Wellington but are invoiced and collected by the relevant territorial authority in the Wellington region. Such combined collection arrangements are cost effective and more convenient for ratepayers. "]

{"sheet":"Impact","index":31,"n_rows":262,"n_cols":14,"rows_kept":262,"cut":false,"hidden":false,"merged":[[23,0,24,0],[24,2,26,2],[24,4,25,4],[40,4,42,4],[40,2,42,2],[39,0,40,0],[49,11,50,11],[49,9,50,9],[195,11,196,11],[212,11,213,11],[233,6,234,6],[202,11,203,11],[234,11,235,11],[202,9,203,9],[212,9,214,9],[220,6,228,11],[63,7,64,7],[156,11,157,11],[110,6,111,6],[48,6,49,6],[173,11,175,11],[173,8,174,8],[259,9,259,10],[234,9,235,9],[255,9,255,10],[195,9,196,9],[194,6,195,6],[201,6,203,6],[211,6,214,6],[110,0,111,0],[62,4,63,4],[62,2,64,2],[62,11,63,11],[156,8,157,8],[156,9,157,9],[111,11,112,11],[62,9,64,9],[111,9,112,9],[62,8,64,8],[61,6,62,6],[111,4,112,4],[111,2,112,2],[155,6,156,6],[102,6,102,10],[61,0,62,0],[8,2,10,2],[8,9,10,9],[8,4,9,4],[8,11,9,11],[7,0,8,0],[7,6,8,6],[243,0,244,0],[244,2,245,2],[155,0,156,0],[244,4,245,4],[195,2,196,2],[233,0,234,0],[156,4,157,4],[194,0,195,0],[234,2,235,2],[234,4,235,4],[195,4,196,4],[156,2,157,2],[165,11,166,11],[165,9,166,9],[173,9,174,9],[195,10,196,10],[158,6,159,6],[165,8,166,8]]}
["Wellington Regional Council"]
[{"$f":"\"Rates tables for annual plan \"&year_current","v":"Rates tables for annual plan 2018/19"}]
["Printed :",{"$f":"NOW()","v":"2018-03-27T14:57:00.990"}]
[{"$f":"check_total","v":8066.0526878890842}]
[null,null,null,null,null,null,null,null,null,null,null,"Rates funding impact statement"]
[]
[]
["General rate",null,{"$f":"year_current","v":"2018/19"},null,{"$f":"year_current","v":"2018/19"},null,"Targeted rate:\nPublic transport",null,null,{"$f":"year_current","v":"2018/19"},null,{"$f":"year_current","v":"2018/19"}]
[null,null,"Cents per $ of rateable capital value",null,"Revenue sought\n $",null,null,null,null,{"$f":"+$C$9","v":"Cents per $ of rateable capital value"},null,"Revenue sought\n $"]
[]
[]
["Wellington city",null,{"$f":"INDEX(Gen!$E$10:$E$19,MATCH(A12,Gen!$A$10:$A$19,0),)","v":3.4441687581379256E-2},null,{"$f":"INDEX(Gen!$D$10:$D$19,MATCH(A12,Gen!$A$10:$A$19,0),)","v":17763603.956695955},null,"Wellington city"]
["Hutt city",null,{"$f":"INDEX(Gen!$E$10:$E$19,MATCH(A13,Gen!$A$10:$A$19,0),)","v":2.9149278224475897E-2},null,{"$f":"INDEX(Gen!$D$10:$D$19,MATCH(A13,Gen!$A$10:$A$19,0),)","v":6211296.8326458521},null,"Regional CBD",null,null,{"$f":"INDEX(Tran!$I$23:$I$48,MATCH(G$12&G13,Tran!$C$23:$C$48,0),)","v":0.33181705727897731},null,{"$f":"INDEX(Tran!$H$23:$H$48,MATCH(G$12&G13,Tran!$C$23:$C$48,0),)","v":25944905.117295574}]
["Upper Hutt city",null,{"$f":"INDEX(Gen!$E$10:$E$19,MATCH(A14,Gen!$A$10:$A$19,0),)","v":2.9065086387874819E-2},null,{"$f":"INDEX(Gen!$D$10:$D$19,MATCH(A14,Gen!$A$10:$A$19,0),)","v":2362248.6952953734},null,"Business",null,null,{"$f":"INDEX(Tran!$I$23:$I$48,MATCH(G$12&G14,Tran!$C$23:$C$48,0),)","v":4.3581150663397371E-2},null,{"$f":"INDEX(Tran!$H$23:$H$48,MATCH(G$12&G14,Tran!$C$23:$C$48,0),)","v":1683481.6257097539}]
["Porirua city",null,{"$f":"INDEX(Gen!$E$10:$E$19,MATCH(A15,Gen!$A$10:$A$19,0),)","v":2.8874598401587522E-2},null,{"$f":"INDEX(Gen!$D$10:$D$19,MATCH(A15,Gen!$A$10:$A$19,0),)","v":2943593.8641138384},null,"Residential",null,null,{"$f":"INDEX(Tran!$I$23:$I$48,MATCH(G$12&G15,Tran!$C$23:$C$48,0),)","v":3.5859594264648013E-2},null,{"$f":"INDEX(Tran!$H$23:$H$48,MATCH(G$12&G15,Tran!$C$23:$C$48,0),)","v":14093633.304069273}]
["Kapiti Coast district",null,{"$f":"INDEX(Gen!$E$10:$E$19,MATCH(A16,Gen!$A$10:$A$19,0),)","v":2.5875752558865244E-2},null,{"$f":"INDEX(Gen!$D$10:$D$19,MATCH(A16,Gen!$A$10:$A$19,0),)","v":3780325.4705526493},null,"Rural",null,null,{"$f":"INDEX(Tran!$I$23:$I$48,MATCH(G$12&G16,Tran!$C$23:$C$48,0),)","v":9.1045866290731334E-3},null,{"$f":"INDEX(Tran!$H$23:$H$48,MATCH(G$12&G16,Tran!$C$23:$C$48,0),)","v":53872.708572248805}]
["Masterton district",null,{"$f":"INDEX(Gen!$E$10:$E$19,MATCH(A17,Gen!$A$10:$A$19,0),)","v":2.5676361540244247E-2},null,{"$f":"INDEX(Gen!$D$10:$D$19,MATCH(A17,Gen!$A$10:$A$19,0),)","v":1517336.3687850407},null,"Hutt city"]
["Carterton district",null,{"$f":"INDEX(Gen!$E$10:$E$19,MATCH(A18,Gen!$A$10:$A$19,0),)","v":2.5834590912064824E-2},null,{"$f":"INDEX(Gen!$D$10:$D$19,MATCH(A18,Gen!$A$10:$A$19,0),)","v":699379.00943950808},null,"Business",null,null,{"$f":"INDEX(Tran!$I$23:$I$48,MATCH(G$17&G18,Tran!$C$23:$C$48,0),)","v":5.6732855418169269E-2},null,{"$f":"INDEX(Tran!$H$23:$H$48,MATCH(G$17&G18,Tran!$C$23:$C$48,0),)","v":2139766.7270293208}]
["South Wairarapa district",null,{"$f":"INDEX(Gen!$E$10:$E$19,MATCH(A19,Gen!$A$10:$A$19,0),)","v":2.6063380452358568E-2},null,{"$f":"INDEX(Gen!$D$10:$D$19,MATCH(A19,Gen!$A$10:$A$19,0),)","v":1162553.2537605274},null,"Residential",null,null,{"$f":"INDEX(Tran!$I$23:$I$48,MATCH(G$17&G19,Tran!$C$23:$C$48,0),)","v":5.0197815714864667E-2},null,{"$f":"INDEX(Tran!$H$23:$H$48,MATCH(G$17&G19,Tran!$C$23:$C$48,0),)","v":8645557.2511172127}]
["Tararua district",null,{"$f":"INDEX(Gen!$E$10:$E$19,MATCH(A20,Gen!$A$10:$A$19,0),)","v":1.6853500555344063E-2},null,{"$f":"INDEX(Gen!$D$10:$D$19,MATCH(A20,Gen!$A$10:$A$19,0),)","v":1813.5209272577977},null,"Rural",null,null,{"$f":"INDEX(Tran!$I$23:$I$48,MATCH(G$17&G20,Tran!$C$23:$C$48,0),)","v":1.2729298399847199E-2},null,{"$f":"INDEX(Tran!$H$23:$H$48,MATCH(G$17&G20,Tran!$C$23:$C$48,0),)","v":39963.632326320279}]
["Total general rate",null,null,null,{"$f":"SUM(E12:E20)","v":36442150.972215995},null,"Upper Hutt city"]
[null,null,null,null,null,null,"Business",null,null,{"$f":"INDEX(Tran!$I$23:$I$48,MATCH(G$21&G22,Tran!$C$23:$C$48,0),)","v":6.1168191629459148E-2},null,{"$f":"INDEX(Tran!$H$23:$H$48,MATCH(G$21&G22,Tran!$C$23:$C$48,0),)","v":719510.12202187651}]
[null,null,null,null,null,null,"Residential",null,null,{"$f":"INDEX(Tran!$I$23:$I$48,MATCH(G$21&G23,Tran!$C$23:$C$48,0),)","v":5.4652027076017469E-2},null,{"$f":"INDEX(Tran!$H$23:$H$48,MATCH(G$21&G23,Tran!$C$23:$C$48,0),)","v":3338561.3987474386}]
["Targeted rate:\nFlood protection - regional rates",null,{"$f":"year_current","v":"2018/19"},null,{"$f":"year_current","v":"2018/19"},null,"Rural",null,null,{"$f":"INDEX(Tran!$I$23:$I$48,MATCH(G$21&G24,Tran!$C$23:$C$48,0),)","v":1.3865373957754086E-2},null,{"$f":"INDEX(Tran!$H$23:$H$48,MATCH(G$21&G24,Tran!$C$23:$C$48,0),)","v":116802.23466987103}]
[null,null,{"$f":"+$C$9","v":"Cents per $ of rateable capital value"},null,{"$f":"+$E$9","v":"Revenue sought\n $"},null,"Porirua city"]
[" based on capital value",null,null,null,null,null,"Business",null,null,{"$f":"INDEX(Tran!$I$23:$I$48,MATCH(G$25&G26,Tran!$C$23:$C$48,0),)","v":6.2088451857785637E-2},null,{"$f":"INDEX(Tran!$H$23:$H$48,MATCH(G$25&G26,Tran!$C$23:$C$48,0),)","v":681259.63960662647}]
[null,null,null,null,null,null,"Residential",null,null,{"$f":"INDEX(Tran!$I$23:$I$48,MATCH(G$25&G27,Tran!$C$23:$C$48,0),)","v":5.5614993217807857E-2},null,{"$f":"INDEX(Tran!$H$23:$H$48,MATCH(G$25&G27,Tran!$C$23:$C$48,0),)","v":4718258.1208131965}]
["Wellington city",null,{"$f":"INDEX('FP - regional'!$E$10:$E$18,MATCH(A28,'FP - regional'!$A$10:$A$19,0),)","v":9.2006047848371148E-3},null,{"$f":"INDEX('FP - regional'!$D$10:$D$19,MATCH(A28,'FP - regional'!$A$10:$A$19,0),)","v":4745293.0166026242},null,"Rural",null,null,{"$f":"INDEX(Tran!$I$23:$I$48,MATCH(G$25&G28,Tran!$C$23:$C$48,0),)","v":1.410829953104928E-2},null,{"$f":"INDEX(Tran!$H$23:$H$48,MATCH(G$25&G28,Tran!$C$23:$C$48,0),)","v":86537.170226810616}]
["Hutt city",null,{"$f":"INDEX('FP - regional'!$E$10:$E$18,MATCH(A29,'FP - regional'!$A$10:$A$19,0),)","v":7.7868132353554444E-3},null,{"$f":"INDEX('FP - regional'!$D$10:$D$19,MATCH(A29,'FP - regional'!$A$10:$A$19,0),)","v":1659259.2109041046},null,"Kapiti Coast district"]
["Upper Hutt city",null,{"$f":"INDEX('FP - regional'!$E$10:$E$18,MATCH(A30,'FP - regional'!$A$10:$A$19,0),)","v":7.7643225890174621E-3},null,{"$f":"INDEX('FP - regional'!$D$10:$D$19,MATCH(A30,'FP - regional'!$A$10:$A$19,0),)","v":631040.99058898317},null,"Business",null,null,{"$f":"INDEX(Tran!$I$23:$I$48,MATCH(G$29&G30,Tran!$C$23:$C$48,0),)","v":3.3738891846830175E-2},null,{"$f":"INDEX(Tran!$H$23:$H$48,MATCH(G$29&G30,Tran!$C$23:$C$48,0),)","v":510744.74300001073}]
["Porirua city",null,{"$f":"INDEX('FP - regional'!$E$10:$E$18,MATCH(A31,'FP - regional'!$A$10:$A$19,0),)","v":7.7134364448949409E-3},null,{"$f":"INDEX('FP - regional'!$D$10:$D$19,MATCH(A31,'FP - regional'!$A$10:$A$19,0),)","v":786339.04702814773},null,"Residential",null,null,{"$f":"INDEX(Tran!$I$23:$I$48,MATCH(G$29&G31,Tran!$C$23:$C$48,0),)","v":2.7937750939571553E-2},null,{"$f":"INDEX(Tran!$H$23:$H$48,MATCH(G$29&G31,Tran!$C$23:$C$48,0),)","v":3088888.5136318337}]
["Kapiti Coast district",null,{"$f":"INDEX('FP - regional'!$E$10:$E$18,MATCH(A32,'FP - regional'!$A$10:$A$19,0),)","v":6.9123376211411205E-3},null,{"$f":"INDEX('FP - regional'!$D$10:$D$19,MATCH(A32,'FP - regional'!$A$10:$A$19,0),)","v":1009859.9416891716},null,"Rural",null,null,{"$f":"INDEX(Tran!$I$23:$I$48,MATCH(G$29&G32,Tran!$C$23:$C$48,0),)","v":7.1266801439202731E-3},null,{"$f":"INDEX(Tran!$H$23:$H$48,MATCH(G$29&G32,Tran!$C$23:$C$48,0),)","v":145340.63827345235}]
["Masterton district",null,{"$f":"INDEX('FP - regional'!$E$10:$E$18,MATCH(A33,'FP - regional'!$A$10:$A$19,0),)","v":6.8590731591241733E-3},null,{"$f":"INDEX('FP - regional'!$D$10:$D$19,MATCH(A33,'FP - regional'!$A$10:$A$19,0),)","v":405334.73343503213},null,"Masterton district"]
["Carterton district",null,{"$f":"INDEX('FP - regional'!$E$10:$E$18,MATCH(A34,'FP - regional'!$A$10:$A$19,0),)","v":6.90134187525588E-3},null,{"$f":"INDEX('FP - regional'!$D$10:$D$19,MATCH(A34,'FP - regional'!$A$10:$A$19,0),)","v":186829.11066595578},null,"Business",null,null,{"$f":"INDEX(Tran!$I$23:$I$48,MATCH(G$33&G34,Tran!$C$23:$C$48,0),)","v":1.7246001653484475E-2},null,{"$f":"INDEX(Tran!$H$23:$H$48,MATCH(G$33&G34,Tran!$C$23:$C$48,0),)","v":75174.303693441281}]
["South Wairarapa district",null,{"$f":"INDEX('FP - regional'!$E$10:$E$18,MATCH(A35,'FP - regional'!$A$10:$A$19,0),)","v":6.9624597323345609E-3},null,{"$f":"INDEX('FP - regional'!$D$10:$D$19,MATCH(A35,'FP - regional'!$A$10:$A$19,0),)","v":310559.49287920241},null,"Residential",null,null,{"$f":"INDEX(Tran!$I$23:$I$48,MATCH(G$33&G35,Tran!$C$23:$C$48,0),)","v":1.1489562649756228E-2},null,{"$f":"INDEX(Tran!$H$23:$H$48,MATCH(G$33&G35,Tran!$C$23:$C$48,0),)","v":310881.2312248103}]
["Tararua district",null,{"$f":"INDEX('FP - regional'!$E$10:$E$18,MATCH(A36,'FP - regional'!$A$10:$A$19,0),)","v":4.5021718951596124E-3},null,{"$f":"INDEX('FP - regional'!$D$10:$D$19,MATCH(A36,'FP - regional'!$A$10:$A$19,0),)","v":484.45620677865014},null,"Rural",null,null,{"$f":"INDEX(Tran!$I$23:$I$48,MATCH(G$33&G36,Tran!$C$23:$C$48,0),)","v":4.5252287910935093E-3},null,{"$f":"INDEX(Tran!$H$23:$H$48,MATCH(G$33&G36,Tran!$C$23:$C$48,0),)","v":125249.42276197867}]
["Total flood protection - regional rate",null,null,null,{"$f":"SUM(E28:E36)","v":9735000.0000000019},null,"Carterton district"]
[null,null,null,null,null,null,"Business",null,null,{"$f":"INDEX(Tran!$I$23:$I$48,MATCH(G$37&G38,Tran!$C$23:$C$48,0),)","v":2.1932864565702866E-2},null,{"$f":"INDEX(Tran!$H$23:$H$48,MATCH(G$37&G38,Tran!$C$23:$C$48,0),)","v":20333.191088603326}]
[null,null,null,null,null,null,"Residential",null,null,{"$f":"INDEX(Tran!$I$23:$I$48,MATCH(G$37&G39,Tran!$C$23:$C$48,0),)","v":1.6140951777028269E-2},null,{"$f":"INDEX(Tran!$H$23:$H$48,MATCH(G$37&G39,Tran!$C$23:$C$48,0),)","v":133579.85364964273}]
["Targeted rate:\nFlood protection - catchment rates",null,{"$f":"+C8","v":"2018/19"},null,{"$f":"+E8","v":"2018/19"},null,"Rural",null,null,{"$f":"INDEX(Tran!$I$23:$I$48,MATCH(G$37&G40,Tran!$C$23:$C$48,0),)","v":5.6695133526914951E-3},null,{"$f":"INDEX(Tran!$H$23:$H$48,MATCH(G$37&G40,Tran!$C$23:$C$48,0),)","v":101305.80139380833}]
[null,null,{"$f":"+$C$9","v":"Cents per $ of rateable capital value"},null,{"$f":"+$E$9","v":"Revenue sought\n $"},null,"South Wairarapa district"]
[" based on capital value",null,null,null,null,null,"Business",null,null,{"$f":"INDEX(Tran!$I$23:$I$48,MATCH(G$41&G42,Tran!$C$23:$C$48,0),)","v":2.5482213284116508E-2},null,{"$f":"INDEX(Tran!$H$23:$H$48,MATCH(G$41&G42,Tran!$C$23:$C$48,0),)","v":52469.049333806957}]
[null,null,null,null,null,null,"Residential",null,null,{"$f":"INDEX(Tran!$I$23:$I$48,MATCH(G$41&G43,Tran!$C$23:$C$48,0),)","v":1.9639007673780712E-2},null,{"$f":"INDEX(Tran!$H$23:$H$48,MATCH(G$41&G43,Tran!$C$23:$C$48,0),)","v":254325.36540454463}]
["Wellington city",null,{"$f":"INDEX('FP - catchment'!$D$10:$D$18,MATCH(A44,'FP - catchment'!$A$10:$A$19,0),)","v":1.0478153446847623E-4},null,{"$f":"INDEX('FP - catchment'!$C$10:$C$19,MATCH(A44,'FP - catchment'!$A$10:$A$19,0),)","v":54042},null,"Rural",null,null,{"$f":"INDEX(Tran!$I$23:$I$48,MATCH(G$41&G44,Tran!$C$23:$C$48,0),)","v":6.507993104895974E-3},null,{"$f":"INDEX(Tran!$H$23:$H$48,MATCH(G$41&G44,Tran!$C$23:$C$48,0),)","v":192609.23630190783}]
["Hutt city",null,{"$f":"INDEX('FP - catchment'!$D$10:$D$18,MATCH(A45,'FP - catchment'!$A$10:$A$19,0),)","v":2.4250758913833693E-2},null,{"$f":"INDEX('FP - catchment'!$C$10:$C$19,MATCH(A45,'FP - catchment'!$A$10:$A$19,0),)","v":5167492},null,"Total public transport rate",null,null,null,null,{"$f":"SUM(L13:L44)","v":67273010.401963368}]
["Upper Hutt city",null,{"$f":"INDEX('FP - catchment'!$D$10:$D$18,MATCH(A46,'FP - catchment'!$A$10:$A$19,0),)","v":1.0844762163893327E-2},null,{"$f":"INDEX('FP - catchment'!$C$10:$C$19,MATCH(A46,'FP - catchment'!$A$10:$A$19,0),)","v":881402}]
["Porirua city",null,{"$f":"INDEX('FP - catchment'!$D$10:$D$18,MATCH(A47,'FP - catchment'!$A$10:$A$19,0),)","v":4.4260547297690834E-4},null,{"$f":"INDEX('FP - catchment'!$C$10:$C$19,MATCH(A47,'FP - catchment'!$A$10:$A$19,0),)","v":45121}]
["Kapiti Coast district",null,{"$f":"INDEX('FP - catchment'!$D$10:$D$18,MATCH(A48,'FP - catchment'!$A$10:$A$19,0),)","v":1.1087599363062268E-2},null,{"$f":"INDEX('FP - catchment'!$C$10:$C$19,MATCH(A48,'FP - catchment'!$A$10:$A$19,0),)","v":1619846}]
["Masterton District",null,{"$f":"INDEX('FP - catchment'!$D$10:$D$18,MATCH(A49,'FP - catchment'!$A$10:$A$19,0),)","v":4.596471289801383E-3},null,{"$f":"INDEX('FP - catchment'!$C$10:$C$19,MATCH(A49,'FP - catchment'!$A$10:$A$19,0),)","v":271627},null,"Targeted rate:\nWarm Greater Wellington\nBased on extent of service provided",null,null,{"$f":"year_current","v":"2018/19"},null,{"$f":"year_current","v":"2018/19"}]
["Carterton district",null,{"$f":"INDEX('FP - catchment'!$D$10:$D$18,MATCH(A50,'FP - catchment'!$A$10:$A$19,0),)","v":5.3426828251109714E-3},null,{"$f":"INDEX('FP - catchment'!$C$10:$C$19,MATCH(A50,'FP - catchment'!$A$10:$A$19,0),)","v":144634},null,null,null,null,"Percentage of service provided",null,"Revenue sought\n $"]
["South Wairarapa District",null,{"$f":"INDEX('FP - catchment'!$D$10:$D$18,MATCH(A51,'FP - catchment'!$A$10:$A$19,0),)","v":4.5269961992700659E-3},null,{"$f":"INDEX('FP - catchment'!$C$10:$C$19,MATCH(A51,'FP - catchment'!$A$10:$A$19,0),)","v":201926}]
["Total Flood protection - catchment rates",null,null,null,{"$f":"SUM(E44:E51)","v":8386090}]
[null,null,null,null,null,null,"For any ratepayer that utilises the service",null,null,0.15,null,{"$f":"INDEX(ESSbase!$G$8:$G$26,MATCH(\"Warm Greater Wellington Rate\",ESSbase!$B$8:$B$26,0),)","v":3237058}]
["Note:"]
["1 10 Rural properties in the Tararua District are within the boundaries of the Wellington region."]
["Note that all figures on this page exclude GST."]
[]
[]
[null,null,null,null,null,null,null,null,null,null,null,"Rates funding impact statement"]
[]
[]
[null,null,null,null,null,null,"Targeted rate:\nWellington Regional Strategy",null,"`",{"$f":"year_current","v":"2018/19"},null,{"$f":"year_current","v":"2018/19"}]
[null,null,null,null,null,null,null,null,"$ per rating  unit",{"$f":"+$C$9","v":"Cents per $ of rateable capital value"},null,"Revenue sought\n $"]
[]
[]
[null,null,null,null,null,null,"Wellington city"]
[null,null,null,null,null,null,"Regional CBD",null,null,{"$f":"INDEX(WRS!$K$23:$K$48,MATCH(G66&G67,WRS!$C$23:$C$48,0),)","v":1.1386054410215939E-2},null,{"$f":"INDEX(WRS!$J$23:$J$48,MATCH(G66&G67,WRS!$C$23:$C$48,0),)","v":890280.03489600425}]
[null,null,null,null,null,null,"Business",null,null,{"$f":"INDEX(WRS!$K$23:$K$48,MATCH(G66&G68,WRS!$C$23:$C$48,0),)","v":1.1386054410215941E-2},null,{"$f":"INDEX(WRS!$J$23:$J$48,MATCH(G66&G68,WRS!$C$23:$C$48,0),)","v":439828.07009794971}]
[null,null,null,null,null,null,"Residential – per rating unit",null,{"$f":"INDEX(WRS!$G$23:$G$48,MATCH(Impact!G66&Impact!N69,WRS!$C$23:$C$48,0),)","v":14},null,null,{"$f":"INDEX(WRS!$J$23:$J$48,MATCH(G66&N69,WRS!$C$23:$C$48,0),)","v":994630},null,"Residential"]
[null,null,null,null,null,null,"Rural – per rating unit",null,{"$f":"INDEX(WRS!$G$23:$G$48,MATCH(Impact!G66&Impact!N70,WRS!$C$23:$C$48,0),)","v":28},null,null,{"$f":"INDEX(WRS!$J$23:$J$48,MATCH(G66&N70,WRS!$C$23:$C$48,0),)","v":21812},null,"Rural"]
[null,null,null,null,null,null,"Hutt city"]
[null,null,null,null,null,null,"Business",null,null,{"$f":"INDEX(WRS!$K$23:$K$48,MATCH(G71&G72,WRS!$C$23:$C$48,0),)","v":9.6364403485804453E-3},null,{"$f":"INDEX(WRS!$J$23:$J$48,MATCH(G71&G72,WRS!$C$23:$C$48,0),)","v":363453.13968264661}]
[null,null,null,null,null,null,"Residential – per rating unit",null,{"$f":"INDEX(WRS!$G$23:$G$48,MATCH(Impact!G71&Impact!N73,WRS!$C$23:$C$48,0),)","v":14},null,null,{"$f":"INDEX(WRS!$J$23:$J$48,MATCH(G71&N73,WRS!$C$23:$C$48,0),)","v":506450},null,"Residential"]
[null,null,null,null,null,null,"Rural – per rating unit",null,{"$f":"INDEX(WRS!$G$23:$G$48,MATCH(Impact!G71&Impact!N74,WRS!$C$23:$C$48,0),)","v":28},null,null,{"$f":"INDEX(WRS!$J$23:$J$48,MATCH(G71&N74,WRS!$C$23:$C$48,0),)","v":13636},null,"Rural"]
[null,null,null,null,null,null,"Upper Hutt city"]
[null,null,null,null,null,null,"Business",null,null,{"$f":"INDEX(WRS!$K$23:$K$48,MATCH(G75&G76,WRS!$C$23:$C$48,0),)","v":9.6086074257548497E-3},null,{"$f":"INDEX(WRS!$J$23:$J$48,MATCH(G75&G76,WRS!$C$23:$C$48,0),)","v":113024.27155678054}]
[null,null,null,null,null,null,"Residential – per rating unit",null,{"$f":"INDEX(WRS!$G$23:$G$48,MATCH(Impact!G75&Impact!N77,WRS!$C$23:$C$48,0),)","v":14},null,null,{"$f":"INDEX(WRS!$J$23:$J$48,MATCH(G75&N77,WRS!$C$23:$C$48,0),)","v":206374},null,"Residential"]
[null,null,null,null,null,null,"Rural – per rating unit",null,{"$f":"INDEX(WRS!$G$23:$G$48,MATCH(Impact!G75&Impact!N78,WRS!$C$23:$C$48,0),)","v":28},null,null,{"$f":"INDEX(WRS!$J$23:$J$48,MATCH(G75&N78,WRS!$C$23:$C$48,0),)","v":32816},null,"Rural"]
[null,null,null,null,null,null,"Porirua city"]
[null,null,null,null,null,null,"Business",null,null,{"$f":"INDEX(WRS!$K$23:$K$48,MATCH(G79&G80,WRS!$C$23:$C$48,0),)","v":9.5456341300580311E-3},null,{"$f":"INDEX(WRS!$J$23:$J$48,MATCH(G79&G80,WRS!$C$23:$C$48,0),)","v":104738.56365681939}]
[null,null,null,null,null,null,"Residential – per rating unit",null,{"$f":"INDEX(WRS!$G$23:$G$48,MATCH(Impact!G79&Impact!N81,WRS!$C$23:$C$48,0),)","v":14},null,null,{"$f":"INDEX(WRS!$J$23:$J$48,MATCH(G79&N81,WRS!$C$23:$C$48,0),)","v":241136},null,"Residential"]
[null,null,null,null,null,null,"Rural – per rating unit",null,{"$f":"INDEX(WRS!$G$23:$G$48,MATCH(Impact!G79&Impact!N82,WRS!$C$23:$C$48,0),)","v":28},null,null,{"$f":"INDEX(WRS!$J$23:$J$48,MATCH(G79&N82,WRS!$C$23:$C$48,0),)","v":17080},null,"Rural"]
[null,null,null,null,null,null,"Kapiti Coast district"]
[null,null,null,null,null,null,"Business",null,null,{"$f":"INDEX(WRS!$K$23:$K$48,MATCH(G83&G84,WRS!$C$23:$C$48,0),)","v":8.5542476931301827E-3},null,{"$f":"INDEX(WRS!$J$23:$J$48,MATCH(G83&G84,WRS!$C$23:$C$48,0),)","v":129495.5702582356}]
[null,null,null,null,null,null,"Residential – per rating unit",null,{"$f":"INDEX(WRS!$G$23:$G$48,MATCH(Impact!G83&Impact!N85,WRS!$C$23:$C$48,0),)","v":14},null,null,{"$f":"INDEX(WRS!$J$23:$J$48,MATCH(G83&N85,WRS!$C$23:$C$48,0),)","v":286622},null,"Residential"]
[null,null,null,null,null,null,"Rural – per rating unit",null,{"$f":"INDEX(WRS!$G$23:$G$48,MATCH(Impact!G83&Impact!N86,WRS!$C$23:$C$48,0),)","v":28},null,null,{"$f":"INDEX(WRS!$J$23:$J$48,MATCH(G83&N86,WRS!$C$23:$C$48,0),)","v":73304},null,"Rural"]
[null,null,null,null,null,null,"Masterton district"]
[null,null,null,null,null,null,"Business",null,null,{"$f":"INDEX(WRS!$K$23:$K$48,MATCH(G87&G88,WRS!$C$23:$C$48,0),)","v":8.4883311499421403E-3},null,{"$f":"INDEX(WRS!$J$23:$J$48,MATCH(G87&G88,WRS!$C$23:$C$48,0),)","v":37000.134671059939}]
[null,null,null,null,null,null,"Residential – per rating unit",null,{"$f":"INDEX(WRS!$G$23:$G$48,MATCH(Impact!G87&Impact!N89,WRS!$C$23:$C$48,0),)","v":14},null,null,{"$f":"INDEX(WRS!$J$23:$J$48,MATCH(G87&N89,WRS!$C$23:$C$48,0),)","v":110096},null,"Residential"]
[null,null,null,null,null,null,"Rural – per rating unit",null,{"$f":"INDEX(WRS!$G$23:$G$48,MATCH(Impact!G87&Impact!N90,WRS!$C$23:$C$48,0),)","v":28},null,null,{"$f":"INDEX(WRS!$J$23:$J$48,MATCH(G87&N90,WRS!$C$23:$C$48,0),)","v":95564},null,"Rural"]
[null,null,null,null,null,null,"Carterton district"]
[null,null,null,null,null,null,"Business",null,null,{"$f":"INDEX(WRS!$K$23:$K$48,MATCH(G91&G92,WRS!$C$23:$C$48,0),)","v":8.5406400919063371E-3},null,{"$f":"INDEX(WRS!$J$23:$J$48,MATCH(G91&G92,WRS!$C$23:$C$48,0),)","v":7917.7285068031488}]
[null,null,null,null,null,null,"Residential – per rating unit",null,{"$f":"INDEX(WRS!$G$23:$G$48,MATCH(Impact!G91&Impact!N93,WRS!$C$23:$C$48,0),)","v":14},null,null,{"$f":"INDEX(WRS!$J$23:$J$48,MATCH(G91&N93,WRS!$C$23:$C$48,0),)","v":31836},null,"Residential"]
[null,null,null,null,null,null,"Rural – per rating unit",null,{"$f":"INDEX(WRS!$G$23:$G$48,MATCH(Impact!G91&Impact!N94,WRS!$C$23:$C$48,0),)","v":28},null,null,{"$f":"INDEX(WRS!$J$23:$J$48,MATCH(G91&N94,WRS!$C$23:$C$48,0),)","v":51576},null,"Rural"]
[null,null,null,null,null,null,"South Wairarapa district"]
[null,null,null,null,null,null,"Business",null,null,{"$f":"INDEX(WRS!$K$23:$K$48,MATCH(G95&G96,WRS!$C$23:$C$48,0),)","v":8.6162754726674499E-3},null,{"$f":"INDEX(WRS!$J$23:$J$48,MATCH(G95&G96,WRS!$C$23:$C$48,0),)","v":17741.307546894022}]
[null,null,null,null,null,null,"Residential – per rating unit",null,{"$f":"INDEX(WRS!$G$23:$G$48,MATCH(Impact!G95&Impact!N97,WRS!$C$23:$C$48,0),)","v":14},null,null,{"$f":"INDEX(WRS!$J$23:$J$48,MATCH(G95&N97,WRS!$C$23:$C$48,0),)","v":43722},null,"Residential"]
[null,null,null,null,null,null,"Rural – per rating unit",null,{"$f":"INDEX(WRS!$G$23:$G$48,MATCH(Impact!G95&Impact!N98,WRS!$C$23:$C$48,0),)","v":28},null,null,{"$f":"INDEX(WRS!$J$23:$J$48,MATCH(G95&N98,WRS!$C$23:$C$48,0),)","v":77476},null,"Rural"]
[null,null,null,null,null,null,"Tararua district  – per rating unit",null,{"$f":"INDEX(WRS!$G$23:$G$48,MATCH(N99,WRS!$C$23:$C$48,0),)","v":28},null,null,{"$f":"INDEX(WRS!$J$23:$J$48,MATCH(N99,WRS!$C$23:$C$48,0),)","v":252},null,"Tararua DistrictRural"]
[null,null,null,null,null,null,"Total Wellington regional strategy rate",null,null,null,null,{"$f":"SUM(L67:L99)","v":4907860.8208731944}]
[]
[null,null,null,null,null,null,"Note:"]
[null,null,null,null,null,null,"1 10 Rural properties in the Tararua District are within the boundaries of the Wellington region."]
[null,null,null,null,null,null,{"$f":"+$A$56","v":"Note that all figures on this page exclude GST."}]
[]
[]
[]
[null,null,null,null,null,null,null,null,null,null,null,"Rates funding impact statement"]
[]
[]
["Targeted rate:\nFlood protection - property  1",null,{"$f":"year_current","v":"2018/19"},null,{"$f":"year_current","v":"2018/19"},null,"Targeted rate: \nFlood protection - property  1",null,null,{"$f":"year_current","v":"2018/19"},null,{"$f":"year_current","v":"2018/19"}]
[null,null,"$ per hectare",null,"Revenue sought\n $",null,null,null,null,"$ per hectare",null,"Revenue sought\n $"]
[]
["Waingawa","A",{"$f":"INDEX('Class Rates'!$E$9:$E$139,MATCH(A114&B114,'Class Rates'!$M$9:$M$139,0),)","v":146.8098727324633},null,{"$f":"INDEX('Class Rates'!$F$9:$F$139,MATCH(A114&B114,'Class Rates'!$M$9:$M$139,0),)","v":4979.9523739451624},null,{"$f":"'Class Rates'!A42","v":"Waiohine Rural"},null,"A",{"$f":"INDEX('Class Rates'!$E$9:$E$139,MATCH(G114&I114,'Class Rates'!$M$9:$M$139,0),)","v":45.785193650716508},null,{"$f":"INDEX('Class Rates'!$F$9:$F$139,MATCH(G114&I114,'Class Rates'!$M$9:$M$139,0),)","v":5150.2116070719567}]
[{"$f":"A114","v":"Waingawa"},"B",{"$f":"INDEX('Class Rates'!$E$9:$E$139,MATCH(A115&B115,'Class Rates'!$M$9:$M$139,0),)","v":95.426417276101148},null,{"$f":"INDEX('Class Rates'!$F$9:$F$139,MATCH(A115&B115,'Class Rates'!$M$9:$M$139,0),)","v":12423.794288577074},null,{"$f":"G114","v":"Waiohine Rural"},null,"B",{"$f":"INDEX('Class Rates'!$E$9:$E$139,MATCH(G115&I115,'Class Rates'!$M$9:$M$139,0),)","v":38.154328042263757},null,{"$f":"INDEX('Class Rates'!$F$9:$F$139,MATCH(G115&I115,'Class Rates'!$M$9:$M$139,0),)","v":14613.989005164794}]
["Waingawa","C",{"$f":"INDEX('Class Rates'!$E$9:$E$139,MATCH(A116&B116,'Class Rates'!$M$9:$M$139,0),)","v":73.404936366231652},null,{"$f":"INDEX('Class Rates'!$F$9:$F$139,MATCH(A116&B116,'Class Rates'!$M$9:$M$139,0),)","v":8381.0012691208594},null,{"$f":"G115","v":"Waiohine Rural"},null,"C",{"$f":"INDEX('Class Rates'!$E$9:$E$139,MATCH(G116&I116,'Class Rates'!$M$9:$M$139,0),)","v":30.523462433811005},null,{"$f":"INDEX('Class Rates'!$F$9:$F$139,MATCH(G116&I116,'Class Rates'!$M$9:$M$139,0),)","v":39000.598089160994}]
["Waingawa","D",{"$f":"INDEX('Class Rates'!$E$9:$E$139,MATCH(A117&B117,'Class Rates'!$M$9:$M$139,0),)","v":66.064442729608487},null,{"$f":"INDEX('Class Rates'!$F$9:$F$139,MATCH(A117&B117,'Class Rates'!$M$9:$M$139,0),)","v":153.95657733707961},null,"Waiohine Rural",null,"D",{"$f":"INDEX('Class Rates'!$E$9:$E$139,MATCH(G117&I117,'Class Rates'!$M$9:$M$139,0),)","v":22.892596825358254},null,{"$f":"INDEX('Class Rates'!$F$9:$F$139,MATCH(G117&I117,'Class Rates'!$M$9:$M$139,0),)","v":8505.1079362701148}]
["Waingawa","E",{"$f":"INDEX('Class Rates'!$E$9:$E$139,MATCH(A118&B118,'Class Rates'!$M$9:$M$139,0),)","v":58.723949092985322},null,{"$f":"INDEX('Class Rates'!$F$9:$F$139,MATCH(A118&B118,'Class Rates'!$M$9:$M$139,0),)","v":9854.2603634720381},null,"Waiohine Rural",null,"E",{"$f":"INDEX('Class Rates'!$E$9:$E$139,MATCH(G118&I118,'Class Rates'!$M$9:$M$139,0),)","v":15.261731216905503},null,{"$f":"INDEX('Class Rates'!$F$9:$F$139,MATCH(G118&I118,'Class Rates'!$M$9:$M$139,0),)","v":12230.313171877911}]
["Waingawa","F",{"$f":"INDEX('Class Rates'!$E$9:$E$139,MATCH(A119&B119,'Class Rates'!$M$9:$M$139,0),)","v":51.383455456362157},null,{"$f":"INDEX('Class Rates'!$F$9:$F$139,MATCH(A119&B119,'Class Rates'!$M$9:$M$139,0),)","v":1333.7500765897012},null,"Waiohine Rural",null,"S",{"$f":"INDEX('Class Rates'!$E$9:$E$139,MATCH(G119&I119,'Class Rates'!$M$9:$M$139,0),)","v":763.08656084527513},null,{"$f":"INDEX('Class Rates'!$F$9:$F$139,MATCH(G119&I119,'Class Rates'!$M$9:$M$139,0),)","v":13048.780190454185}]
["Waingawa","G",{"$f":"INDEX('Class Rates'!$E$9:$E$139,MATCH(A120&B120,'Class Rates'!$M$9:$M$139,0),)","v":22.021480909869496},null,{"$f":"INDEX('Class Rates'!$F$9:$F$139,MATCH(A120&B120,'Class Rates'!$M$9:$M$139,0),)","v":1030.1343992341158},null,null,null,null,null,null,{"$f":"SUM(L114:L119)","v":92548.999999999971}]
["Waingawa","H",{"$f":"INDEX('Class Rates'!$E$9:$E$139,MATCH(A121&B121,'Class Rates'!$M$9:$M$139,0),)","v":14.68098727324633},null,{"$f":"INDEX('Class Rates'!$F$9:$F$139,MATCH(A121&B121,'Class Rates'!$M$9:$M$139,0),)","v":2478.1506517239814},null,{"$f":"'Class Rates'!A48","v":"Mangatarere"},null,"A",{"$f":"INDEX('Class Rates'!$E$9:$E$139,MATCH(G121&I121,'Class Rates'!$M$9:$M$139,0),)","v":34.614077181897954},null,{"$f":"INDEX('Class Rates'!$F$9:$F$139,MATCH(G121&I121,'Class Rates'!$M$9:$M$139,0),)","v":742.71425409198446}]
[null,null,null,null,{"$f":"SUM(E114:E121)","v":40635.000000000015},null,{"$f":"G121","v":"Mangatarere"},null,"B",{"$f":"INDEX('Class Rates'!$E$9:$E$139,MATCH(G122&I122,'Class Rates'!$M$9:$M$139,0),)","v":33.109117304424132},null,{"$f":"INDEX('Class Rates'!$F$9:$F$139,MATCH(G122&I122,'Class Rates'!$M$9:$M$139,0),)","v":6937.9758002013114}]
["Upper Ruamahanga","A",{"$f":"INDEX('Class Rates'!$E$9:$E$139,MATCH(A123&B123,'Class Rates'!$M$9:$M$139,0),)","v":132.77572476680345},null,{"$f":"INDEX('Class Rates'!$F$9:$F$139,MATCH(A123&B123,'Class Rates'!$M$9:$M$139,0),)","v":11819.576546679356},null,"Mangatarere",null,"C",{"$f":"INDEX('Class Rates'!$E$9:$E$139,MATCH(G123&I123,'Class Rates'!$M$9:$M$139,0),)","v":28.056752001476291},null,{"$f":"INDEX('Class Rates'!$F$9:$F$139,MATCH(G123&I123,'Class Rates'!$M$9:$M$139,0),)","v":442.41008826007874}]
[{"$f":"A123","v":"Upper Ruamahanga"},"B",{"$f":"INDEX('Class Rates'!$E$9:$E$139,MATCH(A124&B124,'Class Rates'!$M$9:$M$139,0),)","v":110.64643730566955},null,{"$f":"INDEX('Class Rates'!$F$9:$F$139,MATCH(A124&B124,'Class Rates'!$M$9:$M$139,0),)","v":729.50671087960427},null,"Mangatarere",null,"D",{"$f":"INDEX('Class Rates'!$E$9:$E$139,MATCH(G124&I124,'Class Rates'!$M$9:$M$139,0),)","v":24.831837978318099},null,{"$f":"INDEX('Class Rates'!$F$9:$F$139,MATCH(G124&I124,'Class Rates'!$M$9:$M$139,0),)","v":1783.8993748919897}]
["Upper Ruamahanga","C",{"$f":"INDEX('Class Rates'!$E$9:$E$139,MATCH(A125&B125,'Class Rates'!$M$9:$M$139,0),)","v":88.517149844535638},null,{"$f":"INDEX('Class Rates'!$F$9:$F$139,MATCH(A125&B125,'Class Rates'!$M$9:$M$139,0),)","v":11043.781131309606},null,null,null,null,null,null,{"$f":"SUM(L121:L124)","v":9906.9995174453652}]
["Upper Ruamahanga","D",{"$f":"INDEX('Class Rates'!$E$9:$E$139,MATCH(A126&B126,'Class Rates'!$M$9:$M$139,0),)","v":66.387862383401725},null,{"$f":"INDEX('Class Rates'!$F$9:$F$139,MATCH(A126&B126,'Class Rates'!$M$9:$M$139,0),)","v":1169.435473456098},null,{"$f":"'Class Rates'!A52","v":"Waipoua"},null,"A",{"$f":"INDEX('Class Rates'!$E$9:$E$139,MATCH(G126&I126,'Class Rates'!$M$9:$M$139,0),)","v":111.47839521806316},null,{"$f":"INDEX('Class Rates'!$F$9:$F$139,MATCH(G126&I126,'Class Rates'!$M$9:$M$139,0),)","v":9754.1812161481757}]
["Upper Ruamahanga","E",{"$f":"INDEX('Class Rates'!$E$9:$E$139,MATCH(A127&B127,'Class Rates'!$M$9:$M$139,0),)","v":44.258574922267819},null,{"$f":"INDEX('Class Rates'!$F$9:$F$139,MATCH(A127&B127,'Class Rates'!$M$9:$M$139,0),)","v":13130.681138894855},null,{"$f":"G126","v":"Waipoua"},null,"B",{"$f":"INDEX('Class Rates'!$E$9:$E$139,MATCH(G127&I127,'Class Rates'!$M$9:$M$139,0),)","v":89.182716174450519},null,{"$f":"INDEX('Class Rates'!$F$9:$F$139,MATCH(G127&I127,'Class Rates'!$M$9:$M$139,0),)","v":26784.191639043016}]
["Upper Ruamahanga","F",{"$f":"INDEX('Class Rates'!$E$9:$E$139,MATCH(A128&B128,'Class Rates'!$M$9:$M$139,0),)","v":22.129287461133909},null,{"$f":"INDEX('Class Rates'!$F$9:$F$139,MATCH(A128&B128,'Class Rates'!$M$9:$M$139,0),)","v":872.40436925265033},null,"Waipoua",null,"C",{"$f":"INDEX('Class Rates'!$E$9:$E$139,MATCH(G128&I128,'Class Rates'!$M$9:$M$139,0),)","v":66.887037130837882},null,{"$f":"INDEX('Class Rates'!$F$9:$F$139,MATCH(G128&I128,'Class Rates'!$M$9:$M$139,0),)","v":1501.7276915504331}]
["Upper Ruamahanga","S",{"$f":"INDEX('Class Rates'!$E$9:$E$139,MATCH(A129&B129,'Class Rates'!$M$9:$M$139,0),)","v":1246.7748575107094},null,{"$f":"INDEX('Class Rates'!$F$9:$F$139,MATCH(A129&B129,'Class Rates'!$M$9:$M$139,0),)","v":3241.6146295278454},null,"Waipoua",null,"D",{"$f":"INDEX('Class Rates'!$E$9:$E$139,MATCH(G129&I129,'Class Rates'!$M$9:$M$139,0),)","v":44.59135808722526},null,{"$f":"INDEX('Class Rates'!$F$9:$F$139,MATCH(G129&I129,'Class Rates'!$M$9:$M$139,0),)","v":13253.916119080815}]
[null,null,null,null,{"$f":"SUM(E123:E129)","v":42007.000000000022},null,"Waipoua",null,"SA",{"$f":"INDEX('Class Rates'!$E$9:$E$139,MATCH(G130&I130,'Class Rates'!$M$9:$M$139,0),)","v":3767.9697583705342},null,{"$f":"INDEX('Class Rates'!$F$9:$F$139,MATCH(G130&I130,'Class Rates'!$M$9:$M$139,0),)","v":376.79697583705342}]
["Middle Ruamahanga","A",{"$f":"INDEX('Class Rates'!$E$9:$E$139,MATCH(A131&B131,'Class Rates'!$M$9:$M$139,0),)","v":130.9622033006674},null,{"$f":"INDEX('Class Rates'!$F$9:$F$139,MATCH(A131&B131,'Class Rates'!$M$9:$M$139,0),)","v":5283.1667484972813},null,"Waipoua",null,"SC",{"$f":"INDEX('Class Rates'!$E$9:$E$139,MATCH(G131&I131,'Class Rates'!$M$9:$M$139,0),)","v":2251.8635834048755},null,{"$f":"INDEX('Class Rates'!$F$9:$F$139,MATCH(G131&I131,'Class Rates'!$M$9:$M$139,0),)","v":225.18635834048757}]
[{"$f":"A131","v":"Middle Ruamahanga"},"B",{"$f":"INDEX('Class Rates'!$E$9:$E$139,MATCH(A132&B132,'Class Rates'!$M$9:$M$139,0),)","v":109.13516941722281},null,{"$f":"INDEX('Class Rates'!$F$9:$F$139,MATCH(A132&B132,'Class Rates'!$M$9:$M$139,0),)","v":5956.5527318534587},null,null,null,null,null,null,{"$f":"SUM(L126:L131)","v":51895.999999999978}]
["Middle Ruamahanga","C",{"$f":"INDEX('Class Rates'!$E$9:$E$139,MATCH(A133&B133,'Class Rates'!$M$9:$M$139,0),)","v":87.308135533778255},null,{"$f":"INDEX('Class Rates'!$F$9:$F$139,MATCH(A133&B133,'Class Rates'!$M$9:$M$139,0),)","v":446.43268942486833}]
["Middle Ruamahanga","D",{"$f":"INDEX('Class Rates'!$E$9:$E$139,MATCH(A134&B134,'Class Rates'!$M$9:$M$139,0),)","v":65.481101650333699},null,{"$f":"INDEX('Class Rates'!$F$9:$F$139,MATCH(A134&B134,'Class Rates'!$M$9:$M$139,0),)","v":7412.9898756430821}]
["Middle Ruamahanga","E",{"$f":"INDEX('Class Rates'!$E$9:$E$139,MATCH(A135&B135,'Class Rates'!$M$9:$M$139,0),)","v":43.654067766889128},null,{"$f":"INDEX('Class Rates'!$F$9:$F$139,MATCH(A135&B135,'Class Rates'!$M$9:$M$139,0),)","v":1316.3534902563281}]
["Middle Ruamahanga","F",{"$f":"INDEX('Class Rates'!$E$9:$E$139,MATCH(A136&B136,'Class Rates'!$M$9:$M$139,0),)","v":21.827033883444564},null,{"$f":"INDEX('Class Rates'!$F$9:$F$139,MATCH(A136&B136,'Class Rates'!$M$9:$M$139,0),)","v":6452.9734893659961}]
["Middle Ruamahanga","S",{"$f":"INDEX('Class Rates'!$E$9:$E$139,MATCH(A137&B137,'Class Rates'!$M$9:$M$139,0),)","v":1320.729035694756},null,{"$f":"INDEX('Class Rates'!$F$9:$F$139,MATCH(A137&B137,'Class Rates'!$M$9:$M$139,0),)","v":2773.5309749589878}]
[null,null,null,null,{"$f":"SUM(E131:E137)","v":29642.000000000004}]
["Lower Ruamahanga","A",{"$f":"INDEX('Class Rates'!$E$9:$E$139,MATCH(A139&B139,'Class Rates'!$M$9:$M$139,0),)","v":63.010582513684838},null,{"$f":"INDEX('Class Rates'!$F$9:$F$139,MATCH(A139&B139,'Class Rates'!$M$9:$M$139,0),)","v":7906.1665794171458}]
[{"$f":"A139","v":"Lower Ruamahanga"},"B",{"$f":"INDEX('Class Rates'!$E$9:$E$139,MATCH(A140&B140,'Class Rates'!$M$9:$M$139,0),)","v":54.009070726015572},null,{"$f":"INDEX('Class Rates'!$F$9:$F$139,MATCH(A140&B140,'Class Rates'!$M$9:$M$139,0),)","v":2907.3676871592165}]
["Lower Ruamahanga","C",{"$f":"INDEX('Class Rates'!$E$9:$E$139,MATCH(A141&B141,'Class Rates'!$M$9:$M$139,0),)","v":45.007558938346307},null,{"$f":"INDEX('Class Rates'!$F$9:$F$139,MATCH(A141&B141,'Class Rates'!$M$9:$M$139,0),)","v":10080.649026822206}]
["Lower Ruamahanga","D",{"$f":"INDEX('Class Rates'!$E$9:$E$139,MATCH(A142&B142,'Class Rates'!$M$9:$M$139,0),)","v":36.006047150677048},null,{"$f":"INDEX('Class Rates'!$F$9:$F$139,MATCH(A142&B142,'Class Rates'!$M$9:$M$139,0),)","v":11468.354489451733}]
["Lower Ruamahanga","E",{"$f":"INDEX('Class Rates'!$E$9:$E$139,MATCH(A143&B143,'Class Rates'!$M$9:$M$139,0),)","v":27.004535363007786},null,{"$f":"INDEX('Class Rates'!$F$9:$F$139,MATCH(A143&B143,'Class Rates'!$M$9:$M$139,0),)","v":8736.6138675413567}]
["Lower Ruamahanga","F",{"$f":"INDEX('Class Rates'!$E$9:$E$139,MATCH(A144&B144,'Class Rates'!$M$9:$M$139,0),)","v":18.003023575338524},null,{"$f":"INDEX('Class Rates'!$F$9:$F$139,MATCH(A144&B144,'Class Rates'!$M$9:$M$139,0),)","v":22040.946937284196}]
["Lower Ruamahanga","SA",{"$f":"INDEX('Class Rates'!$E$9:$E$139,MATCH(A145&B145,'Class Rates'!$M$9:$M$139,0),)","v":1579.9713699813096},null,{"$f":"INDEX('Class Rates'!$F$9:$F$139,MATCH(A145&B145,'Class Rates'!$M$9:$M$139,0),)","v":4107.925561951407}]
["Lower Ruamahanga","SB",{"$f":"INDEX('Class Rates'!$E$9:$E$139,MATCH(A146&B146,'Class Rates'!$M$9:$M$139,0),)","v":789.98579433688678},null,{"$f":"INDEX('Class Rates'!$F$9:$F$139,MATCH(A146&B146,'Class Rates'!$M$9:$M$139,0),)","v":1342.9758503727078}]
[null,null,null,null,{"$f":"SUM(E139:E146)","v":68590.999999999956}]
[]
[{"$f":"+G104","v":"Note that all figures on this page exclude GST."}]
[]
[]
[]
[null,null,null,null,null,null,null,null,null,null,null,"Rates funding impact statement"]
[]
[]
["Targeted rate:\nFlood protection - property  1",null,{"$f":"year_current","v":"2018/19"},null,{"$f":"year_current","v":"2018/19"},null,"Targeted rate: \nFlood protection - property  2",null,{"$f":"year_current","v":"2018/19"},{"$f":"year_current","v":"2018/19"},null,{"$f":"year_current","v":"2018/19"}]
[null,null,{"$f":"+$C$112","v":"$ per hectare"},null,"Revenue sought\n $",null,null,null,"$ per \ndwelling","$ per point",null,"Revenue sought\n $"]
[]
["Kopuaranga","A2",{"$f":"INDEX('Class Rates'!$E$9:$E$139,MATCH(A159&B159,'Class Rates'!$M$9:$M$139,0),)","v":125.44153186733357},null,{"$f":"INDEX('Class Rates'!$F$9:$F$139,MATCH(A159&B159,'Class Rates'!$M$9:$M$139,0),)","v":3268.2536712715087},null,"Lower Wairarapa valley Development Scheme","A",null,{"$f":"INDEX('Class Rates'!$E$9:$E$139,MATCH(G159&H159,'Class Rates'!$M$9:$M$139,0),)","v":0.2341872774},null,{"$f":"INDEX('Class Rates'!$F$9:$F$139,MATCH(G159&H159,'Class Rates'!$M$9:$M$139,0),)","v":676524.10774034355}]
[{"$f":"A159","v":"Kopuaranga"},"A3",{"$f":"INDEX('Class Rates'!$E$9:$E$139,MATCH(A160&B160,'Class Rates'!$M$9:$M$139,0),)","v":112.89737868060021},null,{"$f":"INDEX('Class Rates'!$F$9:$F$139,MATCH(A160&B160,'Class Rates'!$M$9:$M$139,0),)","v":7779.0245319187379},null,null,"Sa",{"$f":"INDEX('Class Rates'!$E$9:$E$139,MATCH(G159&H160,'Class Rates'!$M$9:$M$139,0),)","v":18.802472939999998},null,null,{"$f":"INDEX('Class Rates'!$F$9:$F$139,MATCH(G159&H160,'Class Rates'!$M$9:$M$139,0),)","v":7840.6312159799991}]
["Kopuaranga","A4",{"$f":"INDEX('Class Rates'!$E$9:$E$139,MATCH(A161&B161,'Class Rates'!$M$9:$M$139,0),)","v":62.720765933666783},null,{"$f":"INDEX('Class Rates'!$F$9:$F$139,MATCH(A161&B161,'Class Rates'!$M$9:$M$139,0),)","v":707.78502733164953},null,{"$f":"G159","v":"Lower Wairarapa valley Development Scheme"},"Sb",{"$f":"INDEX('Class Rates'!$E$9:$E$139,MATCH(G161&H161,'Class Rates'!$M$9:$M$139,0),)","v":37.6193034},null,null,{"$f":"INDEX('Class Rates'!$F$9:$F$139,MATCH(G161&H161,'Class Rates'!$M$9:$M$139,0),)","v":85094.864290800004}]
["Kopuaranga","A5",{"$f":"INDEX('Class Rates'!$E$9:$E$139,MATCH(A162&B162,'Class Rates'!$M$9:$M$139,0),)","v":43.904536153566752},null,{"$f":"INDEX('Class Rates'!$F$9:$F$139,MATCH(A162&B162,'Class Rates'!$M$9:$M$139,0),)","v":2534.3454449284873},null,"Total Flood protection - property  2",null,null,null,null,{"$f":"SUM(L159:L161)","v":769459.60324712354}]
["Kopuaranga","A6",{"$f":"INDEX('Class Rates'!$E$9:$E$139,MATCH(A163&B163,'Class Rates'!$M$9:$M$139,0),)","v":25.088306373466715},null,{"$f":"INDEX('Class Rates'!$F$9:$F$139,MATCH(A163&B163,'Class Rates'!$M$9:$M$139,0),)","v":2035.4393843857281}]
["Kopuaranga","B2",{"$f":"INDEX('Class Rates'!$E$9:$E$139,MATCH(A164&B164,'Class Rates'!$M$9:$M$139,0),)","v":25.088306373466715},null,{"$f":"INDEX('Class Rates'!$F$9:$F$139,MATCH(A164&B164,'Class Rates'!$M$9:$M$139,0),)","v":1537.3386584775571}]
["Kopuaranga","B3",{"$f":"INDEX('Class Rates'!$E$9:$E$139,MATCH(A165&B165,'Class Rates'!$M$9:$M$139,0),)","v":22.579475736120045},null,{"$f":"INDEX('Class Rates'!$F$9:$F$139,MATCH(A165&B165,'Class Rates'!$M$9:$M$139,0),)","v":1658.2660513791132},null,"Targeted rate: ",null,null,{"$f":"year_current","v":"2018/19"},null,{"$f":"year_current","v":"2018/19"}]
["Kopuaranga","B4",{"$f":"INDEX('Class Rates'!$E$9:$E$139,MATCH(A166&B166,'Class Rates'!$M$9:$M$139,0),)","v":12.544153186733357},null,{"$f":"INDEX('Class Rates'!$F$9:$F$139,MATCH(A166&B166,'Class Rates'!$M$9:$M$139,0),)","v":116.39970625033617},null,"Flood protection - property  3",null,null,"Cents per $ of rateable land value",null,"Revenue sought\n $"]
["Kopuaranga","B5",{"$f":"INDEX('Class Rates'!$E$9:$E$139,MATCH(A167&B167,'Class Rates'!$M$9:$M$139,0),)","v":8.7809072307133498},null,{"$f":"INDEX('Class Rates'!$F$9:$F$139,MATCH(A167&B167,'Class Rates'!$M$9:$M$139,0),)","v":272.81400675103311}]
["Kopuaranga","B6",{"$f":"INDEX('Class Rates'!$E$9:$E$139,MATCH(A168&B168,'Class Rates'!$M$9:$M$139,0),)","v":5.0176612746933431},null,{"$f":"INDEX('Class Rates'!$F$9:$F$139,MATCH(A168&B168,'Class Rates'!$M$9:$M$139,0),)","v":603.44451730584763}]
["Kopuaranga","SA",{"$f":"INDEX('Class Rates'!$E$9:$E$139,MATCH(A169&B169,'Class Rates'!$M$9:$M$139,0),)","v":153.57419999999999},null,{"$f":"INDEX('Class Rates'!$F$9:$F$139,MATCH(A169&B169,'Class Rates'!$M$9:$M$139,0),)","v":767.87099999999998},null,"Greytown ward",null,null,{"$f":"'FP - catchment'!D29","v":1.2521342659613331E-2},null,{"$f":"'FP - catchment'!C29","v":92549}]
["Kopuaranga","SB",{"$f":"INDEX('Class Rates'!$E$9:$E$139,MATCH(A170&B170,'Class Rates'!$M$9:$M$139,0),)","v":76.787000000000006},null,{"$f":"INDEX('Class Rates'!$F$9:$F$139,MATCH(A170&B170,'Class Rates'!$M$9:$M$139,0),)","v":1075.018},null,"Total Flood protection - property  3",null,null,null,null,{"$f":"L169","v":92549}]
[null,null,null,null,{"$f":"SUM(E159:E170)","v":22355.999999999996}]
["Lower Taueru","A",{"$f":"INDEX('Class Rates'!$E$9:$E$139,MATCH(A172&B172,'Class Rates'!$M$9:$M$139,0),)","v":4.0587685087116778},null,{"$f":"INDEX('Class Rates'!$F$9:$F$139,MATCH(A172&B172,'Class Rates'!$M$9:$M$139,0),)","v":1653.6785433079754}]
[{"$f":"A172","v":"Lower Taueru"},"B",{"$f":"INDEX('Class Rates'!$E$9:$E$139,MATCH(A173&B173,'Class Rates'!$M$9:$M$139,0),)","v":0.81175370174233563},null,{"$f":"INDEX('Class Rates'!$F$9:$F$139,MATCH(A173&B173,'Class Rates'!$M$9:$M$139,0),)","v":228.94946066506537},null,"Targeted rate: ",null,null,{"$f":"year_current","v":"2018/19"},null,{"$f":"year_current","v":"2018/19"}]
["Lower Taueru","C",{"$f":"INDEX('Class Rates'!$E$9:$E$139,MATCH(A174&B174,'Class Rates'!$M$9:$M$139,0),)","v":0.40587685087116782},null,{"$f":"INDEX('Class Rates'!$F$9:$F$139,MATCH(A174&B174,'Class Rates'!$M$9:$M$139,0),)","v":72.311466215743224},null,"Flood protection - property  4",null,null,"Cents per $ of rateable land value",null,"Revenue sought\n $"]
["Lower Taueru","S",{"$f":"INDEX('Class Rates'!$E$9:$E$139,MATCH(A175&B175,'Class Rates'!$M$9:$M$139,0),)","v":202.93842543558389},null,{"$f":"INDEX('Class Rates'!$F$9:$F$139,MATCH(A175&B175,'Class Rates'!$M$9:$M$139,0),)","v":308.06052981121627}]
[null,null,null,null,{"$f":"SUM(E172:E175)","v":2263}]
["Lower Whangaehu","A",{"$f":"INDEX('Class Rates'!$E$9:$E$139,MATCH(A177&B177,'Class Rates'!$M$9:$M$139,0),)","v":21.623069428869243},null,{"$f":"INDEX('Class Rates'!$F$9:$F$139,MATCH(A177&B177,'Class Rates'!$M$9:$M$139,0),)","v":721.99645053688687}]
[{"$f":"A177","v":"Lower Whangaehu"},"B",{"$f":"INDEX('Class Rates'!$E$9:$E$139,MATCH(A178&B178,'Class Rates'!$M$9:$M$139,0),)","v":17.298455543095393},null,{"$f":"INDEX('Class Rates'!$F$9:$F$139,MATCH(A178&B178,'Class Rates'!$M$9:$M$139,0),)","v":1125.8353821112773},null,"Featherston urban: Donalds Creek Stopbank",null,null,{"$f":"'FP - catchment'!D30","v":1.6120729778964142E-3},null,{"$f":"'FP - catchment'!C30","v":2615}]
["Lower Whangaehu","C",{"$f":"INDEX('Class Rates'!$E$9:$E$139,MATCH(A179&B179,'Class Rates'!$M$9:$M$139,0),)","v":12.973841657321547},null,{"$f":"INDEX('Class Rates'!$F$9:$F$139,MATCH(A179&B179,'Class Rates'!$M$9:$M$139,0),)","v":705.83666582991577},null,"Total Flood protection - property  4",null,null,null,null,{"$f":"+L178+L177","v":2615}]
["Lower Whangaehu","D",{"$f":"INDEX('Class Rates'!$E$9:$E$139,MATCH(A180&B180,'Class Rates'!$M$9:$M$139,0),)","v":8.6492277715476966},null,{"$f":"INDEX('Class Rates'!$F$9:$F$139,MATCH(A180&B180,'Class Rates'!$M$9:$M$139,0),)","v":662.2609913940812}]
["Lower Whangaehu","E",{"$f":"INDEX('Class Rates'!$E$9:$E$139,MATCH(A181&B181,'Class Rates'!$M$9:$M$139,0),)","v":4.3246138857738483},null,{"$f":"INDEX('Class Rates'!$F$9:$F$139,MATCH(A181&B181,'Class Rates'!$M$9:$M$139,0),)","v":753.53110253056116},null,"Total Flood protection - property   rates",null,null,null,null,{"$f":"+E186+L162+L170+L179","v":1228583.6027645688}]
["Lower Whangaehu","S",{"$f":"INDEX('Class Rates'!$E$9:$E$139,MATCH(A182&B182,'Class Rates'!$M$9:$M$139,0),)","v":108.11534714434622},null,{"$f":"INDEX('Class Rates'!$F$9:$F$139,MATCH(A182&B182,'Class Rates'!$M$9:$M$139,0),)","v":144.53940759727647}]
[null,null,null,null,{"$f":"SUM(E177:E182)","v":4113.9999999999982}]
[]
[]
["Total Flood protection - property  1",null,null,null,{"$f":"+E183+E176+L132+L125+L120+E147+E138+E130+E122+E171","v":363959.99951744528}]
[]
[]
["1  \"Separately used or inhabited part\" (dwelling) includes any part of a rating unit separately used or inhabited by the owner or any other person who has the right to use or inhabit that part by virtue of a tenancy, lease, licence or other agreement. At a minimum, the land or premises intended to form the separately used or inhabited part of the rating unit must be capable of actual habitation, or actual separate use. To avoid doubt, a rating unit that has only one use (ie, it does not have separate parts or is vacant land) is treated as being one separately used or inhabited part (dwelling)."]
[]
[{"$f":"+A149","v":"Note that all figures on this page exclude GST."}]
[]
[null,null,null,null,null,null,null,null,null,null,null,"Rates funding impact statement"]
[]
["Targeted rate:\nCatchment schemes 1",null,{"$f":"year_current","v":"2018/19"},null,{"$f":"year_current","v":"2018/19"},null,"Targeted rate:\nCatchment schemes 2",null,null,{"$f":"year_current","v":"2018/19"},null,{"$f":"year_current","v":"2018/19"}]
[null,null,{"$f":"+$C$157","v":"$ per hectare"},null,"Revenue sought\n $",null,null,null,null,"Cents per $ of rateable land value",null,"Revenue sought\n $"]
[]
["Whareama","A",{"$f":"INDEX('Class Rates'!$E$9:$E$139,MATCH(A198&B198,'Class Rates'!$M$9:$M$139,0),)","v":4.0778275340653458},null,{"$f":"INDEX('Class Rates'!$F$9:$F$139,MATCH(A198&B198,'Class Rates'!$M$9:$M$139,0),)","v":2917.2208799898121},null,"Awhea-Opouawe","Land value",null,{"$f":"'Class Rates'!G147","v":0},null,{"$f":"'Class Rates'!H147","v":8945}]
[{"$f":"A198","v":"Whareama"},"B",{"$f":"INDEX('Class Rates'!$E$9:$E$139,MATCH(A199&B199,'Class Rates'!$M$9:$M$139,0),)","v":1.5683952054097485},null,{"$f":"INDEX('Class Rates'!$F$9:$F$139,MATCH(A199&B199,'Class Rates'!$M$9:$M$139,0),)","v":1493.9982850228998},null,"Mataikona-Whakataki","Land value within scheme area",null,{"$f":"'Class Rates'!G151","v":0},null,{"$f":"'Class Rates'!H151","v":2754}]
["Whareama","C",{"$f":"INDEX('Class Rates'!$E$9:$E$139,MATCH(A200&B200,'Class Rates'!$M$9:$M$139,0),)","v":0.27446916094670598},null,{"$f":"INDEX('Class Rates'!$F$9:$F$139,MATCH(A200&B200,'Class Rates'!$M$9:$M$139,0),)","v":12508.964954632014},null,"Catchment management scheme 2 rates",null,null,null,null,{"$f":"+L198+L199","v":11699}]
["Whareama","D",{"$f":"INDEX('Class Rates'!$E$9:$E$139,MATCH(A201&B201,'Class Rates'!$M$9:$M$139,0),)","v":0.23525928081146227},null,{"$f":"INDEX('Class Rates'!$F$9:$F$139,MATCH(A201&B201,'Class Rates'!$M$9:$M$139,0),)","v":0}]
["Whareama","E",{"$f":"INDEX('Class Rates'!$E$9:$E$139,MATCH(A202&B202,'Class Rates'!$M$9:$M$139,0),)","v":0.19604940067621857},null,{"$f":"INDEX('Class Rates'!$F$9:$F$139,MATCH(A202&B202,'Class Rates'!$M$9:$M$139,0),)","v":3.0196508939154563},null,"Targeted rate:\nCatchment schemes 3",null,null,{"$f":"+J195","v":"2018/19"},null,{"$f":"+L195","v":"2018/19"}]
["Whareama","F",{"$f":"INDEX('Class Rates'!$E$9:$E$139,MATCH(A203&B203,'Class Rates'!$M$9:$M$139,0),)","v":0.15683952054097483},null,{"$f":"INDEX('Class Rates'!$F$9:$F$139,MATCH(A203&B203,'Class Rates'!$M$9:$M$139,0),)","v":432.79622946135675},null,null,null,null,"$ per \ndwelling",null,"Revenue sought\n $"]
[null,null,null,null,{"$f":"SUM(E198:E203)","v":17356}]
["Homewood","A",{"$f":"INDEX('Class Rates'!$E$9:$E$139,MATCH(A205&B205,'Class Rates'!$M$9:$M$139,0),)","v":1.6541176470588235},null,{"$f":"INDEX('Class Rates'!$F$9:$F$139,MATCH(A205&B205,'Class Rates'!$M$9:$M$139,0),)","v":3795.7592983976479}]
[{"$f":"A205","v":"Homewood"},"B",{"$f":"INDEX('Class Rates'!$E$9:$E$139,MATCH(A206&B206,'Class Rates'!$M$9:$M$139,0),)","v":1.5752941176470587},null,{"$f":"INDEX('Class Rates'!$F$9:$F$139,MATCH(A206&B206,'Class Rates'!$M$9:$M$139,0),)","v":870.24310841764679},null,"Awhea-Opouawe","Charge per dwelling",null,{"$f":"'Class Rates'!F148","v":"$114.54 / $57.27"},null,{"$f":"'Class Rates'!H148","v":10047.379999999999}]
["Homewood","C",{"$f":"INDEX('Class Rates'!$E$9:$E$139,MATCH(A207&B207,'Class Rates'!$M$9:$M$139,0),)","v":1.3784313725490196},null,{"$f":"INDEX('Class Rates'!$F$9:$F$139,MATCH(A207&B207,'Class Rates'!$M$9:$M$139,0),)","v":5048.4689000901963},null,"Maungaraki","Charge per dwelling",null,{"$f":"'Class Rates'!F157","v":30.450041497204715},null,{"$f":"'Class Rates'!H157","v":578.55078844688956}]
["Homewood","D",{"$f":"INDEX('Class Rates'!$E$9:$E$139,MATCH(A208&B208,'Class Rates'!$M$9:$M$139,0),)","v":0.19696078431372549},null,{"$f":"INDEX('Class Rates'!$F$9:$F$139,MATCH(A208&B208,'Class Rates'!$M$9:$M$139,0),)","v":342.59232016756204},null,"Mataikona-Whakataki","Charge per dwelling",null,{"$f":"'Class Rates'!F152","v":15.3},null,{"$f":"'Class Rates'!H152","v":1830}]
[null,null,null,null,{"$f":"SUM(E205:E208)","v":10057.063627073052},null,"Catchment management scheme 3 rates",null,null,null,null,{"$f":"+L206+L208+L207","v":12455.930788446889}]
["Maungaraki","A",{"$f":"'Class Rates'!F155","v":0.86275117575413363},null,{"$f":"'Class Rates'!H155","v":2851.7996818721322}]
[{"$f":"A210","v":"Maungaraki"},"B",{"$f":"'Class Rates'!F156","v":0.40600055329606288},null,{"$f":"'Class Rates'!H156","v":1206.3157053626128}]
[null,null,null,null,{"$f":"SUM(E210:E211)","v":4058.115387234745},null,"Targeted rate:\nCatchment schemes 4",null,null,{"$f":"+$C$40","v":"2018/19"},null,{"$f":"+$C$40","v":"2018/19"}]
["Upper Kaiwhata","A",{"$f":"INDEX('Class Rates'!$E$9:$E$139,MATCH(A213&B213,'Class Rates'!$M$9:$M$139,0),)","v":9.064369308954884},null,{"$f":"INDEX('Class Rates'!$F$9:$F$139,MATCH(A213&B213,'Class Rates'!$M$9:$M$139,0),)","v":295.62624707918548},null,null,null,null,"Cents per metre of river frontage",null,"Revenue sought\n $"]
[{"$f":"A213","v":"Upper Kaiwhata"},"B",{"$f":"INDEX('Class Rates'!$E$9:$E$139,MATCH(A214&B214,'Class Rates'!$M$9:$M$139,0),)","v":3.9656615726677615},null,{"$f":"INDEX('Class Rates'!$F$9:$F$139,MATCH(A214&B214,'Class Rates'!$M$9:$M$139,0),)","v":208.62473088259105}]
["Upper Kaiwhata","C",{"$f":"INDEX('Class Rates'!$E$9:$E$139,MATCH(A215&B215,'Class Rates'!$M$9:$M$139,0),)","v":0.56652308180968025},null,{"$f":"INDEX('Class Rates'!$F$9:$F$139,MATCH(A215&B215,'Class Rates'!$M$9:$M$139,0),)","v":542.8382247192302}]
["Upper Kaiwhata","D",{"$f":"INDEX('Class Rates'!$E$9:$E$139,MATCH(A216&B216,'Class Rates'!$M$9:$M$139,0),)","v":0.33991384908580813},null,{"$f":"INDEX('Class Rates'!$F$9:$F$139,MATCH(A216&B216,'Class Rates'!$M$9:$M$139,0),)","v":697.73391785345279}]
["Upper Kaiwhata","E",{"$f":"INDEX('Class Rates'!$E$9:$E$139,MATCH(A217&B217,'Class Rates'!$M$9:$M$139,0),)","v":0.22660923272387209},null,{"$f":"INDEX('Class Rates'!$F$9:$F$139,MATCH(A217&B217,'Class Rates'!$M$9:$M$139,0),)","v":371.91605814953874},null,"Maungaraki","River frontage",null,{"$f":"'Class Rates'!F158","v":2.8420038730724403E-2},null,{"$f":"'Class Rates'!H158","v":1353.3338243183653}]
["Upper Kaiwhata","F",{"$f":"INDEX('Class Rates'!$E$9:$E$139,MATCH(A218&B218,'Class Rates'!$M$9:$M$139,0),)","v":0.11330461636193605},null,{"$f":"INDEX('Class Rates'!$F$9:$F$139,MATCH(A218&B218,'Class Rates'!$M$9:$M$139,0),)","v":51.26082131600166},null,"Catchment management scheme 4 rates",null,null,null,null,{"$f":"L217","v":1353.3338243183653}]
[null,null,null,null,{"$f":"SUM(E213:E218)","v":2168},null,"Total catchment management scheme rates",null,null,null,null,{"$f":"E228+L200+L209+L218","v":62875.443627073051}]
["Lower Kaiwhata","A",{"$f":"INDEX('Class Rates'!$E$9:$E$139,MATCH(A220&B220,'Class Rates'!$M$9:$M$139,0),)","v":14.72961910821965},null,{"$f":"INDEX('Class Rates'!$F$9:$F$139,MATCH(A220&B220,'Class Rates'!$M$9:$M$139,0),)","v":676.54318933581521}]
[{"$f":"A220","v":"Lower Kaiwhata"},"B",{"$f":"INDEX('Class Rates'!$E$9:$E$139,MATCH(A221&B221,'Class Rates'!$M$9:$M$139,0),)","v":6.4442083598460966},null,{"$f":"INDEX('Class Rates'!$F$9:$F$139,MATCH(A221&B221,'Class Rates'!$M$9:$M$139,0),)","v":286.16667179401361},null,"\n1 \"Separately used or inhabited part\" (dwelling) includes any part of a rating unit separately used or inhabited by the owner or any other person who has the right to use or inhabit that part by virtue of a tenancy, lease, licence or other agreement. At a minimum, the land or premises intended to form the separately used or inhabited part of the rating unit must be capable of actual habitation, or actual separate use. To avoid of doubt, a rating unit that has only one use (ie, it does not have separate parts or is vacant land) is treated as being one separately used or inhabited part (dwelling)."]
["Lower Kaiwhata","C",{"$f":"INDEX('Class Rates'!$E$9:$E$139,MATCH(A222&B222,'Class Rates'!$M$9:$M$139,0),)","v":0.92060119426372811},null,{"$f":"INDEX('Class Rates'!$F$9:$F$139,MATCH(A222&B222,'Class Rates'!$M$9:$M$139,0),)","v":1066.6461962628007}]
["Lower Kaiwhata","D",{"$f":"INDEX('Class Rates'!$E$9:$E$139,MATCH(A223&B223,'Class Rates'!$M$9:$M$139,0),)","v":0.55236071655823682},null,{"$f":"INDEX('Class Rates'!$F$9:$F$139,MATCH(A223&B223,'Class Rates'!$M$9:$M$139,0),)","v":1634.5133536290004}]
["Lower Kaiwhata","E",{"$f":"INDEX('Class Rates'!$E$9:$E$139,MATCH(A224&B224,'Class Rates'!$M$9:$M$139,0),)","v":0.36099999999999999},null,{"$f":"INDEX('Class Rates'!$F$9:$F$139,MATCH(A224&B224,'Class Rates'!$M$9:$M$139,0),)","v":0}]
["Lower Kaiwhata","F",{"$f":"INDEX('Class Rates'!$E$9:$E$139,MATCH(A225&B225,'Class Rates'!$M$9:$M$139,0),)","v":0.18412023885274562},null,{"$f":"INDEX('Class Rates'!$F$9:$F$139,MATCH(A225&B225,'Class Rates'!$M$9:$M$139,0),)","v":64.130588978369886}]
[null,null,null,null,{"$f":"SUM(E220:E225)","v":3728}]
[]
["Catchment management scheme 1 rates",null,null,null,{"$f":"+E226+E219+E212+E209+E204","v":37367.179014307796}]
[]
[{"$f":"+A149","v":"Note that all figures on this page exclude GST."}]
[]
[null,null,null,null,null,null,null,null,null,null,null,"Rates funding impact statement"]
[]
["Targeted rate:\nPump drainage schemes",null,{"$f":"year_current","v":"2018/19"},null,{"$f":"year_current","v":"2018/19"},null,"Targeted rate:\nGravity drainage schemes",null,null,{"$f":"year_current","v":"2018/19"},null,{"$f":"year_current","v":"2018/19"}]
[null,null,{"$f":"+$C$112","v":"$ per hectare"},null,"Revenue sought\n $",null,null,null,null,{"$f":"+$C$112","v":"$ per hectare"},null,"Revenue sought\n $"]
[]
["Te Hopai","A",{"$f":"INDEX('Class Rates'!$E$9:$E$139,MATCH(A237&B237,'Class Rates'!$M$9:$M$139,0),)","v":45.165426184388629},null,{"$f":"INDEX('Class Rates'!$F$9:$F$139,MATCH(A237&B237,'Class Rates'!$M$9:$M$139,0),)","v":56304},null,"Okawa","A",null,{"$f":"INDEX('Class Rates'!$E$9:$E$139,MATCH(G237&H237,'Class Rates'!$M$9:$M$139,0),)","v":7.1489092896187465},null,{"$f":"INDEX('Class Rates'!$F$9:$F$139,MATCH(G237&H237,'Class Rates'!$M$9:$M$139,0),)","v":2016.0000000000002}]
["Moonmoot pump","A",{"$f":"INDEX('Class Rates'!$E$9:$E$139,MATCH(A238&B238,'Class Rates'!$M$9:$M$139,0),)","v":120.93651498245991},null,{"$f":"INDEX('Class Rates'!$F$9:$F$139,MATCH(A238&B238,'Class Rates'!$M$9:$M$139,0),)","v":27540},null,"Taumata","A",null,{"$f":"INDEX('Class Rates'!$E$9:$E$139,MATCH(G238&H238,'Class Rates'!$M$9:$M$139,0),)","v":6.439229811672317},null,{"$f":"INDEX('Class Rates'!$F$9:$F$139,MATCH(G238&H238,'Class Rates'!$M$9:$M$139,0),)","v":1871}]
["Onoke pump","A",{"$f":"INDEX('Class Rates'!$E$9:$E$139,MATCH(A239&B239,'Class Rates'!$M$9:$M$139,0),)","v":73.962660959756874},null,{"$f":"INDEX('Class Rates'!$F$9:$F$139,MATCH(A239&B239,'Class Rates'!$M$9:$M$139,0),)","v":52767.000000000007},null,"East Pukio","A",null,{"$f":"INDEX('Class Rates'!$E$9:$E$139,MATCH(G239&H239,'Class Rates'!$M$9:$M$139,0),)","v":28.295122419121807},null,{"$f":"INDEX('Class Rates'!$F$9:$F$139,MATCH(G239&H239,'Class Rates'!$M$9:$M$139,0),)","v":3213}]
["Pouawha pump","A",{"$f":"INDEX('Class Rates'!$E$9:$E$139,MATCH(A240&B240,'Class Rates'!$M$9:$M$139,0),)","v":111.58008778172264},null,{"$f":"INDEX('Class Rates'!$F$9:$F$139,MATCH(A240&B240,'Class Rates'!$M$9:$M$139,0),)","v":105499},null,"Longbush","A",null,{"$f":"INDEX('Class Rates'!$E$9:$E$139,MATCH(G240&H240,'Class Rates'!$M$9:$M$139,0),)","v":16.071259077729895},null,{"$f":"INDEX('Class Rates'!$F$9:$F$139,MATCH(G240&H240,'Class Rates'!$M$9:$M$139,0),)","v":3505.8860473613977}]
[null,null,null,null,null,null,{"$f":"G240","v":"Longbush"},"B",null,{"$f":"INDEX('Class Rates'!$E$9:$E$139,MATCH(G241&H241,'Class Rates'!$M$9:$M$139,0),)","v":8.0356295388649475},null,{"$f":"INDEX('Class Rates'!$F$9:$F$139,MATCH(G241&H241,'Class Rates'!$M$9:$M$139,0),)","v":1010.1139526386058}]
["Total pump drainage scheme rates",null,null,null,{"$f":"SUM(E237:E241)","v":242110},null,"Otahoua","A",null,{"$f":"INDEX('Class Rates'!$E$9:$E$139,MATCH(G242&H242,'Class Rates'!$M$9:$M$139,0),)","v":33.004572128844814},null,{"$f":"INDEX('Class Rates'!$F$9:$F$139,MATCH(G242&H242,'Class Rates'!$M$9:$M$139,0),)","v":3060.0000000000005}]
[null,null,null,null,null,null,"Te Whiti","A",null,{"$f":"INDEX('Class Rates'!$E$9:$E$139,MATCH(G243&H243,'Class Rates'!$M$9:$M$139,0),)","v":9.7328595495278698},null,{"$f":"INDEX('Class Rates'!$F$9:$F$139,MATCH(G243&H243,'Class Rates'!$M$9:$M$139,0),)","v":1375}]
["Targeted rate:\nPossum / predator",null,{"$f":"+$C$8","v":"2018/19"},null,{"$f":"+C244","v":"2018/19"},null,"Ahikouka","A",null,{"$f":"INDEX('Class Rates'!$E$9:$E$139,MATCH(G244&H244,'Class Rates'!$M$9:$M$139,0),)","v":27.707586660735394},null,{"$f":"INDEX('Class Rates'!$F$9:$F$139,MATCH(G244&H244,'Class Rates'!$M$9:$M$139,0),)","v":3109}]
[null,null,{"$f":"+$C$112","v":"$ per hectare"},null,"Revenue sought\n $",null,"Battersea","A",null,{"$f":"INDEX('Class Rates'!$E$9:$E$139,MATCH(G245&H245,'Class Rates'!$M$9:$M$139,0),)","v":15.383206238390347},null,{"$f":"INDEX('Class Rates'!$F$9:$F$139,MATCH(G245&H245,'Class Rates'!$M$9:$M$139,0),)","v":2595.164603250686}]
[null,null,null,null,null,null,{"$f":"G245","v":"Battersea"},"B",null,{"$f":"INDEX('Class Rates'!$E$9:$E$139,MATCH(G246&H246,'Class Rates'!$M$9:$M$139,0),)","v":12.736633122108136},null,{"$f":"INDEX('Class Rates'!$F$9:$F$139,MATCH(G246&H246,'Class Rates'!$M$9:$M$139,0),)","v":2488.2381955070273}]
["Rural land area",null,null,null,null,null,"Battersea","C",null,{"$f":"INDEX('Class Rates'!$E$9:$E$139,MATCH(G247&H247,'Class Rates'!$M$9:$M$139,0),)","v":9.9246491860582875},null,{"$f":"INDEX('Class Rates'!$F$9:$F$139,MATCH(G247&H247,'Class Rates'!$M$9:$M$139,0),)","v":3156.1509460766338}]
["Land area of 4 or more hectares in all rural classified areas",null,{"$f":"Pest!C19","v":0.86682366680113054},null,{"$f":"Pest!D19","v":532000},null,"Battersea","D",null,{"$f":"INDEX('Class Rates'!$E$9:$E$139,MATCH(G248&H248,'Class Rates'!$M$9:$M$139,0),)","v":5.9547895116349725},null,{"$f":"INDEX('Class Rates'!$F$9:$F$139,MATCH(G248&H248,'Class Rates'!$M$9:$M$139,0),)","v":909.51758169106381}]
["Total Possum / predator rate",null,null,null,{"$f":"SUM(E248:E248)","v":532000},null,"Battersea","E",null,{"$f":"INDEX('Class Rates'!$E$9:$E$139,MATCH(G249&H249,'Class Rates'!$M$9:$M$139,0),)","v":5.127735412796782},null,{"$f":"INDEX('Class Rates'!$F$9:$F$139,MATCH(G249&H249,'Class Rates'!$M$9:$M$139,0),)","v":1040.3910173965708}]
[null,null,null,null,null,null,"Battersea","F",null,{"$f":"INDEX('Class Rates'!$E$9:$E$139,MATCH(G250&H250,'Class Rates'!$M$9:$M$139,0),)","v":4.9623245930291437},null,{"$f":"INDEX('Class Rates'!$F$9:$F$139,MATCH(G250&H250,'Class Rates'!$M$9:$M$139,0),)","v":349.53765607801188}]
[{"$f":"+A230","v":"Note that all figures on this page exclude GST."},null,null,null,null,null,"Manaia","A",null,{"$f":"INDEX('Class Rates'!$E$9:$E$139,MATCH(G251&H251,'Class Rates'!$M$9:$M$139,0),)","v":23.205648866539288},null,{"$f":"INDEX('Class Rates'!$F$9:$F$139,MATCH(G251&H251,'Class Rates'!$M$9:$M$139,0),)","v":4048}]
[null,null,null,null,null,null,"Whakawiriwiri","A",null,{"$f":"INDEX('Class Rates'!$E$9:$E$139,MATCH(G252&H252,'Class Rates'!$M$9:$M$139,0),)","v":11.705267744244413},null,{"$f":"INDEX('Class Rates'!$F$9:$F$139,MATCH(G252&H252,'Class Rates'!$M$9:$M$139,0),)","v":8438}]
[null,null,null,null,null,null,"Total gravity drainage scheme rates",null,null,null,null,{"$f":"SUM(L237:L252)","v":42184.999999999993}]
[]
[]
[null,null,null,null,null,null,null,null,null,"Rates Sought Total",null,{"$f":"+E21+E37+L45+L100+E186+L162+E228+L200+L209+L218+E242+E249+L253+E52+L170+L179","v":128851866.2414442}]
[null,null,null,null,null,null,null,null,null,"Total Regnl Rates",null,{"$f":"INDEX(ESSbase!$G$8:$G$26,MATCH(J257,ESSbase!$B$8:$B$26,0),)","v":128851865.66023982}]
[null,null,null,null,null,null,null,null,null,"difference",null,{"$f":"IF(ABS(L257-L256)>tolerance_dollar,1,0)","v":0}]
[]
[null,null,null,null,null,null,null,null,null,"Warm Wellington rates sought",null,{"$f":"+L53","v":3237058}]
[null,null,null,null,null,null,null,null,null,"Warm Greater Wellington rate",null,{"$f":"INDEX(ESSbase!$G$8:$G$26,MATCH(J261,ESSbase!$B$8:$B$26,0),)","v":3237058}]
[null,null,null,null,null,null,null,null,null,"difference",null,{"$f":"IF(ABS(L261-L260)>tolerance_dollar,1,0)","v":0}]

{"sheet":"Changes ","index":32,"n_rows":147,"n_cols":22,"rows_kept":147,"cut":false,"hidden":false,"merged":[[32,2,32,10],[39,2,39,10],[46,2,46,10],[53,2,53,10],[5,3,6,3],[5,4,6,4],[7,6,7,8],[14,6,14,8],[20,2,20,10],[27,2,27,10]]}
[{"$f":"year_current&\" Final Rates Averages\"","v":"2018/19 Final Rates Averages"}]
["Greater Wellington Region"]
[]
[]
[null,null,null,{"$f":"year_previous","v":"2017/18"},{"$f":"year_current","v":"2018/19"},null,{"$f":"year_previous","v":"2017/18"},{"$f":"year_current","v":"2018/19"}]
[null,null,null,"Average CV","Average CV",null,"Budget","Plan","Change","Change"]
[null,null,null,null,null,null,"$000s","$000s","$000s","%  "]
[null,null,null,null,null,null,"Excluding GST"]
["Regional CBD",null,null,{"$f":"INDEX('Comparison - Category'!$G$51:$G$55,MATCH(A9,'Comparison - Category'!$B$51:$B$55,0),)","v":2309377.094972067},{"$f":"INDEX('Comparison - Category'!$G$109:$G$113,MATCH(A9,'Comparison - Category'!$B$109:$B$113,0),)","v":2311957.1259609698},null,{"$f":"INDEX('Comparison - Category'!$Y$9:$Y$55,MATCH(\"Region Wide\"&A9,'Comparison - Category'!$C$9:$C$55,0),)","v":8606.0064614151124},{"$f":"INDEX('Comparison - Category'!$Y$67:$Y$113,MATCH(\"Region Wide\"&A9,'Comparison - Category'!$C$67:$C$113,0),)","v":8946.1223896643842},{"$f":"+H9-G9","v":340.11592824927175},{"$f":"+I9/G9","v":3.9520761432631488E-2}]
["Business",null,null,{"$f":"INDEX('Comparison - Category'!$G$51:$G$55,MATCH(A10,'Comparison - Category'!$B$51:$B$55,0),)","v":1431443.457959777},{"$f":"INDEX('Comparison - Category'!$G$109:$G$113,MATCH(A10,'Comparison - Category'!$B$109:$B$113,0),)","v":1474749.8604876865},null,{"$f":"INDEX('Comparison - Category'!$Y$9:$Y$55,MATCH(\"Region Wide\"&A10,'Comparison - Category'!$C$9:$C$55,0),)","v":1429.9877027190701},{"$f":"INDEX('Comparison - Category'!$Y$67:$Y$113,MATCH(\"Region Wide\"&A10,'Comparison - Category'!$C$67:$C$113,0),)","v":1577.0180994029752},{"$f":"+H10-G10","v":147.03039668390511},{"$f":"+I10/G10","v":0.10281934341416511}]
["Residential",null,null,{"$f":"INDEX('Comparison - Category'!$G$51:$G$55,MATCH(A11,'Comparison - Category'!$B$51:$B$55,0),)","v":474927.55003127316},{"$f":"INDEX('Comparison - Category'!$G$109:$G$113,MATCH(A11,'Comparison - Category'!$B$109:$B$113,0),)","v":501602.60492133134},null,{"$f":"INDEX('Comparison - Category'!$Y$9:$Y$55,MATCH(\"Region Wide\"&A11,'Comparison - Category'!$C$9:$C$55,0),)","v":419.69293255284845},{"$f":"INDEX('Comparison - Category'!$Y$67:$Y$113,MATCH(\"Region Wide\"&A11,'Comparison - Category'!$C$67:$C$113,0),)","v":446.55688710468746},{"$f":"+H11-G11","v":26.863954551839015},{"$f":"+I11/G11","v":6.4008594065272373E-2}]
["Rural",null,null,{"$f":"INDEX('Comparison - Category'!$G$51:$G$55,MATCH(A12,'Comparison - Category'!$B$51:$B$55,0),)","v":691562.9816727757},{"$f":"INDEX('Comparison - Category'!$G$109:$G$113,MATCH(A12,'Comparison - Category'!$B$109:$B$113,0),)","v":798889.49222936761},null,{"$f":"INDEX('Comparison - Category'!$Y$9:$Y$55,MATCH(\"Region Wide\"&A12,'Comparison - Category'!$C$9:$C$55,0),)","v":351.0739759127747},{"$f":"INDEX('Comparison - Category'!$Y$67:$Y$113,MATCH(\"Region Wide\"&A12,'Comparison - Category'!$C$67:$C$113,0),)","v":407.02093839817564},{"$f":"+H12-G12","v":55.946962485400945},{"$f":"+I12/G12","v":0.15935946929686728}]
["Total",null,null,{"$f":"INDEX('Comparison - Category'!$G$51:$G$55,MATCH(A13,'Comparison - Category'!$B$51:$B$55,0),)","v":562142.14607288339},{"$f":"INDEX('Comparison - Category'!$G$109:$G$113,MATCH(A13,'Comparison - Category'!$B$109:$B$113,0),)","v":594512.52817971818},null,{"$f":"INDEX('Comparison - Category'!$Y$9:$Y$55,MATCH(\"Region Wide\"&A13,'Comparison - Category'!$C$9:$C$55,0),)","v":595.81419707750194},{"$f":"INDEX('Comparison - Category'!$Y$67:$Y$113,MATCH(\"Region Wide\"&A13,'Comparison - Category'!$C$67:$C$113,0),)","v":633.71422383302456},{"$f":"+H13-G13","v":37.900026755522617},{"$f":"+I13/G13","v":6.3610479477367476E-2}]
["Note: some business and rural values dropped due to on-going sesimic assesments impacting capital value"]
[null,null,null,null,null,null,"Including GST"]
["All properties",null,null,{"$f":"+D13","v":562142.14607288339},{"$f":"+E13","v":594512.52817971818},null,{"$f":"+G13*(1+GST)","v":685.18632663912717},{"$f":"+H13*(1+GST)","v":728.77135740797814},{"$f":"+I13*(1+GST)","v":43.585030768851006},{"$f":"+I16/G16","v":6.3610479477367476E-2}]
["Residential property",null,null,{"$f":"+D11","v":474927.55003127316},{"$f":"+E11","v":501602.60492133134},null,{"$f":"+G11*(1+GST)","v":482.64687243577566},{"$f":"+H11*(1+GST)","v":513.54042017039058},{"$f":"+I11*(1+GST)","v":30.893547734614867},{"$f":"+I17/G17","v":6.4008594065272387E-2}]
[]
["Average Rates - Residential properties"]
[null,null,{"$f":"TRANSPOSE(Control!A17:A25)","v":"Wellington City"},"Hutt City","Upper Hutt City","Porirua City","Kapiti Coast District","Masterton District","Carterton District","South Wairarapa District","Tararua District",null,null,null,null,null,"Territorial authority","Average Capital Value","Average Increase \nper year","Average Increase \nper week","Average Rates (inc GST)","Average rates\nper week"]
[null,null,"Excluding GST",null,null,null,null,null,null,null,null,null,null,null,null,null,"Wellington city",{"$f":"ROUND(+$C$26,-3)","v":553000},{"$f":"+$C$31","v":40.216274917907057},{"$f":"+S21/52","v":0.77338990226744342},{"$f":"+$C$29","v":522.54392435979628},{"$f":"+U21/52","v":10.048921622303775}]
["Residential",{"$f":"\"Average Rates \"& year_current","v":"Average Rates 2018/19"},{"$f":"INDEX('Comparison - Category'!$Y$68:$Y$113,MATCH(C$20&$A22,'Comparison - Category'!$C$68:$C$113,0),)","v":454.38602118243159},{"$f":"INDEX('Comparison - Category'!$Y$68:$Y$113,MATCH(D$20&$A22,'Comparison - Category'!$C$68:$C$113,0),)","v":542.47804942867617},{"$f":"INDEX('Comparison - Category'!$Y$68:$Y$113,MATCH(E$20&$A22,'Comparison - Category'!$C$68:$C$113,0),)","v":436.984321014942},{"$f":"INDEX('Comparison - Category'!$Y$68:$Y$113,MATCH(F$20&$A22,'Comparison - Category'!$C$68:$C$113,0),)","v":470.33181261952222},{"$f":"INDEX('Comparison - Category'!$Y$68:$Y$113,MATCH(G$20&$A22,'Comparison - Category'!$C$68:$C$113,0),)","v":398.09091048901053},{"$f":"INDEX('Comparison - Category'!$Y$68:$Y$113,MATCH(H$20&$A22,'Comparison - Category'!$C$68:$C$113,0),)","v":180.99485922356155},{"$f":"INDEX('Comparison - Category'!$Y$68:$Y$113,MATCH(I$20&$A22,'Comparison - Category'!$C$68:$C$113,0),)","v":204.4550906139861},{"$f":"INDEX('Comparison - Category'!$Y$68:$Y$113,MATCH(J$20&$A22,'Comparison - Category'!$C$68:$C$113,0),)","v":245.7381131595958},{"$f":"INDEX('Comparison - Category'!$Y$68:$Y$113,MATCH(K$20&$A22,'Comparison - Category'!$C$68:$C$113,0),)","v":{"$error":"#N/A"}},null,null,null,null,null,"Lower Hutt city",{"$f":"+$D$26","v":474462.12121212122},{"$f":"+$D$31","v":26.709528358786564},{"$f":"+S22/52","v":0.51364477613051085},{"$f":"+$D$29","v":623.84975684297751},{"$f":"+U22/52","v":11.997110708518798}]
[null,{"$f":"\"Average Rates \"& year_previous","v":"Average Rates 2017/18"},{"$f":"INDEX('Comparison - Category'!$Y$9:$Y$55,MATCH(C$20&$A22,'Comparison - Category'!$C$9:$C$55,0),)","v":419.41534734077328},{"$f":"INDEX('Comparison - Category'!$Y$9:$Y$55,MATCH(D$20&$A22,'Comparison - Category'!$C$9:$C$55,0),)","v":519.25237259494872},{"$f":"INDEX('Comparison - Category'!$Y$9:$Y$55,MATCH(E$20&$A22,'Comparison - Category'!$C$9:$C$55,0),)","v":448.6329345340265},{"$f":"INDEX('Comparison - Category'!$Y$9:$Y$55,MATCH(F$20&$A22,'Comparison - Category'!$C$9:$C$55,0),)","v":490.8425896946739},{"$f":"INDEX('Comparison - Category'!$Y$9:$Y$55,MATCH(G$20&$A22,'Comparison - Category'!$C$9:$C$55,0),)","v":342.02469508837305},{"$f":"INDEX('Comparison - Category'!$Y$9:$Y$55,MATCH(H$20&$A22,'Comparison - Category'!$C$9:$C$55,0),)","v":130.29168450315552},{"$f":"INDEX('Comparison - Category'!$Y$9:$Y$55,MATCH(I$20&$A22,'Comparison - Category'!$C$9:$C$55,0),)","v":159.56940710192612},{"$f":"INDEX('Comparison - Category'!$Y$9:$Y$55,MATCH(J$20&$A22,'Comparison - Category'!$C$9:$C$55,0),)","v":178.78253205781866},{"$f":"INDEX('Comparison - Category'!$Y$9:$Y$55,MATCH(K$20&$A22,'Comparison - Category'!$C$9:$C$55,0),)","v":{"$error":"#N/A"}},null,null,null,null,null,"Upper Hutt city",{"$f":"+$E$26","v":413368.54919474898},{"$f":"+$E$31","v":-13.395905546947182},-0.25761356821052273,{"$f":"+$E$29","v":502.53196916718326},9.6640763301381405]
[null,"Average Increase",{"$f":"C22-C23","v":34.970673841658311},{"$f":"INDEX('Comparison - Category'!$Y$126:$Y$171,MATCH(D$20&$A22,'Comparison - Category'!$C$126:$C$171,0),)","v":23.225676833727448},{"$f":"INDEX('Comparison - Category'!$Y$126:$Y$171,MATCH(E$20&$A22,'Comparison - Category'!$C$126:$C$171,0),)","v":-11.648613519084506},{"$f":"INDEX('Comparison - Category'!$Y$126:$Y$171,MATCH(F$20&$A22,'Comparison - Category'!$C$126:$C$171,0),)","v":-20.51077707515168},{"$f":"INDEX('Comparison - Category'!$Y$126:$Y$171,MATCH(G$20&$A22,'Comparison - Category'!$C$126:$C$171,0),)","v":56.066215400637475},{"$f":"INDEX('Comparison - Category'!$Y$126:$Y$171,MATCH(H$20&$A22,'Comparison - Category'!$C$126:$C$171,0),)","v":50.703174720406025},{"$f":"INDEX('Comparison - Category'!$Y$126:$Y$171,MATCH(I$20&$A22,'Comparison - Category'!$C$126:$C$171,0),)","v":44.885683512059984},{"$f":"INDEX('Comparison - Category'!$Y$126:$Y$171,MATCH(J$20&$A22,'Comparison - Category'!$C$126:$C$171,0),)","v":66.955581101777142},{"$f":"INDEX('Comparison - Category'!$Y$126:$Y$171,MATCH(K$20&$A22,'Comparison - Category'!$C$126:$C$171,0),)","v":{"$error":"#N/A"}},null,null,null,null,null,"Porirua city",{"$f":"+$F$26","v":492556.20065025543},{"$f":"+$F$31","v":-23.58739363642443},-0.45360372377739289,{"$f":"+$F$29","v":540.88158451245056},10.401568932931742]
[null,"% Increase",{"$f":"C24/C23","v":8.3379576029784103E-2},{"$f":"D24/D23","v":4.4729072142044919E-2},-2.5964686545323211E-2,-4.1786873237528763E-2,0.16392446570605368,0.38915127173122127,0.28129253800754506,0.37450851786864481,{"$error":"#N/A"},null,null,null,null,null,"Kapiti Coast district",{"$f":"+$G$26","v":534845.43827399379},{"$f":"+$G$31","v":64.476147710733088},1.2399259175140978,{"$f":"+$G$29","v":457.80454706236208},8.803933597353117]
[null,{"$f":"\"Average Value \"&year_current","v":"Average Value 2018/19"},{"$f":"INDEX('Comparison - Category'!$G$68:$G$113,MATCH(C$20&$A22,'Comparison - Category'!$C$68:$C$113,0),)","v":553202.42805264273},{"$f":"INDEX('Comparison - Category'!$G$68:$G$113,MATCH(D$20&$A22,'Comparison - Category'!$C$68:$C$113,0),)","v":474462.12121212122},{"$f":"INDEX('Comparison - Category'!$G$68:$G$113,MATCH(E$20&$A22,'Comparison - Category'!$C$68:$C$113,0),)","v":413368.54919474898},{"$f":"INDEX('Comparison - Category'!$G$68:$G$113,MATCH(F$20&$A22,'Comparison - Category'!$C$68:$C$113,0),)","v":492556.20065025543},{"$f":"INDEX('Comparison - Category'!$G$68:$G$113,MATCH(G$20&$A22,'Comparison - Category'!$C$68:$C$113,0),)","v":534845.43827399379},{"$f":"INDEX('Comparison - Category'!$G$68:$G$113,MATCH(H$20&$A22,'Comparison - Category'!$C$68:$C$113,0),)","v":343459.10129474488},{"$f":"INDEX('Comparison - Category'!$G$68:$G$113,MATCH(I$20&$A22,'Comparison - Category'!$C$68:$C$113,0),)","v":351266.34125636675},{"$f":"INDEX('Comparison - Category'!$G$68:$G$113,MATCH(J$20&$A22,'Comparison - Category'!$C$68:$C$113,0),)","v":405194.33667083853},{"$f":"INDEX('Comparison - Category'!$G$68:$G$113,MATCH(K$20&$A22,'Comparison - Category'!$C$68:$C$113,0),)","v":{"$error":"#N/A"}},null,null,null,null,null,"Masterton district",{"$f":"+$H$26","v":343459.10129474488},{"$f":"+$H$31","v":58.308650928466925},1.1213202101628255,{"$f":"+$H$29","v":208.14408810709577},4.0027709251364572]
[null,null,null,null,null,null,null,null,null,null,null,null,null,null,null,null,"Carterton district",{"$f":"+$I$26","v":351266.34125636675},{"$f":"+$I$31","v":51.618536038868974},0.99266415459363411,{"$f":"+$I$29","v":235.123354206084},4.5216029655016152]
[null,null,"Including GST",null,null,null,null,null,null,null,null,null,null,null,null,null,"South Wairarapa district",{"$f":"+$J$26","v":405194.33667083853},{"$f":"+$J$31","v":76.998918267043706},1.4807484282123791,{"$f":"+$J$29","v":282.59883013353516},5.4345928871833689]
[null,{"$f":"\"Average Rates \"& year_current","v":"Average Rates 2018/19"},{"$f":"+C22*(1+GST)","v":522.54392435979628},623.84975684297751,502.53196916718326,540.88158451245056,457.80454706236208,208.14408810709577,235.123354206084,282.59883013353516,{"$error":"#N/A"}]
[null,{"$f":"\"Average Rates \"& year_previous","v":"Average Rates 2017/18"},482.32764944188921,597.14022848419097,515.92787471413044,564.46897814887495,393.328399351629,149.83543717862884,183.50481816721503,205.59991186649142,{"$error":"#N/A"}]
[null,"Average Increase",{"$f":"+C24*(1+GST)","v":40.216274917907057},26.709528358786564,-13.395905546947182,-23.58739363642443,64.476147710733088,58.308650928466925,51.618536038868974,76.998918267043706,{"$error":"#N/A"}]
[]
[null,null,"Excluding GST",null,null,null,null,null,null,null,null,null,null,null,null,null,"Territorial authority","Average Capital Value","Average Increase \nper year","Average Increase \nper week","Average Rates (inc GST)","Average rates\nper week"]
["Rural",{"$f":"\"Average Rates \"& year_current","v":"Average Rates 2018/19"},{"$f":"INDEX('Comparison - Category'!$Y$68:$Y$113,MATCH(C$20&$A34,'Comparison - Category'!$C$68:$C$113,0),)","v":429.44842450341287},{"$f":"INDEX('Comparison - Category'!$Y$68:$Y$113,MATCH(D$20&$A34,'Comparison - Category'!$C$68:$C$113,0),)","v":504.50872499885344},{"$f":"INDEX('Comparison - Category'!$Y$68:$Y$113,MATCH(E$20&$A34,'Comparison - Category'!$C$68:$C$113,0),)","v":444.0598458550993},{"$f":"INDEX('Comparison - Category'!$Y$68:$Y$113,MATCH(F$20&$A34,'Comparison - Category'!$C$68:$C$113,0),)","v":542.22111250639898},{"$f":"INDEX('Comparison - Category'!$Y$68:$Y$113,MATCH(G$20&$A34,'Comparison - Category'!$C$68:$C$113,0),)","v":403.09414140100262},{"$f":"INDEX('Comparison - Category'!$Y$68:$Y$113,MATCH(H$20&$A34,'Comparison - Category'!$C$68:$C$113,0),)","v":327.16644209115361},{"$f":"INDEX('Comparison - Category'!$Y$68:$Y$113,MATCH(I$20&$A34,'Comparison - Category'!$C$68:$C$113,0),)","v":407.1048641511274},{"$f":"INDEX('Comparison - Category'!$Y$68:$Y$113,MATCH(J$20&$A34,'Comparison - Category'!$C$68:$C$113,0),)","v":447.70238852367567},{"$f":"INDEX('Comparison - Category'!$Y$68:$Y$113,MATCH(K$20&$A34,'Comparison - Category'!$C$68:$C$113,0),)","v":257.79771340364482},null,null,null,null,null,"Wellington city",{"$f":"ROUND(+R21,-3)","v":553000},{"$f":"ROUND(+S21,1)","v":40.200000000000003},{"$f":"+S34/52","v":0.77307692307692311},{"$f":"ROUND(+U21,1)","v":522.5},{"$f":"+U34/52","v":10.048076923076923}]
[null,{"$f":"\"Average Rates \"& year_previous","v":"Average Rates 2017/18"},{"$f":"INDEX('Comparison - Category'!$Y$9:$Y$55,MATCH(C$20&$A34,'Comparison - Category'!$C$9:$C$55,0),)","v":401.03000016326183},{"$f":"INDEX('Comparison - Category'!$Y$9:$Y$55,MATCH(D$20&$A34,'Comparison - Category'!$C$9:$C$55,0),)","v":456.84684423182881},{"$f":"INDEX('Comparison - Category'!$Y$9:$Y$55,MATCH(E$20&$A34,'Comparison - Category'!$C$9:$C$55,0),)","v":403.61355742451246},{"$f":"INDEX('Comparison - Category'!$Y$9:$Y$55,MATCH(F$20&$A34,'Comparison - Category'!$C$9:$C$55,0),)","v":520.25920458070402},{"$f":"INDEX('Comparison - Category'!$Y$9:$Y$55,MATCH(G$20&$A34,'Comparison - Category'!$C$9:$C$55,0),)","v":392.40012294643242},{"$f":"INDEX('Comparison - Category'!$Y$9:$Y$55,MATCH(H$20&$A34,'Comparison - Category'!$C$9:$C$55,0),)","v":261.80220892739106},{"$f":"INDEX('Comparison - Category'!$Y$9:$Y$55,MATCH(I$20&$A34,'Comparison - Category'!$C$9:$C$55,0),)","v":330.96905126031817},{"$f":"INDEX('Comparison - Category'!$Y$9:$Y$55,MATCH(J$20&$A34,'Comparison - Category'!$C$9:$C$55,0),)","v":356.39297879805548},{"$f":"INDEX('Comparison - Category'!$Y$9:$Y$55,MATCH(K$20&$A34,'Comparison - Category'!$C$9:$C$55,0),)","v":224.20357346081778},null,null,null,null,null,"Lower Hutt city",474000,26.7,0.51346153846153841,623.79999999999995,11.996153846153845]
[null,"Average Increase",{"$f":"C34-C35","v":28.418424340151034},{"$f":"INDEX('Comparison - Category'!$Y$126:$Y$171,MATCH(D$20&$A34,'Comparison - Category'!$C$126:$C$171,0),)","v":47.661880767024627},{"$f":"INDEX('Comparison - Category'!$Y$126:$Y$171,MATCH(E$20&$A34,'Comparison - Category'!$C$126:$C$171,0),)","v":40.446288430586833},{"$f":"INDEX('Comparison - Category'!$Y$126:$Y$171,MATCH(F$20&$A34,'Comparison - Category'!$C$126:$C$171,0),)","v":21.961907925694959},{"$f":"INDEX('Comparison - Category'!$Y$126:$Y$171,MATCH(G$20&$A34,'Comparison - Category'!$C$126:$C$171,0),)","v":10.694018454570198},{"$f":"INDEX('Comparison - Category'!$Y$126:$Y$171,MATCH(H$20&$A34,'Comparison - Category'!$C$126:$C$171,0),)","v":65.364233163762549},{"$f":"INDEX('Comparison - Category'!$Y$126:$Y$171,MATCH(I$20&$A34,'Comparison - Category'!$C$126:$C$171,0),)","v":76.135812890809234},{"$f":"INDEX('Comparison - Category'!$Y$126:$Y$171,MATCH(J$20&$A34,'Comparison - Category'!$C$126:$C$171,0),)","v":91.309409725620185},{"$f":"INDEX('Comparison - Category'!$Y$126:$Y$171,MATCH(K$20&$A34,'Comparison - Category'!$C$126:$C$171,0),)","v":33.594139942827042},null,null,null,null,null,"Upper Hutt city",413000,-13.4,-0.25769230769230772,502.5,9.6634615384615383]
[null,"% Increase",{"$f":"C36/C35","v":7.086358708471116E-2},{"$f":"D36/D35","v":0.10432791945223202},0.10021043071168756,4.2213396192374658E-2,2.7252841753135911E-2,0.24967028900008573,0.23003907042331243,0.25620428896653219,0.14983766504818002,null,null,null,null,null,"Porirua city",493000,-23.6,-0.4538461538461539,540.9,10.401923076923076]
[null,{"$f":"\"Average Value \"&year_current","v":"Average Value 2018/19"},{"$f":"INDEX('Comparison - Category'!$G$68:$G$113,MATCH(C$20&$A34,'Comparison - Category'!$C$68:$C$113,0),)","v":759575.80231065466},{"$f":"INDEX('Comparison - Category'!$G$68:$G$113,MATCH(D$20&$A34,'Comparison - Category'!$C$68:$C$113,0),)","v":644661.19096509239},{"$f":"INDEX('Comparison - Category'!$G$68:$G$113,MATCH(E$20&$A34,'Comparison - Category'!$C$68:$C$113,0),)","v":676085.34510433383},{"$f":"INDEX('Comparison - Category'!$G$68:$G$113,MATCH(F$20&$A34,'Comparison - Category'!$C$68:$C$113,0),)","v":1005537.2950819673},{"$f":"INDEX('Comparison - Category'!$G$68:$G$113,MATCH(G$20&$A34,'Comparison - Category'!$C$68:$C$113,0),)","v":735444.53660295706},{"$f":"INDEX('Comparison - Category'!$G$68:$G$113,MATCH(H$20&$A34,'Comparison - Category'!$C$68:$C$113,0),)","v":718163.75194603007},{"$f":"INDEX('Comparison - Category'!$G$68:$G$113,MATCH(I$20&$A34,'Comparison - Category'!$C$68:$C$113,0),)","v":866562.46362754609},{"$f":"INDEX('Comparison - Category'!$G$68:$G$113,MATCH(J$20&$A34,'Comparison - Category'!$C$68:$C$113,0),)","v":952552.17251367879},{"$f":"INDEX('Comparison - Category'!$G$68:$G$113,MATCH(K$20&$A34,'Comparison - Category'!$C$68:$C$113,0),)","v":1076050},null,null,null,null,null,"Kapiti Coast district",535000,64.5,1.2403846153846154,457.8,8.8038461538461537]
[null,null,null,null,null,null,null,null,null,null,null,null,null,null,null,null,"Masterton district",343000,58.3,1.1211538461538462,208.1,4.0019230769230765]
[null,null,"Excluding GST",null,null,null,null,null,null,null,null,null,null,null,null,null,"Carterton district",351000,51.6,0.99230769230769234,235.1,4.5211538461538456]
["Business",{"$f":"\"Average Rates \"& year_current","v":"Average Rates 2018/19"},{"$f":"INDEX('Comparison - Category'!$Y$68:$Y$113,MATCH(C$20&$A41,'Comparison - Category'!$C$68:$C$113,0),)","v":2006.9477444739096},{"$f":"INDEX('Comparison - Category'!$Y$68:$Y$113,MATCH(D$20&$A41,'Comparison - Category'!$C$68:$C$113,0),)","v":2040.2781384096982},{"$f":"INDEX('Comparison - Category'!$Y$68:$Y$113,MATCH(E$20&$A41,'Comparison - Category'!$C$68:$C$113,0),)","v":1956.9056867781701},{"$f":"INDEX('Comparison - Category'!$Y$68:$Y$113,MATCH(F$20&$A41,'Comparison - Category'!$C$68:$C$113,0),)","v":1499.7652657331867},{"$f":"INDEX('Comparison - Category'!$Y$68:$Y$113,MATCH(G$20&$A41,'Comparison - Category'!$C$68:$C$113,0),)","v":935.08066069644894},{"$f":"INDEX('Comparison - Category'!$Y$68:$Y$113,MATCH(H$20&$A41,'Comparison - Category'!$C$68:$C$113,0),)","v":498.23677416152555},{"$f":"INDEX('Comparison - Category'!$Y$68:$Y$113,MATCH(I$20&$A41,'Comparison - Category'!$C$68:$C$113,0),)","v":282.45453945842422},{"$f":"INDEX('Comparison - Category'!$Y$68:$Y$113,MATCH(J$20&$A41,'Comparison - Category'!$C$68:$C$113,0),)","v":479.00446242128208},{"$f":"INDEX('Comparison - Category'!$Y$68:$Y$113,MATCH(K$20&$A41,'Comparison - Category'!$C$68:$C$113,0),)","v":{"$error":"#N/A"}},null,null,null,null,null,"South Wairarapa district",405000,77,1.4807692307692308,282.60000000000002,5.4346153846153848]
[null,{"$f":"\"Average Rates \"& year_previous","v":"Average Rates 2017/18"},{"$f":"INDEX('Comparison - Category'!$Y$9:$Y$55,MATCH(C$20&$A41,'Comparison - Category'!$C$9:$C$55,0),)","v":1709.2917229929787},{"$f":"INDEX('Comparison - Category'!$Y$9:$Y$55,MATCH(D$20&$A41,'Comparison - Category'!$C$9:$C$55,0),)","v":1881.2693924637156},{"$f":"INDEX('Comparison - Category'!$Y$9:$Y$55,MATCH(E$20&$A41,'Comparison - Category'!$C$9:$C$55,0),)","v":1849.4419134297805},{"$f":"INDEX('Comparison - Category'!$Y$9:$Y$55,MATCH(F$20&$A41,'Comparison - Category'!$C$9:$C$55,0),)","v":1472.5335312710961},{"$f":"INDEX('Comparison - Category'!$Y$9:$Y$55,MATCH(G$20&$A41,'Comparison - Category'!$C$9:$C$55,0),)","v":864.72232226204733},{"$f":"INDEX('Comparison - Category'!$Y$9:$Y$55,MATCH(H$20&$A41,'Comparison - Category'!$C$9:$C$55,0),)","v":388.39100516213119},{"$f":"INDEX('Comparison - Category'!$Y$9:$Y$55,MATCH(I$20&$A41,'Comparison - Category'!$C$9:$C$55,0),)","v":266.74240595497224},{"$f":"INDEX('Comparison - Category'!$Y$9:$Y$55,MATCH(J$20&$A41,'Comparison - Category'!$C$9:$C$55,0),)","v":412.61421887867567},{"$f":"INDEX('Comparison - Category'!$Y$9:$Y$55,MATCH(K$20&$A41,'Comparison - Category'!$C$9:$C$55,0),)","v":{"$error":"#N/A"}}]
[null,"Average Increase",{"$f":"C41-C42","v":297.6560214809308},{"$f":"INDEX('Comparison - Category'!$Y$126:$Y$171,MATCH(D$20&$A41,'Comparison - Category'!$C$126:$C$171,0),)","v":159.00874594598258},{"$f":"INDEX('Comparison - Category'!$Y$126:$Y$171,MATCH(E$20&$A41,'Comparison - Category'!$C$126:$C$171,0),)","v":107.46377334838962},{"$f":"INDEX('Comparison - Category'!$Y$126:$Y$171,MATCH(F$20&$A41,'Comparison - Category'!$C$126:$C$171,0),)","v":27.231734462090571},{"$f":"INDEX('Comparison - Category'!$Y$126:$Y$171,MATCH(G$20&$A41,'Comparison - Category'!$C$126:$C$171,0),)","v":70.358338434401617},{"$f":"INDEX('Comparison - Category'!$Y$126:$Y$171,MATCH(H$20&$A41,'Comparison - Category'!$C$126:$C$171,0),)","v":109.84576899939435},{"$f":"INDEX('Comparison - Category'!$Y$126:$Y$171,MATCH(I$20&$A41,'Comparison - Category'!$C$126:$C$171,0),)","v":15.71213350345198},{"$f":"INDEX('Comparison - Category'!$Y$126:$Y$171,MATCH(J$20&$A41,'Comparison - Category'!$C$126:$C$171,0),)","v":66.390243542606413},{"$f":"INDEX('Comparison - Category'!$Y$126:$Y$171,MATCH(K$20&$A41,'Comparison - Category'!$C$126:$C$171,0),)","v":{"$error":"#N/A"}}]
[null,"% Increase",{"$f":"C43/C42","v":0.17413997708930196},{"$f":"D43/D42","v":8.4522050155583672E-2},5.8106054895824551E-2,1.8493116716047916E-2,8.1365239017248445E-2,0.28282263888562503,5.8903770651691147E-2,0.16090149225353689,{"$error":"#N/A"}]
[null,{"$f":"\"Average Value \"&year_current","v":"Average Value 2018/19"},{"$f":"INDEX('Comparison - Category'!$G$68:$G$113,MATCH(C$20&$A41,'Comparison - Category'!$C$68:$C$113,0),)","v":2033087.5789473683},{"$f":"INDEX('Comparison - Category'!$G$68:$G$113,MATCH(D$20&$A41,'Comparison - Category'!$C$68:$C$113,0),)","v":1599513.7828668363},{"$f":"INDEX('Comparison - Category'!$G$68:$G$113,MATCH(E$20&$A41,'Comparison - Category'!$C$68:$C$113,0),)","v":1652080.7584269664},{"$f":"INDEX('Comparison - Category'!$G$68:$G$113,MATCH(F$20&$A41,'Comparison - Category'!$C$68:$C$113,0),)","v":1380176.7295597484},{"$f":"INDEX('Comparison - Category'!$G$68:$G$113,MATCH(G$20&$A41,'Comparison - Category'!$C$68:$C$113,0),)","v":1085172.7598566308},{"$f":"INDEX('Comparison - Category'!$G$68:$G$113,MATCH(H$20&$A41,'Comparison - Category'!$C$68:$C$113,0),)","v":792534.72727272729},{"$f":"INDEX('Comparison - Category'!$G$68:$G$113,MATCH(I$20&$A41,'Comparison - Category'!$C$68:$C$113,0),)","v":412028.88888888888},{"$f":"INDEX('Comparison - Category'!$G$68:$G$113,MATCH(J$20&$A41,'Comparison - Category'!$C$68:$C$113,0),)","v":668521.42857142852},{"$f":"INDEX('Comparison - Category'!$G$68:$G$113,MATCH(K$20&$A41,'Comparison - Category'!$C$68:$C$113,0),)","v":{"$error":"#N/A"}}]
[]
[null,null,"Excluding GST"]
["Regional CBD",{"$f":"\"Average Rates \"& year_current","v":"Average Rates 2018/19"},{"$f":"INDEX('Comparison - Category'!$Y$68:$Y$113,MATCH(C$20&$A48,'Comparison - Category'!$C$68:$C$113,0),)","v":8946.1223896643842},{"$f":"INDEX('Comparison - Category'!$Y$68:$Y$113,MATCH(D$20&$A48,'Comparison - Category'!$C$68:$C$113,0),)","v":{"$error":"#N/A"}},{"$f":"INDEX('Comparison - Category'!$Y$68:$Y$113,MATCH(E$20&$A48,'Comparison - Category'!$C$68:$C$113,0),)","v":{"$error":"#N/A"}},{"$f":"INDEX('Comparison - Category'!$Y$68:$Y$113,MATCH(F$20&$A48,'Comparison - Category'!$C$68:$C$113,0),)","v":{"$error":"#N/A"}},{"$f":"INDEX('Comparison - Category'!$Y$68:$Y$113,MATCH(G$20&$A48,'Comparison - Category'!$C$68:$C$113,0),)","v":{"$error":"#N/A"}},{"$f":"INDEX('Comparison - Category'!$Y$68:$Y$113,MATCH(H$20&$A48,'Comparison - Category'!$C$68:$C$113,0),)","v":{"$error":"#N/A"}},{"$f":"INDEX('Comparison - Category'!$Y$68:$Y$113,MATCH(I$20&$A48,'Comparison - Category'!$C$68:$C$113,0),)","v":{"$error":"#N/A"}},{"$f":"INDEX('Comparison - Category'!$Y$68:$Y$113,MATCH(J$20&$A48,'Comparison - Category'!$C$68:$C$113,0),)","v":{"$error":"#N/A"}},{"$f":"INDEX('Comparison - Category'!$Y$68:$Y$113,MATCH(K$20&$A48,'Comparison - Category'!$C$68:$C$113,0),)","v":{"$error":"#N/A"}}]
[null,{"$f":"\"Average Rates \"& year_previous","v":"Average Rates 2017/18"},{"$f":"INDEX('Comparison - Category'!$Y$9:$Y$55,MATCH(C$20&$A48,'Comparison - Category'!$C$9:$C$55,0),)","v":8606.0064614151124},{"$f":"INDEX('Comparison - Category'!$Y$9:$Y$55,MATCH(D$20&$A48,'Comparison - Category'!$C$9:$C$55,0),)","v":{"$error":"#N/A"}},{"$f":"INDEX('Comparison - Category'!$Y$9:$Y$55,MATCH(E$20&$A48,'Comparison - Category'!$C$9:$C$55,0),)","v":{"$error":"#N/A"}},{"$f":"INDEX('Comparison - Category'!$Y$9:$Y$55,MATCH(F$20&$A48,'Comparison - Category'!$C$9:$C$55,0),)","v":{"$error":"#N/A"}},{"$f":"INDEX('Comparison - Category'!$Y$9:$Y$55,MATCH(G$20&$A48,'Comparison - Category'!$C$9:$C$55,0),)","v":{"$error":"#N/A"}},{"$f":"INDEX('Comparison - Category'!$Y$9:$Y$55,MATCH(H$20&$A48,'Comparison - Category'!$C$9:$C$55,0),)","v":{"$error":"#N/A"}},{"$f":"INDEX('Comparison - Category'!$Y$9:$Y$55,MATCH(I$20&$A48,'Comparison - Category'!$C$9:$C$55,0),)","v":{"$error":"#N/A"}},{"$f":"INDEX('Comparison - Category'!$Y$9:$Y$55,MATCH(J$20&$A48,'Comparison - Category'!$C$9:$C$55,0),)","v":{"$error":"#N/A"}},{"$f":"INDEX('Comparison - Category'!$Y$9:$Y$55,MATCH(K$20&$A48,'Comparison - Category'!$C$9:$C$55,0),)","v":{"$error":"#N/A"}}]
[null,"Average Increase",{"$f":"C48-C49","v":340.11592824927175},{"$f":"INDEX('Comparison - Category'!$Y$126:$Y$171,MATCH(D$20&$A48,'Comparison - Category'!$C$126:$C$171,0),)","v":{"$error":"#N/A"}},{"$f":"INDEX('Comparison - Category'!$Y$126:$Y$171,MATCH(E$20&$A48,'Comparison - Category'!$C$126:$C$171,0),)","v":{"$error":"#N/A"}},{"$f":"INDEX('Comparison - Category'!$Y$126:$Y$171,MATCH(F$20&$A48,'Comparison - Category'!$C$126:$C$171,0),)","v":{"$error":"#N/A"}},{"$f":"INDEX('Comparison - Category'!$Y$126:$Y$171,MATCH(G$20&$A48,'Comparison - Category'!$C$126:$C$171,0),)","v":{"$error":"#N/A"}},{"$f":"INDEX('Comparison - Category'!$Y$126:$Y$171,MATCH(H$20&$A48,'Comparison - Category'!$C$126:$C$171,0),)","v":{"$error":"#N/A"}},{"$f":"INDEX('Comparison - Category'!$Y$126:$Y$171,MATCH(I$20&$A48,'Comparison - Category'!$C$126:$C$171,0),)","v":{"$error":"#N/A"}},{"$f":"INDEX('Comparison - Category'!$Y$126:$Y$171,MATCH(J$20&$A48,'Comparison - Category'!$C$126:$C$171,0),)","v":{"$error":"#N/A"}},{"$f":"INDEX('Comparison - Category'!$Y$126:$Y$171,MATCH(K$20&$A48,'Comparison - Category'!$C$126:$C$171,0),)","v":{"$error":"#N/A"}}]
[null,"% Increase",{"$f":"C50/C49","v":3.9520761432631488E-2},{"$f":"D50/D49","v":{"$error":"#N/A"}},{"$error":"#N/A"},{"$error":"#N/A"},{"$error":"#N/A"},{"$error":"#N/A"},{"$error":"#N/A"},{"$error":"#N/A"},{"$error":"#N/A"}]
[null,{"$f":"\"Average Value \"&year_current","v":"Average Value 2018/19"},{"$f":"INDEX('Comparison - Category'!$G$68:$G$113,MATCH(C$20&$A48,'Comparison - Category'!$C$68:$C$113,0),)","v":2311957.1259609698},{"$f":"INDEX('Comparison - Category'!$G$68:$G$113,MATCH(D$20&$A48,'Comparison - Category'!$C$68:$C$113,0),)","v":{"$error":"#N/A"}},{"$f":"INDEX('Comparison - Category'!$G$68:$G$113,MATCH(E$20&$A48,'Comparison - Category'!$C$68:$C$113,0),)","v":{"$error":"#N/A"}},{"$f":"INDEX('Comparison - Category'!$G$68:$G$113,MATCH(F$20&$A48,'Comparison - Category'!$C$68:$C$113,0),)","v":{"$error":"#N/A"}},{"$f":"INDEX('Comparison - Category'!$G$68:$G$113,MATCH(G$20&$A48,'Comparison - Category'!$C$68:$C$113,0),)","v":{"$error":"#N/A"}},{"$f":"INDEX('Comparison - Category'!$G$68:$G$113,MATCH(H$20&$A48,'Comparison - Category'!$C$68:$C$113,0),)","v":{"$error":"#N/A"}},{"$f":"INDEX('Comparison - Category'!$G$68:$G$113,MATCH(I$20&$A48,'Comparison - Category'!$C$68:$C$113,0),)","v":{"$error":"#N/A"}},{"$f":"INDEX('Comparison - Category'!$G$68:$G$113,MATCH(J$20&$A48,'Comparison - Category'!$C$68:$C$113,0),)","v":{"$error":"#N/A"}},{"$f":"INDEX('Comparison - Category'!$G$68:$G$113,MATCH(K$20&$A48,'Comparison - Category'!$C$68:$C$113,0),)","v":{"$error":"#N/A"}}]
[]
[null,null,"Excluding GST"]
["District wide",{"$f":"\"Average Rates \"& year_current","v":"Average Rates 2018/19"},{"$f":"INDEX('Comparison - Category'!$Y$68:$Y$113,MATCH(C$20&$A55,'Comparison - Category'!$C$68:$C$113,0),)","v":864.85334259252681},{"$f":"INDEX('Comparison - Category'!$Y$68:$Y$113,MATCH(D$20&$A55,'Comparison - Category'!$C$68:$C$113,0),)","v":632.18482037822093},{"$f":"INDEX('Comparison - Category'!$Y$68:$Y$113,MATCH(E$20&$A55,'Comparison - Category'!$C$68:$C$113,0),)","v":502.01838628587018},{"$f":"INDEX('Comparison - Category'!$Y$68:$Y$113,MATCH(F$20&$A55,'Comparison - Category'!$C$68:$C$113,0),)","v":516.61728517072515},{"$f":"INDEX('Comparison - Category'!$Y$68:$Y$113,MATCH(G$20&$A55,'Comparison - Category'!$C$68:$C$113,0),)","v":428.51960053966803},{"$f":"INDEX('Comparison - Category'!$Y$68:$Y$113,MATCH(H$20&$A55,'Comparison - Category'!$C$68:$C$113,0),)","v":240.04748368110756},{"$f":"INDEX('Comparison - Category'!$Y$68:$Y$113,MATCH(I$20&$A55,'Comparison - Category'!$C$68:$C$113,0),)","v":296.65963703302202},{"$f":"INDEX('Comparison - Category'!$Y$68:$Y$113,MATCH(J$20&$A55,'Comparison - Category'!$C$68:$C$113,0),)","v":349.92916430598751},{"$f":"INDEX('Comparison - Category'!$Y$68:$Y$113,MATCH(K$20&$A55,'Comparison - Category'!$C$68:$C$113,0),)","v":254.99771340364478}]
[null,{"$f":"\"Average Rates \"& year_previous","v":"Average Rates 2017/18"},{"$f":"INDEX('Comparison - Category'!$Y$9:$Y$55,MATCH(C$20&$A55,'Comparison - Category'!$C$9:$C$55,0),)","v":812.91628105113432},{"$f":"INDEX('Comparison - Category'!$Y$9:$Y$55,MATCH(D$20&$A55,'Comparison - Category'!$C$9:$C$55,0),)","v":600.63590115989939},{"$f":"INDEX('Comparison - Category'!$Y$9:$Y$55,MATCH(E$20&$A55,'Comparison - Category'!$C$9:$C$55,0),)","v":506.16847935228236},{"$f":"INDEX('Comparison - Category'!$Y$9:$Y$55,MATCH(F$20&$A55,'Comparison - Category'!$C$9:$C$55,0),)","v":534.02228926284317},{"$f":"INDEX('Comparison - Category'!$Y$9:$Y$55,MATCH(G$20&$A55,'Comparison - Category'!$C$9:$C$55,0),)","v":376.68379901956973},{"$f":"INDEX('Comparison - Category'!$Y$9:$Y$55,MATCH(H$20&$A55,'Comparison - Category'!$C$9:$C$55,0),)","v":182.43541893140156},{"$f":"INDEX('Comparison - Category'!$Y$9:$Y$55,MATCH(I$20&$A55,'Comparison - Category'!$C$9:$C$55,0),)","v":239.84938953836109},{"$f":"INDEX('Comparison - Category'!$Y$9:$Y$55,MATCH(J$20&$A55,'Comparison - Category'!$C$9:$C$55,0),)","v":272.6086427892086},{"$f":"INDEX('Comparison - Category'!$Y$9:$Y$55,MATCH(K$20&$A55,'Comparison - Category'!$C$9:$C$55,0),)","v":217.20357346081778}]
[null,"Average Increase",{"$f":"C55-C56","v":51.937061541392495},{"$f":"INDEX('Comparison - Category'!$Y$126:$Y$171,MATCH(D$20&$A55,'Comparison - Category'!$C$126:$C$171,0),)","v":31.548919218321544},{"$f":"INDEX('Comparison - Category'!$Y$126:$Y$171,MATCH(E$20&$A55,'Comparison - Category'!$C$126:$C$171,0),)","v":-4.1500930664121825},{"$f":"INDEX('Comparison - Category'!$Y$126:$Y$171,MATCH(F$20&$A55,'Comparison - Category'!$C$126:$C$171,0),)","v":-17.40500409211802},{"$f":"INDEX('Comparison - Category'!$Y$126:$Y$171,MATCH(G$20&$A55,'Comparison - Category'!$C$126:$C$171,0),)","v":51.8358015200983},{"$f":"INDEX('Comparison - Category'!$Y$126:$Y$171,MATCH(H$20&$A55,'Comparison - Category'!$C$126:$C$171,0),)","v":57.612064749706008},{"$f":"INDEX('Comparison - Category'!$Y$126:$Y$171,MATCH(I$20&$A55,'Comparison - Category'!$C$126:$C$171,0),)","v":56.810247494660928},{"$f":"INDEX('Comparison - Category'!$Y$126:$Y$171,MATCH(J$20&$A55,'Comparison - Category'!$C$126:$C$171,0),)","v":77.320521516778911},{"$f":"INDEX('Comparison - Category'!$Y$126:$Y$171,MATCH(K$20&$A55,'Comparison - Category'!$C$126:$C$171,0),)","v":37.794139942827002}]
[null,"% Increase",{"$f":"C57/C56","v":6.3889803602205794E-2},{"$f":"D57/D56","v":5.2525863268240922E-2},-8.199034976897104E-3,-3.2592280213890774E-2,0.13761091306559031,0.31579429634422579,0.23685800328282594,0.28363195211153336,0.17400330639424236]
[null,{"$f":"\"Average Value \"&year_current","v":"Average Value 2018/19"},{"$f":"INDEX('Comparison - Category'!$G$68:$G$113,MATCH(C$20&$A55,'Comparison - Category'!$C$68:$C$113,0),)","v":668895.8245921199},{"$f":"INDEX('Comparison - Category'!$G$68:$G$113,MATCH(D$20&$A55,'Comparison - Category'!$C$68:$C$113,0),)","v":544349.94252139481},{"$f":"INDEX('Comparison - Category'!$G$68:$G$113,MATCH(E$20&$A55,'Comparison - Category'!$C$68:$C$113,0),)","v":485626.44956978969},{"$f":"INDEX('Comparison - Category'!$G$68:$G$113,MATCH(F$20&$A55,'Comparison - Category'!$C$68:$C$113,0),)","v":547233.14455955767},{"$f":"INDEX('Comparison - Category'!$G$68:$G$113,MATCH(G$20&$A55,'Comparison - Category'!$C$68:$C$113,0),)","v":588145.27375201287},{"$f":"INDEX('Comparison - Category'!$G$68:$G$113,MATCH(H$20&$A55,'Comparison - Category'!$C$68:$C$113,0),)","v":481148.67285458394},{"$f":"INDEX('Comparison - Category'!$G$68:$G$113,MATCH(I$20&$A55,'Comparison - Category'!$C$68:$C$113,0),)","v":583058.75511522719},{"$f":"INDEX('Comparison - Category'!$G$68:$G$113,MATCH(J$20&$A55,'Comparison - Category'!$C$68:$C$113,0),)","v":674706.59506882471},{"$f":"INDEX('Comparison - Category'!$G$68:$G$113,MATCH(K$20&$A55,'Comparison - Category'!$C$68:$C$113,0),)","v":1076050}]
[]
[]
[]
[null,"Consultation document"]
[]
[null,"Residential Property - including GST","Average Capital Value",{"$f":"\"Average Increase \nin \"&year_current","v":"Average Increase \nin 2018/19"},"Average Increase \nWeekly",{"$f":"\"Average Rates \n\"&year_current","v":"Average Rates \n2018/19"},"Average rates\nweekly","Average Rates \n2017/18"]
[null,"Wellington city",{"$f":"ROUND(+$C$26,-3)","v":553000},{"$f":"ROUND(+$C$31,0)","v":40},{"$f":"+D66/52","v":0.76923076923076927},{"$f":"ROUND(+$C$29,0)","v":523},{"$f":"F66/52","v":10.057692307692308},482]
[null,"Lower Hutt city",{"$f":"ROUND(+$D$26,-3)","v":474000},{"$f":"ROUND(+$D$31,0)","v":27},{"$f":"+D67/52","v":0.51923076923076927},{"$f":"ROUND(+$D$29,0)","v":624},{"$f":"F67/52","v":12},597]
[null,"Upper Hutt city",{"$f":"ROUND(+$E$26,-3)","v":413000},{"$f":"ROUND(+$E$31,0)","v":-13},-0.25,{"$f":"ROUND(+$E$29,0)","v":503},9.6730769230769234,516]
[null,"Porirua city",{"$f":"ROUND(+$F$26,-3)","v":493000},{"$f":"ROUND(+$F$31,0)","v":-24},-0.46153846153846156,{"$f":"ROUND(+$F$29,0)","v":541},10.403846153846153,564]
[null,"Kapiti Coast district",{"$f":"ROUND(+$G$26,-3)","v":535000},{"$f":"ROUND(+$G$31,0)","v":64},1.2307692307692308,{"$f":"ROUND(+$G$29,0)","v":458},8.8076923076923084,393]
[null,"Masterton district",{"$f":"ROUND(+$H$26,-3)","v":343000},{"$f":"ROUND(+$H$31,0)","v":58},{"$f":"+D71/52","v":1.1153846153846154},{"$f":"ROUND(+$H$29,0)","v":208},4,150]
[null,"Carterton district",{"$f":"ROUND(+$I$26,-3)","v":351000},{"$f":"ROUND(+$I$31,0)","v":52},1,{"$f":"ROUND(+$I$29,0)","v":235},4.5192307692307692,184]
[null,"South Wairarapa district",{"$f":"ROUND(+$J$26,-3)","v":405000},{"$f":"ROUND(+$J$31,0)","v":77},1.4807692307692308,{"$f":"ROUND(+$J$29,0)","v":283},5.4423076923076925,206]
[]
[]
[null,"Rural Property - excluding GST","Average Capital Value",{"$f":"\"Average Increase \nin \"&year_current","v":"Average Increase \nin 2018/19"},"Average Increase \nper week",{"$f":"\"Average Rates \n\"&year_current","v":"Average Rates \n2018/19"},"Average rates\nper week","Average Rates \n2017/18"]
[null,"Wellington city",{"$f":"ROUND(+$C$38,-3)","v":760000},{"$f":"ROUND(+$C$36,0)","v":28},{"$f":"+D77/52","v":0.53846153846153844},{"$f":"ROUND(+$C$34,0)","v":429},{"$f":"F77/52","v":8.25},401]
[null,"Lower Hutt city",{"$f":"ROUND(+$D$38,-3)","v":645000},{"$f":"ROUND(+$D$36,0)","v":48},{"$f":"+D78/52","v":0.92307692307692313},{"$f":"ROUND(+$D$34,0)","v":505},9.7115384615384617,457]
[null,"Upper Hutt city",{"$f":"ROUND(+$E$38,-3)","v":676000},{"$f":"ROUND(+$E$36,0)","v":40},0.76923076923076927,{"$f":"ROUND(+$E$34,0)","v":444},8.5384615384615383,404]
[null,"Porirua city",{"$f":"ROUND(+$F$38,-3)","v":1006000},{"$f":"ROUND(+$F$36,0)","v":22},0.42307692307692307,{"$f":"ROUND(+$F$34,0)","v":542},10.423076923076923,520]
[null,"Kapiti Coast district",{"$f":"ROUND(+$G$38,-3)","v":735000},{"$f":"ROUND(+$G$36,0)","v":11},0.21153846153846154,{"$f":"ROUND(+$G$34,0)","v":403},7.75,392]
[null,"Masterton district",{"$f":"ROUND(+$H$38,-3)","v":718000},{"$f":"ROUND(+$H$36,0)","v":65},1.25,{"$f":"ROUND(+$H$34,0)","v":327},6.2884615384615383,262]
[null,"Carterton district",{"$f":"ROUND(+$I$38,-3)","v":867000},{"$f":"ROUND(+$I$36,0)","v":76},1.4615384615384615,{"$f":"ROUND(+$I$34,0)","v":407},7.8269230769230766,331]
[null,"South Wairarapa district",{"$f":"ROUND(+$J$38,-3)","v":953000},{"$f":"ROUND(+$J$36,0)","v":91},1.75,{"$f":"ROUND(+$J$34,0)","v":448},8.615384615384615,356]
[null,"Tararua",{"$f":"ROUND(+$K$38,-3)","v":1076000},{"$f":"ROUND(+$K$36,0)","v":34},{"$f":"+D85/52","v":0.65384615384615385},{"$f":"ROUND(+$K$34,0)","v":258},4.9615384615384617,224]
[null,"These projected rates exclude the targeted rural pest, flood protection – property, drainage, and land management rates that are not charged to all ratepayers"]
[]
[]
[null,"Business Property - excluding GST","Average Capital Value",{"$f":"\"Average Increase \nin \"&year_current","v":"Average Increase \nin 2018/19"},"Average Increase \nper week",{"$f":"\"Average Rates \n\"&year_current","v":"Average Rates \n2018/19"},"Average rates\nper week","Average Rates \n2017/18"]
[null,"Wellington city",{"$f":"ROUND(+$C$45,-3)","v":2033000},{"$f":"ROUND(+$C$43,0)","v":298},{"$f":"+D90/52","v":5.7307692307692308},{"$f":"ROUND(+$C$41,0)","v":2007},{"$f":"F90/52","v":38.596153846153847},1709]
[null,"Wellington city - CBD",{"$f":"ROUND(+$C$52,-3)","v":2312000},{"$f":"ROUND(+$C$50,0)","v":340},{"$f":"+D91/52","v":6.5384615384615383},{"$f":"ROUND(+$C$48,0)","v":8946},172.03846153846155,8606]
[null,"Lower Hutt city",{"$f":"ROUND(+$D$45,-3)","v":1600000},{"$f":"ROUND(+$D$43,0)","v":159},{"$f":"+D92/52","v":3.0576923076923075},{"$f":"ROUND(+$D$41,0)","v":2040},39.230769230769234,1881]
[null,"Upper Hutt city",{"$f":"ROUND(+$E$45,-3)","v":1652000},{"$f":"ROUND(+$E$43,0)","v":107},2.0576923076923075,{"$f":"ROUND(+$E$41,0)","v":1957},37.634615384615387,1849]
[null,"Porirua city",{"$f":"ROUND(+$F$45,-3)","v":1380000},{"$f":"ROUND(+$F$43,0)","v":27},0.51923076923076927,{"$f":"ROUND(+$F$41,0)","v":1500},28.846153846153847,1473]
[null,"Kapiti Coast district",{"$f":"ROUND(+$G$45,-3)","v":1085000},{"$f":"ROUND(+$G$43,0)","v":70},1.3461538461538463,{"$f":"ROUND(+$G$41,0)","v":935},17.98076923076923,865]
[null,"Masterton district",{"$f":"ROUND(+$H$45,-3)","v":793000},{"$f":"ROUND(+$H$43,0)","v":110},2.1153846153846154,{"$f":"ROUND(+$H$41,0)","v":498},9.5769230769230766,388]
[null,"Carterton district",{"$f":"ROUND(+$I$45,-3)","v":412000},{"$f":"ROUND(+$I$43,0)","v":16},0.30769230769230771,{"$f":"ROUND(+$I$41,0)","v":282},5.4230769230769234,267]
[null,"South Wairarapa district",{"$f":"ROUND(+$J$45,-3)","v":669000},{"$f":"ROUND(+$J$43,0)","v":66},1.2692307692307692,{"$f":"ROUND(+$J$41,0)","v":479},9.2115384615384617,413]
[null,"These projected rates exclude the targeted rural pest, flood protection – property, drainage, and land management rates that are not charged to all ratepayers"]
[]
[null,"You can estimate your own projected regional rates on our website"]
[]
[]
[]
[]
[null,"Residential Property - including GST","Average Capital Value","Average Increase \nper year","Average Increase \nper week","Average Rates \nper year","Average rates\nper week"]
[null,{"$f":"+B108","v":"Wellington city"},{"$f":"ROUND(C108,-5)-100000","v":400000},{"$f":"ROUND($C107/$C108*D108,0)","v":29},{"$f":"+D107/52","v":0.55769230769230771},{"$f":"ROUND($C107/$C108*F108,0)","v":378},{"$f":"+F107/52","v":7.2692307692307692}]
[null,{"$f":"+B109","v":"Wellington city"},{"$f":"ROUND(C109,-5)-100000","v":500000},{"$f":"ROUND($C108/$C109*D109,0)","v":36},{"$f":"+D108/52","v":0.69230769230769229},{"$f":"ROUND($C108/$C109*F109,0)","v":473},{"$f":"+F108/52","v":9.0961538461538467}]
[null,"Wellington city",{"$f":"ROUND(+$C$26,-3)","v":553000},{"$f":"ROUND(+$C$31,0)","v":40},{"$f":"+D109/52","v":0.76923076923076927},{"$f":"ROUND(+$C$29,0)","v":523},{"$f":"+F109/52","v":10.057692307692308}]
[null,{"$f":"+B109","v":"Wellington city"},{"$f":"ROUND(C109,-5)+100000","v":700000},{"$f":"ROUND($C110/$C109*D109,0)","v":51},{"$f":"+D110/52","v":0.98076923076923073},{"$f":"ROUND($C110/$C109*F109,0)","v":662},{"$f":"+F110/52","v":12.73076923076923}]
[null,{"$f":"+B110","v":"Wellington city"},{"$f":"ROUND(C110,-5)+100000","v":800000},{"$f":"ROUND($C111/$C110*D110,0)","v":58},{"$f":"+D111/52","v":1.1153846153846154},{"$f":"ROUND($C111/$C110*F110,0)","v":757},{"$f":"+F111/52","v":14.557692307692308}]
[]
[]
[]
[null,"Residential Property - including GST","Average Capital Value","Average Increase \nper year","Average Increase \nper week","Average Rates \nper year","Average rates\nper week"]
[null,{"$f":"+B117","v":"Lower Hutt city"},{"$f":"ROUND(C117,-5)-100000","v":300000},{"$f":"ROUND($C116/$C117*D117,0)","v":17},{"$f":"+D116/52","v":0.32692307692307693},{"$f":"ROUND($C116/$C117*F117,0)","v":395},{"$f":"+F116/52","v":7.5961538461538458}]
[null,{"$f":"+B118","v":"Lower Hutt city"},{"$f":"ROUND(C118,-5)-100000","v":400000},{"$f":"ROUND($C117/$C118*D118,0)","v":23},{"$f":"+D117/52","v":0.44230769230769229},{"$f":"ROUND($C117/$C118*F118,0)","v":527},{"$f":"+F117/52","v":10.134615384615385}]
[null,{"$f":"+B67","v":"Lower Hutt city"},{"$f":"ROUND(+$D$26,-3)","v":474000},{"$f":"ROUND(+$D$31,0)","v":27},{"$f":"+D118/52","v":0.51923076923076927},{"$f":"ROUND(+$D$29,0)","v":624},{"$f":"+F118/52","v":12}]
[null,{"$f":"+B118","v":"Lower Hutt city"},{"$f":"ROUND(C118,-5)+100000","v":600000},{"$f":"ROUND($C119/$C118*D118,0)","v":34},{"$f":"+D119/52","v":0.65384615384615385},{"$f":"ROUND($C119/$C118*F118,0)","v":790},{"$f":"+F119/52","v":15.192307692307692}]
[null,{"$f":"+B119","v":"Lower Hutt city"},{"$f":"ROUND(C119,-5)+100000","v":700000},{"$f":"ROUND($C120/$C119*D119,0)","v":40},{"$f":"+D120/52","v":0.76923076923076927},{"$f":"ROUND($C120/$C119*F119,0)","v":922},{"$f":"+F120/52","v":17.73076923076923}]
[]
[]
[]
[null,"Residential Property - including GST","Average Capital Value","Average Increase \nper year","Average Increase \nper week","Average Rates \nper year","Average rates\nper week"]
[null,{"$f":"+B126","v":"Upper Hutt city"},{"$f":"ROUND(C126,-5)-100000","v":200000},{"$f":"ROUND($C125/$C126*D126,0)","v":-6},{"$f":"+D125/52","v":-0.11538461538461539},{"$f":"ROUND($C125/$C126*F126,0)","v":243},{"$f":"+F125/52","v":4.6730769230769234}]
[null,{"$f":"+B127","v":"Upper Hutt city"},{"$f":"ROUND(C127,-5)-100000","v":300000},{"$f":"ROUND($C126/$C127*D127,0)","v":-9},{"$f":"+D126/52","v":-0.17307692307692307},{"$f":"ROUND($C126/$C127*F127,0)","v":365},{"$f":"+F126/52","v":7.0192307692307692}]
[null,{"$f":"+B68","v":"Upper Hutt city"},{"$f":"ROUND(+$E$26,-3)","v":413000},{"$f":"ROUND(+$E$31,0)","v":-13},{"$f":"+D127/52","v":-0.25},{"$f":"ROUND(+$E$29,0)","v":503},{"$f":"+F127/52","v":9.6730769230769234}]
[null,{"$f":"+B127","v":"Upper Hutt city"},{"$f":"ROUND(C127,-5)+100000","v":500000},{"$f":"ROUND($C128/$C127*D127,0)","v":-16},{"$f":"+D128/52","v":-0.30769230769230771},{"$f":"ROUND($C128/$C127*F127,0)","v":609},{"$f":"+F128/52","v":11.711538461538462}]
[null,{"$f":"+B128","v":"Upper Hutt city"},{"$f":"ROUND(C128,-5)+100000","v":600000},{"$f":"ROUND($C129/$C128*D128,0)","v":-19},{"$f":"+D129/52","v":-0.36538461538461536},{"$f":"ROUND($C129/$C128*F128,0)","v":731},{"$f":"+F129/52","v":14.057692307692308}]
[]
[]
[]
[null,"Residential Property - including GST","Average Capital Value","Average Increase \nper year","Average Increase \nper week","Average Rates \nper year","Average rates\nper week"]
[null,{"$f":"+B135","v":"Porirua city"},{"$f":"ROUND(C135,-5)-100000","v":300000},{"$f":"ROUND($C134/$C135*D135,0)","v":-14},{"$f":"+D134/52","v":-0.26923076923076922},{"$f":"ROUND($C134/$C135*F135,0)","v":329},{"$f":"+F134/52","v":6.3269230769230766}]
[null,{"$f":"+B136","v":"Porirua city"},{"$f":"ROUND(C136,-5)-100000","v":400000},{"$f":"ROUND($C135/$C136*D136,0)","v":-19},{"$f":"+D135/52","v":-0.36538461538461536},{"$f":"ROUND($C135/$C136*F136,0)","v":439},{"$f":"+F135/52","v":8.4423076923076916}]
[null,{"$f":"+B69","v":"Porirua city"},{"$f":"ROUND(+$F$26,-3)","v":493000},{"$f":"ROUND(+$F$31,0)","v":-24},{"$f":"+D136/52","v":-0.46153846153846156},{"$f":"ROUND(+$F$29,0)","v":541},{"$f":"+F136/52","v":10.403846153846153}]
[null,{"$f":"+B136","v":"Porirua city"},{"$f":"ROUND(C136,-5)+100000","v":600000},{"$f":"ROUND($C137/$C136*D136,0)","v":-29},{"$f":"+D137/52","v":-0.55769230769230771},{"$f":"ROUND($C137/$C136*F136,0)","v":658},{"$f":"+F137/52","v":12.653846153846153}]
[null,{"$f":"+B137","v":"Porirua city"},{"$f":"ROUND(C137,-5)+100000","v":700000},{"$f":"ROUND($C138/$C137*D137,0)","v":-34},{"$f":"+D138/52","v":-0.65384615384615385},{"$f":"ROUND($C138/$C137*F137,0)","v":768},{"$f":"+F138/52","v":14.76923076923077}]
[]
[]
[]
[null,"Residential Property - including GST","Average Capital Value","Average Increase \nper year","Average Increase \nper week","Average Rates \nper year","Average rates\nper week"]
[null,{"$f":"+B144","v":"Kapiti Coast district"},{"$f":"ROUND(C144,-5)-100000","v":300000},{"$f":"ROUND($C143/$C144*D144,0)","v":36},{"$f":"+D143/52","v":0.69230769230769229},{"$f":"ROUND($C143/$C144*F144,0)","v":257},{"$f":"+F143/52","v":4.9423076923076925}]
[null,{"$f":"+B145","v":"Kapiti Coast district"},{"$f":"ROUND(C145,-5)-100000","v":400000},{"$f":"ROUND($C144/$C145*D145,0)","v":48},{"$f":"+D144/52","v":0.92307692307692313},{"$f":"ROUND($C144/$C145*F145,0)","v":342},{"$f":"+F144/52","v":6.5769230769230766}]
[null,{"$f":"+B70","v":"Kapiti Coast district"},{"$f":"ROUND(+$G$26,-3)","v":535000},{"$f":"ROUND(+$G$31,0)","v":64},{"$f":"+D145/52","v":1.2307692307692308},{"$f":"ROUND(+$G$29,0)","v":458},{"$f":"+F145/52","v":8.8076923076923084}]
[null,{"$f":"+B145","v":"Kapiti Coast district"},{"$f":"ROUND(C145,-5)+100000","v":600000},{"$f":"ROUND($C146/$C145*D145,0)","v":72},{"$f":"+D146/52","v":1.3846153846153846},{"$f":"ROUND($C146/$C145*F145,0)","v":514},{"$f":"+F146/52","v":9.884615384615385}]
[null,{"$f":"+B146","v":"Kapiti Coast district"},{"$f":"ROUND(C146,-5)+100000","v":700000},{"$f":"ROUND($C147/$C146*D146,0)","v":84},{"$f":"+D147/52","v":1.6153846153846154},{"$f":"ROUND($C147/$C146*F146,0)","v":600},{"$f":"+F147/52","v":11.538461538461538}]

{"sheet":"Mechanisms","index":33,"n_rows":22,"n_cols":8,"rows_kept":22,"cut":false,"hidden":false,"merged":[[19,0,19,4],[18,0,18,4],[21,0,22,5]]}
["Rating mechanisms"]
[]
["Funding mechanisms","Groups of activities funded","Valuation system","Matters for differentiation/categories of land","Calculation factor","Years used"]
["General rate"]
["General rate","All except water supply, public transport , Wellington Regional Strategy, warm greater wellington and regional stadium","Capital value","Where the land is situated","Cents per dollar of rateable capital value","2015 to 2025",null,"Only display column f for LTP year"]
[]
["Targeted rates"]
["Public Transport","Public Transport","Capital value","Where the land is situated and the use to which the land is put","Cents per dollar of rateable capital value",{"$f":"+F5","v":"2015 to 2025"}]
["River  management","Flood protection","Capital value/land value","Where the land is situated","Cents per dollar of rateable capital value / land value",{"$f":"+F8","v":"2015 to 2025"},null,"should have been new page 216"]
["Stadium purposes","Investments","Capital value","Where the land is situated and the use to which the land is put","Cents per dollar of rateable capital value","2015to 2017",null,"<-------  This one different"]
["Wellington Regional Strategy","Regional Leadership","Capital value  for Business \nn/a for residential\nn/a for rural","\nWhere the land is situated and the use to which the land is put\n","\nCents per dollar of rateable capital value\nFixed dollar amount per rating unit\nFixed dollar amount per rating unit",{"$f":"+F9","v":"2015 to 2025"}]
["Warm Greater Wellington","Regional Leadership","Extent of service provided","Provision of service to the land","Extent of service provided calculated as a percentage of the service",{"$f":"+F8","v":"2015 to 2025"}]
["Possum / Predator","Managing our environment","Land area","Where the land is situated and the area of land within each rating unit","Dollars per hectare",{"$f":"+F11","v":"2015 to 2025"}]
["Wairarapa river management schemes ","Flood protection","Land area/inhabited parts/services provided","Where the land is situated (in some cases set under section146 of the Local Government (Rating) Act 2002 using approved classification and differential registers) and/or the benefits accruing through the provision of services and in some cases use","Dollars per hectare in the area protected, or dollars per point attributed to each rating unit and in some cases a fixed charge per separately used or inhabited part (dwelling) 1",{"$f":"+F13","v":"2015 to 2025"}]
["Wairarapa catchment schemes ","Flood protection","Land area/land value/inhabited part(s)","Where the land is situated (in some cases set under S146 of the Local Government (Rating) Act 2002 using approved classification and differential registers) and in some cases use and land value.","Dollars per hectare or cents per metre of river frontage in the area protected and in some cases a fixed charge per separately used or inhabited part (dwelling) and cents per dollar of rateable land value 1",{"$f":"+F14","v":"2015 to 2025"}]
["Wairarapa drainage schemes","Flood protection","Land area","Where the land is situated (Set under S146 of the Local Government (Rating) Act 2002 using approved classification and differential registers).","Dollars per hectare in the area protected",{"$f":"+F15","v":"2015 to 2025"}]
[]
["Differential on the general rate"]
["There are no differentials on Greater Wellington's General Rate.\nGreater Wellington uses an \"estimate of projected valuation\" under section 131 of the Local Government (Rating) Act 2002 to recognise that valuation dates vary across the region. "]
[]
[]
["1\"Separately used or inhabited part\" (dwelling) includes any part of a rating unit separately used or inhabited by the owner or any other person who has the right to use or inhabit that part by virtue of a tenancy, lease, licence or other agreement. At a minimum, the land or premises intended to form the separately used or inhabited part of the rating unit must be capable of actual habitation, or actual separate use. To avoid doubt, a rating unit that has only one use (ie, it does not have separate parts or is vacant land) is treated as being one separately used or inhabited part (dwelling)"]

{"sheet":"For IT","index":34,"n_rows":205,"n_cols":16,"rows_kept":205,"cut":false,"hidden":false,"merged":[]}
["Wellington Regional Council",null,null,null,null,"Note additional codes added for new rating categories and names changes. Highlighted in orange"]
["Figures for IT to upload to website",null,null,null,null,"Changed rounding to 1- dp as figures on GWRC website don’t currently agree to WCC at the cent level"]
[]
["Rate_Class_ID","Rate_Class_Name"]
[1,"Residential"]
[2,"Business",null,null,null,null,null,null,null,null,"per $",null,"TA","Rate","Look up rate name","Category"]
[3,"Rural",null,null,null,"TA_ID","Rate_Class_ID","Rates_ID","Rates_Status_ID","Rates_year","Rates_value"]
[4,"Regional CBD",null,null,null,41,1,1,1,{"$f":"year_current","v":"2018/19"},{"$f":"ROUND(INDEX('Comparison - Category'!$AA$80:$AG$105,MATCH(M8&P8,'Comparison - Category'!$C$80:$C$105,0),MATCH(O8,'Comparison - Category'!$AA$65:$AG$65,0)),10)","v":3.44416876E-2},null,{"$f":"VLOOKUP(F8,$A$28:$B$36,2,FALSE)","v":"Wellington city"},{"$f":"VLOOKUP(H8,$A$17:$B$24,2,FALSE)","v":"General rate"},{"$f":"VLOOKUP(H8,$A$17:$C$24,3,FALSE)","v":"General rate"},{"$f":"VLOOKUP(G8,$A$5:$B$8,2,FALSE)","v":"Residential"}]
[null,null,null,null,null,{"$f":"+F8","v":41},1,2,{"$f":"+I8","v":1},"2018/19",{"$f":"ROUND(INDEX('Comparison - Category'!$AA$80:$AG$105,MATCH(M9&P9,'Comparison - Category'!$C$80:$C$105,0),MATCH(O9,'Comparison - Category'!$AA$65:$AG$65,0)),10)","v":0},null,{"$f":"VLOOKUP(F9,$A$28:$B$36,2,FALSE)","v":"Wellington city"},{"$f":"VLOOKUP(H9,$A$17:$B$24,2,FALSE)","v":"River management rate"},{"$f":"VLOOKUP(H9,$A$17:$C$24,3,FALSE)","v":"River management rate"},"Residential"]
[null,null,null,null,null,41,1,3,{"$f":"+I9","v":1},"2018/19",{"$f":"ROUND(INDEX('Comparison - Category'!$AA$80:$AG$105,MATCH(M10&P10,'Comparison - Category'!$C$80:$C$105,0),MATCH(O10,'Comparison - Category'!$AA$65:$AG$65,0)),10)","v":3.5859594299999999E-2},null,"Wellington city","Public transport rate","Public transport rate","Residential"]
["Rates_status_ID","Rates_status",null,null,null,41,1,4,1,"2018/19",{"$f":"ROUND(INDEX('Comparison - Category'!$AA$80:$AG$105,MATCH(M11&P11,'Comparison - Category'!$C$80:$C$105,0),MATCH(O11,'Comparison - Category'!$AA$65:$AG$65,0)),10)","v":0},null,"Wellington city","Stadium purposes rate","Stadium purposes rate","Residential"]
[1,"Draft",null,null,null,41,1,5,1,"2018/19",{"$f":"ROUND(INDEX('Comparison - Category'!$AA$80:$AG$105,MATCH(M12&P12,'Comparison - Category'!$C$80:$C$105,0),MATCH(O12,'Comparison - Category'!$AA$65:$AG$65,0)),10)","v":14},null,"Wellington city","Regional strategy rate","Regional strategy rate","Residential"]
[2,"Approved",null,null,null,{"$f":"+F12","v":41},1,7,1,"2018/19",{"$f":"ROUND(INDEX('Comparison - Category'!$AA$80:$AG$105,MATCH(M13&P13,'Comparison - Category'!$C$80:$C$105,0),MATCH(O13,'Comparison - Category'!$AA$65:$AG$65,0)),10)","v":9.2006047999999997E-3},null,{"$f":"VLOOKUP(F13,$A$28:$B$36,2,FALSE)","v":"Wellington city"},{"$f":"VLOOKUP(H13,$A$17:$B$24,2,FALSE)","v":"Flood protection – regional rate"},"Flood protection – regional rate",{"$f":"VLOOKUP(G13,$A$5:$B$8,2,FALSE)","v":"Residential"}]
[null,null,null,null,null,41,1,8,1,"2018/19",{"$f":"ROUND(INDEX('Comparison - Category'!$AA$80:$AG$105,MATCH(M14&P14,'Comparison - Category'!$C$80:$C$105,0),MATCH(O14,'Comparison - Category'!$AA$65:$AG$65,0)),10)","v":1.0478150000000001E-4},null,"Wellington city","Flood protection – catchment rate","Flood protection – catchment rate","Residential"]
[null,null,null,null,null,41,{"$f":"G8+1","v":2},1,1,"2018/19",{"$f":"ROUND(INDEX('Comparison - Category'!$AA$80:$AG$105,MATCH(M15&P15,'Comparison - Category'!$C$80:$C$105,0),MATCH(O15,'Comparison - Category'!$AA$65:$AG$65,0)),10)","v":3.44416876E-2},null,"Wellington city","General rate","General rate","Business"]
["Rate_ID","Rate_Name","Model",null,null,41,2,2,1,"2018/19",{"$f":"ROUND(INDEX('Comparison - Category'!$AA$80:$AG$105,MATCH(M16&P16,'Comparison - Category'!$C$80:$C$105,0),MATCH(O16,'Comparison - Category'!$AA$65:$AG$65,0)),10)","v":0},null,"Wellington city","River management rate","River management rate","Business"]
[1,"General rate","General rate",null,null,41,2,3,1,"2018/19",{"$f":"ROUND(INDEX('Comparison - Category'!$AA$80:$AG$105,MATCH(M17&P17,'Comparison - Category'!$C$80:$C$105,0),MATCH(O17,'Comparison - Category'!$AA$65:$AG$65,0)),10)","v":4.3581150700000001E-2},null,"Wellington city","Public transport rate","Public transport rate","Business"]
[2,"River management rate","River management rate",null,null,41,2,4,1,"2018/19",{"$f":"ROUND(INDEX('Comparison - Category'!$AA$80:$AG$105,MATCH(M18&P18,'Comparison - Category'!$C$80:$C$105,0),MATCH(O18,'Comparison - Category'!$AA$65:$AG$65,0)),10)","v":0},null,"Wellington city","Stadium purposes rate","Stadium purposes rate","Business"]
[3,"Public transport rate","Public transport rate",null,null,41,2,6,1,"2018/19",{"$f":"ROUND(INDEX('Comparison - Category'!$AA$80:$AG$105,MATCH(M19&P19,'Comparison - Category'!$C$80:$C$105,0),MATCH(O19,'Comparison - Category'!$AA$65:$AG$65,0)),10)","v":1.13860544E-2},null,"Wellington city","Regional strategy rate - Business","Regional strategy rate","Business"]
[4,"Stadium purposes rate","Stadium purposes rate",null,null,41,2,7,1,"2018/19",{"$f":"ROUND(INDEX('Comparison - Category'!$AA$80:$AG$105,MATCH(M20&P20,'Comparison - Category'!$C$80:$C$105,0),MATCH(O20,'Comparison - Category'!$AA$65:$AG$65,0)),10)","v":9.2006047999999997E-3},null,"Wellington city","Flood protection – regional rate","Flood protection – regional rate","Business"]
[5,"Regional strategy rate","Regional strategy rate",null,null,41,{"$f":"G14+1","v":2},8,1,"2018/19",{"$f":"ROUND(INDEX('Comparison - Category'!$AA$80:$AG$105,MATCH(M21&P21,'Comparison - Category'!$C$80:$C$105,0),MATCH(O21,'Comparison - Category'!$AA$65:$AG$65,0)),10)","v":1.0478150000000001E-4},null,"Wellington city","Flood protection – catchment rate","Flood protection – catchment rate","Business"]
[6,"Regional strategy rate - Business","Regional strategy rate",null,null,41,3,1,1,"2018/19",{"$f":"ROUND(INDEX('Comparison - Category'!$AA$80:$AG$105,MATCH(M22&P22,'Comparison - Category'!$C$80:$C$105,0),MATCH(O22,'Comparison - Category'!$AA$65:$AG$65,0)),10)","v":3.44416876E-2},null,"Wellington city","General rate","General rate","Rural"]
[7,"Flood protection – regional rate","Flood protection – regional rate",null,null,41,3,2,1,"2018/19",{"$f":"ROUND(INDEX('Comparison - Category'!$AA$80:$AG$105,MATCH(M23&P23,'Comparison - Category'!$C$80:$C$105,0),MATCH(O23,'Comparison - Category'!$AA$65:$AG$65,0)),10)","v":0},null,"Wellington city","River management rate","River management rate","Rural"]
[8,"Flood protection – catchment rate","Flood protection – catchment rate",null,null,41,3,3,1,"2018/19",{"$f":"ROUND(INDEX('Comparison - Category'!$AA$80:$AG$105,MATCH(M24&P24,'Comparison - Category'!$C$80:$C$105,0),MATCH(O24,'Comparison - Category'!$AA$65:$AG$65,0)),10)","v":9.1045866000000007E-3},null,"Wellington city","Public transport rate","Public transport rate","Rural"]
[null,null,null,null,null,41,3,4,1,"2018/19",{"$f":"ROUND(INDEX('Comparison - Category'!$AA$80:$AG$105,MATCH(M25&P25,'Comparison - Category'!$C$80:$C$105,0),MATCH(O25,'Comparison - Category'!$AA$65:$AG$65,0)),10)","v":0},null,"Wellington city","Stadium purposes rate","Stadium purposes rate","Rural"]
[null,null,null,null,null,41,3,5,1,"2018/19",{"$f":"ROUND(INDEX('Comparison - Category'!$AA$80:$AG$105,MATCH(M26&P26,'Comparison - Category'!$C$80:$C$105,0),MATCH(O26,'Comparison - Category'!$AA$65:$AG$65,0)),10)","v":28},null,"Wellington city","Regional strategy rate","Regional strategy rate","Rural"]
["TA_ID","TA_NAME",null,null,null,41,3,7,1,"2018/19",{"$f":"ROUND(INDEX('Comparison - Category'!$AA$80:$AG$105,MATCH(M27&P27,'Comparison - Category'!$C$80:$C$105,0),MATCH(O27,'Comparison - Category'!$AA$65:$AG$65,0)),10)","v":9.2006047999999997E-3},null,"Wellington city","Flood protection – regional rate","Flood protection – regional rate","Rural"]
[41,"Wellington city",null,null,null,41,3,8,1,"2018/19",{"$f":"ROUND(INDEX('Comparison - Category'!$AA$80:$AG$105,MATCH(M28&P28,'Comparison - Category'!$C$80:$C$105,0),MATCH(O28,'Comparison - Category'!$AA$65:$AG$65,0)),10)","v":1.0478150000000001E-4},null,"Wellington city","Flood protection – catchment rate","Flood protection – catchment rate","Rural"]
[42,"Hutt city",null,null,null,41,4,1,1,"2018/19",{"$f":"ROUND(INDEX('Comparison - Category'!$AA$80:$AG$105,MATCH(M29&P29,'Comparison - Category'!$C$80:$C$105,0),MATCH(O29,'Comparison - Category'!$AA$65:$AG$65,0)),10)","v":3.44416876E-2},null,"Wellington city","General rate","General rate","Regional CBD"]
[43,"Upper Hutt city",null,null,null,41,4,2,1,"2018/19",{"$f":"ROUND(INDEX('Comparison - Category'!$AA$80:$AG$105,MATCH(M30&P30,'Comparison - Category'!$C$80:$C$105,0),MATCH(O30,'Comparison - Category'!$AA$65:$AG$65,0)),10)","v":0},null,"Wellington city","River management rate","River management rate","Regional CBD"]
[44,"Porirua city",null,null,null,41,4,3,1,"2018/19",{"$f":"ROUND(INDEX('Comparison - Category'!$AA$80:$AG$105,MATCH(M31&P31,'Comparison - Category'!$C$80:$C$105,0),MATCH(O31,'Comparison - Category'!$AA$65:$AG$65,0)),10)","v":0.3318170573},null,"Wellington city","Public transport rate","Public transport rate","Regional CBD"]
[45,"Kapiti Coast district",null,null,null,41,4,4,1,"2018/19",{"$f":"ROUND(INDEX('Comparison - Category'!$AA$80:$AG$105,MATCH(M32&P32,'Comparison - Category'!$C$80:$C$105,0),MATCH(O32,'Comparison - Category'!$AA$65:$AG$65,0)),10)","v":0},null,"Wellington city","Stadium purposes rate","Stadium purposes rate","Regional CBD"]
[46,"Masterton district",null,null,null,41,4,6,1,"2018/19",{"$f":"ROUND(INDEX('Comparison - Category'!$AA$80:$AG$105,MATCH(M33&P33,'Comparison - Category'!$C$80:$C$105,0),MATCH(O33,'Comparison - Category'!$AA$65:$AG$65,0)),10)","v":1.13860544E-2},null,"Wellington city","Regional strategy rate - Business","Regional strategy rate","Regional CBD"]
[47,"Carterton district",null,null,null,41,4,7,1,"2018/19",{"$f":"ROUND(INDEX('Comparison - Category'!$AA$80:$AG$105,MATCH(M34&P34,'Comparison - Category'!$C$80:$C$105,0),MATCH(O34,'Comparison - Category'!$AA$65:$AG$65,0)),10)","v":9.2006047999999997E-3},null,"Wellington city","Flood protection – regional rate","Flood protection – regional rate","Regional CBD"]
[48,"South Wairarapa district",null,null,null,41,4,8,1,"2018/19",{"$f":"ROUND(INDEX('Comparison - Category'!$AA$80:$AG$105,MATCH(M35&P35,'Comparison - Category'!$C$80:$C$105,0),MATCH(O35,'Comparison - Category'!$AA$65:$AG$65,0)),10)","v":1.0478150000000001E-4},null,"Wellington city","Flood protection – catchment rate","Flood protection – catchment rate","Regional CBD"]
[49,"Tararua district"]
[null,"         Tararua is Rural only",null,null,null,"TA_ID","Rate_Class_ID","Rates_ID","Rates_Status_ID","Rates_year","Rates_value"]
[null,null,null,null,null,42,1,1,{"$f":"$I$8","v":1},{"$f":"year_current","v":"2018/19"},{"$f":"ROUND(INDEX('Comparison - Category'!$AA$80:$AG$105,MATCH(M38&P38,'Comparison - Category'!$C$80:$C$105,0),MATCH(O38,'Comparison - Category'!$AA$65:$AG$65,0)),10)","v":2.91492782E-2},null,{"$f":"VLOOKUP(F38,$A$28:$B$36,2,FALSE)","v":"Hutt city"},{"$f":"VLOOKUP(H38,$A$17:$B$24,2,FALSE)","v":"General rate"},{"$f":"VLOOKUP(H38,$A$17:$C$24,3,FALSE)","v":"General rate"},{"$f":"VLOOKUP(G38,$A$5:$B$8,2,FALSE)","v":"Residential"}]
[null,null,null,null,null,{"$f":"+F38","v":42},{"$f":"+G38","v":1},2,{"$f":"+I38","v":1},"2018/19",{"$f":"ROUND(INDEX('Comparison - Category'!$AA$80:$AG$105,MATCH(M39&P39,'Comparison - Category'!$C$80:$C$105,0),MATCH(O39,'Comparison - Category'!$AA$65:$AG$65,0)),10)","v":0},null,{"$f":"VLOOKUP(F39,$A$28:$B$36,2,FALSE)","v":"Hutt city"},"River management rate","River management rate",{"$f":"VLOOKUP(G39,$A$5:$B$8,2,FALSE)","v":"Residential"}]
[null,null,null,null,null,42,1,3,{"$f":"+I39","v":1},"2018/19",{"$f":"ROUND(INDEX('Comparison - Category'!$AA$80:$AG$105,MATCH(M40&P40,'Comparison - Category'!$C$80:$C$105,0),MATCH(O40,'Comparison - Category'!$AA$65:$AG$65,0)),10)","v":5.0197815700000002E-2},null,"Hutt city","Public transport rate","Public transport rate",{"$f":"VLOOKUP(G40,$A$5:$B$8,2,FALSE)","v":"Residential"}]
[null,null,null,null,null,42,1,4,1,"2018/19",{"$f":"ROUND(INDEX('Comparison - Category'!$AA$80:$AG$105,MATCH(M41&P41,'Comparison - Category'!$C$80:$C$105,0),MATCH(O41,'Comparison - Category'!$AA$65:$AG$65,0)),10)","v":0},null,"Hutt city","Stadium purposes rate","Stadium purposes rate",{"$f":"VLOOKUP(G41,$A$5:$B$8,2,FALSE)","v":"Residential"}]
[null,null,null,null,null,42,1,5,1,"2018/19",{"$f":"ROUND(INDEX('Comparison - Category'!$AA$80:$AG$105,MATCH(M42&P42,'Comparison - Category'!$C$80:$C$105,0),MATCH(O42,'Comparison - Category'!$AA$65:$AG$65,0)),10)","v":14},null,{"$f":"VLOOKUP(F42,$A$28:$B$36,2,FALSE)","v":"Hutt city"},"Regional strategy rate","Regional strategy rate",{"$f":"VLOOKUP(G42,$A$5:$B$8,2,FALSE)","v":"Residential"}]
[null,null,null,null,null,{"$f":"+F42","v":42},{"$f":"+G42","v":1},7,1,"2018/19",{"$f":"ROUND(INDEX('Comparison - Category'!$AA$80:$AG$105,MATCH(M43&P43,'Comparison - Category'!$C$80:$C$105,0),MATCH(O43,'Comparison - Category'!$AA$65:$AG$65,0)),10)","v":7.7868132000000001E-3},null,"Hutt city","Flood protection – regional rate","Flood protection – regional rate","Residential"]
[null,null,null,null,null,{"$f":"+F43","v":42},{"$f":"+G43","v":1},8,1,"2018/19",{"$f":"ROUND(INDEX('Comparison - Category'!$AA$80:$AG$105,MATCH(M44&P44,'Comparison - Category'!$C$80:$C$105,0),MATCH(O44,'Comparison - Category'!$AA$65:$AG$65,0)),10)","v":2.4250758899999999E-2},null,"Hutt city","Flood protection – catchment rate","Flood protection – catchment rate","Residential"]
[null,null,null,null,null,{"$f":"+F44","v":42},2,1,1,"2018/19",{"$f":"ROUND(INDEX('Comparison - Category'!$AA$80:$AG$105,MATCH(M45&P45,'Comparison - Category'!$C$80:$C$105,0),MATCH(O45,'Comparison - Category'!$AA$65:$AG$65,0)),10)","v":2.91492782E-2},null,"Hutt city","General rate","General rate","Business"]
[null,null,null,null,null,{"$f":"+F45","v":42},{"$f":"+G45","v":2},2,1,"2018/19",{"$f":"ROUND(INDEX('Comparison - Category'!$AA$80:$AG$105,MATCH(M46&P46,'Comparison - Category'!$C$80:$C$105,0),MATCH(O46,'Comparison - Category'!$AA$65:$AG$65,0)),10)","v":0},null,"Hutt city","River management rate","River management rate","Business"]
[null,null,null,null,null,{"$f":"+F46","v":42},2,3,1,"2018/19",{"$f":"ROUND(INDEX('Comparison - Category'!$AA$80:$AG$105,MATCH(M47&P47,'Comparison - Category'!$C$80:$C$105,0),MATCH(O47,'Comparison - Category'!$AA$65:$AG$65,0)),10)","v":5.6732855399999997E-2},null,"Hutt city","Public transport rate","Public transport rate","Business"]
[null,null,null,null,null,{"$f":"+F47","v":42},2,4,1,"2018/19",{"$f":"ROUND(INDEX('Comparison - Category'!$AA$80:$AG$105,MATCH(M48&P48,'Comparison - Category'!$C$80:$C$105,0),MATCH(O48,'Comparison - Category'!$AA$65:$AG$65,0)),10)","v":0},null,"Hutt city","Stadium purposes rate","Stadium purposes rate","Business"]
[null,null,null,null,null,{"$f":"+F48","v":42},2,6,1,"2018/19",{"$f":"ROUND(INDEX('Comparison - Category'!$AA$80:$AG$105,MATCH(M49&P49,'Comparison - Category'!$C$80:$C$105,0),MATCH(O49,'Comparison - Category'!$AA$65:$AG$65,0)),10)","v":9.6364403000000001E-3},null,"Hutt city","Regional strategy rate - Business","Regional strategy rate","Business"]
[null,null,null,null,null,{"$f":"+F49","v":42},{"$f":"+G49","v":2},7,1,"2018/19",{"$f":"ROUND(INDEX('Comparison - Category'!$AA$80:$AG$105,MATCH(M50&P50,'Comparison - Category'!$C$80:$C$105,0),MATCH(O50,'Comparison - Category'!$AA$65:$AG$65,0)),10)","v":7.7868132000000001E-3},null,"Hutt city","Flood protection – regional rate","Flood protection – regional rate","Business"]
[null,null,null,null,null,{"$f":"+F50","v":42},{"$f":"+G50","v":2},8,1,"2018/19",{"$f":"ROUND(INDEX('Comparison - Category'!$AA$80:$AG$105,MATCH(M51&P51,'Comparison - Category'!$C$80:$C$105,0),MATCH(O51,'Comparison - Category'!$AA$65:$AG$65,0)),10)","v":2.4250758899999999E-2},null,"Hutt city","Flood protection – catchment rate","Flood protection – catchment rate","Business"]
[null,null,null,null,null,{"$f":"+F51","v":42},3,1,1,"2018/19",{"$f":"ROUND(INDEX('Comparison - Category'!$AA$80:$AG$105,MATCH(M52&P52,'Comparison - Category'!$C$80:$C$105,0),MATCH(O52,'Comparison - Category'!$AA$65:$AG$65,0)),10)","v":2.91492782E-2},null,"Hutt city","General rate","General rate","Rural"]
[null,null,null,null,null,{"$f":"+F52","v":42},{"$f":"+G52","v":3},2,1,"2018/19",{"$f":"ROUND(INDEX('Comparison - Category'!$AA$80:$AG$105,MATCH(M53&P53,'Comparison - Category'!$C$80:$C$105,0),MATCH(O53,'Comparison - Category'!$AA$65:$AG$65,0)),10)","v":0},null,"Hutt city","River management rate","River management rate","Rural"]
[null,null,null,null,null,{"$f":"+F53","v":42},3,3,1,"2018/19",{"$f":"ROUND(INDEX('Comparison - Category'!$AA$80:$AG$105,MATCH(M54&P54,'Comparison - Category'!$C$80:$C$105,0),MATCH(O54,'Comparison - Category'!$AA$65:$AG$65,0)),10)","v":1.27292984E-2},null,"Hutt city","Public transport rate","Public transport rate","Rural"]
[null,null,null,null,null,{"$f":"+F54","v":42},3,4,1,"2018/19",{"$f":"ROUND(INDEX('Comparison - Category'!$AA$80:$AG$105,MATCH(M55&P55,'Comparison - Category'!$C$80:$C$105,0),MATCH(O55,'Comparison - Category'!$AA$65:$AG$65,0)),10)","v":0},null,"Hutt city","Stadium purposes rate","Stadium purposes rate","Rural"]
[null,null,null,null,null,{"$f":"+F55","v":42},3,5,1,"2018/19",{"$f":"ROUND(INDEX('Comparison - Category'!$AA$80:$AG$105,MATCH(M56&P56,'Comparison - Category'!$C$80:$C$105,0),MATCH(O56,'Comparison - Category'!$AA$65:$AG$65,0)),10)","v":28},null,"Hutt city","Regional strategy rate","Regional strategy rate","Rural"]
[null,null,null,null,null,{"$f":"+F56","v":42},{"$f":"+G56","v":3},7,1,"2018/19",{"$f":"ROUND(INDEX('Comparison - Category'!$AA$80:$AG$105,MATCH(M57&P57,'Comparison - Category'!$C$80:$C$105,0),MATCH(O57,'Comparison - Category'!$AA$65:$AG$65,0)),10)","v":7.7868132000000001E-3},null,"Hutt city","Flood protection – regional rate","Flood protection – regional rate","Rural"]
[null,null,null,null,null,{"$f":"+F57","v":42},{"$f":"+G57","v":3},8,1,"2018/19",{"$f":"ROUND(INDEX('Comparison - Category'!$AA$80:$AG$105,MATCH(M58&P58,'Comparison - Category'!$C$80:$C$105,0),MATCH(O58,'Comparison - Category'!$AA$65:$AG$65,0)),10)","v":2.4250758899999999E-2},null,"Hutt city","Flood protection – catchment rate","Flood protection – catchment rate","Rural"]
[]
[null,null,null,null,null,"TA_ID","Rate_Class_ID","Rates_ID","Rates_Status_ID","Rates_year","Rates_value"]
[null,null,null,null,null,43,1,1,{"$f":"$I$8","v":1},{"$f":"year_current","v":"2018/19"},{"$f":"ROUND(INDEX('Comparison - Category'!$AA$80:$AG$105,MATCH(M61&P61,'Comparison - Category'!$C$80:$C$105,0),MATCH(O61,'Comparison - Category'!$AA$65:$AG$65,0)),10)","v":2.9065086399999999E-2},null,{"$f":"VLOOKUP(F61,$A$28:$B$36,2,FALSE)","v":"Upper Hutt city"},{"$f":"VLOOKUP(H61,$A$17:$B$24,2,FALSE)","v":"General rate"},{"$f":"VLOOKUP(H61,$A$17:$C$24,3,FALSE)","v":"General rate"},{"$f":"VLOOKUP(G61,$A$5:$B$8,2,FALSE)","v":"Residential"}]
[null,null,null,null,null,{"$f":"+F61","v":43},{"$f":"+G61","v":1},2,{"$f":"+I61","v":1},"2018/19",{"$f":"ROUND(INDEX('Comparison - Category'!$AA$80:$AG$105,MATCH(M62&P62,'Comparison - Category'!$C$80:$C$105,0),MATCH(O62,'Comparison - Category'!$AA$65:$AG$65,0)),10)","v":0},null,{"$f":"VLOOKUP(F62,$A$28:$B$36,2,FALSE)","v":"Upper Hutt city"},"River management rate","River management rate","Residential"]
[null,null,null,null,null,{"$f":"+F62","v":43},1,3,{"$f":"+I62","v":1},"2018/19",{"$f":"ROUND(INDEX('Comparison - Category'!$AA$80:$AG$105,MATCH(M63&P63,'Comparison - Category'!$C$80:$C$105,0),MATCH(O63,'Comparison - Category'!$AA$65:$AG$65,0)),10)","v":5.46520271E-2},null,"Upper Hutt city","Public transport rate","Public transport rate","Residential"]
[null,null,null,null,null,{"$f":"+F63","v":43},1,4,1,"2018/19",{"$f":"ROUND(INDEX('Comparison - Category'!$AA$80:$AG$105,MATCH(M64&P64,'Comparison - Category'!$C$80:$C$105,0),MATCH(O64,'Comparison - Category'!$AA$65:$AG$65,0)),10)","v":0},null,"Upper Hutt city","Stadium purposes rate","Stadium purposes rate","Residential"]
[null,null,null,null,null,{"$f":"+F64","v":43},1,5,1,"2018/19",{"$f":"ROUND(INDEX('Comparison - Category'!$AA$80:$AG$105,MATCH(M65&P65,'Comparison - Category'!$C$80:$C$105,0),MATCH(O65,'Comparison - Category'!$AA$65:$AG$65,0)),10)","v":14},null,"Upper Hutt city","Regional strategy rate","Regional strategy rate","Residential"]
[null,null,null,null,null,43,1,7,1,"2018/19",{"$f":"ROUND(INDEX('Comparison - Category'!$AA$80:$AG$105,MATCH(M66&P66,'Comparison - Category'!$C$80:$C$105,0),MATCH(O66,'Comparison - Category'!$AA$65:$AG$65,0)),10)","v":7.7643225999999999E-3},null,"Upper Hutt city","Flood protection – regional rate","Flood protection – regional rate","Residential"]
[null,null,null,null,null,43,1,8,1,"2018/19",{"$f":"ROUND(INDEX('Comparison - Category'!$AA$80:$AG$105,MATCH(M67&P67,'Comparison - Category'!$C$80:$C$105,0),MATCH(O67,'Comparison - Category'!$AA$65:$AG$65,0)),10)","v":1.08447622E-2},null,"Upper Hutt city","Flood protection – catchment rate","Flood protection – catchment rate","Residential"]
[null,null,null,null,null,43,2,1,1,"2018/19",{"$f":"ROUND(INDEX('Comparison - Category'!$AA$80:$AG$105,MATCH(M68&P68,'Comparison - Category'!$C$80:$C$105,0),MATCH(O68,'Comparison - Category'!$AA$65:$AG$65,0)),10)","v":2.9065086399999999E-2},null,"Upper Hutt city","General rate","General rate","Business"]
[null,null,null,null,null,43,2,2,1,"2018/19",{"$f":"ROUND(INDEX('Comparison - Category'!$AA$80:$AG$105,MATCH(M69&P69,'Comparison - Category'!$C$80:$C$105,0),MATCH(O69,'Comparison - Category'!$AA$65:$AG$65,0)),10)","v":0},null,"Upper Hutt city","River management rate","River management rate","Business"]
[null,null,null,null,null,43,2,3,1,"2018/19",{"$f":"ROUND(INDEX('Comparison - Category'!$AA$80:$AG$105,MATCH(M70&P70,'Comparison - Category'!$C$80:$C$105,0),MATCH(O70,'Comparison - Category'!$AA$65:$AG$65,0)),10)","v":6.1168191599999998E-2},null,"Upper Hutt city","Public transport rate","Public transport rate","Business"]
[null,null,null,null,null,43,2,4,1,"2018/19",{"$f":"ROUND(INDEX('Comparison - Category'!$AA$80:$AG$105,MATCH(M71&P71,'Comparison - Category'!$C$80:$C$105,0),MATCH(O71,'Comparison - Category'!$AA$65:$AG$65,0)),10)","v":0},null,"Upper Hutt city","Stadium purposes rate","Stadium purposes rate","Business"]
[null,null,null,null,null,43,2,6,1,"2018/19",{"$f":"ROUND(INDEX('Comparison - Category'!$AA$80:$AG$105,MATCH(M72&P72,'Comparison - Category'!$C$80:$C$105,0),MATCH(O72,'Comparison - Category'!$AA$65:$AG$65,0)),10)","v":9.6086074E-3},null,"Upper Hutt city","Regional strategy rate - Business","Regional strategy rate","Business"]
[null,null,null,null,null,43,2,7,1,"2018/19",{"$f":"ROUND(INDEX('Comparison - Category'!$AA$80:$AG$105,MATCH(M73&P73,'Comparison - Category'!$C$80:$C$105,0),MATCH(O73,'Comparison - Category'!$AA$65:$AG$65,0)),10)","v":7.7643225999999999E-3},null,"Upper Hutt city","Flood protection – regional rate","Flood protection – regional rate","Business"]
[null,null,null,null,null,43,2,8,1,"2018/19",{"$f":"ROUND(INDEX('Comparison - Category'!$AA$80:$AG$105,MATCH(M74&P74,'Comparison - Category'!$C$80:$C$105,0),MATCH(O74,'Comparison - Category'!$AA$65:$AG$65,0)),10)","v":1.08447622E-2},null,"Upper Hutt city","Flood protection – catchment rate","Flood protection – catchment rate","Business"]
[null,null,null,null,null,43,3,1,1,"2018/19",{"$f":"ROUND(INDEX('Comparison - Category'!$AA$80:$AG$105,MATCH(M75&P75,'Comparison - Category'!$C$80:$C$105,0),MATCH(O75,'Comparison - Category'!$AA$65:$AG$65,0)),10)","v":2.9065086399999999E-2},null,"Upper Hutt city","General rate","General rate","Rural"]
[null,null,null,null,null,43,3,2,1,"2018/19",{"$f":"ROUND(INDEX('Comparison - Category'!$AA$80:$AG$105,MATCH(M76&P76,'Comparison - Category'!$C$80:$C$105,0),MATCH(O76,'Comparison - Category'!$AA$65:$AG$65,0)),10)","v":0},null,"Upper Hutt city","River management rate","River management rate","Rural"]
[null,null,null,null,null,43,3,3,1,"2018/19",{"$f":"ROUND(INDEX('Comparison - Category'!$AA$80:$AG$105,MATCH(M77&P77,'Comparison - Category'!$C$80:$C$105,0),MATCH(O77,'Comparison - Category'!$AA$65:$AG$65,0)),10)","v":1.3865374E-2},null,"Upper Hutt city","Public transport rate","Public transport rate","Rural"]
[null,null,null,null,null,43,3,4,1,"2018/19",{"$f":"ROUND(INDEX('Comparison - Category'!$AA$80:$AG$105,MATCH(M78&P78,'Comparison - Category'!$C$80:$C$105,0),MATCH(O78,'Comparison - Category'!$AA$65:$AG$65,0)),10)","v":0},null,"Upper Hutt city","Stadium purposes rate","Stadium purposes rate","Rural"]
[null,null,null,null,null,43,3,5,1,"2018/19",{"$f":"ROUND(INDEX('Comparison - Category'!$AA$80:$AG$105,MATCH(M79&P79,'Comparison - Category'!$C$80:$C$105,0),MATCH(O79,'Comparison - Category'!$AA$65:$AG$65,0)),10)","v":28},null,"Upper Hutt city","Regional strategy rate","Regional strategy rate","Rural"]
[null,null,null,null,null,43,3,7,1,"2018/19",{"$f":"ROUND(INDEX('Comparison - Category'!$AA$80:$AG$105,MATCH(M80&P80,'Comparison - Category'!$C$80:$C$105,0),MATCH(O80,'Comparison - Category'!$AA$65:$AG$65,0)),10)","v":7.7643225999999999E-3},null,"Upper Hutt city","Flood protection – regional rate","Flood protection – regional rate","Rural"]
[null,null,null,null,null,{"$f":"+F80","v":43},3,8,1,"2018/19",{"$f":"ROUND(INDEX('Comparison - Category'!$AA$80:$AG$105,MATCH(M81&P81,'Comparison - Category'!$C$80:$C$105,0),MATCH(O81,'Comparison - Category'!$AA$65:$AG$65,0)),10)","v":1.08447622E-2},null,"Upper Hutt city","Flood protection – catchment rate","Flood protection – catchment rate","Rural"]
[]
[null,null,null,null,null,"TA_ID","Rate_Class_ID","Rates_ID","Rates_Status_ID","Rates_year","Rates_value"]
[null,null,null,null,null,44,1,1,{"$f":"$I$8","v":1},{"$f":"year_current","v":"2018/19"},{"$f":"ROUND(INDEX('Comparison - Category'!$AA$80:$AG$105,MATCH(M84&P84,'Comparison - Category'!$C$80:$C$105,0),MATCH(O84,'Comparison - Category'!$AA$65:$AG$65,0)),10)","v":2.88745984E-2},null,{"$f":"VLOOKUP(F84,$A$28:$B$36,2,FALSE)","v":"Porirua city"},{"$f":"VLOOKUP(H84,$A$17:$B$24,2,FALSE)","v":"General rate"},{"$f":"VLOOKUP(H84,$A$17:$C$24,3,FALSE)","v":"General rate"},{"$f":"VLOOKUP(G84,$A$5:$B$8,2,FALSE)","v":"Residential"}]
[null,null,null,null,null,{"$f":"+F84","v":44},{"$f":"+G84","v":1},2,{"$f":"+I84","v":1},"2018/19",{"$f":"ROUND(INDEX('Comparison - Category'!$AA$80:$AG$105,MATCH(M85&P85,'Comparison - Category'!$C$80:$C$105,0),MATCH(O85,'Comparison - Category'!$AA$65:$AG$65,0)),10)","v":0},null,{"$f":"VLOOKUP(F85,$A$28:$B$36,2,FALSE)","v":"Porirua city"},"River management rate","River management rate","Residential"]
[null,null,null,null,null,{"$f":"+F85","v":44},1,3,{"$f":"+I85","v":1},"2018/19",{"$f":"ROUND(INDEX('Comparison - Category'!$AA$80:$AG$105,MATCH(M86&P86,'Comparison - Category'!$C$80:$C$105,0),MATCH(O86,'Comparison - Category'!$AA$65:$AG$65,0)),10)","v":5.5614993199999997E-2},null,"Porirua city","Public transport rate","Public transport rate","Residential"]
[null,null,null,null,null,{"$f":"+F86","v":44},1,4,1,"2018/19",{"$f":"ROUND(INDEX('Comparison - Category'!$AA$80:$AG$105,MATCH(M87&P87,'Comparison - Category'!$C$80:$C$105,0),MATCH(O87,'Comparison - Category'!$AA$65:$AG$65,0)),10)","v":0},null,"Porirua city","Stadium purposes rate","Stadium purposes rate","Residential"]
[null,null,null,null,null,{"$f":"+F87","v":44},1,5,1,"2018/19",{"$f":"ROUND(INDEX('Comparison - Category'!$AA$80:$AG$105,MATCH(M88&P88,'Comparison - Category'!$C$80:$C$105,0),MATCH(O88,'Comparison - Category'!$AA$65:$AG$65,0)),10)","v":14},null,"Porirua city","Regional strategy rate","Regional strategy rate","Residential"]
[null,null,null,null,null,44,1,7,1,"2018/19",{"$f":"ROUND(INDEX('Comparison - Category'!$AA$80:$AG$105,MATCH(M89&P89,'Comparison - Category'!$C$80:$C$105,0),MATCH(O89,'Comparison - Category'!$AA$65:$AG$65,0)),10)","v":7.7134363999999999E-3},null,"Porirua city","Flood protection – regional rate","Flood protection – regional rate","Residential"]
[null,null,null,null,null,44,1,8,1,"2018/19",{"$f":"ROUND(INDEX('Comparison - Category'!$AA$80:$AG$105,MATCH(M90&P90,'Comparison - Category'!$C$80:$C$105,0),MATCH(O90,'Comparison - Category'!$AA$65:$AG$65,0)),10)","v":4.426055E-4},null,"Porirua city","Flood protection – catchment rate","Flood protection – catchment rate","Residential"]
[null,null,null,null,null,44,2,1,1,"2018/19",{"$f":"ROUND(INDEX('Comparison - Category'!$AA$80:$AG$105,MATCH(M91&P91,'Comparison - Category'!$C$80:$C$105,0),MATCH(O91,'Comparison - Category'!$AA$65:$AG$65,0)),10)","v":2.88745984E-2},null,"Porirua city","General rate","General rate","Business"]
[null,null,null,null,null,44,2,2,1,"2018/19",{"$f":"ROUND(INDEX('Comparison - Category'!$AA$80:$AG$105,MATCH(M92&P92,'Comparison - Category'!$C$80:$C$105,0),MATCH(O92,'Comparison - Category'!$AA$65:$AG$65,0)),10)","v":0},null,"Porirua city","River management rate","River management rate","Business"]
[null,null,null,null,null,44,2,3,1,"2018/19",{"$f":"ROUND(INDEX('Comparison - Category'!$AA$80:$AG$105,MATCH(M93&P93,'Comparison - Category'!$C$80:$C$105,0),MATCH(O93,'Comparison - Category'!$AA$65:$AG$65,0)),10)","v":6.2088451900000001E-2},null,"Porirua city","Public transport rate","Public transport rate","Business"]
[null,null,null,null,null,44,2,4,1,"2018/19",{"$f":"ROUND(INDEX('Comparison - Category'!$AA$80:$AG$105,MATCH(M94&P94,'Comparison - Category'!$C$80:$C$105,0),MATCH(O94,'Comparison - Category'!$AA$65:$AG$65,0)),10)","v":0},null,"Porirua city","Stadium purposes rate","Stadium purposes rate","Business"]
[null,null,null,null,null,44,2,6,1,"2018/19",{"$f":"ROUND(INDEX('Comparison - Category'!$AA$80:$AG$105,MATCH(M95&P95,'Comparison - Category'!$C$80:$C$105,0),MATCH(O95,'Comparison - Category'!$AA$65:$AG$65,0)),10)","v":9.5456341000000004E-3},null,"Porirua city","Regional strategy rate - Business","Regional strategy rate","Business"]
[null,null,null,null,null,44,2,7,1,"2018/19",{"$f":"ROUND(INDEX('Comparison - Category'!$AA$80:$AG$105,MATCH(M96&P96,'Comparison - Category'!$C$80:$C$105,0),MATCH(O96,'Comparison - Category'!$AA$65:$AG$65,0)),10)","v":7.7134363999999999E-3},null,"Porirua city","Flood protection – regional rate","Flood protection – regional rate","Business"]
[null,null,null,null,null,44,2,8,1,"2018/19",{"$f":"ROUND(INDEX('Comparison - Category'!$AA$80:$AG$105,MATCH(M97&P97,'Comparison - Category'!$C$80:$C$105,0),MATCH(O97,'Comparison - Category'!$AA$65:$AG$65,0)),10)","v":4.426055E-4},null,"Porirua city","Flood protection – catchment rate","Flood protection – catchment rate","Business"]
[null,null,null,null,null,44,3,1,1,"2018/19",{"$f":"ROUND(INDEX('Comparison - Category'!$AA$80:$AG$105,MATCH(M98&P98,'Comparison - Category'!$C$80:$C$105,0),MATCH(O98,'Comparison - Category'!$AA$65:$AG$65,0)),10)","v":2.88745984E-2},null,"Porirua city","General rate","General rate","Rural"]
[null,null,null,null,null,44,3,2,1,"2018/19",{"$f":"ROUND(INDEX('Comparison - Category'!$AA$80:$AG$105,MATCH(M99&P99,'Comparison - Category'!$C$80:$C$105,0),MATCH(O99,'Comparison - Category'!$AA$65:$AG$65,0)),10)","v":0},null,"Porirua city","River management rate","River management rate","Rural"]
[null,null,null,null,null,44,3,3,1,"2018/19",{"$f":"ROUND(INDEX('Comparison - Category'!$AA$80:$AG$105,MATCH(M100&P100,'Comparison - Category'!$C$80:$C$105,0),MATCH(O100,'Comparison - Category'!$AA$65:$AG$65,0)),10)","v":1.4108299499999999E-2},null,"Porirua city","Public transport rate","Public transport rate","Rural"]
[null,null,null,null,null,44,3,4,1,"2018/19",{"$f":"ROUND(INDEX('Comparison - Category'!$AA$80:$AG$105,MATCH(M101&P101,'Comparison - Category'!$C$80:$C$105,0),MATCH(O101,'Comparison - Category'!$AA$65:$AG$65,0)),10)","v":0},null,"Porirua city","Stadium purposes rate","Stadium purposes rate","Rural"]
[null,null,null,null,null,44,3,5,1,"2018/19",{"$f":"ROUND(INDEX('Comparison - Category'!$AA$80:$AG$105,MATCH(M102&P102,'Comparison - Category'!$C$80:$C$105,0),MATCH(O102,'Comparison - Category'!$AA$65:$AG$65,0)),10)","v":28},null,"Porirua city","Regional strategy rate","Regional strategy rate","Rural"]
[null,null,null,null,null,44,3,7,1,"2018/19",{"$f":"ROUND(INDEX('Comparison - Category'!$AA$80:$AG$105,MATCH(M103&P103,'Comparison - Category'!$C$80:$C$105,0),MATCH(O103,'Comparison - Category'!$AA$65:$AG$65,0)),10)","v":7.7134363999999999E-3},null,"Porirua city","Flood protection – regional rate","Flood protection – regional rate","Rural"]
[null,null,null,null,null,{"$f":"+F103","v":44},3,8,1,"2018/19",{"$f":"ROUND(INDEX('Comparison - Category'!$AA$80:$AG$105,MATCH(M104&P104,'Comparison - Category'!$C$80:$C$105,0),MATCH(O104,'Comparison - Category'!$AA$65:$AG$65,0)),10)","v":4.426055E-4},null,"Porirua city","Flood protection – catchment rate","Flood protection – catchment rate","Rural"]
[]
[null,null,null,null,null,"TA_ID","Rate_Class_ID","Rates_ID","Rates_Status_ID","Rates_year","Rates_value"]
[null,null,null,null,null,45,1,1,{"$f":"$I$8","v":1},{"$f":"year_current","v":"2018/19"},{"$f":"ROUND(INDEX('Comparison - Category'!$AA$80:$AG$105,MATCH(M107&P107,'Comparison - Category'!$C$80:$C$105,0),MATCH(O107,'Comparison - Category'!$AA$65:$AG$65,0)),10)","v":2.5875752599999999E-2},null,{"$f":"VLOOKUP(F107,$A$28:$B$36,2,FALSE)","v":"Kapiti Coast district"},{"$f":"VLOOKUP(H107,$A$17:$B$24,2,FALSE)","v":"General rate"},{"$f":"VLOOKUP(H107,$A$17:$C$24,3,FALSE)","v":"General rate"},{"$f":"VLOOKUP(G107,$A$5:$B$8,2,FALSE)","v":"Residential"}]
[null,null,null,null,null,{"$f":"+F107","v":45},{"$f":"+G107","v":1},2,{"$f":"+I107","v":1},"2018/19",{"$f":"ROUND(INDEX('Comparison - Category'!$AA$80:$AG$105,MATCH(M108&P108,'Comparison - Category'!$C$80:$C$105,0),MATCH(O108,'Comparison - Category'!$AA$65:$AG$65,0)),10)","v":0},null,{"$f":"VLOOKUP(F108,$A$28:$B$36,2,FALSE)","v":"Kapiti Coast district"},"River management rate","River management rate","Residential"]
[null,null,null,null,null,{"$f":"+F108","v":45},1,3,{"$f":"+I108","v":1},"2018/19",{"$f":"ROUND(INDEX('Comparison - Category'!$AA$80:$AG$105,MATCH(M109&P109,'Comparison - Category'!$C$80:$C$105,0),MATCH(O109,'Comparison - Category'!$AA$65:$AG$65,0)),10)","v":2.7937750899999999E-2},null,"Kapiti Coast district","Public transport rate","Public transport rate","Residential"]
[null,null,null,null,null,{"$f":"+F109","v":45},1,4,1,"2018/19",{"$f":"ROUND(INDEX('Comparison - Category'!$AA$80:$AG$105,MATCH(M110&P110,'Comparison - Category'!$C$80:$C$105,0),MATCH(O110,'Comparison - Category'!$AA$65:$AG$65,0)),10)","v":0},null,"Kapiti Coast district","Stadium purposes rate","Stadium purposes rate","Residential"]
[null,null,null,null,null,{"$f":"+F110","v":45},1,5,1,"2018/19",{"$f":"ROUND(INDEX('Comparison - Category'!$AA$80:$AG$105,MATCH(M111&P111,'Comparison - Category'!$C$80:$C$105,0),MATCH(O111,'Comparison - Category'!$AA$65:$AG$65,0)),10)","v":14},null,"Kapiti Coast district","Regional strategy rate","Regional strategy rate","Residential"]
[null,null,null,null,null,45,1,7,1,"2018/19",{"$f":"ROUND(INDEX('Comparison - Category'!$AA$80:$AG$105,MATCH(M112&P112,'Comparison - Category'!$C$80:$C$105,0),MATCH(O112,'Comparison - Category'!$AA$65:$AG$65,0)),10)","v":6.9123376000000004E-3},null,"Kapiti Coast district","Flood protection – regional rate","Flood protection – regional rate","Residential"]
[null,null,null,null,null,45,1,8,1,"2018/19",{"$f":"ROUND(INDEX('Comparison - Category'!$AA$80:$AG$105,MATCH(M113&P113,'Comparison - Category'!$C$80:$C$105,0),MATCH(O113,'Comparison - Category'!$AA$65:$AG$65,0)),10)","v":1.10875994E-2},null,"Kapiti Coast district","Flood protection – catchment rate","Flood protection – catchment rate","Residential"]
[null,null,null,null,null,45,2,1,1,"2018/19",{"$f":"ROUND(INDEX('Comparison - Category'!$AA$80:$AG$105,MATCH(M114&P114,'Comparison - Category'!$C$80:$C$105,0),MATCH(O114,'Comparison - Category'!$AA$65:$AG$65,0)),10)","v":2.5875752599999999E-2},null,"Kapiti Coast district","General rate","General rate","Business"]
[null,null,null,null,null,45,2,2,1,"2018/19",{"$f":"ROUND(INDEX('Comparison - Category'!$AA$80:$AG$105,MATCH(M115&P115,'Comparison - Category'!$C$80:$C$105,0),MATCH(O115,'Comparison - Category'!$AA$65:$AG$65,0)),10)","v":0},null,"Kapiti Coast district","River management rate","River management rate","Business"]
[null,null,null,null,null,45,2,3,1,"2018/19",{"$f":"ROUND(INDEX('Comparison - Category'!$AA$80:$AG$105,MATCH(M116&P116,'Comparison - Category'!$C$80:$C$105,0),MATCH(O116,'Comparison - Category'!$AA$65:$AG$65,0)),10)","v":3.3738891799999997E-2},null,"Kapiti Coast district","Public transport rate","Public transport rate","Business"]
[null,null,null,null,null,45,2,4,1,"2018/19",{"$f":"ROUND(INDEX('Comparison - Category'!$AA$80:$AG$105,MATCH(M117&P117,'Comparison - Category'!$C$80:$C$105,0),MATCH(O117,'Comparison - Category'!$AA$65:$AG$65,0)),10)","v":0},null,"Kapiti Coast district","Stadium purposes rate","Stadium purposes rate","Business"]
[null,null,null,null,null,45,2,6,1,"2018/19",{"$f":"ROUND(INDEX('Comparison - Category'!$AA$80:$AG$105,MATCH(M118&P118,'Comparison - Category'!$C$80:$C$105,0),MATCH(O118,'Comparison - Category'!$AA$65:$AG$65,0)),10)","v":8.5542476999999999E-3},null,"Kapiti Coast district","Regional strategy rate - Business","Regional strategy rate","Business"]
[null,null,null,null,null,45,2,7,1,"2018/19",{"$f":"ROUND(INDEX('Comparison - Category'!$AA$80:$AG$105,MATCH(M119&P119,'Comparison - Category'!$C$80:$C$105,0),MATCH(O119,'Comparison - Category'!$AA$65:$AG$65,0)),10)","v":6.9123376000000004E-3},null,"Kapiti Coast district","Flood protection – regional rate","Flood protection – regional rate","Business"]
[null,null,null,null,null,45,2,8,1,"2018/19",{"$f":"ROUND(INDEX('Comparison - Category'!$AA$80:$AG$105,MATCH(M120&P120,'Comparison - Category'!$C$80:$C$105,0),MATCH(O120,'Comparison - Category'!$AA$65:$AG$65,0)),10)","v":1.10875994E-2},null,"Kapiti Coast district","Flood protection – catchment rate","Flood protection – catchment rate","Business"]
[null,null,null,null,null,45,3,1,1,"2018/19",{"$f":"ROUND(INDEX('Comparison - Category'!$AA$80:$AG$105,MATCH(M121&P121,'Comparison - Category'!$C$80:$C$105,0),MATCH(O121,'Comparison - Category'!$AA$65:$AG$65,0)),10)","v":2.5875752599999999E-2},null,"Kapiti Coast district","General rate","General rate","Rural"]
[null,null,null,null,null,45,3,2,1,"2018/19",{"$f":"ROUND(INDEX('Comparison - Category'!$AA$80:$AG$105,MATCH(M122&P122,'Comparison - Category'!$C$80:$C$105,0),MATCH(O122,'Comparison - Category'!$AA$65:$AG$65,0)),10)","v":0},null,"Kapiti Coast district","River management rate","River management rate","Rural"]
[null,null,null,null,null,45,3,3,1,"2018/19",{"$f":"ROUND(INDEX('Comparison - Category'!$AA$80:$AG$105,MATCH(M123&P123,'Comparison - Category'!$C$80:$C$105,0),MATCH(O123,'Comparison - Category'!$AA$65:$AG$65,0)),10)","v":7.1266801000000003E-3},null,"Kapiti Coast district","Public transport rate","Public transport rate","Rural"]
[null,null,null,null,null,45,3,4,1,"2018/19",{"$f":"ROUND(INDEX('Comparison - Category'!$AA$80:$AG$105,MATCH(M124&P124,'Comparison - Category'!$C$80:$C$105,0),MATCH(O124,'Comparison - Category'!$AA$65:$AG$65,0)),10)","v":0},null,"Kapiti Coast district","Stadium purposes rate","Stadium purposes rate","Rural"]
[null,null,null,null,null,45,3,5,1,"2018/19",{"$f":"ROUND(INDEX('Comparison - Category'!$AA$80:$AG$105,MATCH(M125&P125,'Comparison - Category'!$C$80:$C$105,0),MATCH(O125,'Comparison - Category'!$AA$65:$AG$65,0)),10)","v":28},null,"Kapiti Coast district","Regional strategy rate","Regional strategy rate","Rural"]
[null,null,null,null,null,45,3,7,1,"2018/19",{"$f":"ROUND(INDEX('Comparison - Category'!$AA$80:$AG$105,MATCH(M126&P126,'Comparison - Category'!$C$80:$C$105,0),MATCH(O126,'Comparison - Category'!$AA$65:$AG$65,0)),10)","v":6.9123376000000004E-3},null,"Kapiti Coast district","Flood protection – regional rate","Flood protection – regional rate","Rural"]
[null,null,null,null,null,{"$f":"+F126","v":45},3,8,1,"2018/19",{"$f":"ROUND(INDEX('Comparison - Category'!$AA$80:$AG$105,MATCH(M127&P127,'Comparison - Category'!$C$80:$C$105,0),MATCH(O127,'Comparison - Category'!$AA$65:$AG$65,0)),10)","v":1.10875994E-2},null,"Kapiti Coast district","Flood protection – catchment rate","Flood protection – catchment rate","Rural"]
[]
[null,null,null,null,null,"TA_ID","Rate_Class_ID","Rates_ID","Rates_Status_ID","Rates_year","Rates_value"]
[null,null,null,null,null,46,1,1,{"$f":"$I$8","v":1},{"$f":"year_current","v":"2018/19"},{"$f":"ROUND(INDEX('Comparison - Category'!$AA$80:$AG$105,MATCH(M130&P130,'Comparison - Category'!$C$80:$C$105,0),MATCH(O130,'Comparison - Category'!$AA$65:$AG$65,0)),10)","v":2.5676361500000001E-2},null,{"$f":"VLOOKUP(F130,$A$28:$B$36,2,FALSE)","v":"Masterton district"},{"$f":"VLOOKUP(H130,$A$17:$B$24,2,FALSE)","v":"General rate"},{"$f":"VLOOKUP(H130,$A$17:$C$24,3,FALSE)","v":"General rate"},{"$f":"VLOOKUP(G130,$A$5:$B$8,2,FALSE)","v":"Residential"}]
[null,null,null,null,null,{"$f":"+F130","v":46},{"$f":"+G130","v":1},2,{"$f":"+I130","v":1},"2018/19",{"$f":"ROUND(INDEX('Comparison - Category'!$AA$80:$AG$105,MATCH(M131&P131,'Comparison - Category'!$C$80:$C$105,0),MATCH(O131,'Comparison - Category'!$AA$65:$AG$65,0)),10)","v":0},null,{"$f":"VLOOKUP(F131,$A$28:$B$36,2,FALSE)","v":"Masterton district"},"River management rate","River management rate","Residential"]
[null,null,null,null,null,{"$f":"+F131","v":46},1,3,{"$f":"+I131","v":1},"2018/19",{"$f":"ROUND(INDEX('Comparison - Category'!$AA$80:$AG$105,MATCH(M132&P132,'Comparison - Category'!$C$80:$C$105,0),MATCH(O132,'Comparison - Category'!$AA$65:$AG$65,0)),10)","v":1.1489562599999999E-2},null,"Masterton district","Public transport rate","Public transport rate","Residential"]
[null,null,null,null,null,{"$f":"+F132","v":46},1,4,1,"2018/19",{"$f":"ROUND(INDEX('Comparison - Category'!$AA$80:$AG$105,MATCH(M133&P133,'Comparison - Category'!$C$80:$C$105,0),MATCH(O133,'Comparison - Category'!$AA$65:$AG$65,0)),10)","v":0},null,"Masterton district","Stadium purposes rate","Stadium purposes rate","Residential"]
[null,null,null,null,null,{"$f":"+F133","v":46},1,5,1,"2018/19",{"$f":"ROUND(INDEX('Comparison - Category'!$AA$80:$AG$105,MATCH(M134&P134,'Comparison - Category'!$C$80:$C$105,0),MATCH(O134,'Comparison - Category'!$AA$65:$AG$65,0)),10)","v":14},null,"Masterton district","Regional strategy rate","Regional strategy rate","Residential"]
[null,null,null,null,null,46,1,7,1,"2018/19",{"$f":"ROUND(INDEX('Comparison - Category'!$AA$80:$AG$105,MATCH(M135&P135,'Comparison - Category'!$C$80:$C$105,0),MATCH(O135,'Comparison - Category'!$AA$65:$AG$65,0)),10)","v":6.8590732000000003E-3},null,"Masterton district","Flood protection – regional rate","Flood protection – regional rate","Residential"]
[null,null,null,null,null,46,1,8,1,"2018/19",{"$f":"ROUND(INDEX('Comparison - Category'!$AA$80:$AG$105,MATCH(M136&P136,'Comparison - Category'!$C$80:$C$105,0),MATCH(O136,'Comparison - Category'!$AA$65:$AG$65,0)),10)","v":4.5964713000000001E-3},null,"Masterton district","Flood protection – catchment rate","Flood protection – catchment rate","Residential"]
[null,null,null,null,null,46,2,1,1,"2018/19",{"$f":"ROUND(INDEX('Comparison - Category'!$AA$80:$AG$105,MATCH(M137&P137,'Comparison - Category'!$C$80:$C$105,0),MATCH(O137,'Comparison - Category'!$AA$65:$AG$65,0)),10)","v":2.5676361500000001E-2},null,"Masterton district","General rate","General rate","Business"]
[null,null,null,null,null,46,2,2,1,"2018/19",{"$f":"ROUND(INDEX('Comparison - Category'!$AA$80:$AG$105,MATCH(M138&P138,'Comparison - Category'!$C$80:$C$105,0),MATCH(O138,'Comparison - Category'!$AA$65:$AG$65,0)),10)","v":0},null,"Masterton district","River management rate","River management rate","Business"]
[null,null,null,null,null,46,2,3,1,"2018/19",{"$f":"ROUND(INDEX('Comparison - Category'!$AA$80:$AG$105,MATCH(M139&P139,'Comparison - Category'!$C$80:$C$105,0),MATCH(O139,'Comparison - Category'!$AA$65:$AG$65,0)),10)","v":1.7246001699999999E-2},null,"Masterton district","Public transport rate","Public transport rate","Business"]
[null,null,null,null,null,46,2,4,1,"2018/19",{"$f":"ROUND(INDEX('Comparison - Category'!$AA$80:$AG$105,MATCH(M140&P140,'Comparison - Category'!$C$80:$C$105,0),MATCH(O140,'Comparison - Category'!$AA$65:$AG$65,0)),10)","v":0},null,"Masterton district","Stadium purposes rate","Stadium purposes rate","Business"]
[null,null,null,null,null,46,2,6,1,"2018/19",{"$f":"ROUND(INDEX('Comparison - Category'!$AA$80:$AG$105,MATCH(M141&P141,'Comparison - Category'!$C$80:$C$105,0),MATCH(O141,'Comparison - Category'!$AA$65:$AG$65,0)),10)","v":8.4883310999999996E-3},null,"Masterton district","Regional strategy rate - Business","Regional strategy rate","Business"]
[null,null,null,null,null,46,2,7,1,"2018/19",{"$f":"ROUND(INDEX('Comparison - Category'!$AA$80:$AG$105,MATCH(M142&P142,'Comparison - Category'!$C$80:$C$105,0),MATCH(O142,'Comparison - Category'!$AA$65:$AG$65,0)),10)","v":6.8590732000000003E-3},null,"Masterton district","Flood protection – regional rate","Flood protection – regional rate","Business"]
[null,null,null,null,null,46,2,8,1,"2018/19",{"$f":"ROUND(INDEX('Comparison - Category'!$AA$80:$AG$105,MATCH(M143&P143,'Comparison - Category'!$C$80:$C$105,0),MATCH(O143,'Comparison - Category'!$AA$65:$AG$65,0)),10)","v":4.5964713000000001E-3},null,"Masterton district","Flood protection – catchment rate","Flood protection – catchment rate","Business"]
[null,null,null,null,null,46,3,1,1,"2018/19",{"$f":"ROUND(INDEX('Comparison - Category'!$AA$80:$AG$105,MATCH(M144&P144,'Comparison - Category'!$C$80:$C$105,0),MATCH(O144,'Comparison - Category'!$AA$65:$AG$65,0)),10)","v":2.5676361500000001E-2},null,"Masterton district","General rate","General rate","Rural"]
[null,null,null,null,null,46,3,2,1,"2018/19",{"$f":"ROUND(INDEX('Comparison - Category'!$AA$80:$AG$105,MATCH(M145&P145,'Comparison - Category'!$C$80:$C$105,0),MATCH(O145,'Comparison - Category'!$AA$65:$AG$65,0)),10)","v":0},null,"Masterton district","River management rate","River management rate","Rural"]
[null,null,null,null,null,46,3,3,1,"2018/19",{"$f":"ROUND(INDEX('Comparison - Category'!$AA$80:$AG$105,MATCH(M146&P146,'Comparison - Category'!$C$80:$C$105,0),MATCH(O146,'Comparison - Category'!$AA$65:$AG$65,0)),10)","v":4.5252288000000003E-3},null,"Masterton district","Public transport rate","Public transport rate","Rural"]
[null,null,null,null,null,46,3,4,1,"2018/19",{"$f":"ROUND(INDEX('Comparison - Category'!$AA$80:$AG$105,MATCH(M147&P147,'Comparison - Category'!$C$80:$C$105,0),MATCH(O147,'Comparison - Category'!$AA$65:$AG$65,0)),10)","v":0},null,"Masterton district","Stadium purposes rate","Stadium purposes rate","Rural"]
[null,null,null,null,null,46,3,5,1,"2018/19",{"$f":"ROUND(INDEX('Comparison - Category'!$AA$80:$AG$105,MATCH(M148&P148,'Comparison - Category'!$C$80:$C$105,0),MATCH(O148,'Comparison - Category'!$AA$65:$AG$65,0)),10)","v":28},null,"Masterton district","Regional strategy rate","Regional strategy rate","Rural"]
[null,null,null,null,null,46,3,7,1,"2018/19",{"$f":"ROUND(INDEX('Comparison - Category'!$AA$80:$AG$105,MATCH(M149&P149,'Comparison - Category'!$C$80:$C$105,0),MATCH(O149,'Comparison - Category'!$AA$65:$AG$65,0)),10)","v":6.8590732000000003E-3},null,"Masterton district","Flood protection – regional rate","Flood protection – regional rate","Rural"]
[null,null,null,null,null,{"$f":"+F149","v":46},3,8,1,"2018/19",{"$f":"ROUND(INDEX('Comparison - Category'!$AA$80:$AG$105,MATCH(M150&P150,'Comparison - Category'!$C$80:$C$105,0),MATCH(O150,'Comparison - Category'!$AA$65:$AG$65,0)),10)","v":4.5964713000000001E-3},null,"Masterton district","Flood protection – catchment rate","Flood protection – catchment rate","Rural"]
[]
[null,null,null,null,null,"TA_ID","Rate_Class_ID","Rates_ID","Rates_Status_ID","Rates_year","Rates_value"]
[null,null,null,null,null,47,1,1,{"$f":"$I$8","v":1},{"$f":"year_current","v":"2018/19"},{"$f":"ROUND(INDEX('Comparison - Category'!$AA$80:$AG$105,MATCH(M153&P153,'Comparison - Category'!$C$80:$C$105,0),MATCH(O153,'Comparison - Category'!$AA$65:$AG$65,0)),10)","v":2.5834590899999999E-2},null,{"$f":"VLOOKUP(F153,$A$28:$B$36,2,FALSE)","v":"Carterton district"},{"$f":"VLOOKUP(H153,$A$17:$B$24,2,FALSE)","v":"General rate"},{"$f":"VLOOKUP(H153,$A$17:$C$24,3,FALSE)","v":"General rate"},{"$f":"VLOOKUP(G153,$A$5:$B$8,2,FALSE)","v":"Residential"}]
[null,null,null,null,null,{"$f":"+F153","v":47},{"$f":"+G153","v":1},2,{"$f":"+I153","v":1},"2018/19",{"$f":"ROUND(INDEX('Comparison - Category'!$AA$80:$AG$105,MATCH(M154&P154,'Comparison - Category'!$C$80:$C$105,0),MATCH(O154,'Comparison - Category'!$AA$65:$AG$65,0)),10)","v":0},null,{"$f":"VLOOKUP(F154,$A$28:$B$36,2,FALSE)","v":"Carterton district"},"River management rate","River management rate","Residential"]
[null,null,null,null,null,{"$f":"+F154","v":47},1,3,{"$f":"+I154","v":1},"2018/19",{"$f":"ROUND(INDEX('Comparison - Category'!$AA$80:$AG$105,MATCH(M155&P155,'Comparison - Category'!$C$80:$C$105,0),MATCH(O155,'Comparison - Category'!$AA$65:$AG$65,0)),10)","v":1.6140951800000001E-2},null,"Carterton district","Public transport rate","Public transport rate","Residential"]
[null,null,null,null,null,{"$f":"+F155","v":47},1,4,1,"2018/19",{"$f":"ROUND(INDEX('Comparison - Category'!$AA$80:$AG$105,MATCH(M156&P156,'Comparison - Category'!$C$80:$C$105,0),MATCH(O156,'Comparison - Category'!$AA$65:$AG$65,0)),10)","v":0},null,"Carterton district","Stadium purposes rate","Stadium purposes rate","Residential"]
[null,null,null,null,null,{"$f":"+F156","v":47},1,5,1,"2018/19",{"$f":"ROUND(INDEX('Comparison - Category'!$AA$80:$AG$105,MATCH(M157&P157,'Comparison - Category'!$C$80:$C$105,0),MATCH(O157,'Comparison - Category'!$AA$65:$AG$65,0)),10)","v":14},null,"Carterton district","Regional strategy rate","Regional strategy rate","Residential"]
[null,null,null,null,null,47,1,7,1,"2018/19",{"$f":"ROUND(INDEX('Comparison - Category'!$AA$80:$AG$105,MATCH(M158&P158,'Comparison - Category'!$C$80:$C$105,0),MATCH(O158,'Comparison - Category'!$AA$65:$AG$65,0)),10)","v":6.9013418999999999E-3},null,"Carterton district","Flood protection – regional rate","Flood protection – regional rate","Residential"]
[null,null,null,null,null,47,1,8,1,"2018/19",{"$f":"ROUND(INDEX('Comparison - Category'!$AA$80:$AG$105,MATCH(M159&P159,'Comparison - Category'!$C$80:$C$105,0),MATCH(O159,'Comparison - Category'!$AA$65:$AG$65,0)),10)","v":5.3426827999999999E-3},null,"Carterton district","Flood protection – catchment rate","Flood protection – catchment rate","Residential"]
[null,null,null,null,null,47,2,1,1,"2018/19",{"$f":"ROUND(INDEX('Comparison - Category'!$AA$80:$AG$105,MATCH(M160&P160,'Comparison - Category'!$C$80:$C$105,0),MATCH(O160,'Comparison - Category'!$AA$65:$AG$65,0)),10)","v":2.5834590899999999E-2},null,"Carterton district","General rate","General rate","Business"]
[null,null,null,null,null,47,2,2,1,"2018/19",{"$f":"ROUND(INDEX('Comparison - Category'!$AA$80:$AG$105,MATCH(M161&P161,'Comparison - Category'!$C$80:$C$105,0),MATCH(O161,'Comparison - Category'!$AA$65:$AG$65,0)),10)","v":0},null,"Carterton district","River management rate","River management rate","Business"]
[null,null,null,null,null,47,2,3,1,"2018/19",{"$f":"ROUND(INDEX('Comparison - Category'!$AA$80:$AG$105,MATCH(M162&P162,'Comparison - Category'!$C$80:$C$105,0),MATCH(O162,'Comparison - Category'!$AA$65:$AG$65,0)),10)","v":2.1932864600000001E-2},null,"Carterton district","Public transport rate","Public transport rate","Business"]
[null,null,null,null,null,47,2,4,1,"2018/19",{"$f":"ROUND(INDEX('Comparison - Category'!$AA$80:$AG$105,MATCH(M163&P163,'Comparison - Category'!$C$80:$C$105,0),MATCH(O163,'Comparison - Category'!$AA$65:$AG$65,0)),10)","v":0},null,"Carterton district","Stadium purposes rate","Stadium purposes rate","Business"]
[null,null,null,null,null,47,2,6,1,"2018/19",{"$f":"ROUND(INDEX('Comparison - Category'!$AA$80:$AG$105,MATCH(M164&P164,'Comparison - Category'!$C$80:$C$105,0),MATCH(O164,'Comparison - Category'!$AA$65:$AG$65,0)),10)","v":8.5406401E-3},null,"Carterton district","Regional strategy rate - Business","Regional strategy rate","Business"]
[null,null,null,null,null,47,2,7,1,"2018/19",{"$f":"ROUND(INDEX('Comparison - Category'!$AA$80:$AG$105,MATCH(M165&P165,'Comparison - Category'!$C$80:$C$105,0),MATCH(O165,'Comparison - Category'!$AA$65:$AG$65,0)),10)","v":6.9013418999999999E-3},null,"Carterton district","Flood protection – regional rate","Flood protection – regional rate","Business"]
[null,null,null,null,null,47,2,8,1,"2018/19",{"$f":"ROUND(INDEX('Comparison - Category'!$AA$80:$AG$105,MATCH(M166&P166,'Comparison - Category'!$C$80:$C$105,0),MATCH(O166,'Comparison - Category'!$AA$65:$AG$65,0)),10)","v":5.3426827999999999E-3},null,"Carterton district","Flood protection – catchment rate","Flood protection – catchment rate","Business"]
[null,null,null,null,null,47,3,1,1,"2018/19",{"$f":"ROUND(INDEX('Comparison - Category'!$AA$80:$AG$105,MATCH(M167&P167,'Comparison - Category'!$C$80:$C$105,0),MATCH(O167,'Comparison - Category'!$AA$65:$AG$65,0)),10)","v":2.5834590899999999E-2},null,"Carterton district","General rate","General rate","Rural"]
[null,null,null,null,null,47,3,2,1,"2018/19",{"$f":"ROUND(INDEX('Comparison - Category'!$AA$80:$AG$105,MATCH(M168&P168,'Comparison - Category'!$C$80:$C$105,0),MATCH(O168,'Comparison - Category'!$AA$65:$AG$65,0)),10)","v":0},null,"Carterton district","River management rate","River management rate","Rural"]
[null,null,null,null,null,47,3,3,1,"2018/19",{"$f":"ROUND(INDEX('Comparison - Category'!$AA$80:$AG$105,MATCH(M169&P169,'Comparison - Category'!$C$80:$C$105,0),MATCH(O169,'Comparison - Category'!$AA$65:$AG$65,0)),10)","v":5.6695134000000003E-3},null,"Carterton district","Public transport rate","Public transport rate","Rural"]
[null,null,null,null,null,47,3,4,1,"2018/19",{"$f":"ROUND(INDEX('Comparison - Category'!$AA$80:$AG$105,MATCH(M170&P170,'Comparison - Category'!$C$80:$C$105,0),MATCH(O170,'Comparison - Category'!$AA$65:$AG$65,0)),10)","v":0},null,"Carterton district","Stadium purposes rate","Stadium purposes rate","Rural"]
[null,null,null,null,null,47,3,5,1,"2018/19",{"$f":"ROUND(INDEX('Comparison - Category'!$AA$80:$AG$105,MATCH(M171&P171,'Comparison - Category'!$C$80:$C$105,0),MATCH(O171,'Comparison - Category'!$AA$65:$AG$65,0)),10)","v":28},null,"Carterton district","Regional strategy rate","Regional strategy rate","Rural"]
[null,null,null,null,null,47,3,7,1,"2018/19",{"$f":"ROUND(INDEX('Comparison - Category'!$AA$80:$AG$105,MATCH(M172&P172,'Comparison - Category'!$C$80:$C$105,0),MATCH(O172,'Comparison - Category'!$AA$65:$AG$65,0)),10)","v":6.9013418999999999E-3},null,"Carterton district","Flood protection – regional rate","Flood protection – regional rate","Rural"]
[null,null,null,null,null,{"$f":"+F172","v":47},3,8,1,"2018/19",{"$f":"ROUND(INDEX('Comparison - Category'!$AA$80:$AG$105,MATCH(M173&P173,'Comparison - Category'!$C$80:$C$105,0),MATCH(O173,'Comparison - Category'!$AA$65:$AG$65,0)),10)","v":5.3426827999999999E-3},null,"Carterton district","Flood protection – catchment rate","Flood protection – catchment rate","Rural"]
[]
[null,null,null,null,null,"TA_ID","Rate_Class_ID","Rates_ID","Rates_Status_ID","Rates_year","Rates_value"]
[null,null,null,null,null,48,1,1,{"$f":"$I$8","v":1},{"$f":"year_current","v":"2018/19"},{"$f":"ROUND(INDEX('Comparison - Category'!$AA$80:$AG$105,MATCH(M176&P176,'Comparison - Category'!$C$80:$C$105,0),MATCH(O176,'Comparison - Category'!$AA$65:$AG$65,0)),10)","v":2.60633805E-2},null,{"$f":"VLOOKUP(F176,$A$28:$B$36,2,FALSE)","v":"South Wairarapa district"},{"$f":"VLOOKUP(H176,$A$17:$B$24,2,FALSE)","v":"General rate"},{"$f":"VLOOKUP(H176,$A$17:$C$24,3,FALSE)","v":"General rate"},{"$f":"VLOOKUP(G176,$A$5:$B$8,2,FALSE)","v":"Residential"}]
[null,null,null,null,null,{"$f":"+F176","v":48},{"$f":"+G176","v":1},2,{"$f":"+I176","v":1},"2018/19",{"$f":"ROUND(INDEX('Comparison - Category'!$AA$80:$AG$105,MATCH(M177&P177,'Comparison - Category'!$C$80:$C$105,0),MATCH(O177,'Comparison - Category'!$AA$65:$AG$65,0)),10)","v":0},null,{"$f":"VLOOKUP(F177,$A$28:$B$36,2,FALSE)","v":"South Wairarapa district"},"River management rate","River management rate","Residential"]
[null,null,null,null,null,{"$f":"+F177","v":48},1,3,{"$f":"+I177","v":1},"2018/19",{"$f":"ROUND(INDEX('Comparison - Category'!$AA$80:$AG$105,MATCH(M178&P178,'Comparison - Category'!$C$80:$C$105,0),MATCH(O178,'Comparison - Category'!$AA$65:$AG$65,0)),10)","v":1.9639007699999999E-2},null,"South Wairarapa district","Public transport rate","Public transport rate","Residential"]
[null,null,null,null,null,{"$f":"+F178","v":48},1,4,1,"2018/19",{"$f":"ROUND(INDEX('Comparison - Category'!$AA$80:$AG$105,MATCH(M179&P179,'Comparison - Category'!$C$80:$C$105,0),MATCH(O179,'Comparison - Category'!$AA$65:$AG$65,0)),10)","v":0},null,"South Wairarapa district","Stadium purposes rate","Stadium purposes rate","Residential"]
[null,null,null,null,null,{"$f":"+F179","v":48},1,5,1,"2018/19",{"$f":"ROUND(INDEX('Comparison - Category'!$AA$80:$AG$105,MATCH(M180&P180,'Comparison - Category'!$C$80:$C$105,0),MATCH(O180,'Comparison - Category'!$AA$65:$AG$65,0)),10)","v":14},null,"South Wairarapa district","Regional strategy rate","Regional strategy rate","Residential"]
[null,null,null,null,null,48,1,7,1,"2018/19",{"$f":"ROUND(INDEX('Comparison - Category'!$AA$80:$AG$105,MATCH(M181&P181,'Comparison - Category'!$C$80:$C$105,0),MATCH(O181,'Comparison - Category'!$AA$65:$AG$65,0)),10)","v":6.9624596999999996E-3},null,"South Wairarapa district","Flood protection – regional rate","Flood protection – regional rate","Residential"]
[null,null,null,null,null,48,1,8,1,"2018/19",{"$f":"ROUND(INDEX('Comparison - Category'!$AA$80:$AG$105,MATCH(M182&P182,'Comparison - Category'!$C$80:$C$105,0),MATCH(O182,'Comparison - Category'!$AA$65:$AG$65,0)),10)","v":4.5269962000000002E-3},null,"South Wairarapa district","Flood protection – catchment rate","Flood protection – catchment rate","Residential"]
[null,null,null,null,null,48,2,1,1,"2018/19",{"$f":"ROUND(INDEX('Comparison - Category'!$AA$80:$AG$105,MATCH(M183&P183,'Comparison - Category'!$C$80:$C$105,0),MATCH(O183,'Comparison - Category'!$AA$65:$AG$65,0)),10)","v":2.60633805E-2},null,"South Wairarapa district","General rate","General rate","Business"]
[null,null,null,null,null,48,2,2,1,"2018/19",{"$f":"ROUND(INDEX('Comparison - Category'!$AA$80:$AG$105,MATCH(M184&P184,'Comparison - Category'!$C$80:$C$105,0),MATCH(O184,'Comparison - Category'!$AA$65:$AG$65,0)),10)","v":0},null,"South Wairarapa district","River management rate","River management rate","Business"]
[null,null,null,null,null,48,2,3,1,"2018/19",{"$f":"ROUND(INDEX('Comparison - Category'!$AA$80:$AG$105,MATCH(M185&P185,'Comparison - Category'!$C$80:$C$105,0),MATCH(O185,'Comparison - Category'!$AA$65:$AG$65,0)),10)","v":2.5482213300000001E-2},null,"South Wairarapa district","Public transport rate","Public transport rate","Business"]
[null,null,null,null,null,48,2,4,1,"2018/19",{"$f":"ROUND(INDEX('Comparison - Category'!$AA$80:$AG$105,MATCH(M186&P186,'Comparison - Category'!$C$80:$C$105,0),MATCH(O186,'Comparison - Category'!$AA$65:$AG$65,0)),10)","v":0},null,"South Wairarapa district","Stadium purposes rate","Stadium purposes rate","Business"]
[null,null,null,null,null,48,2,6,1,"2018/19",{"$f":"ROUND(INDEX('Comparison - Category'!$AA$80:$AG$105,MATCH(M187&P187,'Comparison - Category'!$C$80:$C$105,0),MATCH(O187,'Comparison - Category'!$AA$65:$AG$65,0)),10)","v":8.6162754999999994E-3},null,"South Wairarapa district","Regional strategy rate - Business","Regional strategy rate","Business"]
[null,null,null,null,null,48,2,7,1,"2018/19",{"$f":"ROUND(INDEX('Comparison - Category'!$AA$80:$AG$105,MATCH(M188&P188,'Comparison - Category'!$C$80:$C$105,0),MATCH(O188,'Comparison - Category'!$AA$65:$AG$65,0)),10)","v":6.9624596999999996E-3},null,"South Wairarapa district","Flood protection – regional rate","Flood protection – regional rate","Business"]
[null,null,null,null,null,48,2,8,1,"2018/19",{"$f":"ROUND(INDEX('Comparison - Category'!$AA$80:$AG$105,MATCH(M189&P189,'Comparison - Category'!$C$80:$C$105,0),MATCH(O189,'Comparison - Category'!$AA$65:$AG$65,0)),10)","v":4.5269962000000002E-3},null,"South Wairarapa district","Flood protection – catchment rate","Flood protection – catchment rate","Business"]
[null,null,null,null,null,48,3,1,1,"2018/19",{"$f":"ROUND(INDEX('Comparison - Category'!$AA$80:$AG$105,MATCH(M190&P190,'Comparison - Category'!$C$80:$C$105,0),MATCH(O190,'Comparison - Category'!$AA$65:$AG$65,0)),10)","v":2.60633805E-2},null,"South Wairarapa district","General rate","General rate","Rural"]
[null,null,null,null,null,48,3,2,1,"2018/19",{"$f":"ROUND(INDEX('Comparison - Category'!$AA$80:$AG$105,MATCH(M191&P191,'Comparison - Category'!$C$80:$C$105,0),MATCH(O191,'Comparison - Category'!$AA$65:$AG$65,0)),10)","v":0},null,"South Wairarapa district","River management rate","River management rate","Rural"]
[null,null,null,null,null,48,3,3,1,"2018/19",{"$f":"ROUND(INDEX('Comparison - Category'!$AA$80:$AG$105,MATCH(M192&P192,'Comparison - Category'!$C$80:$C$105,0),MATCH(O192,'Comparison - Category'!$AA$65:$AG$65,0)),10)","v":6.5079930999999997E-3},null,"South Wairarapa district","Public transport rate","Public transport rate","Rural"]
[null,null,null,null,null,48,3,4,1,"2018/19",{"$f":"ROUND(INDEX('Comparison - Category'!$AA$80:$AG$105,MATCH(M193&P193,'Comparison - Category'!$C$80:$C$105,0),MATCH(O193,'Comparison - Category'!$AA$65:$AG$65,0)),10)","v":0},null,"South Wairarapa district","Stadium purposes rate","Stadium purposes rate","Rural"]
[null,null,null,null,null,48,3,5,1,"2018/19",{"$f":"ROUND(INDEX('Comparison - Category'!$AA$80:$AG$105,MATCH(M194&P194,'Comparison - Category'!$C$80:$C$105,0),MATCH(O194,'Comparison - Category'!$AA$65:$AG$65,0)),10)","v":28},null,"South Wairarapa district","Regional strategy rate","Regional strategy rate","Rural"]
[null,null,null,null,null,48,3,7,1,"2018/19",{"$f":"ROUND(INDEX('Comparison - Category'!$AA$80:$AG$105,MATCH(M195&P195,'Comparison - Category'!$C$80:$C$105,0),MATCH(O195,'Comparison - Category'!$AA$65:$AG$65,0)),10)","v":6.9624596999999996E-3},null,"South Wairarapa district","Flood protection – regional rate","Flood protection – regional rate","Rural"]
[null,null,null,null,null,{"$f":"+F195","v":48},3,8,1,"2018/19",{"$f":"ROUND(INDEX('Comparison - Category'!$AA$80:$AG$105,MATCH(M196&P196,'Comparison - Category'!$C$80:$C$105,0),MATCH(O196,'Comparison - Category'!$AA$65:$AG$65,0)),10)","v":4.5269962000000002E-3},null,"South Wairarapa district","Flood protection – catchment rate","Flood protection – catchment rate","Rural"]
[]
[null,null,null,null,null,"TA_ID","Rate_Class_ID","Rates_ID","Rates_Status_ID","Rates_year","Rates_value"]
[null,null,null,null,null,49,3,1,{"$f":"$I$8","v":1},{"$f":"year_current","v":"2018/19"},{"$f":"ROUND(INDEX('Comparison - Category'!$AA$80:$AG$105,MATCH(M199&P199,'Comparison - Category'!$C$80:$C$105,0),MATCH(O199,'Comparison - Category'!$AA$65:$AG$65,0)),10)","v":1.6853500600000001E-2},null,{"$f":"VLOOKUP(F199,$A$28:$B$36,2,FALSE)","v":"Tararua district"},{"$f":"VLOOKUP(H199,$A$17:$B$24,2,FALSE)","v":"General rate"},{"$f":"VLOOKUP(H199,$A$17:$C$24,3,FALSE)","v":"General rate"},{"$f":"VLOOKUP(G199,$A$5:$B$8,2,FALSE)","v":"Rural"}]
[null,null,null,null,null,{"$f":"+F199","v":49},{"$f":"+G199","v":3},2,{"$f":"+I199","v":1},"2018/19",{"$f":"ROUND(INDEX('Comparison - Category'!$AA$80:$AG$105,MATCH(M200&P200,'Comparison - Category'!$C$80:$C$105,0),MATCH(O200,'Comparison - Category'!$AA$65:$AG$65,0)),10)","v":0},null,"Tararua district","River management rate","River management rate","Rural"]
[null,null,null,null,null,{"$f":"+F200","v":49},3,3,{"$f":"+I200","v":1},"2018/19",{"$f":"ROUND(INDEX('Comparison - Category'!$AA$80:$AG$105,MATCH(M201&P201,'Comparison - Category'!$C$80:$C$105,0),MATCH(O201,'Comparison - Category'!$AA$65:$AG$65,0)),10)","v":0},null,"Tararua district","Public transport rate","Public transport rate","Rural"]
[null,null,null,null,null,{"$f":"+F201","v":49},3,4,1,"2018/19",{"$f":"ROUND(INDEX('Comparison - Category'!$AA$80:$AG$105,MATCH(M202&P202,'Comparison - Category'!$C$80:$C$105,0),MATCH(O202,'Comparison - Category'!$AA$65:$AG$65,0)),10)","v":0},null,"Tararua district","Stadium purposes rate","Stadium purposes rate","Rural"]
[null,null,null,null,null,{"$f":"+F202","v":49},3,5,1,"2018/19",{"$f":"ROUND(INDEX('Comparison - Category'!$AA$80:$AG$105,MATCH(M203&P203,'Comparison - Category'!$C$80:$C$105,0),MATCH(O203,'Comparison - Category'!$AA$65:$AG$65,0)),10)","v":28},null,"Tararua district","Regional strategy rate","Regional strategy rate","Rural"]
[null,null,null,null,null,{"$f":"+F203","v":49},3,7,1,"2018/19",{"$f":"ROUND(INDEX('Comparison - Category'!$AA$80:$AG$105,MATCH(M204&P204,'Comparison - Category'!$C$80:$C$105,0),MATCH(O204,'Comparison - Category'!$AA$65:$AG$65,0)),10)","v":4.5021719E-3},null,"Tararua district","Flood protection – regional rate","Flood protection – regional rate","Rural"]
[null,null,null,null,null,{"$f":"+F204","v":49},3,8,1,"2018/19",{"$f":"ROUND(INDEX('Comparison - Category'!$AA$80:$AG$105,MATCH(M205&P205,'Comparison - Category'!$C$80:$C$105,0),MATCH(O205,'Comparison - Category'!$AA$65:$AG$65,0)),10)","v":0},null,"Tararua district","Flood protection – catchment rate","Flood protection – catchment rate","Rural"]