{"text_format":"1","workbook":"xlsx","n_sheets":37,"sheets":["Instructions",">>Input tabs","Control","UHCC Adjustments","Capital values","CV Analysis ","ESSbase","Class Rates",">>District wide rates","Gen","Remission","River management","Stadium","Economic Development","Public transport",">>Other rates & levies","Water levy",">>Output tabs","Comparison - TA","Comparison - Category","Rates Check - ex-KCDC &  UHC","Rates Check - UHC","Rates Check - KCDC","Checks",">>Rates","1","2","3","4","5","5b","6","Impact - excl GST","Impact - incl GST","Changes","Mechanisms","For IT"],"not_rendered":{"charts":0,"images":2,"macros":1,"external_links":6,"defined_names":121,"comments":3,"pivot_tables":0},"unopened":[],"bounds":{"document_bytes":16777216,"sheet_cells":100000,"rows_first":2000,"rows_last":500,"rows_between":2000,"halvings":0,"cell_chars":16384,"cell_head_chars":4096},"cells_cut":0,"cells_raw":0,"read":"whole","date_system":"1900"}

{"sheet":"Instructions","index":0,"n_rows":29,"n_cols":4,"rows_kept":29,"cut":false,"hidden":false,"merged":[[23,2,23,13],[24,2,24,13],[3,0,3,13],[12,2,12,14],[18,2,18,13],[20,2,20,13],[22,2,22,13]]}
["Instructions"]
[]
["Purpose"]
["This rating model is prepared to determine the rates sought by each rating category/TA to cover funding requirements for the forthcoming year."]
[]
["Conventions"]
["All yellow cells are input cells. "]
["The majority of tabs in this spreadhseet have been protected to ensure that values aren't inadvertantly changed."]
["Should a user need to amend the content of a tab the password required is \"gwrcrates\". "]
[]
["Process"]
["To run the rates model the following actions should be completed"]
[null,"1)","On each of the tabs shaded green in the structure diagram below delete all values in the shaded yellow cell"]
[null,"2)","In the control tab;"]
[null,null,"a)","In cell B5 enter the current rating year in the YYYY/YY date format"]
[null,null,"b)","Adjust the EDR rating basis if required by the rates funding policy"]
[null,null,"c)","Obtain \"Flood protection\" information from the Landcare & Wairarapa Accountant and enter in the relevant cells"]
[null,null,"d)","Obtian Water levy split from the water supply accountant and enter in the relevant cells"]
[null,"3)","Obtain Capital Values (CVs) & corresponding assessments from each Territorial Authority (TA) and Equalised Capital Values (ECVs) & corresponding assessments from Quotable Value and enter into the relevant yellow cells on the \"UHCC Adjustments\" and \"Capital values\" tab"]
[null,"4)","In the ESSBase retrieve the information required from the financial accounting system"]
[null,"5)","Email the ESSBase extract to the respective management accountants and obtain confirmation that these rates values are correct before proceeding further."]
[null,"6)","Populate the \"Class rates\" tab with data provided by the  Landcare & Wairarapa Accountant"]
[null,"7)","Use the rating model from the previous year to populate the yellow cells using the PASTE SPECIAL>>VALUES comand in the \"Comparison - TA\" and \"Comparison - Category\" tabs."]
[null,"8)","On the \"Check\" tab  if cell B7 says \"Error\" then a rounding/check total error occurs within the model and the error should be investigated and reconciled where possible. Explanations of the difference can be entered in the \"Check\" tab for future reference. If cell B7 reads \"OK\" then no rounding/check total errors have been found in the data that has been entered. "]
[null,"9)","Once all checks have been completed the individual that has completed steps 1 through 9 above should forward the model to their manager for reivew and approval."]
[null,"10)","Once approval of the results is obtained the values can be used for distribution as required."]
[]
["Strucutre diagram"]
["The flow diagram below sets out the structure of this excel spreadsheet."]

{"sheet":">>Input tabs","index":1,"n_rows":0,"n_cols":0,"rows_kept":0,"cut":false,"hidden":false,"merged":[]}

{"sheet":"Control","index":2,"n_rows":173,"n_cols":20,"rows_kept":173,"cut":false,"hidden":false,"merged":[]}
["Control"]
[{"$f":"check_total","v":0}]
[]
["Years"]
["Current rating year","2022/23"]
["Previous rating year",{"$f":"VALUE(LEFT(year_current,4))-1&\"/\"&VALUE(RIGHT(year_current,2))-1","v":"2021/22"}]
[]
[]
["GST"]
["GST %",0.15]
[]
["Error tolerance"]
["$ error tolerance",2]
[]
["TA's"]
["TA full name","TA short name"]
["Wellington city","Wellington"]
["Hutt city","Hutt"]
["Upper Hutt city","Upper Hutt"]
["Porirua city","Porirua"]
["Kāpiti Coast district","Kapiti"]
["Masterton district","Masterton"]
["Carterton district","Carterton"]
["South Wairarapa district","South Wairarapa"]
["Tararua district","Tararua"]
[]
[]
["TA's for rates check tab"]
["Excludes KCDC and UHC as they have their own rates check tab"]
["TA full name"]
["Wellington city"]
["Hutt city"]
["Porirua city"]
["Masterton district"]
["Carterton district"]
["South Wairarapa district"]
["Tararua district"]
[]
[]
["TA's"]
["TA full name","Category group","Concatenated  row"]
["Wellington city","District wide",{"$f":"A42&B42","v":"Wellington cityDistrict wide"}]
["Hutt city","District wide",{"$f":"A43&B43","v":"Hutt cityDistrict wide"}]
["Upper Hutt city","District wide","Upper Hutt cityDistrict wide"]
["Porirua city","District wide","Porirua cityDistrict wide"]
["Kāpiti Coast district","District wide","Kāpiti Coast districtDistrict wide"]
["Masterton district","District wide","Masterton districtDistrict wide"]
["Carterton district","District wide","Carterton districtDistrict wide"]
["South Wairarapa district","District wide","South Wairarapa districtDistrict wide"]
["Tararua district","District wide","Tararua districtDistrict wide"]
["Region wide",null,"Region wide"]
[]
[]
["PT target differentials"]
["Category group","Differential"]
["Wellington CBD",7]
["Business - excl Wairarapa",1.4]
["Business - Wairarapa",1]
["Residential - excl Wairarapa & Otaki",1]
["Residential - Wairarapa & Otaki",0.5]
["Rural",0.25]
["Tararua",0]
[]
[]
["TA & Category",null,null,null,null,null,null,"PT differentials to use for rating model transition",null,null,null,null,null,null,null,"Calculation of differentials using the 2017/18 Transport rate"]
["TA full name","Rating area","Category group","Concatenated  name","PT differential category","PT differential",null,"2017/18","2018/19","2019/20","2020/21","2021/22","2022/23","2023/24 onwards",null,"Rate levied","ECV","Cents/ECV$"]
["Wellington city","Wellington city","Wellington CBD",{"$f":"B67&C67","v":"Wellington cityWellington CBD"},"Wellington CBD",{"$f":"IF(VALUE(LEFT(year_current,4))>2022,N67,INDEX($H67:$M67,,MATCH(year_current,$H$66:$M$66,0)))","v":6.9572008551104281},null,{"$f":"R67/R$96","v":6.7432051306625684},{"$f":"($N67-$H67)/6+H67","v":6.7860042755521404},6.8288034204417123,6.8716025653312842,6.9144017102208561,{"$f":"($N67-$H67)/6+L67","v":6.9572008551104281},{"$f":"INDEX($B$56:$B$62,MATCH(E67,$A$56:$A$62,0),)","v":7},null,25019166.076555029,9699270190.5155792,{"$f":"(P67*100)/Q67","v":0.25794895476795759}]
["Wellington city","Wellington city","Business",{"$f":"B68&C68","v":"Wellington cityBusiness"},"Business - excl Wairarapa",1.2768370369738333,null,0.66102222184300141,0.78418518486916788,0.90734814789533424,1.0305111109215006,1.153674073947667,1.2768370369738333,{"$f":"INDEX($B$56:$B$62,MATCH(E68,$A$56:$A$62,0),)","v":1.4},null,1192769.6660720154,4717078732.5825872,{"$f":"(P68*100)/Q68","v":2.5286193716316824E-2}]
["Wellington city","Wellington city","Residential","Wellington cityResidential","Residential - excl Wairarapa & Otaki",0.9435037036405004,null,0.6610222218430013,0.71751851820250112,0.77401481456200094,0.83051111092150076,0.88700740728100058,0.9435037036405004,1,null,12199001.999804026,48243725950.466728,{"$f":"(P69*100)/Q69","v":2.528619371631682E-2}]
["Wellington city","Wellington city","Rural","Wellington cityRural","Rural",0.2366297034718059,null,0.16977822083083538,0.18314851735902948,0.19651881388722359,0.20988911041541769,0.22325940694361179,0.2366297034718059,0.25,null,46420.266798237128,714756729.43509579,6.4945547046370783E-3]
["Hutt city","Hutt city","Business","Hutt cityBusiness","Business - excl Wairarapa",1.4033888723575829,null,1.4203332341454968,1.4169443617879141,1.4135554894303313,1.4101666170727485,1.4067777447151657,1.4033888723575829,1.4,null,2092334.5901653506,3850999697.4912381,5.4332244988967854E-2]
["Hutt city","Hutt city","Residential","Hutt cityResidential","Residential - excl Wairarapa & Otaki",1.0700555390242497,null,1.4203332341454968,1.3502776951212474,1.280222156096998,1.2101666170727485,1.1401110780484991,1.0700555390242497,1,null,9399014.0502914134,17299145382.635818,5.4332244988967854E-2]
["Hutt city","Hutt city","Rural","Hutt cityRural","Rural",0.26866055256079963,null,0.36196331536479831,0.34330276280399857,0.32464221024319884,0.3059816576823991,0.28732110512159936,0.26866055256079963,0.25,null,44664.5601546291,322575294.87294579,1.3846243300256869E-2]
["Upper Hutt city","Upper Hutt city","Business","Upper Hutt cityBusiness","Business - excl Wairarapa",1.4327977730598132,null,1.5967866383588816,1.5639888652990679,1.5311910922392542,1.4983933191794405,1.4655955461196268,1.4327977730598132,1.4,null,725473.26351998048,1187700995.936275,6.108214660105455E-2]
["Upper Hutt city","Upper Hutt city","Residential","Upper Hutt cityResidential","Residential - excl Wairarapa & Otaki",1.099464439726481,null,1.5967866383588838,1.4973221986324032,1.3978577589059227,1.2983933191794421,1.1989288794529616,1.099464439726481,1,null,3744588.8646753002,6130414651.4894199,6.1082146601054634E-2]
["Upper Hutt city","Upper Hutt city","Rural","Upper Hutt cityRural","Rural",0.27616011749216457,null,0.40696070495298714,0.38080058746082263,0.35464046996865811,0.3284803524764936,0.30232023498432908,0.27616011749216457,0.25,null,126321.43492736586,811441419.57430518,1.5567535977352012E-2]
["Porirua city","Porirua city","Business","Porirua cityBusiness","Business - excl Wairarapa",1.4413013861087931,null,1.6478083166527571,{"$f":"($N77-$H77)/6+H77","v":1.6065069305439641},1.5652055444351713,1.5239041583263786,1.4826027722175859,1.4413013861087931,1.4,null,691972.22128697077,1097778115.5520244,6.303388740255661E-2]
["Porirua city","Porirua city","Residential","Porirua cityResidential","Residential - excl Wairarapa & Otaki",1.1079680527754596,null,1.6478083166527566,1.5398402638772972,1.4318722111018378,1.3239041583263784,1.215936105550919,1.1079680527754596,1,null,5277337.6833140422,8372223102.1721783,6.3033887402556596E-2]
["Porirua city","Porirua city","Rural","Porirua cityRural","Rural",0.27830861506759169,null,0.41985169040555043,0.39154307533795868,0.36323446027036693,0.33492584520277519,0.30661723013518344,0.27830861506759169,0.25,null,96761.343740997501,602474380.27579737,1.6060657001996107E-2]
["Kāpiti Coast district","Kāpiti Coast district","Business","Kāpiti Coast districtBusiness","Business - excl Wairarapa",1.283996095094377,null,0.70397657056626128,0.81998047547188435,0.93598438037750742,1.0519882852831306,1.1679921901887538,1.283996095094377,1.4,null,403085.53288284957,1496826987.0055292,2.6929333609172868E-2]
["Kāpiti Coast district","Kāpiti Coast district excl Ōtaki ","Residential","Kāpiti Coast district excl Ōtaki Residential","Residential - excl Wairarapa & Otaki",0.95066276176104336,null,0.70397657056626128,0.7533138088052177,0.80265104704417412,0.85198828528313053,0.90132552352208695,0.95066276176104336,1,null,2549190.972629251,9466223745.5475941,{"$f":"(P81*100)/Q81","v":2.6929333609172868E-2},null,"Green cells not consistent with formulas above and below due to Otaki carveout"]
["Kāpiti Coast district","Ōtaki rating area","Residential","Ōtaki rating areaResidential","Residential - Wairarapa & Otaki",0.53399609509437707,null,{"$f":"H81","v":0.70397657056626128},0.66998047547188444,0.6359843803775076,0.60198828528313075,0.56799219018875391,0.53399609509437707,0.5]
["Kāpiti Coast district","Kāpiti Coast district","Rural","Kāpiti Coast districtRural","Rural",0.23868734585900653,null,{"$f":"R83/R$96","v":0.18212407515403917},0.19343672929503264,0.20474938343602611,0.21606203757701958,0.22737469171801306,0.23868734585900653,{"$f":"INDEX($B$56:$B$62,MATCH(E83,$A$56:$A$62,0),)","v":0.25},null,138343.58213775302,1985748559.4468777,{"$f":"(P83*100)/Q83","v":6.9668227369273821E-3}]
["Masterton district","Masterton district","Business","Masterton districtBusiness","Business - Wairarapa",0.87483123711779398,null,{"$f":"R84/R$96","v":0.24898742270676497},0.37415618558897079,0.49932494847117659,0.62449371135338239,0.74966247423558818,0.87483123711779398,1,null,38506.176024532608,404283094.12757981,9.5245575647002426E-3]
["Masterton district","Masterton district","Residential","Masterton districtResidential","Residential - Wairarapa & Otaki",0.45816457045112741,null,{"$f":"R85/R$96","v":0.24898742270676497},0.29082285225563748,0.33265828180450996,0.37449371135338244,0.41632914090225492,0.45816457045112741,0.5,null,199517.22834409823,2094766365.6687391,9.5245575647002426E-3]
["Masterton district","Masterton district","Rural","Masterton districtRural","Rural",0.22025483324096343,null,7.1528999445780297E-2,0.10127416620481691,0.13101933296385354,0.16076449972289017,0.1905096664819268,0.22025483324096343,0.25,null,68725.161709690234,2511691056.2036815,2.7362107907317832E-3]
["Carterton district","Carterton district","Business","Carterton districtBusiness","Business - Wairarapa",0.90778368740137949,null,0.4467021244082775,{"$f":"($N87-$H87)/6+H87","v":0.5389184370068979},0.6311347496055183,0.7233510622041387,0.81556737480275909,0.90778368740137949,1,null,16823.535176000685,98453654.5420295,1.7087771149032139E-2]
["Carterton district","Carterton district","Residential","Carterton districtResidential","Residential - Wairarapa & Otaki",0.49111702073471281,null,0.44670212440827739,0.45558510367356447,0.46446808293885156,0.47335106220413864,0.48223404146942572,0.49111702073471281,0.5,null,109887.40711283383,643076303.83414829,1.7087771149032135E-2]
["Carterton district","Carterton district","Rural","Carterton districtRural","Rural",0.22828613260384917,null,0.11971679562309516,0.14143066301924595,0.16314453041539675,0.18485839781154756,0.20657226520769836,0.22828613260384917,0.25,null,72077.971351554661,1573910634.6238222,4.5795466251984437E-3]
["South Wairarapa district","South Wairarapa district","Business","South Wairarapa districtBusiness","Business - Wairarapa",0.9317082878206594,null,0.59024972692395639,0.65854143910329699,0.72683315128263759,0.79512486346197819,0.8634165756413188,0.9317082878206594,1,null,44332.499030580657,196344625.20795071,2.2578921619895442E-2]
["South Wairarapa district","South Wairarapa district","Residential","South Wairarapa districtResidential","Residential - Wairarapa & Otaki",0.51504162115399255,null,0.59024972692395627,0.57520810576996362,0.56016648461597085,0.54512486346197808,0.53008324230798531,0.51504162115399255,0.5,null,206694.86872182382,915432863.4530288,2.2578921619895439E-2]
["South Wairarapa district","South Wairarapa district","Rural","South Wairarapa districtRural","Rural",0.23390712606296302,null,0.15344275637777782,0.16953563031481486,0.1856285042518519,0.20172137818888894,0.21781425212592598,0.23390712606296302,0.25,null,153385.1807396345,2613181710.3390203,5.8696714481342033E-3]
["Tararua district","Tararua district","Rural","Tararua districtRural","Tararua",0,null,0,0,0,0,0,0,0,null,0,7041799.9999999991,0]
["Region wide",null,null,{"$f":"A94&C94","v":"Region wide"},null,null,null,null,null,null,null,null,null,null,null,{"$f":"SUM(P67:P93)","v":64656396.137165949},{"$f":"SUM(Q67:Q93)","v":127056566042.99998}]
[]
[null,null,null,null,null,null,null,null,null,null,null,null,null,null,null,{"$f":"SUMIF($C$67:$C$79,\"Residential\",P$67:P$79)","v":30619942.598084778},{"$f":"SUMIF($C$67:$C$79,\"Residential\",Q$67:Q$79)","v":80045509086.764145},{"$f":"(P96*100)/Q96","v":3.8253167413670575E-2}]
[]
[]
["WRS rates"]
["Category group","Rating basis"]
["Wellington CBD","Remainder"]
["Business","Remainder"]
["Residential",15]
["Rural",15]
[]
[]
["Flood protection"]
["From Essbase / Landcare & Wairarapa Accountant"]
["TA full name","[not used]","River management","[not used]","Total"]
["Wellington city",null,55131.48,null,{"$f":"SUM(B110:D110)","v":55131.48}]
["Hutt city",null,5098043.33,null,{"$f":"SUM(B111:D111)","v":5098043.33}]
["Upper Hutt city",null,1136721.52,null,1136721.52]
["Porirua city",null,45883.360000000001,null,45883.360000000001]
["Kāpiti Coast district",null,1513486.5599999998,null,1513486.5599999998]
["Masterton district",null,null,null,0]
["Carterton district",null,25282.959999999999,null,25282.959999999999]
["South Wairarapa district",null,null,null,0]
["Tararua district",null,null,null,0]
["Non district Wide",null,null,null,0]
["Special Rates",null,null,null,0]
["External Revenue",null,null,null,0]
["Total",null,{"$f":"SUM(C110:C121)","v":7874549.21},null,{"$f":"SUM(B122:D122)","v":7874549.21}]
[]
["Non district-wide breakdown"]
["Greytown River Management Rate",null,null,98709.62]
["Donalds Creek Stopbank River Management Rate",null,null,2788.75]
["South Wairarapa district River Management Rates",null,null,{"$f":"SUM(D125:D126)","v":101498.37}]
[]
[]
["Stadium Rate"]
[{"$f":"B66","v":"Rating area"},"Category group","Concatenated  name","Stadium differential"]
["Wellington city","Wellington CBD","Wellington cityWellington CBD",2]
["Wellington city","Business","Wellington cityBusiness",1.2]
["Wellington city","Residential","Wellington cityResidential",1.2]
["Wellington city","Rural","Wellington cityRural",1.2]
[{"$f":"B71","v":"Hutt city"},"Business","Hutt cityBusiness",1]
["Hutt city","Residential","Hutt cityResidential",1]
["Hutt city","Rural","Hutt cityRural",1]
["Upper Hutt city","Business","Upper Hutt cityBusiness",1]
["Upper Hutt city","Residential","Upper Hutt cityResidential",1]
["Upper Hutt city","Rural","Upper Hutt cityRural",1]
["Porirua city","Business","Porirua cityBusiness",1]
["Porirua city","Residential","Porirua cityResidential",1]
["Porirua city","Rural","Porirua cityRural",1]
["Kāpiti Coast district","Business","Kāpiti Coast districtBusiness",0.5]
["Kāpiti Coast district excl Ōtaki ","Residential","Kāpiti Coast district excl Ōtaki Residential",0.5]
["Ōtaki rating area","Residential","Ōtaki rating areaResidential",0.5]
["Kāpiti Coast district","Rural","Kāpiti Coast districtRural",0.5]
["Masterton district","Business","Masterton districtBusiness",0.5]
["Masterton district","Residential","Masterton districtResidential",0.5]
["Masterton district","Rural","Masterton districtRural",0.5]
["Carterton district","Business","Carterton districtBusiness",0.5]
["Carterton district","Residential","Carterton districtResidential",0.5]
["Carterton district","Rural","Carterton districtRural",0.5]
["South Wairarapa district","Business","South Wairarapa districtBusiness",0.5]
["South Wairarapa district","Residential","South Wairarapa districtResidential",0.5]
["South Wairarapa district","Rural","South Wairarapa districtRural",0.5]
["Tararua district","Rural","Tararua districtRural",0.5]
[]
[]
["Water levy"]
["Need numbers for each city - March 31 comes from Wellington Water"]
["TA full name","Share of levy",{"$f":"year_current","v":"2022/23"}]
["Wellington city",0.51,21518811]
["Hutt city",0.26369999999999999,10964435]
["Upper Hutt city",0.1087,4613068]
["Porirua city",0.1176,4972459]
["Kāpiti Coast district"]
["Masterton district"]
["Carterton district"]
["South Wairarapa district"]
["Tararua district"]
["Region wide",{"$f":"SUM(B164:B172)","v":1},{"$f":"SUM(C164:C172)","v":42068773}]

{"sheet":"UHCC Adjustments","index":3,"n_rows":34,"n_cols":5,"rows_kept":34,"cut":false,"hidden":false,"merged":[]}
["Wellington Regional Council"]
[{"$f":"\"UHCC Adjustments \"&year_current","v":"UHCC Adjustments 2022/23"}]
["Printed:",{"$f":"NOW()","v":"2023-01-19T08:30:06.840"}]
[{"$f":"check_total","v":0}]
[]
["TA full name","Category group","Sub category group","CV","Rateable Land Value"]
[]
["Trentham Military Camp"]
["Upper Hutt city","Business","Trentham Military Camp",70490000,29170000]
["Upper Hutt city","Residential","Trentham Military Camp",32750000,14855000]
["Upper Hutt city","Rural","Trentham Military Camp",6114000,4076000]
["Upper Hutt city","Business & Residential","Trentham Military Camp",{"$f":"D10+D9","v":103240000},{"$f":"E10+E9","v":44025000}]
["Upper Hutt","Total","Trentham Military Camp",{"$f":"+D9+D10+D11","v":109354000},{"$f":"+E9+E10+E11","v":48101000}]
[]
["Rest of Upper Hutt"]
["Upper Hutt city","Business","Rest of Upper Hutt city",{"$f":"+D23-D9","v":1377756700},374036600]
["Upper Hutt city","Residential","Rest of Upper Hutt city",9066226100,4908462500]
["Upper Hutt city","Rural","Rest of Upper Hutt city",1164573000,626904000]
["Upper Hutt city","Business & Residential","Rest of Upper Hutt city",10443982800,5282499100]
["Upper Hutt","Total","Rest of Upper Hutt city",{"$f":"+D27-D13","v":11608555800},5909403100]
[]
["All Upper Hutt"]
["Upper Hutt city","Business","Total",{"$f":"INDEX(capital_values,MATCH($A16&B16,capital_values_rows,0),MATCH(D$6&\" \"&year_current,capital_values_header,0))","v":1448246700},403206600]
["Upper Hutt city","Residential","Total",{"$f":"INDEX(capital_values,MATCH($A17&B17,capital_values_rows,0),MATCH(D$6&\" \"&year_current,capital_values_header,0))","v":9098976100},4923317500]
["Upper Hutt city","Rural","Total",{"$f":"INDEX(capital_values,MATCH($A18&B18,capital_values_rows,0),MATCH(D$6&\" \"&year_current,capital_values_header,0))","v":1170687000},630980000]
["Upper Hutt city","Business & Residential","Total",{"$f":"D24+D23","v":10547222800},{"$f":"E24+E23","v":5326524100}]
["Upper Hutt","All","Total",{"$f":"+'Capital values'!F10","v":11717909800},{"$f":"+E23+E24+E25","v":5957504100}]
[]
["Trentham Military Camp share of rates"]
["Upper Hutt city","Business","Trentham % of Share",{"$f":"+D9/D23","v":4.8672646725174656E-2},7.2345045939228178E-2]
["Upper Hutt city","Residential","Trentham % of Share",3.5993060801643383E-3,3.0172744292847253E-3]
["Upper Hutt city","Rural","Trentham % of Share",5.2225744370613149E-3,6.4597927034137376E-3]
["Upper Hutt city","Business & Residential","% of Share",9.7883586947646543E-3,8.2652399901842182E-3]
["Upper Hutt","All","% of Share",9.332210425446354E-3,8.0740187824629439E-3]

{"sheet":"Capital values","index":4,"n_rows":177,"n_cols":11,"rows_kept":177,"cut":false,"hidden":false,"merged":[]}
["Wellington Regional Council"]
["Rateable values"]
[{"$f":"check_total","v":0}]
[]
["Capital values"]
[{"$f":"Control!A41","v":"TA full name"},"Rating area",{"$f":"Control!B41","v":"Category group"},{"$f":"Control!C41","v":"Concatenated  row"},{"$f":"\"CV \"&year_previous","v":"CV 2021/22"},{"$f":"\"CV \"&year_current","v":"CV 2022/23"},{"$f":"\"ECV \"&year_previous","v":"ECV 2021/22"},{"$f":"\"ECV \"&year_current","v":"ECV 2022/23"},null,"Check CV","Check ECV"]
[{"$f":"Control!A52","v":0},null,{"$f":"Control!B52","v":0},{"$f":"Control!C52","v":0}]
[{"$f":"Control!A42","v":"Wellington city"},null,{"$f":"Control!B42","v":"District wide"},{"$f":"Control!C42","v":"Wellington cityDistrict wide"},{"$f":"SUMIF($A$19:$A$45,$A8,E$19:E$45)","v":74139924400},114751871250,87383049753,119439703683,null,null,{"$f":"ISBLANK(G8)+ISBLANK(H8)","v":0}]
[{"$f":"Control!A43","v":"Hutt city"},null,{"$f":"Control!B43","v":"District wide"},{"$f":"Control!C43","v":"Hutt cityDistrict wide"},28871779500,29131948500,32345787106,44154024498,null,null,{"$f":"ISBLANK(G9)+ISBLANK(H9)","v":0}]
[{"$f":"Control!A44","v":"Upper Hutt city"},null,{"$f":"Control!B44","v":"District wide"},{"$f":"Control!C44","v":"Upper Hutt cityDistrict wide"},11543431800,11717909800,13073239090,17817751914,null,null,0]
[{"$f":"Control!A45","v":"Porirua city"},null,{"$f":"Control!B45","v":"District wide"},{"$f":"Control!C45","v":"Porirua cityDistrict wide"},14451701650,{"$f":"SUMIF($A$19:$A$45,$A11,F$19:F$45)","v":14623609200},15695286062,21241698999,null,null,0]
[{"$f":"Control!A46","v":"Kāpiti Coast district"},null,{"$f":"Control!B46","v":"District wide"},{"$f":"Control!C46","v":"Kāpiti Coast districtDistrict wide"},19628808150,19783157650,19536115796,26169483904,null,null,0]
[{"$f":"Control!A47","v":"Masterton district"},null,{"$f":"Control!B47","v":"District wide"},{"$f":"Control!C47","v":"Masterton districtDistrict wide"},8640582655,8787884155,8631869241,11263219050,null,null,0]
[{"$f":"Control!A48","v":"Carterton district"},null,{"$f":"Control!B48","v":"District wide"},{"$f":"Control!C48","v":"Carterton districtDistrict wide"},3665691300,3729014800,3660511529,4976485118,null,null,0]
[{"$f":"Control!A49","v":"South Wairarapa district"},null,{"$f":"Control!B49","v":"District wide"},{"$f":"Control!C49","v":"South Wairarapa districtDistrict wide"},6252191400,6354690200,6175185837,8115723950,null,null,0]
[{"$f":"Control!A50","v":"Tararua district"},null,{"$f":"Control!B50","v":"District wide"},{"$f":"Control!C50","v":"Tararua districtDistrict wide"},15976500,15976500,15976500,21686475,null,null,0]
[{"$f":"Control!A51","v":"Region wide"},null,{"$f":"Control!B51","v":0},{"$f":"Control!C51","v":"Region wide"},{"$f":"SUM(E8:E16)","v":167210087355},{"$f":"SUM(F8:F16)","v":208896062055},{"$f":"SUM(G8:G16)","v":186517020914},{"$f":"SUM(H8:H16)","v":253199777591}]
[]
[{"$f":"Control!A67","v":"Wellington city"},{"$f":"Control!B67","v":"Wellington city"},{"$f":"Control!C67","v":"Wellington CBD"},{"$f":"Control!D67","v":"Wellington cityWellington CBD"},9896987150,13133427700,{"$f":"E19\n*\n(INDEX(G$8:G$16,MATCH($A19&\"District wide\",$D$8:$D$16,0))/INDEX(E$8:E$16,MATCH($A19&\"District wide\",$D$8:$D$16,0)))","v":11664820641.943514},{"$f":"F19\n*\n(INDEX(H$8:H$16,MATCH($A19&\"District wide\",$D$8:$D$16,0))/INDEX(F$8:F$16,MATCH($A19&\"District wide\",$D$8:$D$16,0)))","v":13669953228.149246},null,{"$f":"ISBLANK(E19)+ISBLANK(F19)","v":0}]
[{"$f":"Control!A68","v":"Wellington city"},{"$f":"Control!B68","v":"Wellington city"},{"$f":"Control!C68","v":"Business"},{"$f":"Control!D68","v":"Wellington cityBusiness"},4605086150,6659900150,5427662294.2213469,{"$f":"F20\n*\n(INDEX(H$8:H$16,MATCH($A20&\"District wide\",$D$8:$D$16,0))/INDEX(F$8:F$16,MATCH($A20&\"District wide\",$D$8:$D$16,0)))","v":6931969751.8602962},null,0]
[{"$f":"Control!A69","v":"Wellington city"},{"$f":"Control!B69","v":"Wellington city"},{"$f":"Control!C69","v":"Residential"},{"$f":"Control!D69","v":"Wellington cityResidential"},58819065000,93657459050,69325526359.991013,97483544579.973068,null,0]
[{"$f":"Control!A70","v":"Wellington city"},{"$f":"Control!B70","v":"Wellington city"},{"$f":"Control!C70","v":"Rural"},{"$f":"Control!D70","v":"Wellington cityRural"},818786100,1301084350,965040456.8441242,1354236123.0173721,null,0]
[{"$f":"Control!A71","v":"Hutt city"},{"$f":"Control!B71","v":"Hutt city"},{"$f":"Control!C71","v":"Business"},{"$f":"Control!D71","v":"Hutt cityBusiness"},{"$f":"937206000+4035367500","v":4972573500},{"$f":"970658000+3935236500","v":4905894500},5570900255.7302465,7435650448.7711649,null,0]
[{"$f":"Control!A72","v":"Hutt city"},{"$f":"Control!B72","v":"Hutt city"},{"$f":"Control!C72","v":"Residential"},{"$f":"Control!D72","v":"Hutt cityResidential"},23478516000,23837441000,26303577169.561535,36129370264.526924,null,0]
[{"$f":"Control!A73","v":"Hutt city"},{"$f":"Control!B73","v":"Hutt city"},{"$f":"Control!C73","v":"Rural"},{"$f":"Control!D73","v":"Hutt cityRural"},420690000,388613000,471309680.7082203,589003784.70191491,null,0]
[{"$f":"Control!A74","v":"Upper Hutt city"},{"$f":"Control!B74","v":"Upper Hutt city"},{"$f":"Control!C74","v":"Business"},{"$f":"Control!D74","v":"Upper Hutt cityBusiness"},1426045700,1448246700,1615034134.7679999,2202141922.1770406,null,0]
[{"$f":"Control!A75","v":"Upper Hutt city"},{"$f":"Control!B75","v":"Upper Hutt city"},{"$f":"Control!C75","v":"Residential"},{"$f":"Control!D75","v":"Upper Hutt cityResidential"},8964529100,9098976100,10152564184.03776,13835513465.141645,null,0]
[{"$f":"Control!A76","v":"Upper Hutt city"},{"$f":"Control!B76","v":"Upper Hutt city"},{"$f":"Control!C76","v":"Rural"},{"$f":"Control!D76","v":"Upper Hutt cityRural"},1152857000,1170687000,1305640771.1942415,1780096526.6813128,null,0]
[{"$f":"Control!A77","v":"Porirua city"},{"$f":"Control!B77","v":"Porirua city"},{"$f":"Control!C77","v":"Business"},{"$f":"Control!D77","v":"Porirua cityBusiness"},1434625000,1400176000,1558076018.4525919,2033842448.2530501,null,0]
[{"$f":"Control!A78","v":"Porirua city"},{"$f":"Control!B78","v":"Porirua city"},{"$f":"Control!C78","v":"Residential"},{"$f":"Control!D78","v":"Porirua cityResidential"},12171960950,12370577500,13219371232.019815,17969030771.063133,null,0]
[{"$f":"Control!A79","v":"Porirua city"},{"$f":"Control!B79","v":"Porirua city"},{"$f":"Control!C79","v":"Rural"},{"$f":"Control!D79","v":"Porirua cityRural"},845115700,852855700,917838811.52759433,1238825779.6838174,null,0]
[{"$f":"Control!A80","v":"Kāpiti Coast district"},{"$f":"Control!B80","v":"Kāpiti Coast district"},{"$f":"Control!C80","v":"Business"},{"$f":"Control!D80","v":"Kāpiti Coast districtBusiness"},1763120000,1775736500,1754794087.2937574,2348973231.5050979,null,0]
[{"$f":"Control!A81","v":"Kāpiti Coast district"},{"$f":"Control!B81","v":"Kāpiti Coast district excl Ōtaki "},{"$f":"Control!C81","v":"Residential"},{"$f":"Control!D81","v":"Kāpiti Coast district excl Ōtaki Residential"},13585040800,13678059800,13520888692.479502,18093560800.899216,null,0]
[{"$f":"Control!A82","v":"Kāpiti Coast district"},{"$f":"Control!B82","v":"Ōtaki rating area"},{"$f":"Control!C82","v":"Residential"},{"$f":"Control!D82","v":"Ōtaki rating areaResidential"},1649798400,1671453400,1642007621.4589486,2211025844.3796043,null,0]
[{"$f":"Control!A83","v":"Kāpiti Coast district"},{"$f":"Control!B83","v":"Kāpiti Coast district"},{"$f":"Control!C83","v":"Rural"},{"$f":"Control!D83","v":"Kāpiti Coast districtRural"},2630848950,2657907950,2618425394.7677927,3515924027.2160821,null,0]
[{"$f":"Control!A84","v":"Masterton district"},{"$f":"Control!B84","v":"Masterton district"},{"$f":"Control!C84","v":"Business"},{"$f":"Control!D84","v":"Masterton districtBusiness"},{"$f":"569018600+165090000","v":734108600},{"$f":"571397600+165090000","v":736487600},733368303.60933256,943938383.81325138,null,0]
[{"$f":"Control!A85","v":"Masterton district"},{"$f":"Control!B85","v":"Masterton district"},{"$f":"Control!C85","v":"Residential"},{"$f":"Control!D85","v":"Masterton districtResidential"},3974865400,4080427400,3970857030.5175977,5229785328.6644707,null,0]
[{"$f":"Control!A86","v":"Masterton district"},{"$f":"Control!B86","v":"Masterton district"},{"$f":"Control!C86","v":"Rural"},{"$f":"Control!D86","v":"Masterton districtRural"},3931608655,3970969155,3927643906.8730693,5089495337.5222778,null,0]
[{"$f":"Control!A87","v":"Carterton district"},{"$f":"Control!B87","v":"Carterton district"},{"$f":"Control!C87","v":"Business"},{"$f":"Control!D87","v":"Carterton districtBusiness"},126627500,133894500,126448570.18877926,178686334.69409963,null,0]
[{"$f":"Control!A88","v":"Carterton district"},{"$f":"Control!B88","v":"Carterton district"},{"$f":"Control!C88","v":"Residential"},{"$f":"Control!D88","v":"Carterton districtResidential"},1285248500,1318035500,1283432391.5600739,1758958975.1013293,null,0]
[{"$f":"Control!A89","v":"Carterton district"},{"$f":"Control!B89","v":"Carterton district"},{"$f":"Control!C89","v":"Rural"},{"$f":"Control!D89","v":"Carterton districtRural"},2253815300,2277084800,2250630567.2511468,3038839808.2045708,null,0]
[{"$f":"Control!A90","v":"South Wairarapa district"},{"$f":"Control!B90","v":"South Wairarapa district"},{"$f":"Control!C90","v":"Business"},{"$f":"Control!D90","v":"South Wairarapa districtBusiness"},279106000,287242000,275668370.96857303,366843497.55490834,null,0]
[{"$f":"Control!A91","v":"South Wairarapa district"},{"$f":"Control!B91","v":"South Wairarapa district"},{"$f":"Control!C91","v":"Residential"},{"$f":"Control!D91","v":"South Wairarapa districtResidential"},2087271500,2151921500,2061563471.1332967,2748269436.6548228,null,0]
[{"$f":"Control!A92","v":"South Wairarapa district"},{"$f":"Control!B92","v":"South Wairarapa district"},{"$f":"Control!C92","v":"Rural"},{"$f":"Control!D92","v":"South Wairarapa districtRural"},3885813900,3915526700,3837953994.8981304,5000611015.7902679,null,0]
[{"$f":"Control!A93","v":"Tararua district"},{"$f":"Control!B93","v":"Tararua district"},{"$f":"Control!C93","v":"Rural"},{"$f":"Control!D93","v":"Tararua districtRural"},15976500,15976500,15976500,21686475,null,0]
[{"$f":"Control!A94","v":"Region wide"},null,{"$f":"Control!C94","v":0},{"$f":"Control!D94","v":"Region wide"},{"$f":"SUM(E19:E45)","v":167210087355},{"$f":"SUM(F19:F45)","v":208896062055},{"$f":"SUM(G19:G45)","v":186517020914.00006},{"$f":"SUM(H19:H45)","v":253199777590.99988}]
[]
["Greytown Urban -CV",null,null,null,1115086500,1131557500,null,null,null,{"$f":"ISBLANK(E48)+ISBLANK(F48)","v":0}]
["Featherston Urban - LV",null,null,null,281682500,282168500,null,null,null,{"$f":"ISBLANK(E49)+ISBLANK(F49)","v":0}]
[]
["Check totals",null,null,null,{"$f":"Total_CV-E17","v":0},{"$f":"F17-F46","v":0}]
[]
[]
["No. of Assessments (#)"]
[{"$f":"Control!A41","v":"TA full name"},"Rating area",{"$f":"Control!B41","v":"Category group"},{"$f":"Control!C41","v":"Concatenated  row"},{"$f":"\"CV assessments \"&year_previous","v":"CV assessments 2021/22"},{"$f":"\"CV assessments \"&year_current","v":"CV assessments 2022/23"},{"$f":"\"ECV assessments \"&year_previous","v":"ECV assessments 2021/22"},{"$f":"\"ECV assessments  \"&year_current","v":"ECV assessments  2022/23"}]
[{"$f":"Control!A52","v":0},null,{"$f":"Control!B52","v":0},{"$f":"Control!C52","v":0}]
[{"$f":"Control!A42","v":"Wellington city"},null,{"$f":"Control!B42","v":"District wide"},{"$f":"Control!C42","v":"Wellington cityDistrict wide"},{"$f":"SUMIF($A$68:$A$94,$A57,E$68:E$94)","v":79344},79856,78889,80677,null,null,{"$f":"ISBLANK(G57)+ISBLANK(H57)","v":0}]
[{"$f":"Control!A43","v":"Hutt city"},null,{"$f":"Control!B43","v":"District wide"},{"$f":"Control!C43","v":"Hutt cityDistrict wide"},40078,40468,40266,40997,null,null,0]
[{"$f":"Control!A44","v":"Upper Hutt city"},null,{"$f":"Control!B44","v":"District wide"},{"$f":"Control!C44","v":"Upper Hutt cityDistrict wide"},17323,17575,17181,17609,null,null,0]
[{"$f":"Control!A45","v":"Porirua city"},null,{"$f":"Control!B45","v":"District wide"},{"$f":"Control!C45","v":"Porirua cityDistrict wide"},19397,19859,19120,19678,null,null,0]
[{"$f":"Control!A46","v":"Kāpiti Coast district"},null,{"$f":"Control!B46","v":"District wide"},{"$f":"Control!C46","v":"Kāpiti Coast districtDistrict wide"},25477,25554,25116,25432,null,null,0]
[{"$f":"Control!A47","v":"Masterton district"},null,{"$f":"Control!B47","v":"District wide"},{"$f":"Control!C47","v":"Masterton districtDistrict wide"},12869,13074,12678,12972,null,null,0]
[{"$f":"Control!A48","v":"Carterton district"},null,{"$f":"Control!B48","v":"District wide"},{"$f":"Control!C48","v":"Carterton districtDistrict wide"},4919,5010,4883,5020,null,null,0]
[{"$f":"Control!A49","v":"South Wairarapa district"},null,{"$f":"Control!B49","v":"District wide"},{"$f":"Control!C49","v":"South Wairarapa districtDistrict wide"},7023,7133,6785,7068,null,null,0]
[{"$f":"Control!A50","v":"Tararua district"},null,{"$f":"Control!B50","v":"District wide"},{"$f":"Control!C50","v":"Tararua districtDistrict wide"},10,10,11,11,null,null,0]
[{"$f":"Control!A51","v":"Region wide"},null,{"$f":"Control!B51","v":0},{"$f":"Control!C51","v":"Region wide"},{"$f":"SUM(E57:E65)","v":206440},{"$f":"SUM(F57:F65)","v":208539},{"$f":"SUM(G57:G65)","v":204929},{"$f":"SUM(H57:H65)","v":209464}]
[]
[{"$f":"Control!A67","v":"Wellington city"},{"$f":"Control!B67","v":"Wellington city"},{"$f":"Control!C67","v":"Wellington CBD"},{"$f":"Control!D67","v":"Wellington cityWellington CBD"},3276,3331,null,null,null,{"$f":"ISBLANK(E68)+ISBLANK(F68)","v":0}]
[{"$f":"Control!A68","v":"Wellington city"},{"$f":"Control!B68","v":"Wellington city"},{"$f":"Control!C68","v":"Business"},{"$f":"Control!D68","v":"Wellington cityBusiness"},1885,1885,null,null,null,0]
[{"$f":"Control!A69","v":"Wellington city"},{"$f":"Control!B69","v":"Wellington city"},{"$f":"Control!C69","v":"Residential"},{"$f":"Control!D69","v":"Wellington cityResidential"},73346,73796,null,null,null,0]
[{"$f":"Control!A70","v":"Wellington city"},{"$f":"Control!B70","v":"Wellington city"},{"$f":"Control!C70","v":"Rural"},{"$f":"Control!D70","v":"Wellington cityRural"},837,844,null,null,null,0]
[{"$f":"Control!A71","v":"Hutt city"},{"$f":"Control!B71","v":"Hutt city"},{"$f":"Control!C71","v":"Business"},{"$f":"Control!D71","v":"Hutt cityBusiness"},{"$f":"369+2019","v":2388},{"$f":"371+1977","v":2348},null,null,null,0]
[{"$f":"Control!A72","v":"Hutt city"},{"$f":"Control!B72","v":"Hutt city"},{"$f":"Control!C72","v":"Residential"},{"$f":"Control!D72","v":"Hutt cityResidential"},37205,37680,null,null,null,0]
[{"$f":"Control!A73","v":"Hutt city"},{"$f":"Control!B73","v":"Hutt city"},{"$f":"Control!C73","v":"Rural"},{"$f":"Control!D73","v":"Hutt cityRural"},485,440,null,null,null,0]
[{"$f":"Control!A74","v":"Upper Hutt city"},{"$f":"Control!B74","v":"Upper Hutt city"},{"$f":"Control!C74","v":"Business"},{"$f":"Control!D74","v":"Upper Hutt cityBusiness"},748,768,null,null,null,0]
[{"$f":"Control!A75","v":"Upper Hutt city"},{"$f":"Control!B75","v":"Upper Hutt city"},{"$f":"Control!C75","v":"Residential"},{"$f":"Control!D75","v":"Upper Hutt cityResidential"},15249,15478,null,null,null,0]
[{"$f":"Control!A76","v":"Upper Hutt city"},{"$f":"Control!B76","v":"Upper Hutt city"},{"$f":"Control!C76","v":"Rural"},{"$f":"Control!D76","v":"Upper Hutt cityRural"},1326,1329,null,null,null,0]
[{"$f":"Control!A77","v":"Porirua city"},{"$f":"Control!B77","v":"Porirua city"},{"$f":"Control!C77","v":"Business"},{"$f":"Control!D77","v":"Porirua cityBusiness"},803,801,null,null,null,0]
[{"$f":"Control!A78","v":"Porirua city"},{"$f":"Control!B78","v":"Porirua city"},{"$f":"Control!C78","v":"Residential"},{"$f":"Control!D78","v":"Porirua cityResidential"},17967,18419,null,null,null,{"$f":"ISBLANK(E79)+ISBLANK(F79)","v":0}]
[{"$f":"Control!A79","v":"Porirua city"},{"$f":"Control!B79","v":"Porirua city"},{"$f":"Control!C79","v":"Rural"},{"$f":"Control!D79","v":"Porirua cityRural"},627,639,null,null,null,0]
[{"$f":"Control!A80","v":"Kāpiti Coast district"},{"$f":"Control!B80","v":"Kāpiti Coast district"},{"$f":"Control!C80","v":"Business"},{"$f":"Control!D80","v":"Kāpiti Coast districtBusiness"},1309,1303,null,null,null,0]
[{"$f":"Control!A81","v":"Kāpiti Coast district"},{"$f":"Control!B81","v":"Kāpiti Coast district excl Ōtaki "},{"$f":"Control!C81","v":"Residential"},{"$f":"Control!D81","v":"Kāpiti Coast district excl Ōtaki Residential"},18238,18314,null,null,null,0]
[{"$f":"Control!A82","v":"Kāpiti Coast district"},{"$f":"Control!B82","v":"Ōtaki rating area"},{"$f":"Control!C82","v":"Residential"},{"$f":"Control!D82","v":"Ōtaki rating areaResidential"},3205,3227,null,null,null,0]
[{"$f":"Control!A83","v":"Kāpiti Coast district"},{"$f":"Control!B83","v":"Kāpiti Coast district"},{"$f":"Control!C83","v":"Rural"},{"$f":"Control!D83","v":"Kāpiti Coast districtRural"},2725,2710,null,null,null,0]
[{"$f":"Control!A84","v":"Masterton district"},{"$f":"Control!B84","v":"Masterton district"},{"$f":"Control!C84","v":"Business"},{"$f":"Control!D84","v":"Masterton districtBusiness"},{"$f":"549+22","v":571},{"$f":"550+20","v":570},null,null,null,{"$f":"ISBLANK(E85)+ISBLANK(F85)","v":0}]
[{"$f":"Control!A85","v":"Masterton district"},{"$f":"Control!B85","v":"Masterton district"},{"$f":"Control!C85","v":"Residential"},{"$f":"Control!D85","v":"Masterton districtResidential"},8337,8488,null,null,null,0]
[{"$f":"Control!A86","v":"Masterton district"},{"$f":"Control!B86","v":"Masterton district"},{"$f":"Control!C86","v":"Rural"},{"$f":"Control!D86","v":"Masterton districtRural"},3961,4016,null,null,null,0]
[{"$f":"Control!A87","v":"Carterton district"},{"$f":"Control!B87","v":"Carterton district"},{"$f":"Control!C87","v":"Business"},{"$f":"Control!D87","v":"Carterton districtBusiness"},228,236,null,null,null,0]
[{"$f":"Control!A88","v":"Carterton district"},{"$f":"Control!B88","v":"Carterton district"},{"$f":"Control!C88","v":"Residential"},{"$f":"Control!D88","v":"Carterton districtResidential"},2558,2599,null,null,null,0]
[{"$f":"Control!A89","v":"Carterton district"},{"$f":"Control!B89","v":"Carterton district"},{"$f":"Control!C89","v":"Rural"},{"$f":"Control!D89","v":"Carterton districtRural"},2133,2175,null,null,null,0]
[{"$f":"Control!A90","v":"South Wairarapa district"},{"$f":"Control!B90","v":"South Wairarapa district"},{"$f":"Control!C90","v":"Business"},{"$f":"Control!D90","v":"South Wairarapa districtBusiness"},312,315,null,null,null,0]
[{"$f":"Control!A91","v":"South Wairarapa district"},{"$f":"Control!B91","v":"South Wairarapa district"},{"$f":"Control!C91","v":"Residential"},{"$f":"Control!D91","v":"South Wairarapa districtResidential"},3463,3536,null,null,null,0]
[{"$f":"Control!A92","v":"South Wairarapa district"},{"$f":"Control!B92","v":"South Wairarapa district"},{"$f":"Control!C92","v":"Rural"},{"$f":"Control!D92","v":"South Wairarapa districtRural"},3248,3282,null,null,null,0]
[{"$f":"Control!A93","v":"Tararua district"},{"$f":"Control!B93","v":"Tararua district"},{"$f":"Control!C93","v":"Rural"},{"$f":"Control!D93","v":"Tararua districtRural"},10,10,null,null,null,0]
[{"$f":"Control!A94","v":"Region wide"},null,{"$f":"Control!C94","v":0},{"$f":"Control!D94","v":"Region wide"},{"$f":"SUM(E68:E94)","v":206440},{"$f":"SUM(F68:F94)","v":208539}]
[]
["Check totals",null,null,null,{"$f":"Total_assessments-E66","v":0},{"$f":"F66-F95","v":0}]
[]
[]
["Number of Assessments Contiguous for EDR"]
[{"$f":"Control!A41","v":"TA full name"},null,{"$f":"Control!B41","v":"Category group"},{"$f":"Control!C41","v":"Concatenated  row"},{"$f":"\"Contiguous assements \"&year_previous","v":"Contiguous assements 2021/22"},{"$f":"\"Contiguous assements \"&year_current","v":"Contiguous assements 2022/23"}]
[{"$f":"Control!A52","v":0},null,{"$f":"Control!B52","v":0},{"$f":"Control!C52","v":0}]
[{"$f":"Control!A42","v":"Wellington city"},null,{"$f":"Control!B42","v":"District wide"},{"$f":"Control!C42","v":"Wellington cityDistrict wide"},{"$f":"SUMIF($A$114:$A$140,$A103,E$114:E$140)","v":0},{"$f":"SUMIF($A$114:$A$140,$A103,F$114:F$140)","v":0}]
[{"$f":"Control!A43","v":"Hutt city"},null,{"$f":"Control!B43","v":"District wide"},{"$f":"Control!C43","v":"Hutt cityDistrict wide"},{"$f":"SUMIF($A$114:$A$140,$A104,E$114:E$140)","v":19},19]
[{"$f":"Control!A44","v":"Upper Hutt city"},null,{"$f":"Control!B44","v":"District wide"},{"$f":"Control!C44","v":"Upper Hutt cityDistrict wide"},121,101]
[{"$f":"Control!A45","v":"Porirua city"},null,{"$f":"Control!B45","v":"District wide"},{"$f":"Control!C45","v":"Porirua cityDistrict wide"},0,0]
[{"$f":"Control!A46","v":"Kāpiti Coast district"},null,{"$f":"Control!B46","v":"District wide"},{"$f":"Control!C46","v":"Kāpiti Coast districtDistrict wide"},309,289]
[{"$f":"Control!A47","v":"Masterton district"},null,{"$f":"Control!B47","v":"District wide"},{"$f":"Control!C47","v":"Masterton districtDistrict wide"},488,528]
[{"$f":"Control!A48","v":"Carterton district"},null,{"$f":"Control!B48","v":"District wide"},{"$f":"Control!C48","v":"Carterton districtDistrict wide"},369,394]
[{"$f":"Control!A49","v":"South Wairarapa district"},null,{"$f":"Control!B49","v":"District wide"},{"$f":"Control!C49","v":"South Wairarapa districtDistrict wide"},378,368]
[{"$f":"Control!A50","v":"Tararua district"},null,{"$f":"Control!B50","v":"District wide"},{"$f":"Control!C50","v":"Tararua districtDistrict wide"},1,1]
[{"$f":"Control!A51","v":"Region wide"},null,{"$f":"Control!B51","v":0},{"$f":"Control!C51","v":"Region wide"},{"$f":"SUM(E103:E111)","v":1685},{"$f":"SUM(F103:F111)","v":1700}]
[]
[{"$f":"Control!A67","v":"Wellington city"},{"$f":"Control!B67","v":"Wellington city"},{"$f":"Control!C67","v":"Wellington CBD"},{"$f":"Control!D67","v":"Wellington cityWellington CBD"}]
[{"$f":"Control!A68","v":"Wellington city"},{"$f":"Control!B68","v":"Wellington city"},{"$f":"Control!C68","v":"Business"},{"$f":"Control!D68","v":"Wellington cityBusiness"}]
[{"$f":"Control!A69","v":"Wellington city"},{"$f":"Control!B69","v":"Wellington city"},{"$f":"Control!C69","v":"Residential"},{"$f":"Control!D69","v":"Wellington cityResidential"}]
[{"$f":"Control!A70","v":"Wellington city"},{"$f":"Control!B70","v":"Wellington city"},{"$f":"Control!C70","v":"Rural"},{"$f":"Control!D70","v":"Wellington cityRural"}]
[{"$f":"Control!A71","v":"Hutt city"},{"$f":"Control!B71","v":"Hutt city"},{"$f":"Control!C71","v":"Business"},{"$f":"Control!D71","v":"Hutt cityBusiness"}]
[{"$f":"Control!A72","v":"Hutt city"},{"$f":"Control!B72","v":"Hutt city"},{"$f":"Control!C72","v":"Residential"},{"$f":"Control!D72","v":"Hutt cityResidential"},19,19]
[{"$f":"Control!A73","v":"Hutt city"},{"$f":"Control!B73","v":"Hutt city"},{"$f":"Control!C73","v":"Rural"},{"$f":"Control!D73","v":"Hutt cityRural"}]
[{"$f":"Control!A74","v":"Upper Hutt city"},{"$f":"Control!B74","v":"Upper Hutt city"},{"$f":"Control!C74","v":"Business"},{"$f":"Control!D74","v":"Upper Hutt cityBusiness"},19,17]
[{"$f":"Control!A75","v":"Upper Hutt city"},{"$f":"Control!B75","v":"Upper Hutt city"},{"$f":"Control!C75","v":"Residential"},{"$f":"Control!D75","v":"Upper Hutt cityResidential"},48,34]
[{"$f":"Control!A76","v":"Upper Hutt city"},{"$f":"Control!B76","v":"Upper Hutt city"},{"$f":"Control!C76","v":"Rural"},{"$f":"Control!D76","v":"Upper Hutt cityRural"},54,50]
[{"$f":"Control!A77","v":"Porirua city"},{"$f":"Control!B77","v":"Porirua city"},{"$f":"Control!C77","v":"Business"},{"$f":"Control!D77","v":"Porirua cityBusiness"}]
[{"$f":"Control!A78","v":"Porirua city"},{"$f":"Control!B78","v":"Porirua city"},{"$f":"Control!C78","v":"Residential"},{"$f":"Control!D78","v":"Porirua cityResidential"}]
[{"$f":"Control!A79","v":"Porirua city"},{"$f":"Control!B79","v":"Porirua city"},{"$f":"Control!C79","v":"Rural"},{"$f":"Control!D79","v":"Porirua cityRural"}]
[{"$f":"Control!A80","v":"Kāpiti Coast district"},{"$f":"Control!B80","v":"Kāpiti Coast district"},{"$f":"Control!C80","v":"Business"},{"$f":"Control!D80","v":"Kāpiti Coast districtBusiness"}]
[{"$f":"Control!A81","v":"Kāpiti Coast district"},{"$f":"Control!B81","v":"Kāpiti Coast district excl Ōtaki "},{"$f":"Control!C81","v":"Residential"},{"$f":"Control!D81","v":"Kāpiti Coast district excl Ōtaki Residential"},132,128]
[{"$f":"Control!A82","v":"Kāpiti Coast district"},{"$f":"Control!B82","v":"Ōtaki rating area"},{"$f":"Control!C82","v":"Residential"},{"$f":"Control!D82","v":"Ōtaki rating areaResidential"},41,39]
[{"$f":"Control!A83","v":"Kāpiti Coast district"},{"$f":"Control!B83","v":"Kāpiti Coast district"},{"$f":"Control!C83","v":"Rural"},{"$f":"Control!D83","v":"Kāpiti Coast districtRural"},136,122]
[{"$f":"Control!A84","v":"Masterton district"},{"$f":"Control!B84","v":"Masterton district"},{"$f":"Control!C84","v":"Business"},{"$f":"Control!D84","v":"Masterton districtBusiness"}]
[{"$f":"Control!A85","v":"Masterton district"},{"$f":"Control!B85","v":"Masterton district"},{"$f":"Control!C85","v":"Residential"},{"$f":"Control!D85","v":"Masterton districtResidential"},82,92]
[{"$f":"Control!A86","v":"Masterton district"},{"$f":"Control!B86","v":"Masterton district"},{"$f":"Control!C86","v":"Rural"},{"$f":"Control!D86","v":"Masterton districtRural"},406,436]
[{"$f":"Control!A87","v":"Carterton district"},{"$f":"Control!B87","v":"Carterton district"},{"$f":"Control!C87","v":"Business"},{"$f":"Control!D87","v":"Carterton districtBusiness"}]
[{"$f":"Control!A88","v":"Carterton district"},{"$f":"Control!B88","v":"Carterton district"},{"$f":"Control!C88","v":"Residential"},{"$f":"Control!D88","v":"Carterton districtResidential"},69,78]
[{"$f":"Control!A89","v":"Carterton district"},{"$f":"Control!B89","v":"Carterton district"},{"$f":"Control!C89","v":"Rural"},{"$f":"Control!D89","v":"Carterton districtRural"},300,316]
[{"$f":"Control!A90","v":"South Wairarapa district"},{"$f":"Control!B90","v":"South Wairarapa district"},{"$f":"Control!C90","v":"Business"},{"$f":"Control!D90","v":"South Wairarapa districtBusiness"}]
[{"$f":"Control!A91","v":"South Wairarapa district"},{"$f":"Control!B91","v":"South Wairarapa district"},{"$f":"Control!C91","v":"Residential"},{"$f":"Control!D91","v":"South Wairarapa districtResidential"},91,89]
[{"$f":"Control!A92","v":"South Wairarapa district"},{"$f":"Control!B92","v":"South Wairarapa district"},{"$f":"Control!C92","v":"Rural"},{"$f":"Control!D92","v":"South Wairarapa districtRural"},287,279]
[{"$f":"Control!A93","v":"Tararua district"},{"$f":"Control!B93","v":"Tararua district"},{"$f":"Control!C93","v":"Rural"},{"$f":"Control!D93","v":"Tararua districtRural"},1,1]
[{"$f":"Control!A94","v":"Region wide"},null,{"$f":"Control!C94","v":0},{"$f":"Control!D94","v":"Region wide"},{"$f":"SUM(E114:E140)","v":1685},{"$f":"SUM(F114:F140)","v":1700}]
[]
["Check totals",null,null,null,{"$f":"E112-E141","v":0},{"$f":"F112-F141","v":0}]
[]
[]
[]
[]
[]
[]
["TA full name","Rating area","Category group"]
["Wellington city","Wellington city","Wellington CBD"]
["Wellington city","Wellington city","Business"]
["Wellington city","Wellington city","Residential"]
["Wellington city","Wellington city","Rural"]
["Hutt city","Hutt city","Business"]
["Hutt city","Hutt city","Residential"]
["Hutt city","Hutt city","Rural"]
["Upper Hutt city","Upper Hutt city","Business"]
["Upper Hutt city","Upper Hutt city","Residential"]
["Upper Hutt city","Upper Hutt city","Rural"]
["Porirua city","Porirua city","Business"]
["Porirua city","Porirua city","Residential"]
["Porirua city","Porirua city","Rural"]
["Kāpiti Coast district","Kāpiti Coast district","Business"]
["Kāpiti Coast district","Kāpiti Coast district excl Ōtaki ","Residential"]
["Kāpiti Coast district","Ōtaki rating area","Residential"]
["Kāpiti Coast district","Kāpiti Coast district","Rural"]
["Masterton district","Masterton district","Business"]
["Masterton district","Masterton district","Residential"]
["Masterton district","Masterton district","Rural"]
["Carterton district","Carterton district","Business"]
["Carterton district","Carterton district","Residential"]
["Carterton district","Carterton district","Rural"]
["South Wairarapa district","South Wairarapa district","Business"]
["South Wairarapa district","South Wairarapa district","Residential"]
["South Wairarapa district","South Wairarapa district","Rural"]
["Tararua district","Tararua district","Rural"]

{"sheet":"CV Analysis ","index":5,"n_rows":43,"n_cols":17,"rows_kept":43,"cut":false,"hidden":false,"merged":[[0,2,2,16],[6,18,9,29],[13,18,15,29],[16,18,18,29],[23,18,25,19]]}
["Greater Wellington Regional Council",null,"WARNING THIS TAB CONTAINS MANUALLY ENTERED INFORMATION, NOT JUST IN THE YELLOW CELLS. ENSURE IT IS SHOWING WHAT YOU REQUIRE BEFORE USING"]
["Analysis of Capital Value and Assessments"]
[]
[]
[null,null,"Capital Values proposal",{"$f":"\"Capital Values \"&year_current","v":"Capital Values 2022/23"},null,"proposal",{"$f":"\"CV assessments \"&year_current","v":"CV assessments 2022/23"},null,"proposal",{"$f":"\"Contiguous assements \"&year_current","v":"Contiguous assements 2022/23"},null,"CV Average proposal","CV Average 2020/21",null,"CV Average movement","change in CV","change in assessment "]
[]
[{"$f":"Control!A67","v":"Wellington city"},{"$f":"Control!C67","v":"Wellington CBD"},9921148650,{"$f":"'Capital values'!F19","v":13133427700},null,3340,{"$f":"'Capital values'!F68","v":3331},null,null,{"$f":"'Capital values'!F114","v":0},null,{"$f":"C7/F7","v":2970403.7874251497},{"$f":"D7/G7","v":3942788.2617832483},null,{"$f":"M7-L7","v":972384.47435809858},{"$f":"D7-C7","v":3212279050},{"$f":"G7-F7","v":-9}]
[{"$f":"Control!A68","v":"Wellington city"},{"$f":"Control!C68","v":"Business"},4638515650,{"$f":"'Capital values'!F20","v":6659900150},null,1897,{"$f":"'Capital values'!F69","v":1885},null,null,{"$f":"'Capital values'!F115","v":0},null,{"$f":"C8/F8","v":2445184.844491302},{"$f":"D8/G8","v":3533103.5278514591},null,{"$f":"M8-L8","v":1087918.6833601571},{"$f":"D8-C8","v":2021384500},{"$f":"G8-F8","v":-12}]
[{"$f":"Control!A69","v":"Wellington city"},{"$f":"Control!C69","v":"Residential"},57499964050,{"$f":"'Capital values'!F21","v":93657459050},null,71826,{"$f":"'Capital values'!F70","v":73796},null,null,{"$f":"'Capital values'!F116","v":0},null,{"$f":"C9/F9","v":800545.26285746112},1269140.0489186405,null,468594.78606117936,36157495000,1970]
[{"$f":"Control!A70","v":"Wellington city"},{"$f":"Control!C70","v":"Rural"},794922100,{"$f":"'Capital values'!F22","v":1301084350},null,790,{"$f":"'Capital values'!F71","v":844},null,null,{"$f":"'Capital values'!F117","v":0},null,{"$f":"C10/F10","v":1006230.506329114},{"$f":"D10/G10","v":1541569.13507109},null,{"$f":"M10-L10","v":535338.62874197599},506162250,54]
[{"$f":"Control!A71","v":"Hutt city"},{"$f":"Control!C71","v":"Business"},3813013500,{"$f":"'Capital values'!F23","v":4905894500},null,2359,{"$f":"'Capital values'!F72","v":2348},null,null,{"$f":"'Capital values'!F118","v":0},null,1616368.5883849089,2089392.8875638843,null,473024.2991789754,1092881000,-11]
[{"$f":"Control!A72","v":"Hutt city"},{"$f":"Control!C72","v":"Residential"},17395848500,{"$f":"'Capital values'!F24","v":23837441000},null,36551,{"$f":"'Capital values'!F73","v":37680},null,125,{"$f":"'Capital values'!F119","v":19},null,475933.58594840084,632628.47664543521,null,{"$f":"M12-L12","v":156694.89069703437},6441592500,1129]
[{"$f":"Control!A73","v":"Hutt city"},{"$f":"Control!C73","v":"Rural"},316542000,{"$f":"'Capital values'!F25","v":388613000},null,488,{"$f":"'Capital values'!F74","v":440},null,null,{"$f":"'Capital values'!F120","v":0},null,648651.63934426231,883211.36363636365,null,234559.72429210134,72071000,-48]
[{"$f":"Control!A74","v":"Upper Hutt city"},{"$f":"Control!C74","v":"Business"},1182339500,{"$f":"'Capital values'!F26","v":1448246700},null,746,{"$f":"'Capital values'!F75","v":768},null,null,{"$f":"'Capital values'!F121","v":17},null,1584905.4959785524,1885737.890625,null,{"$f":"M14-L14","v":300832.39464644762},265907200,22]
[{"$f":"Control!A75","v":"Upper Hutt city"},{"$f":"Control!C75","v":"Residential"},6233760420,{"$f":"'Capital values'!F27","v":9098976100},null,14902,{"$f":"'Capital values'!F76","v":15478},null,29,{"$f":"'Capital values'!F122","v":34},null,418317.03261307208,587865.1053107637,null,169548.07269769162,2865215680,576]
[{"$f":"Control!A76","v":"Upper Hutt city"},{"$f":"Control!C76","v":"Rural"},861586340,{"$f":"'Capital values'!F28","v":1170687000},null,1266,{"$f":"'Capital values'!F77","v":1329},null,67,{"$f":"'Capital values'!F123","v":50},null,680557.93048973149,880878.1038374718,null,{"$f":"M16-L16","v":200320.17334774032},309100660,63]
[{"$f":"Control!A77","v":"Porirua city"},{"$f":"Control!C77","v":"Business"},1101735500,{"$f":"'Capital values'!F29","v":1400176000},null,798,{"$f":"'Capital values'!F78","v":801},null,null,{"$f":"'Capital values'!F124","v":0},null,1380620.9273182957,1748034.9563046193,null,{"$f":"M17-L17","v":367414.02898632362},298440500,3]
[{"$f":"Control!A78","v":"Porirua city"},{"$f":"Control!C78","v":"Residential"},8642049050,{"$f":"'Capital values'!F30","v":12370577500},null,17394,{"$f":"'Capital values'!F79","v":18419},null,null,{"$f":"'Capital values'!F125","v":0},null,496840.81004944234,671620.47342418157,null,174779.66337473923,3728528450,1025]
[{"$f":"Control!A79","v":"Porirua city"},{"$f":"Control!C79","v":"Rural"},623527750,{"$f":"'Capital values'!F31","v":852855700},null,616,{"$f":"'Capital values'!F80","v":639},null,null,{"$f":"'Capital values'!F126","v":0},null,1012220.3733766234,1334672.4569640062,null,322452.0835873828,229327950,23]
[{"$f":"Control!A80","v":"Kāpiti Coast district"},{"$f":"Control!C80","v":"Business"},1476489000,{"$f":"'Capital values'!F32","v":1775736500},null,1333,{"$f":"'Capital values'!F81","v":1303},null,null,{"$f":"'Capital values'!F127","v":0},null,1107643.6609152288,1362806.2164236377,null,255162.55550840893,299247500,-30]
[{"$f":"Control!A81","v":"Kāpiti Coast district"},{"$f":"Control!C81","v":"Residential"},10311045500,{"$f":"'Capital values'!F33","v":13678059800},null,17951,{"$f":"'Capital values'!F82","v":18314},null,163,{"$f":"'Capital values'!F128","v":128},null,574399.50420589384,746863.59069564263,null,172464.08648974879,3367014300,363]
[{"$f":"Control!A82","v":"Kāpiti Coast district"},{"$f":"Control!C82","v":"Residential"},1121512900,{"$f":"'Capital values'!F34","v":1671453400},null,3173,{"$f":"'Capital values'!F83","v":3227},null,44,{"$f":"'Capital values'!F129","v":39},null,353455.05830444372,517958.90920359467,null,164503.85089915094,549940500,54]
[{"$f":"Control!A83","v":"Kāpiti Coast district"},{"$f":"Control!C83","v":"Rural"},1985010700,{"$f":"'Capital values'!F35","v":2657907950},null,2647,{"$f":"'Capital values'!F84","v":2710},null,155,{"$f":"'Capital values'!F130","v":122},null,749909.59576879488,980777.84132841334,null,230868.24555961846,672897250,63]
[{"$f":"Control!A84","v":"Masterton district"},{"$f":"Control!C84","v":"Business"},433209100,{"$f":"'Capital values'!F36","v":736487600},null,549,{"$f":"'Capital values'!F85","v":570},null,null,{"$f":"'Capital values'!F131","v":0},null,{"$f":"C24/F24","v":789087.6138433516},1292083.5087719299,null,502995.89492857829,303278500,21]
[{"$f":"Control!A85","v":"Masterton district"},{"$f":"Control!C85","v":"Residential"},2678795300,{"$f":"'Capital values'!F37","v":4080427400},null,8086,{"$f":"'Capital values'!F86","v":8488},null,19,{"$f":"'Capital values'!F132","v":92},null,331288.06579272816,480728.958529689,null,149440.89273696084,1401632100,402]
[{"$f":"Control!A86","v":"Masterton district"},{"$f":"Control!C86","v":"Rural"},2808505600,{"$f":"'Capital values'!F38","v":3970969155},null,3895,{"$f":"'Capital values'!F87","v":4016},null,445,{"$f":"'Capital values'!F133","v":436},null,721054.06931964052,988787.14018924301,null,267733.0708696025,1162463555,121]
[{"$f":"Control!A87","v":"Carterton district"},{"$f":"Control!C87","v":"Business"},97126500,{"$f":"'Capital values'!F39","v":133894500},null,226,{"$f":"'Capital values'!F88","v":236},null,null,{"$f":"'Capital values'!F134","v":0},null,429763.27433628321,567349.57627118647,null,137586.30193490325,36768000,10]
[{"$f":"Control!A88","v":"Carterton district"},{"$f":"Control!C88","v":"Residential"},858895500,{"$f":"'Capital values'!F40","v":1318035500},null,2397,{"$f":"'Capital values'!F89","v":2599},null,70,{"$f":"'Capital values'!F135","v":78},null,358321.02628285356,507131.78145440551,null,148810.75517155195,459140000,202]
[{"$f":"Control!A89","v":"Carterton district"},{"$f":"Control!C89","v":"Rural"},1749109700,{"$f":"'Capital values'!F41","v":2277084800},null,2048,{"$f":"'Capital values'!F90","v":2175},null,303,{"$f":"'Capital values'!F136","v":316},null,854057.470703125,1046935.540229885,null,192878.06952676002,527975100,127]
[{"$f":"Control!A90","v":"South Wairarapa district"},{"$f":"Control!C90","v":"Business"},211288600,{"$f":"'Capital values'!F42","v":287242000},null,312,{"$f":"'Capital values'!F91","v":315},null,null,{"$f":"'Capital values'!F137","v":0},null,677207.05128205125,911879.36507936509,null,234672.31379731384,75953400,3]
[{"$f":"Control!A91","v":"South Wairarapa district"},{"$f":"Control!C91","v":"Residential"},1373326100,{"$f":"'Capital values'!F43","v":2151921500},null,3307,{"$f":"'Capital values'!F92","v":3536},null,102,{"$f":"'Capital values'!F138","v":89},null,415278.53039008164,608575.08484162891,null,193296.55445154727,778595400,229]
[{"$f":"Control!A92","v":"South Wairarapa district"},{"$f":"Control!C92","v":"Rural"},2970196100,{"$f":"'Capital values'!F44","v":3915526700},null,3127,{"$f":"'Capital values'!F93","v":3282},null,300,{"$f":"'Capital values'!F139","v":279},null,949854.84489926451,1193030.6825106642,null,243175.83761139971,945330600,155]
[{"$f":"Control!A93","v":"Tararua district"},{"$f":"Control!C93","v":"Rural"},10673500,{"$f":"'Capital values'!F45","v":15976500},null,10,{"$f":"'Capital values'!F94","v":10},null,1,{"$f":"'Capital values'!F140","v":1},null,{"$f":"C33/F33","v":1067350},{"$f":"D33/G33","v":1597650},null,{"$f":"M33-L33","v":530300},5303000,0]
[{"$f":"Control!A94","v":"Region wide"},{"$f":"Control!C94","v":0},{"$f":"SUM(C7:C33)","v":141110137110},{"$f":"SUM(D7:D33)","v":208896062055},null,{"$f":"SUM(F7:F33)","v":202034},{"$f":"SUM(G7:G33)","v":208539},null,{"$f":"SUM(I7:I33)","v":1823},{"$f":"SUM(J7:J33)","v":1700},null,{"$f":"C34/F34","v":698447.47473197582},{"$f":"D34/G34","v":1001712.2075726843},null,{"$f":"M34-L34","v":303264.73284070846},{"$f":"SUM(P7:P33)","v":67785924945},{"$f":"SUM(Q7:Q33)","v":6505}]
[]
["Greytown Urban -CV",null,739130000,{"$f":"+'Capital values'!F48","v":1131557500}]
["Featherston Urban - LV",null,162213500,{"$f":"+'Capital values'!F49","v":282168500}]
[]
["Wellington CBD",null,{"$f":"SUMIF($B$7:$B$33,$A39,C$7:C$33)","v":9921148650},{"$f":"SUMIF($B$7:$B$33,$A39,D$7:D$33)","v":13133427700},null,{"$f":"SUMIF($B$7:$B$33,$A39,F$7:F$33)","v":3340},3331,null,0,0,null,2970403.7874251497,3942788.2617832483,null,{"$f":"SUMIF($B$7:$B$33,$A39,O$7:O$33)","v":972384.47435809858},{"$f":"SUMIF($B$7:$B$33,$A39,P$7:P$33)","v":3212279050},{"$f":"SUMIF($B$7:$B$33,$A39,Q$7:Q$33)","v":-9}]
["Business",null,{"$f":"SUMIF($B$7:$B$33,$A40,C$7:C$33)","v":12953717350},{"$f":"SUMIF($B$7:$B$33,$A40,D$7:D$33)","v":17347577950},null,8220,8226,null,0,17,null,10030781.456549974,13390387.928891081,null,3359606.4723411081,4393860600,6]
["Residential",null,106115197320,161864351250,null,175587,181537,null,552,479,null,4224378.8764443779,6022512.429023982,null,1798133.5525796048,55749153930,5950]
["Rural",null,12120073790,16550705155,null,14887,15445,null,1271,1204,null,7689886.4302305551,10447512.263767138,null,2757625.8335365811,4430631365,558]
["Total",null,{"$f":"SUM(C39:C42)","v":141110137110},{"$f":"SUM(D39:D42)","v":208896062055},null,{"$f":"SUM(F39:F42)","v":202034},{"$f":"SUM(G39:G42)","v":208539},null,{"$f":"SUM(I39:I42)","v":1823},{"$f":"SUM(J39:J42)","v":1700},null,{"$f":"C43/F43","v":698447.47473197582},{"$f":"D43/G43","v":1001712.2075726843},null,{"$f":"M43-L43","v":303264.73284070846},{"$f":"SUM(P39:P42)","v":67785924945},{"$f":"SUM(Q39:Q42)","v":6505}]

{"sheet":"ESSbase","index":6,"n_rows":52,"n_cols":14,"rows_kept":52,"cut":false,"hidden":false,"merged":[[2,0,2,1]]}
["Wellington Regional Council"]
["ESSBase values"]
[{"$f":"check_total","v":0}]
[]
[null,"Model naming convention","Essbase name","Essbase name",null,"Last Year Base","Current Year Base","Change",null,"Proposed Budget Base"]
[null,null,null,null,null,{"$f":"year_previous","v":"2021/22"},{"$f":"year_current","v":"2022/23"},{"$f":"year_current","v":"2022/23"},null,{"$f":"year_current","v":"2022/23"}]
[]
[null,"General rate","WRC - Mgmt","General Rates",null,63113015.5119792,{"$f":"73337780","v":73337780},{"$f":"G8/F8-1","v":0.162007224739247},null,62657212.723840542,{"$f":"+G8-J8","v":10680567.276159458}]
[null,"Remission of rates",null,"Remission of Regional Rates",null,0,0,0,null,0,0]
[null,"Public transport rate",null,"Transport Rate",null,81810330.828706726,90658479.920000002,{"$f":"G10/F10-1","v":0.10815442257310259},null,81810330.828706726,8848149.0912932754]
[null,"River management rate",null,"River Rate",null,6796139.7228808086,7874549.21,{"$f":"G11/F11-1","v":0.15867971099659295},null,6802436.4676884282,1072112.7423115717]
[null,"Stadium purposes rate",null,"Stadium Rate",null,0,0,0,null,0,0]
[null,"Economic Development rate",null,"Economic Development Rate",null,4690801.6321873646,4620623.29,{"$f":"G13/F13-1","v":-1.4960842024487775E-2},null,4690801.6321873646,-70178.342187364586,null,null,"Previously Wellington Regional Strategy (WRS) Rate. Make sure name change to economic development rate is picked up in summary from finance system"]
[null,"District-Wide Rates",null,"District-Wide Rates",null,{"$f":"SUM(F8:F13)","v":156410287.69575411},{"$f":"SUM(G8:G13)","v":176491432.42000002},{"$f":"G14/F14-1","v":0.12838762091728473},null,{"$f":"SUM(J8:J13)","v":155960781.65242308},20530650.767576933]
[null,"Rates penalties",null,"Rates Penalties",null,0,0,0,null,0,0]
[null,"Remission of rates penalties",null,"Remission of Rates Penalties",null,0,0,0,null,0,0]
[null,"Pest management rate",null,"Pest Rate",null,666799.93999999994,0,{"$f":"G17/F17-1","v":-1},null,666799.93999999994,-666799.93999999994]
[null,"River management rate - Non district wide",null,"River  Mgmt Rates - Non District Wide",null,99998.399999999994,101498.37,1.4999939999039924E-2,null,99998.399999999994,1499.9700000000012]
[null,"Special Rates",null,"Special Rates",null,1608620.6520529734,1680741.46,4.4833943823227473E-2,null,1609109.1460529733,71632.313947026618]
[null,"Total Other Rates",null,"Total Other Rates",null,{"$f":"SUM(F17:F19)","v":2375418.9920529732},{"$f":"SUM(G17:G19)","v":1782239.83},-0.24971559292801382,null,2375907.4860529732,-593667.65605297312]
[null,"Total Regnl Rates",null,"Total Regnl Rates",null,{"$f":"F20+F14","v":158785706.68780708},{"$f":"G20+G14","v":178273672.25000003},0.12273123298502409,null,{"$f":"J20+J14","v":158336689.13847604},19936983.111523986]
[null,"Bulk water levies",null,"Bulk Water Levies",null,39319128.332546271,42068773,6.9931475697992962E-2,null,39423848.591233559,2644924.408766441]
[null,"Total Regnl Rates & levies",null,"Total Regnl Rates & levies",null,{"$f":"F22+F21","v":198104835.02035335},{"$f":"G22+G21","v":220342445.25000003},0.11225172887558243,null,{"$f":"J22+J21","v":197760537.7297096},22581907.520290434]
[null,"Warm Greater Wellington rate",null,"Warm Greater Wellington rate",null,2868617.5894348058,1937525.05,-0.3245788294905686,null,2868617.5894348063,-931092.53943480621]
[null,"Total Rates & Levies",null,"Total Rates & Levies",null,{"$f":"F24+F23","v":200973452.60978815},{"$f":"G24+G23","v":222279970.30000004},0.10601657787897389,null,{"$f":"J24+J23","v":200629155.3191444},21650814.980855644]
[]
[]
[]
[]
[null,"Total River, Drainage etc",null,"Total River, Drainage etc"]
[]
[null,"General Rates","Te Hunga Whiriwhiri Department","General Rates",null,2741315.2842521085,4816190,{"$f":"G32/F32-1","v":0.75689021531646383},null,2416867.9242521082,{"$f":"+G32-J32","v":2399322.0757478918}]
[null,"General Rates","Managing Emergencies","General Rates",null,1079575.0975558066,1336088,{"$f":"G33/F33-1","v":0.23760542738059343},null,1079575.0975558066,256512.90244419337]
[null,"General Rates","Fit for the Future","General Rates",null,0,0,0,null,0,0]
[null,"General Rates","Old 30000","General Rates",null,23311856.312460553,{"$f":"26155793","v":26155793},0,null,30429090.919231083,-4273297.9192310832]
[null,"General Rates","Parks & Forests Group","General Rates",null,7007434.3443986308,7282830,{"$f":"G36/F36-1","v":3.9300497452609884E-2},null,6871763.5158872828,411066.48411271721]
[null,"General Rates","Wairarapa Water Use (was Env Edu) activity","General Rates",null,312971.09088321374,-982830,{"$f":"G37/F37-1","v":-4.1403219934033668},null,312971.09088321374,-1295801.0908832138]
[null,"General Rates","Catchment Management (excluding forests)","General Rates",null,26585680.646916252,29269006,{"$f":"G38/F38-1","v":0.10093122642677166},null,26401396.336324554,2867609.6636754461]
[null,"General Rates","Strategy Group","General Rates",null,8755752.3910107259,8753629,{"$f":"G39/F39-1","v":-2.4251382587126002E-4},null,8755752.3910107259,-2123.3910107258707]
[null,null,"Metlink","General Rates",null,null,881226]
[null,"General Rates","Investment Management.","General Rates",null,-6681569.6554981228,{"$f":"-4174188+36","v":-4174152},{"$f":"G41/F41-1","v":-0.37527374326402807},null,-6425469.9445337327,{"$f":"+G41-J41","v":2251317.9445337327}]
[]
[null,"General Rates","WRC - Mgmt","General Rates",null,63113015.5119792,{"$f":"SUM(G32:G41)","v":73337780},{"$f":"G43/F43-1","v":0.162007224739247},null,62657212.723840542,{"$f":"+G43-J43","v":10680567.276159458}]
[]
[]
[]
[]
[]
[]
[]
[null,"Warm Greater Wellington rate","Warm Greater Wellington management","Warm Greater Wellington rate",null,2868617.5894348058,1937525,{"$f":"G51/F51-1","v":-0.32457884692056704},null,2868617.5894348063]
[null,"External Income","Warm Greater Wellington management","External Income",null,"0",0,0,null,"0"]

{"sheet":"Class Rates","index":7,"n_rows":108,"n_cols":13,"rows_kept":108,"cut":false,"hidden":false,"merged":[]}
["Wellington Regional Council"]
[{"$f":"\"Class rates \"&year_current","v":"Class rates 2022/23"}]
["Printed :",{"$f":"NOW()","v":"2023-01-19T08:30:06.840"}]
[{"$f":"check_total","v":0}]
[]
["2021-06-14","Revenue Required",null,"Class","$ per Hectare","Class Total","Class Areas","Scheme Total","Var"]
["Draft","ex gst",null,null,"ex gst","ex gst","Hectares","ex gst","$",null,"Lookup index"]
["River Management",null,null,null,null,null,null,null,null,null,"Scheme","Class","Concat"]
["Lower Wairarapa Valley Development Scheme",903147.59,null,"A",0.26852851512372145,{"$f":"E9*G9+J9","v":781928.75408038765},2911902.1260000002,{"$f":"SUM(F9:F11)","v":903147.59},{"$f":"B9-H9","v":0},null,{"$f":"A9","v":"Lower Wairarapa Valley Development Scheme"},{"$f":"D9","v":"A"},{"$f":"K9&L9","v":"Lower Wairarapa Valley Development SchemeA"}]
[null,null,null,"Sa",22.045431189599999,{"$f":"E10*G10","v":9501.5808427175998},431,null,null,null,{"$f":"K9","v":"Lower Wairarapa Valley Development Scheme"},{"$f":"D10","v":"Sa"},"Lower Wairarapa Valley Development SchemeSa"]
[null,null,null,"Sb",44.122138655961599,111717.25507689477,2532,null,null,null,{"$f":"K10","v":"Lower Wairarapa Valley Development Scheme"},{"$f":"D11","v":"Sb"},"Lower Wairarapa Valley Development SchemeSb"]
["Waiohine Rural",98709.615579400008,null,"A",48.858400000000003,{"$f":"E12*G12","v":5495.2019648000005},112.47199999999999,{"$f":"SUM(F12:F17)","v":98709.615579400008},{"$f":"B12-H12","v":0},null,{"$f":"A12","v":"Waiohine Rural"},{"$f":"D12","v":"A"},"Waiohine RuralA"]
[null,null,null,"B",40.715000000000003,{"$f":"E13*G13","v":15585.217491500001},382.78809999999999,null,null,null,{"$f":"K12","v":"Waiohine Rural"},"B","Waiohine RuralB"]
[null,null,null,"C",32.572000000000003,41685.7042296,1279.8018,null,null,null,{"$f":"K13","v":"Waiohine Rural"},"C","Waiohine RuralC"]
[null,null,null,"D",24.428999999999998,9036.3432866999992,369.90230000000003,null,null,null,{"$f":"K14","v":"Waiohine Rural"},"D","Waiohine RuralD"]
[null,null,null,"E",16.286000000000001,12982.772506800002,797.17380000000003,null,null,null,{"$f":"K15","v":"Waiohine Rural"},"E","Waiohine RuralE"]
[null,null,null,"S",814.29100000000005,13924.376100000001,17.100000000000001,null,null,null,{"$f":"K16","v":"Waiohine Rural"},"S","Waiohine RuralS"]
["Mangatarere",10566.44651138,null,"A",36.917900000000003,792.14738030000012,21.457000000000001,{"$f":"SUM(F18:F21)","v":10566.44651138},{"$f":"B18-H18","v":0},null,{"$f":"A18","v":"Mangatarere"},"A","MangatarereA"]
[null,null,null,"B",35.3127,7399.8186602400001,209.55119999999999,null,null,null,{"$f":"K18","v":"Mangatarere"},"B","MangatarereB"]
[null,null,null,"C",29.924099999999999,471.85517843999997,15.7684,null,null,null,{"$f":"K19","v":"Mangatarere"},"C","MangatarereC"]
[null,null,null,"D",26.484500000000001,1902.6252924000003,71.839200000000005,null,null,null,{"$f":"K20","v":"Mangatarere"},"D","MangatarereD"]
["Catchment Schemes",null,null,null,null,null,null,null,null,null,{"$f":"K21","v":"Mangatarere"},0,"Mangatarere0"]
["Awhea-Opouawe",22790.880000000001,null,null,null,{"$f":"+H23","v":22790.880000000001},null,{"$f":"+H98","v":22790.880000000001},{"$f":"B23-H23","v":0},null,{"$f":"A23","v":"Awhea-Opouawe"},0,"Awhea-Opouawe0"]
[null,null,null,null,null,{"$f":"E24*G24","v":0},null,"see bottom of sheet",null,null,{"$f":"K23","v":"Awhea-Opouawe"},0,"Awhea-Opouawe0"]
["Whareama",20179.939999999999,null,"A",4.7412432382771916,{"$f":"E25*G25","v":3391.8192116437594},715.38603720239257,{"$f":"SUM(F25:F29)","v":20179.940429085978},{"$f":"B25-H25","v":-4.2908597970381379E-4},null,{"$f":"A25","v":"Whareama"},"A","WhareamaA"]
[null,null,null,"B",1.8235550916450738,{"$f":"E26*G26","v":1737.0546467915028},952.56494018201727,null,null,null,{"$f":"K25","v":"Whareama"},"B","WhareamaB"]
[null,null,null,"C",0.31912214103788794,{"$f":"E27*G27","v":14544.348452092067},45576.118300000002,null,null,null,{"$f":"K26","v":"Whareama"},"C","WhareamaC"]
[null,null,null,"E",0.22794438645563422,{"$f":"E28*G28","v":3.510913412382906},15.4025,null,null,null,{"$f":"K27","v":"Whareama"},"E","WhareamaE"]
[null,null,null,"F",0.18235550916450738,{"$f":"E29*G29","v":503.20720514626828},2759.4845225778877,null,null,null,{"$f":"K28","v":"Whareama"},"F","WhareamaF"]
["Homewood",12273.94,null,"A",2.0186980916130612,4632.5059036910952,2294.7987730000004,{"$f":"SUM(F30:F33)","v":12273.940000000002},{"$f":"B30-H30","v":0},null,{"$f":"A30","v":"Homewood"},"A","HomewoodA"]
[null,null,null,"B",1.9225696110600585,1062.2144134314037,552.49724499999991,null,null,null,{"$f":"K30","v":"Homewood"},"B","HomewoodB"]
[null,null,null,"C",1.6822484096775512,6161.1908634800675,3662.4738820000002,null,null,null,{"$f":"K31","v":"Homewood"},"C","HomewoodC"]
[null,null,null,"D",0.24032120138250732,{"$f":"E33*G33","v":418.02881939743656},1739.4587618263479,null,null,null,{"$f":"K32","v":"Homewood"},"D","HomewoodD"]
["Mataikona-Whakataki",6817.74,null,null,null,{"$f":"+H34","v":6817.74},null,{"$f":"+H102","v":6817.74},{"$f":"B34-H34","v":0},null,{"$f":"A34","v":"Mataikona-Whakataki"},0,"Mataikona-Whakataki0"]
[null,null,null,null,null,0,null,"see bottom of sheet",null,null,{"$f":"A35","v":0},0,"00"]
["Maungaraki",7111.13,null,null,null,{"$f":"+H36","v":7111.1339999999991},3305.470824,{"$f":"+H108","v":7111.1339999999991},{"$f":"B36-H36","v":-3.9999999989959178E-3},null,{"$f":"A36","v":"Maungaraki"},0,"Maungaraki0"]
[null,null,null,null,null,"-",2972.0057019999999,"see bottom of sheet",null,null,{"$f":"A37","v":0},0,"00"]
["Upper Kaiwhata",2593.59,null,"A",10.84375350369571,{"$f":"E38*G38","v":353.65926114488229},32.614100000000001,{"$f":"SUM(F38:F43)","v":2593.59},{"$f":"B38-H38","v":0},null,{"$f":"A38","v":"Upper Kaiwhata"},"A","Upper KaiwhataA"]
[null,null,null,"B",4.7441421578668734,249.57888181262888,52.607799999999997,null,null,null,{"$f":"K38","v":"Upper Kaiwhata"},"B","Upper KaiwhataB"]
[null,null,null,"C",0.6777345939809819,649.40027271658141,958.19259999999997,null,null,null,{"$f":"K39","v":"Upper Kaiwhata"},"C","Upper KaiwhataC"]
[null,null,null,"D",0.4066407563885891,834.70281919074569,2052.6786999999999,null,null,null,{"$f":"K40","v":"Upper Kaiwhata"},"D","Upper KaiwhataD"]
[null,null,null,"E",0.27109383759239275,444.92517032106196,1641.2219999999998,null,null,null,{"$f":"K41","v":"Upper Kaiwhata"},"E","Upper KaiwhataE"]
[null,null,null,"F",0.13554691879619638,61.323594814099977,452.416,null,null,null,{"$f":"K42","v":"Upper Kaiwhata"},"F","Upper KaiwhataF"]
["Lower Kaiwhata",4460.26,null,"A",17.598532329318239,811.50136363045328,46.111877311412741,{"$f":"SUM(F44:F48)","v":4460.2599999999993},{"$f":"B44-H44","v":0},null,{"$f":"A44","v":"Lower Kaiwhata"},"A","Lower KaiwhataA"]
[null,null,null,"B",7.69935789407673,343.29804137195379,44.587879417329049,null,null,null,{"$f":"K44","v":"Lower Kaiwhata"},"B","Lower KaiwhataB"]
[null,null,null,"C",1.0999082705823899,1275.3551954694549,1159.5105060844462,null,null,null,{"$f":"K45","v":"Lower Kaiwhata"},"C","Lower KaiwhataC"]
[null,null,null,"D",0.65994496234943401,1953.4441505509415,2960.0107008872251,null,null,null,{"$f":"K46","v":"Lower Kaiwhata"},"D","Lower KaiwhataD"]
[null,null,null,"F",0.21998165411647799,76.661248977196266,348.48928327725429,null,null,null,{"$f":"K47","v":"Lower Kaiwhata"},"F","Lower KaiwhataF"]
["Pump Drainage",null,null,null,null,null,null,null,null,null,null,{"$f":"D49","v":0},{"$f":"K49&L49","v":"0"}]
["Te Hopai",55485.838999775995,null,"A",44.509120000000003,{"$f":"E50*G50","v":55485.838999775995},1246.6172999999999,{"$f":"F50","v":55485.838999775995},{"$f":"B50-H50","v":0},null,{"$f":"A50","v":"Te Hopai"},"A","Te HopaiA"]
["Moonmoot Pump",28425.041192055,null,"A",124.82299999999999,{"$f":"E51*G51","v":28425.041192055},227.72278500000002,{"$f":"F51","v":28425.041192055},{"$f":"B51-H51","v":0},null,{"$f":"A51","v":"Moonmoot Pump"},"A","Moonmoot PumpA"]
["Onoke Pump",51805.570080352001,null,"A",72.615039999999993,{"$f":"E52*G52","v":51805.570080352001},713.42755000000011,{"$f":"F52","v":51805.570080352001},{"$f":"B52-H52","v":0},null,{"$f":"A52","v":"Onoke Pump"},"A","Onoke PumpA"]
["Pouawha Pump",103575.03966456001,null,"A",109.54470000000001,{"$f":"E53*G53","v":103575.03966456001},945.50480000000005,{"$f":"F53","v":103575.03966456001},{"$f":"B53-H53","v":0},null,{"$f":"A53","v":"Pouawha Pump"},"A","Pouawha PumpA"]
["Gravity Drainage",null,null,null,null,null,null,null,null,null,null,0,"0"]
["Okawa",2118.4201654358462,null,"A",7.5121000000000002,{"$f":"E55*G55","v":2118.4201654358462},282.00106034741896,{"$f":"F55","v":2118.4201654358462},{"$f":"B55-H55","v":0},null,{"$f":"A55","v":"Okawa"},"A","OkawaA"]
["Taumata",1966.06345328,null,"A",6.7664,1966.06345328,290.56270000000001,{"$f":"F56","v":1966.06345328},{"$f":"B56-H56","v":0},null,{"$f":"A56","v":"Taumata"},"A","TaumataA"]
["East Pukio",3376.23432744,null,"A",29.7453,3376.23432744,113.5048,{"$f":"F57","v":3376.23432744},0,null,{"$f":"A57","v":"East Pukio"},"A","East PukioA"]
["Longbush",4745.432022692954,null,"A",16.890699999999999,3684.644070122954,218.14632135571375,{"$f":"SUM(F58:F59)","v":4745.432022692954},0,null,{"$f":"A58","v":"Longbush"},"A","LongbushA"]
[null,null,null,"B",8.4452999999999996,1060.78795257,125.6069,null,0,null,{"$f":"K58","v":"Longbush"},"B","LongbushB"]
["Otahoua",3215.4568641491569,null,"A",34.6813,3215.4568641491569,92.714427202819877,{"$f":"F60","v":3215.4568641491569},{"$f":"B60-H60","v":0},null,{"$f":"A60","v":"Otahoua"},"A","OtahouaA"]
["Te Whiti",1444.8515801999997,null,"A",10.2273,1444.8515801999997,141.27399999999997,{"$f":"F61","v":1444.8515801999997},0,null,{"$f":"A61","v":"Te Whiti"},"A","Te WhitiA"]
["Ahikouka",3266.95398888,null,"A",29.1128,3266.95398888,112.2171,{"$f":"F62","v":3266.95398888},0,null,{"$f":"A62","v":"Ahikouka"},"A","AhikoukaA"]
["Battersea",11074.438435808723,null,"A",16.26567,{"$f":"E63*G63","v":2743.712734404},168.68119999999999,{"$f":"SUM(F63:F68)","v":11074.438435808723},0,null,{"$f":"A63","v":"Battersea"},"A","BatterseaA"]
[null,null,null,"B",13.467280000000001,2630.9779173447232,195.36074970927484,null,null,null,{"$f":"K63","v":"Battersea"},"B","BatterseaB"]
[null,null,null,"C",10.494,3328.9811874000002,317.22710000000001,null,null,null,{"$f":"K64","v":"Battersea"},{"$f":"D65","v":"C"},"BatterseaC"]
[null,null,null,"D",6.2964000000000002,{"$f":"E66*G66","v":960.78593555999998},152.59289999999999,null,null,null,{"$f":"K65","v":"Battersea"},"D",{"$f":"K66&L66","v":"BatterseaD"}]
[null,null,null,"E",5.4218999999999999,1040.3867034,191.886,null,null,null,{"$f":"K66","v":"Battersea"},"E",{"$f":"K67&L67","v":"BatterseaE"}]
[null,null,null,"F",5.2469999999999999,369.59395769999998,70.439099999999996,null,null,null,{"$f":"K67","v":"Battersea"},"F",{"$f":"K68&L68","v":"BatterseaF"}]
["Manaia",4253.6520408799997,null,"A",24.376899999999999,4253.6520408799997,174.49520000000001,{"$f":"F69","v":4253.6520408799997},{"$f":"B69-H69","v":0},null,{"$f":"A69","v":"Manaia"},"A",{"$f":"K69&L69","v":"ManaiaA"}]
["Whakawiriwiri",8866.6931147199994,null,"A",12.2864,8866.6931147199994,721.66729999999995,{"$f":"F70","v":8866.6931147199994},{"$f":"B70-H70","v":0},null,{"$f":"A70","v":"Whakawiriwiri"},"A",{"$f":"K70&L70","v":"WhakawiriwiriA"}]
["Hectare based Scheme Rates",{"$f":"SUM(B9:B70)","v":1372270.8180210092},null,null,null,{"$f":"SUM(F8:F70)","v":1372270.8224500951},null,{"$f":"SUM(H8:H70)","v":1372270.8224500953},{"$f":"SUM(I8:I70)","v":-4.4290859786997316E-3}]
[null,null,null,null,null,null,null,{"$f":"+H71-F71","v":0}]
[]
["Schemes recovered based on capital value"]
["Rate","Total rates","Properties","CV","ECV","Cents per $",null,"Scheme total","Check"]
[]
["Te Kauru schemes  (targeted portion only)",298779.20999999996,12959,8806809555,"n/a",{"$f":"B77/D77*100","v":3.3925930626076762E-3},null,{"$f":"F77*D77/100","v":298779.20999999996},{"$f":"B77-H77","v":0}]
[]
[]
["Waiohine FMP scheme (targeted portion only)",9691.43,1270,1017857000,"n/a",{"$f":"B80/D80*100","v":9.5214062486184215E-4},null,{"$f":"F80*D80/100","v":9691.43},{"$f":"B80-H80","v":0}]
[]
[]
[]
["Land management rate (targeted portion only)"]
["Masterton district",{"$f":"E85/$E$88*$B$88","v":0},{"$f":"INDEX('Capital values'!$F$57:$F$65,MATCH(A85,'Capital values'!$A$8:$A$16,0))","v":13074},{"$f":"INDEX('Capital values'!$F$8:$F$16,MATCH(A85,'Capital values'!$A$8:$A$16,0))","v":8787884155},{"$f":"INDEX('Capital values'!$H$8:$H$16,MATCH(A85,'Capital values'!$A$8:$A$16,0))","v":11263219050},{"$f":"B85/D85*100","v":0},null,{"$f":"F85*D85/100","v":0},{"$f":"B85-H85","v":0}]
["Carterton district",{"$f":"E86/$E$88*$B$88","v":0},{"$f":"INDEX('Capital values'!$F$57:$F$65,MATCH(A86,'Capital values'!$A$8:$A$16,0))","v":5010},{"$f":"INDEX('Capital values'!$F$8:$F$16,MATCH(A86,'Capital values'!$A$8:$A$16,0))","v":3729014800},{"$f":"INDEX('Capital values'!$H$8:$H$16,MATCH(A86,'Capital values'!$A$8:$A$16,0))","v":4976485118},{"$f":"B86/D86*100","v":0},null,{"$f":"F86*D86/100","v":0},{"$f":"B86-H86","v":0}]
["South Wairarapa district",{"$f":"E87/$E$88*$B$88","v":0},{"$f":"INDEX('Capital values'!$F$57:$F$65,MATCH(A87,'Capital values'!$A$8:$A$16,0))","v":7133},{"$f":"INDEX('Capital values'!$F$8:$F$16,MATCH(A87,'Capital values'!$A$8:$A$16,0))","v":6354690200},{"$f":"INDEX('Capital values'!$H$8:$H$16,MATCH(A87,'Capital values'!$A$8:$A$16,0))","v":8115723950},{"$f":"B87/D87*100","v":0},null,{"$f":"F87*D87/100","v":0},{"$f":"B87-H87","v":0}]
["Total",0,{"$f":"SUM(C85:C87)","v":25217},{"$f":"SUM(D85:D87)","v":18871589155},{"$f":"SUM(E85:E87)","v":24355428118},{"$f":"B88/D88*100","v":0},null,{"$f":"SUM(H85:H87)","v":0},{"$f":"B88-H88","v":0}]
[]
[]
["Total Scheme Rates",{"$f":"SUM(B88,B80,B77,B71)","v":1680741.4580210091},null,null,null,null,null,{"$f":"SUM(H88,H80,H77,H71)","v":1680741.4624500952}]
["Checks",{"$f":"IF(ABS(INDEX(ESSbase!$G$8:$G$25,MATCH(\"Special Rates\",ESSbase!$B$8:$B$25,0),)-B91)>tolerance_dollar,1,0)","v":0},null,null,null,{"$f":"IF(ABS(H71-F71)>tolerance_dollar,1,0)","v":0},null,{"$f":"IF(ABS(INDEX(ESSbase!$G$8:$G$25,MATCH(\"Special Rates\",ESSbase!$B$8:$B$25,0),)-H91)>tolerance_dollar,1,0)","v":0}]
[]
[]
["Catchment Schemes","$GST Excl",null,null,"Rate Base",null,null,null,null,null,121598100]
["Awhea-Opouawe Catchment Scheme",{"$f":"+B23","v":22790.880000000001},null,null,"land value","$121,598,100 x 0.007516 cents",null,{"$f":"22790.88-H97","v":9138.93},null,null,{"$f":"+H96/K95*100","v":7.5156848667865704E-3}]
[null,null,null,null,"charge per dwelling","$140.02 / $70.09",null,13651.95,null,{"$f":"+H97/96","v":142.20781250000002},{"$f":"K95*K96/100","v":9138.93}]
[null,null,null,null,"GST Inclusive","$161.02 / $80.60",null,{"$f":"SUM(H96:H97)","v":22790.880000000001}]
[]
["Mataikona Whakataki Catchment Scheme",{"$f":"+B34","v":6817.74},null,null,"land value within scheme area"," $140,425,000 x 0.02801 cents",null,{"$f":"B100-H101","v":3933.3399999999997},null,null,140425000]
[null,null,null,null,"charge per dwelling",23.45,null,2884.4,null,{"$f":"+H101/233","v":12.379399141630902},{"$f":"+H100/K100*100","v":2.8010254584297663E-3}]
[null,null,null,null,null,null,null,{"$f":"SUM(H100:H101)","v":6817.74},null,null,{"$f":"K100*K101/100","v":3933.3399999999992}]
[]
["Maungaraki Catchment Scheme",{"$f":"+B36","v":7111.13},null,null,"Class A",1.0304381113117167,3305.470824,{"$f":"F104*G104","v":3406.0831128785439}]
[null,null,null,null,"Class B",0.48491205238198437,2972.0057019999999,{"$f":"F105*G105","v":1441.1613846477801}]
[null,null,null,null,"Charge per dwelling",36.368403928648824,19,{"$f":"F106*G106","v":690.99967464432768}]
[null,null,null,null,"River frontage",3.3943843666738908E-2,46338,{"$f":"F107*G107","v":1572.8898278293475}]
[null,null,null,null,null,null,null,{"$f":"SUM(H104:H107)","v":7111.1339999999991}]

{"sheet":">>District wide rates","index":8,"n_rows":8,"n_cols":12,"rows_kept":8,"cut":false,"hidden":false,"merged":[]}
[]
[]
[]
[]
[]
[]
[null,null,null,null,null,null,null,null,null,null,null,"New category to be added in GL"]
[null,null,null,null,null,null,null,null,null,null,null,"New category to be added in GL, was \"River  Mgmt Rates\""]

{"sheet":"Gen","index":9,"n_rows":40,"n_cols":7,"rows_kept":40,"cut":false,"hidden":false,"merged":[]}
["Wellington Regional Council"]
[{"$f":"\"General rate \"&year_current","v":"General rate 2022/23"}]
["Printed: ",{"$f":"NOW()","v":"2023-01-19T08:30:06.840"}]
[{"$f":"check_total","v":0}]
[]
[null,"CV",{"$f":"\"ECV \"&year_current","v":"ECV 2022/23"},"General Rate","Rates sought"]
[null,"$","$","$","Cents per $"]
[]
["By TA"]
["Wellington city",{"$f":"INDEX(capital_values,MATCH($A10&\"district wide\",capital_values_rows,0),MATCH(B$6&\" \"&year_current,capital_values_header,0))","v":114751871250},{"$f":"INDEX(capital_values,MATCH($A10&\"district wide\",capital_values_rows,0),MATCH(C$6,capital_values_header,0))","v":119439703683},{"$f":"C10/C$19*D$19","v":34594985.806497797},{"$f":"D10/B10*100","v":3.014764415573554E-2}]
["Hutt city",29131948500,44154024498,{"$f":"C11/C$19*D$19","v":12788945.415187581},{"$f":"D11/B11*100","v":4.3900068734460312E-2}]
["Upper Hutt city",11717909800,17817751914,5160803.7826726669,{"$f":"D12/B12*100","v":4.4042016628875802E-2}]
["Porirua city",14623609200,21241698999,6152529.2906507477,4.2072577340556583E-2]
["Kāpiti Coast district",19783157650,26169483904,7579832.3028752599,3.8314572612604438E-2]
["Masterton district",8787884155,11263219050,3262323.0898527848,3.7122964212001328E-2]
["Carterton district",3729014800,4976485118,1441408.7335680611,3.8653875376629267E-2]
["South Wairarapa district",6354690200,8115723950,2350670.2227331935,3.6991106548879341E-2]
["Tararua district",15976500,21686475,6281.3559619099451,3.931622046073887E-2]
["Region wide",{"$f":"SUM(B10:B18)","v":208896062055},{"$f":"SUM(C10:C18)","v":253199777591},{"$f":"+ESSbase!G8","v":73337780},3.5107306130400376E-2]
[]
[]
[null,"CV","ECV","differetial","ECV multiplied","General  rate","Rates sought"]
["Wellington city differentials","$","$",null,"$","$","Cents/$"]
["Wellington cityWellington CBD",{"$f":"'Capital values'!F19","v":13133427700},{"$f":"B24/$B$28*$C$10","v":13669953228.149246},1.7,{"$f":"C24*D24","v":23238920487.853718},{"$f":"E24/$E$28*$D$10","v":6132891.7858683774},{"$f":"F24/B24*100","v":4.6696810048060623E-2}]
["Wellington cityBusiness",{"$f":"'Capital values'!F20","v":6659900150},{"$f":"B25/$B$28*$C$10","v":6931969751.8602972},1.3,{"$f":"C25*D25","v":9011560677.4183865},{"$f":"E25/$E$28*$D$10","v":2378205.4112745919},{"$f":"F25/B25*100","v":3.5709325330869894E-2}]
["Wellington cityResidential",{"$f":"'Capital values'!F21","v":93657459050},{"$f":"B26/$B$28*$C$10","v":97483544579.973083},1,{"$f":"C26*D26","v":97483544579.973083},{"$f":"E26/$E$28*$D$10","v":25726497.499069802},{"$f":"F26/B26*100","v":2.746871179297684E-2}]
["Wellington cityRural",{"$f":"'Capital values'!F22","v":1301084350},{"$f":"B27/$B$28*$C$10","v":1354236123.0173724},1,{"$f":"C27*D27","v":1354236123.0173724},{"$f":"E27/$E$28*$D$10","v":357391.11028502608},{"$f":"F27/B27*100","v":2.746871179297684E-2}]
["Total Upper Hutt city",{"$f":"SUM(B24:B27)","v":114751871250},{"$f":"SUM(C24:C27)","v":119439703683.00002},null,{"$f":"SUM(E24:E27)","v":131088261868.26256},{"$f":"SUM(F24:F27)","v":34594985.806497797},{"$f":"F28/B28*100","v":3.014764415573554E-2}]
[]
[]
[]
[]
["Upper Hutt breakdown"]
["Trentham Military Camp",{"$f":"SUMIFS('UHCC Adjustments'!$D$9:$D$27,'UHCC Adjustments'!$B$9:$B$27,\"Total\",'UHCC Adjustments'!$C$9:$C$27,A34)","v":109354000},null,{"$f":"+D12*'UHCC Adjustments'!$E$34","v":41668.42667390492},{"$f":"D34/B34*100","v":3.8104163244055925E-2}]
["Rest of Upper Hutt city",{"$f":"SUMIFS('UHCC Adjustments'!$D$9:$D$27,'UHCC Adjustments'!$B$9:$B$27,\"Total\",'UHCC Adjustments'!$C$9:$C$27,A35)","v":11608555800},null,{"$f":"+D12-D34","v":5119135.355998762},{"$f":"D35/B35*100","v":4.4097951926102316E-2}]
["Total Upper Hutt city",{"$f":"+B35+B34","v":11717909800},null,{"$f":"+D35+D34","v":5160803.7826726669},{"$f":"D36/B36*100","v":4.4042016628875802E-2}]
[]
[]
["Check Upper Hutt total",{"$f":"B36-B12","v":0},null,{"$f":"D36-D12","v":0}]
["Check totals",{"$f":"B19-SUM(B10:B18)","v":0},{"$f":"C19-SUM(C10:C18)","v":0},{"$f":"D19-SUM(D10:D18)","v":0}]

{"sheet":"Remission","index":10,"n_rows":40,"n_cols":7,"rows_kept":40,"cut":false,"hidden":false,"merged":[]}
["Wellington Regional Council"]
["General rate 2022/23"]
["Printed: ","2022-04-04"]
["All error checks ok"]
[]
[null,"CV","ECV 2022/23","Remission of Regional Rates","Rates sought"]
[null,"$","$","$","Cents per $"]
[]
["By TA"]
["Wellington city",{"$f":"INDEX(capital_values,MATCH($A10&\"district wide\",capital_values_rows,0),MATCH(B$6&\" \"&year_current,capital_values_header,0))","v":114751871250},{"$f":"INDEX(capital_values,MATCH($A10&\"district wide\",capital_values_rows,0),MATCH(C$6,capital_values_header,0))","v":119439703683},{"$f":"C10/C$19*D$19","v":0},{"$f":"D10/B10*100","v":0}]
["Hutt city",29131948500,44154024498,{"$f":"C11/C$19*D$19","v":0},{"$f":"D11/B11*100","v":0}]
["Upper Hutt city",11717909800,17817751914,0,0]
["Porirua city",14623609200,21241698999,0,0]
["Kāpiti Coast district",19783157650,26169483904,0,0]
["Masterton district",8787884155,11263219050,0,0]
["Carterton district",3729014800,4976485118,0,0]
["South Wairarapa district",6354690200,8115723950,0,0]
["Tararua district",15976500,21686475,0,0]
["Region wide",{"$f":"SUM(B10:B18)","v":208896062055},{"$f":"SUM(C10:C18)","v":253199777591},{"$f":"+ESSbase!G9","v":0},0]
[]
[]
[null,"CV","ECV","differetial","ECV multiplied","General  rate","Rates sought"]
["Wellington city differentials","$","$",null,"$","$","Cents/$"]
["Wellington cityWellington CBD",{"$f":"'Capital values'!F19","v":13133427700},{"$f":"B24/$B$28*$C$10","v":13669953228.149246},1.7,{"$f":"C24*D24","v":23238920487.853718},{"$f":"E24/$E$28*$D$10","v":0},{"$f":"F24/B24*100","v":0}]
["Wellington cityBusiness",{"$f":"'Capital values'!F20","v":6659900150},{"$f":"B25/$B$28*$C$10","v":6931969751.8602972},1.3,{"$f":"C25*D25","v":9011560677.4183865},{"$f":"E25/$E$28*$D$10","v":0},{"$f":"F25/B25*100","v":0}]
["Wellington cityResidential",{"$f":"'Capital values'!F21","v":93657459050},{"$f":"B26/$B$28*$C$10","v":97483544579.973083},1,{"$f":"C26*D26","v":97483544579.973083},{"$f":"E26/$E$28*$D$10","v":0},{"$f":"F26/B26*100","v":0}]
["Wellington cityRural",{"$f":"'Capital values'!F22","v":1301084350},{"$f":"B27/$B$28*$C$10","v":1354236123.0173724},1,{"$f":"C27*D27","v":1354236123.0173724},{"$f":"E27/$E$28*$D$10","v":0},{"$f":"F27/B27*100","v":0}]
["Total Upper Hutt city",{"$f":"SUM(B24:B27)","v":114751871250},{"$f":"SUM(C24:C27)","v":119439703683.00002},null,{"$f":"SUM(E24:E27)","v":131088261868.26256},{"$f":"SUM(F24:F27)","v":0},{"$f":"F28/B28*100","v":0}]
[]
[]
[]
[]
["Upper Hutt breakdown"]
["Trentham Military Camp",{"$f":"SUMIFS('UHCC Adjustments'!$D$9:$D$27,'UHCC Adjustments'!$B$9:$B$27,\"Total\",'UHCC Adjustments'!$C$9:$C$27,A34)","v":109354000},null,{"$f":"+D12*'UHCC Adjustments'!$E$34","v":0},{"$f":"D34/B34*100","v":0}]
["Rest of Upper Hutt city",{"$f":"SUMIFS('UHCC Adjustments'!$D$9:$D$27,'UHCC Adjustments'!$B$9:$B$27,\"Total\",'UHCC Adjustments'!$C$9:$C$27,A35)","v":11608555800},null,{"$f":"D12-D34","v":0},{"$f":"D35/B35*100","v":0}]
["Total Upper Hutt city",{"$f":"SUM(B34:B35)","v":11717909800},null,{"$f":"SUM(D34:D35)","v":0},{"$f":"D36/B36*100","v":0}]
[]
[]
["Check Upper Hutt total","OK",null,"OK"]
["Check totals","OK","OK","OK"]

{"sheet":"River management","index":11,"n_rows":36,"n_cols":4,"rows_kept":36,"cut":false,"hidden":false,"merged":[]}
["Wellington Regional Council"]
[{"$f":"\"River management rate \"&year_current","v":"River management rate 2022/23"}]
["Printed: ",{"$f":"NOW()","v":"2023-01-19T08:30:06.840"}]
[{"$f":"check_total","v":0}]
[]
[null,"CV","River management rate","Rates sought"]
[null,"$","$","Cents per $"]
[]
["By TA"]
["Wellington city",{"$f":"INDEX(capital_values,MATCH($A10&\"district wide\",capital_values_rows,0),MATCH(B$6&\" \"&year_current,capital_values_header,0))","v":114751871250},{"$f":"INDEX(Control!$C$110:$C$121,MATCH(A10,Control!$A$110:$A$121,0),)","v":55131.48},{"$f":"C10/B10*100","v":4.8044079281190814E-5}]
["Hutt city",29131948500,{"$f":"INDEX(Control!$C$110:$C$121,MATCH(A11,Control!$A$110:$A$121,0),)","v":5098043.33},1.7499836408127661E-2]
["Upper Hutt city",11717909800,{"$f":"INDEX(Control!$C$110:$C$121,MATCH(A12,Control!$A$110:$A$121,0),)","v":1136721.52},9.7007191504409774E-3]
["Porirua city",14623609200,{"$f":"INDEX(Control!$C$110:$C$121,MATCH(A13,Control!$A$110:$A$121,0),)","v":45883.360000000001},3.1376221405041377E-4]
["Kāpiti Coast district",19783157650,{"$f":"INDEX(Control!$C$110:$C$121,MATCH(A14,Control!$A$110:$A$121,0),)","v":1513486.5599999998},7.6503791092217268E-3]
["Masterton district",8787884155,{"$f":"INDEX(Control!$C$110:$C$121,MATCH(A15,Control!$A$110:$A$121,0),)","v":0},{"$f":"C15/B15*100","v":0}]
["Carterton district",3729014800,{"$f":"INDEX(Control!$C$110:$C$121,MATCH(A16,Control!$A$110:$A$121,0),)","v":25282.959999999999},6.7800642679133371E-4]
["South Wairarapa district",6354690200,{"$f":"INDEX(Control!$C$110:$C$121,MATCH(A17,Control!$A$110:$A$121,0),)","v":0},0]
["Tararua district",15976500,{"$f":"INDEX(Control!$C$110:$C$121,MATCH(A18,Control!$A$110:$A$121,0),)","v":0},0]
["Region wide",{"$f":"SUM(B10:B18)","v":208896062055},{"$f":"INDEX(ess_base_estract,MATCH(C6,ESSbase!$B$8:$B$25,0),MATCH(year_current,ESSbase!$F$6:$G$6,0))","v":7874549.21},3.76960155808333E-3]
[]
[]
["Upper Hutt breakdown"]
["Trentham Military Camp",{"$f":"SUMIFS('UHCC Adjustments'!$D$9:$D$27,'UHCC Adjustments'!$B$9:$B$27,\"Total\",'UHCC Adjustments'!$C$9:$C$27,A23)","v":109354000},{"$f":"+C12*'UHCC Adjustments'!$E$34","v":9177.9109029098272},{"$f":"C23/B23*100","v":8.3928442516138652E-3}]
["Rest of Upper Hutt city",{"$f":"SUMIFS('UHCC Adjustments'!$D$9:$D$27,'UHCC Adjustments'!$B$9:$B$27,\"Total\",'UHCC Adjustments'!$C$9:$C$27,A24)","v":11608555800},{"$f":"+C12-C23","v":1127543.6090970901},{"$f":"C24/B24*100","v":9.7130394902102297E-3}]
["Total Upper Hutt city",{"$f":"+B24+B23","v":11717909800},{"$f":"+C24+C23","v":1136721.52},{"$f":"C25/B25*100","v":9.7007191504409774E-3}]
[]
[]
["Non district wide"]
["Greytown River Management Rate",{"$f":"INDEX('Capital values'!$F$48:$F$49,MATCH(\"Greytown Urban -CV\",'Capital values'!$A$48:$A$49,0),)","v":1131557500},{"$f":"INDEX(Control!$D$125:$D$126,MATCH(A29,Control!$A$125:$A$126,0),)","v":98709.62},{"$f":"C29/B29*100","v":8.7233410586735529E-3}]
["Donalds Creek Stopbank River Management Rate",{"$f":"INDEX('Capital values'!$F$48:$F$49,MATCH(\"Featherston Urban - LV\",'Capital values'!$A$48:$A$49,0),)","v":282168500},{"$f":"INDEX(Control!$D$125:$D$126,MATCH(A30,Control!$A$125:$A$126,0),)","v":2788.75},{"$f":"C30/B30*100","v":9.8832789627474366E-4}]
["Total non-district wide rates",null,{"$f":"INDEX(ess_base_estract,MATCH(C6&\" - Non district Wide\",ESSbase!$B$8:$B$25,0),MATCH(year_current,ESSbase!$F$6:$G$6,0))","v":101498.37}]
[]
[]
["Check Upper Hutt total",{"$f":"B25-B12","v":0},{"$f":"C25-C12","v":0}]
["Check Non district Wide total",null,{"$f":"IF(ABS(C31-SUM(C29:C30))>tolerance_dollar,1,0)","v":0}]
["Check totals",{"$f":"B19-SUM(B10:B18)","v":0},{"$f":"IF(ABS(C19-SUM(C10:C18))>tolerance_dollar,1,0)","v":0}]

{"sheet":"Stadium","index":12,"n_rows":66,"n_cols":10,"rows_kept":66,"cut":false,"hidden":false,"merged":[]}
["Wellington Regional Council"]
[{"$f":"\"Stadium purposes rate \"&year_current","v":"Stadium purposes rate 2022/23"}]
["Printed: ",null,{"$f":"NOW()","v":"2023-01-19T08:30:06.840"}]
[{"$f":"check_total","v":0}]
[]
[{"$f":"Control!A66","v":"TA full name"},{"$f":"Control!B66","v":"Rating area"},{"$f":"Control!C66","v":"Category group"},{"$f":"Control!D66","v":"Concatenated  name"},"CV","ECV","Differential","ECV multiplied","Stadium purposes rate","Rates sought"]
[{"$f":"Control!A52","v":0},null,{"$f":"Control!B52","v":0},{"$f":"Control!C52","v":0},"$","$","#","#","$","Cents per $"]
[]
["By TA"]
[{"$f":"Control!A42","v":"Wellington city"},null,{"$f":"Control!B42","v":"District wide"},{"$f":"Control!C42","v":"Wellington cityDistrict wide"},{"$f":"INDEX(capital_values,MATCH($D10,capital_values_rows,0),MATCH(E$6&\" \"&year_current,capital_values_header,0))","v":114751871250},119439703683,null,null,{"$f":"SUMIF($A$23:$A$49,$A10,$I$23:$I$49)","v":0},{"$f":"I10/E10*100","v":0}]
[{"$f":"Control!A43","v":"Hutt city"},null,{"$f":"Control!B43","v":"District wide"},{"$f":"Control!C43","v":"Hutt cityDistrict wide"},29131948500,44154024498,null,null,0,0]
[{"$f":"Control!A44","v":"Upper Hutt city"},null,{"$f":"Control!B44","v":"District wide"},{"$f":"Control!C44","v":"Upper Hutt cityDistrict wide"},11717909800,17817751914,null,null,0,0]
[{"$f":"Control!A45","v":"Porirua city"},null,{"$f":"Control!B45","v":"District wide"},{"$f":"Control!C45","v":"Porirua cityDistrict wide"},14623609200,21241698999,null,null,0,0]
[{"$f":"Control!A46","v":"Kāpiti Coast district"},null,{"$f":"Control!B46","v":"District wide"},{"$f":"Control!C46","v":"Kāpiti Coast districtDistrict wide"},19783157650,26169483904,null,null,0,0]
[{"$f":"Control!A47","v":"Masterton district"},null,{"$f":"Control!B47","v":"District wide"},{"$f":"Control!C47","v":"Masterton districtDistrict wide"},8787884155,11263219050,null,null,0,0]
[{"$f":"Control!A48","v":"Carterton district"},null,{"$f":"Control!B48","v":"District wide"},{"$f":"Control!C48","v":"Carterton districtDistrict wide"},3729014800,4976485118,null,null,0,0]
[{"$f":"Control!A49","v":"South Wairarapa district"},null,{"$f":"Control!B49","v":"District wide"},{"$f":"Control!C49","v":"South Wairarapa districtDistrict wide"},6354690200,8115723950,null,null,0,0]
[{"$f":"Control!A50","v":"Tararua district"},null,{"$f":"Control!B50","v":"District wide"},{"$f":"Control!C50","v":"Tararua districtDistrict wide"},15976500,21686475,null,null,0,0]
["Region wide",null,null,null,{"$f":"SUM(E10:E18)","v":208896062055},{"$f":"SUM(F10:F18)","v":253199777591},null,null,{"$f":"SUM(I10:I18)","v":0}]
[]
[]
["By TA & Category"]
[{"$f":"Control!A67","v":"Wellington city"},{"$f":"Control!B67","v":"Wellington city"},{"$f":"Control!C67","v":"Wellington CBD"},{"$f":"Control!D67","v":"Wellington cityWellington CBD"},{"$f":"INDEX(capital_values,MATCH($D23,capital_values_rows,0),MATCH(E$6&\" \"&year_current,capital_values_header,0))","v":13133427700},{"$f":"INDEX($F$10:$F$18,MATCH(A23,$A$10:$A$18,0),)/INDEX($E$10:$E$18,MATCH(A23,$A$10:$A$18,0),)*E23","v":13669953228.149246},{"$f":"INDEX(stadium_rate_differentials,MATCH($D23,concat_rating_category_stadium,0),)","v":2},{"$f":"F23*G23","v":27339906456.298492},{"$f":"I$50*H23/H$50","v":0},{"$f":"I23/E23*100","v":0}]
[{"$f":"Control!A68","v":"Wellington city"},{"$f":"Control!B68","v":"Wellington city"},{"$f":"Control!C68","v":"Business"},{"$f":"Control!D68","v":"Wellington cityBusiness"},6659900150,{"$f":"INDEX($F$10:$F$18,MATCH(A24,$A$10:$A$18,0),)/INDEX($E$10:$E$18,MATCH(A24,$A$10:$A$18,0),)*E24","v":6931969751.8602962},1.2,{"$f":"F24*G24","v":8318363702.2323551},0,0]
[{"$f":"Control!A69","v":"Wellington city"},{"$f":"Control!B69","v":"Wellington city"},{"$f":"Control!C69","v":"Residential"},{"$f":"Control!D69","v":"Wellington cityResidential"},93657459050,97483544579.973068,1.2,116980253495.96768,0,0]
[{"$f":"Control!A70","v":"Wellington city"},{"$f":"Control!B70","v":"Wellington city"},{"$f":"Control!C70","v":"Rural"},{"$f":"Control!D70","v":"Wellington cityRural"},1301084350,1354236123.0173721,1.2,1625083347.6208465,0,0]
[{"$f":"Control!A71","v":"Hutt city"},{"$f":"Control!B71","v":"Hutt city"},{"$f":"Control!C71","v":"Business"},{"$f":"Control!D71","v":"Hutt cityBusiness"},4905894500,7435650448.7711649,1,7435650448.7711649,0,0]
[{"$f":"Control!A72","v":"Hutt city"},{"$f":"Control!B72","v":"Hutt city"},{"$f":"Control!C72","v":"Residential"},{"$f":"Control!D72","v":"Hutt cityResidential"},{"$f":"INDEX(capital_values,MATCH($D28,capital_values_rows,0),MATCH(E$6&\" \"&year_current,capital_values_header,0))","v":23837441000},36129370264.526924,1,36129370264.526924,0,0]
[{"$f":"Control!A73","v":"Hutt city"},{"$f":"Control!B73","v":"Hutt city"},{"$f":"Control!C73","v":"Rural"},{"$f":"Control!D73","v":"Hutt cityRural"},388613000,589003784.70191491,1,589003784.70191491,0,0]
[{"$f":"Control!A74","v":"Upper Hutt city"},{"$f":"Control!B74","v":"Upper Hutt city"},{"$f":"Control!C74","v":"Business"},{"$f":"Control!D74","v":"Upper Hutt cityBusiness"},1448246700,2202141922.1770406,1,2202141922.1770406,0,0]
[{"$f":"Control!A75","v":"Upper Hutt city"},{"$f":"Control!B75","v":"Upper Hutt city"},{"$f":"Control!C75","v":"Residential"},{"$f":"Control!D75","v":"Upper Hutt cityResidential"},9098976100,13835513465.141645,1,13835513465.141645,0,0]
[{"$f":"Control!A76","v":"Upper Hutt city"},{"$f":"Control!B76","v":"Upper Hutt city"},{"$f":"Control!C76","v":"Rural"},{"$f":"Control!D76","v":"Upper Hutt cityRural"},1170687000,1780096526.6813128,1,1780096526.6813128,0,0]
[{"$f":"Control!A77","v":"Porirua city"},{"$f":"Control!B77","v":"Porirua city"},{"$f":"Control!C77","v":"Business"},{"$f":"Control!D77","v":"Porirua cityBusiness"},1400176000,2033842448.2530501,1,2033842448.2530501,0,0]
[{"$f":"Control!A78","v":"Porirua city"},{"$f":"Control!B78","v":"Porirua city"},{"$f":"Control!C78","v":"Residential"},{"$f":"Control!D78","v":"Porirua cityResidential"},12370577500,17969030771.063133,1,17969030771.063133,0,{"$f":"I34/E34*100","v":0}]
[{"$f":"Control!A79","v":"Porirua city"},{"$f":"Control!B79","v":"Porirua city"},{"$f":"Control!C79","v":"Rural"},{"$f":"Control!D79","v":"Porirua cityRural"},852855700,1238825779.6838174,1,1238825779.6838174,0,0]
[{"$f":"Control!A80","v":"Kāpiti Coast district"},{"$f":"Control!B80","v":"Kāpiti Coast district"},{"$f":"Control!C80","v":"Business"},{"$f":"Control!D80","v":"Kāpiti Coast districtBusiness"},1775736500,2348973231.5050979,0.5,1174486615.7525489,0,0]
[{"$f":"Control!A81","v":"Kāpiti Coast district"},{"$f":"Control!B81","v":"Kāpiti Coast district excl Ōtaki "},{"$f":"Control!C81","v":"Residential"},{"$f":"Control!D81","v":"Kāpiti Coast district excl Ōtaki Residential"},13678059800,18093560800.899216,0.5,9046780400.4496078,0,0]
[{"$f":"Control!A82","v":"Kāpiti Coast district"},{"$f":"Control!B82","v":"Ōtaki rating area"},{"$f":"Control!C82","v":"Residential"},{"$f":"Control!D82","v":"Ōtaki rating areaResidential"},1671453400,2211025844.3796043,0.5,1105512922.1898022,0,0]
[{"$f":"Control!A83","v":"Kāpiti Coast district"},{"$f":"Control!B83","v":"Kāpiti Coast district"},{"$f":"Control!C83","v":"Rural"},{"$f":"Control!D83","v":"Kāpiti Coast districtRural"},2657907950,3515924027.2160821,0.5,1757962013.608041,0,0]
[{"$f":"Control!A84","v":"Masterton district"},{"$f":"Control!B84","v":"Masterton district"},{"$f":"Control!C84","v":"Business"},{"$f":"Control!D84","v":"Masterton districtBusiness"},736487600,943938383.81325138,0.5,471969191.90662569,0,0]
[{"$f":"Control!A85","v":"Masterton district"},{"$f":"Control!B85","v":"Masterton district"},{"$f":"Control!C85","v":"Residential"},{"$f":"Control!D85","v":"Masterton districtResidential"},4080427400,5229785328.6644707,0.5,2614892664.3322353,0,0]
[{"$f":"Control!A86","v":"Masterton district"},{"$f":"Control!B86","v":"Masterton district"},{"$f":"Control!C86","v":"Rural"},{"$f":"Control!D86","v":"Masterton districtRural"},3970969155,5089495337.5222778,0.5,2544747668.7611389,0,0]
[{"$f":"Control!A87","v":"Carterton district"},{"$f":"Control!B87","v":"Carterton district"},{"$f":"Control!C87","v":"Business"},{"$f":"Control!D87","v":"Carterton districtBusiness"},133894500,178686334.69409963,0.5,89343167.347049817,0,0]
[{"$f":"Control!A88","v":"Carterton district"},{"$f":"Control!B88","v":"Carterton district"},{"$f":"Control!C88","v":"Residential"},{"$f":"Control!D88","v":"Carterton districtResidential"},1318035500,1758958975.1013293,0.5,879479487.55066466,0,0]
[{"$f":"Control!A89","v":"Carterton district"},{"$f":"Control!B89","v":"Carterton district"},{"$f":"Control!C89","v":"Rural"},{"$f":"Control!D89","v":"Carterton districtRural"},2277084800,3038839808.2045708,0.5,1519419904.1022854,0,0]
[{"$f":"Control!A90","v":"South Wairarapa district"},{"$f":"Control!B90","v":"South Wairarapa district"},{"$f":"Control!C90","v":"Business"},{"$f":"Control!D90","v":"South Wairarapa districtBusiness"},287242000,366843497.55490834,0.5,183421748.77745417,0,0]
[{"$f":"Control!A91","v":"South Wairarapa district"},{"$f":"Control!B91","v":"South Wairarapa district"},{"$f":"Control!C91","v":"Residential"},{"$f":"Control!D91","v":"South Wairarapa districtResidential"},2151921500,2748269436.6548228,0.5,1374134718.3274114,0,0]
[{"$f":"Control!A92","v":"South Wairarapa district"},{"$f":"Control!B92","v":"South Wairarapa district"},{"$f":"Control!C92","v":"Rural"},{"$f":"Control!D92","v":"South Wairarapa districtRural"},3915526700,5000611015.7902679,0.5,2500305507.895134,0,0]
[{"$f":"Control!A93","v":"Tararua district"},{"$f":"Control!B93","v":"Tararua district"},{"$f":"Control!C93","v":"Rural"},{"$f":"Control!D93","v":"Tararua districtRural"},15976500,21686475,0.5,10843237.5,0,0]
["Region wide",null,null,null,{"$f":"SUM(E23:E49)","v":208896062055},{"$f":"SUM(F23:F49)","v":253199777590.99988},null,{"$f":"SUM(H23:H49)","v":262750381661.61938},{"$f":"INDEX(ess_base_estract,MATCH(I6,ESSbase!$B$8:$B$25,0),MATCH(year_current,ESSbase!$F$6:$G$6,0))","v":0}]
[]
[]
["Upper Hutt breakdown"]
[{"$f":"$A$12","v":"Upper Hutt city"},"Trentham Military Camp","Business",{"$f":"B54&C54","v":"Trentham Military CampBusiness"},{"$f":"SUMIFS('UHCC Adjustments'!$D$9:$D$27,'UHCC Adjustments'!$B$9:$B$27,C54,'UHCC Adjustments'!$C$9:$C$27,B54)","v":70490000},null,null,null,{"$f":"SUMIFS($I$23:$I$49,$A$23:$A$49,A54,$C$23:$C$49,C54)\n*\nIF(B54=\"Trentham Military Camp\",\n       INDEX('UHCC Adjustments'!$E$30:$E$34,MATCH(C54,'UHCC Adjustments'!$B$30:$B$34,0),),\n       1-INDEX('UHCC Adjustments'!$E$30:$E$34,MATCH(C54,'UHCC Adjustments'!$B$30:$B$34,0),))","v":0},{"$f":"I54/E54*100","v":0}]
["Upper Hutt city","Rest of Upper Hutt City","Business","Rest of Upper Hutt CityBusiness",{"$f":"SUMIFS('UHCC Adjustments'!$D$9:$D$27,'UHCC Adjustments'!$B$9:$B$27,C55,'UHCC Adjustments'!$C$9:$C$27,B55)","v":1377756700},null,null,null,{"$f":"SUMIFS($I$23:$I$49,$A$23:$A$49,A55,$C$23:$C$49,C55)\n*\nIF(B55=\"Trentham Military Camp\",\n       INDEX('UHCC Adjustments'!$E$30:$E$34,MATCH(C55,'UHCC Adjustments'!$B$30:$B$34,0),),\n       1-INDEX('UHCC Adjustments'!$E$30:$E$34,MATCH(C55,'UHCC Adjustments'!$B$30:$B$34,0),))","v":0},0]
["Upper Hutt city","Trentham Military Camp","Residential","Trentham Military CampResidential",{"$f":"SUMIFS('UHCC Adjustments'!$D$9:$D$27,'UHCC Adjustments'!$B$9:$B$27,C56,'UHCC Adjustments'!$C$9:$C$27,B56)","v":32750000},null,null,null,{"$f":"SUMIFS($I$23:$I$49,$A$23:$A$49,A56,$C$23:$C$49,C56)\n*\nIF(B56=\"Trentham Military Camp\",\n       INDEX('UHCC Adjustments'!$E$30:$E$34,MATCH(C56,'UHCC Adjustments'!$B$30:$B$34,0),),\n       1-INDEX('UHCC Adjustments'!$E$30:$E$34,MATCH(C56,'UHCC Adjustments'!$B$30:$B$34,0),))","v":0},0]
["Upper Hutt city","Rest of Upper Hutt City","Residential","Rest of Upper Hutt CityResidential",{"$f":"SUMIFS('UHCC Adjustments'!$D$9:$D$27,'UHCC Adjustments'!$B$9:$B$27,C57,'UHCC Adjustments'!$C$9:$C$27,B57)","v":9066226100},null,null,null,{"$f":"SUMIFS($I$23:$I$49,$A$23:$A$49,A57,$C$23:$C$49,C57)\n*\nIF(B57=\"Trentham Military Camp\",\n       INDEX('UHCC Adjustments'!$E$30:$E$34,MATCH(C57,'UHCC Adjustments'!$B$30:$B$34,0),),\n       1-INDEX('UHCC Adjustments'!$E$30:$E$34,MATCH(C57,'UHCC Adjustments'!$B$30:$B$34,0),))","v":0},0]
["Upper Hutt city","Trentham Military Camp","Rural","Trentham Military CampRural",{"$f":"SUMIFS('UHCC Adjustments'!$D$9:$D$27,'UHCC Adjustments'!$B$9:$B$27,C58,'UHCC Adjustments'!$C$9:$C$27,B58)","v":6114000},null,null,null,{"$f":"SUMIFS($I$23:$I$49,$A$23:$A$49,A58,$C$23:$C$49,C58)\n*\nIF(B58=\"Trentham Military Camp\",\n       INDEX('UHCC Adjustments'!$E$30:$E$34,MATCH(C58,'UHCC Adjustments'!$B$30:$B$34,0),),\n       1-INDEX('UHCC Adjustments'!$E$30:$E$34,MATCH(C58,'UHCC Adjustments'!$B$30:$B$34,0),))","v":0},0]
["Upper Hutt city","Rest of Upper Hutt City","Rural","Rest of Upper Hutt CityRural",{"$f":"SUMIFS('UHCC Adjustments'!$D$9:$D$27,'UHCC Adjustments'!$B$9:$B$27,C59,'UHCC Adjustments'!$C$9:$C$27,B59)","v":1164573000},null,null,null,{"$f":"SUMIFS($I$23:$I$49,$A$23:$A$49,A59,$C$23:$C$49,C59)\n*\nIF(B59=\"Trentham Military Camp\",\n       INDEX('UHCC Adjustments'!$E$30:$E$34,MATCH(C59,'UHCC Adjustments'!$B$30:$B$34,0),),\n       1-INDEX('UHCC Adjustments'!$E$30:$E$34,MATCH(C59,'UHCC Adjustments'!$B$30:$B$34,0),))","v":0},0]
["Total",null,null,null,{"$f":"SUM(E54:E59)","v":11717909800},null,null,null,{"$f":"SUM(I54:I59)","v":0}]
[]
[]
["Check Upper Hutt total",null,null,null,{"$f":"E60-E12","v":0},null,null,null,{"$f":"I60-I12","v":0}]
["Check TA totals",null,null,null,{"$f":"INDEX(capital_values,MATCH(\"Region wide\",capital_values_rows,0),MATCH(E6&\" \"&year_current,capital_values_header,0))-SUM(E10:E18)","v":0},{"$f":"INDEX(capital_values,MATCH(\"Region wide\",capital_values_rows,0),MATCH(F6&\" \"&year_current,capital_values_header,0))-SUM(F10:F18)","v":0},null,null,{"$f":"INDEX(ess_base_estract,MATCH(I6,ESSbase!$B$8:$B$25,0),MATCH(year_current,ESSbase!$F$6:$G$6,0))-SUM(I10:I18)","v":0}]
["Check category totals",null,null,null,{"$f":"INDEX(capital_values,MATCH(\"Region wide\",capital_values_rows,0),MATCH(E6&\" \"&year_current,capital_values_header,0))-SUM(E23:E49)","v":0},{"$f":"INDEX(capital_values,MATCH(\"Region wide\",capital_values_rows,0),MATCH(F6&\" \"&year_current,capital_values_header,0))-SUM(F23:F49)","v":0},null,{"$f":"H50-SUM(H23:H49)","v":0},{"$f":"INDEX(ess_base_estract,MATCH(I6,ESSbase!$B$8:$B$25,0),MATCH(year_current,ESSbase!$F$6:$G$6,0))-SUM(I23:I49)","v":0}]
["Category matches TA",null,null,null,{"$f":"E50-E19","v":0},{"$f":"F50-F19","v":0},null,null,{"$f":"I50-I19","v":0}]

{"sheet":"Economic Development","index":13,"n_rows":54,"n_cols":12,"rows_kept":54,"cut":false,"hidden":false,"merged":[]}
["Wellington Regional Council"]
[{"$f":"\"Economic Development Rate \"&year_current","v":"Economic Development Rate 2022/23"}]
["Printed: ",{"$f":"NOW()","v":"2023-01-19T08:30:06.840"}]
[{"$f":"check_total","v":0}]
[]
[{"$f":"Control!A66","v":"TA full name"},{"$f":"Control!B66","v":"Rating area"},{"$f":"Control!C66","v":"Category group"},{"$f":"Control!D66","v":"Concatenated  name"},"CV assessments","Contiguous assements","Rateable properties","Rating basis","CV","ECV","Economic development rate","Rates sought"]
[{"$f":"Control!A52","v":0},null,{"$f":"Control!B52","v":0},{"$f":"Control!C52","v":0},"#","#","#","$","$","$","$","Cents per $"]
[]
["By TA"]
[{"$f":"Control!A42","v":"Wellington city"},null,{"$f":"Control!B42","v":"District wide"},{"$f":"Control!C42","v":"Wellington cityDistrict wide"},null,null,null,null,{"$f":"INDEX(capital_values,MATCH($D10,capital_values_rows,0),MATCH(I$6&\" \"&year_current,capital_values_header,0))","v":114751871250},119439703683,{"$f":"SUMIF($A$23:$A$49,$A10,$K$23:$K$49)","v":2084395.6780524543}]
[{"$f":"Control!A43","v":"Hutt city"},null,{"$f":"Control!B43","v":"District wide"},{"$f":"Control!C43","v":"Hutt cityDistrict wide"},null,null,null,null,29131948500,44154024498,{"$f":"SUMIF($A$23:$A$49,$A11,$K$23:$K$49)","v":919729.26249599003}]
[{"$f":"Control!A44","v":"Upper Hutt city"},null,{"$f":"Control!B44","v":"District wide"},{"$f":"Control!C44","v":"Upper Hutt cityDistrict wide"},null,null,null,null,11717909800,17817751914,353972.12124184187]
[{"$f":"Control!A45","v":"Porirua city"},null,{"$f":"Control!B45","v":"District wide"},{"$f":"Control!C45","v":"Porirua cityDistrict wide"},null,null,null,null,14623609200,21241698999,381115.59458930936]
[{"$f":"Control!A46","v":"Kāpiti Coast district"},null,{"$f":"Control!B46","v":"District wide"},{"$f":"Control!C46","v":"Kāpiti Coast districtDistrict wide"},null,null,null,null,19783157650,26169483904,469433.28580084693]
[{"$f":"Control!A47","v":"Masterton district"},null,{"$f":"Control!B47","v":"District wide"},{"$f":"Control!C47","v":"Masterton districtDistrict wide"},null,null,null,null,8787884155,11263219050,223844.98387138528]
[{"$f":"Control!A48","v":"Carterton district"},null,{"$f":"Control!B48","v":"District wide"},{"$f":"Control!C48","v":"Carterton districtDistrict wide"},null,null,null,null,3729014800,4976485118,74067.947186637903]
[{"$f":"Control!A49","v":"South Wairarapa district"},null,{"$f":"Control!B49","v":"District wide"},{"$f":"Control!C49","v":"South Wairarapa districtDistrict wide"},null,null,null,null,6354690200,8115723950,113929.41676153464]
[{"$f":"Control!A50","v":"Tararua district"},null,{"$f":"Control!B50","v":"District wide"},{"$f":"Control!C50","v":"Tararua districtDistrict wide"},null,null,null,null,15976500,21686475,135]
["Region wide",null,null,null,null,null,null,null,{"$f":"SUM(I10:I18)","v":208896062055},{"$f":"SUM(J10:J18)","v":253199777591},{"$f":"SUM(K10:K18)","v":4620623.29}]
[]
[]
["By TA & Category"]
[{"$f":"Control!A67","v":"Wellington city"},{"$f":"Control!B67","v":"Wellington city"},{"$f":"Control!C67","v":"Wellington CBD"},{"$f":"Control!D67","v":"Wellington cityWellington CBD"},{"$f":"INDEX(assessments,MATCH($D23,assessments_rows,0),MATCH(E$6&\" \"&year_current,assessments_header,0))","v":3331},{"$f":"INDEX(assessments_contiguous,MATCH($D23,assessments_contiguous_rows,0),MATCH(F$6&\" \"&year_current,assessments_contiguous_header,0))","v":0},{"$f":"E23-F23","v":3331},{"$f":"INDEX(WRS_value,MATCH($C23,WRS_categories,0),)","v":"Remainder"},{"$f":"INDEX(capital_values,MATCH($D23,capital_values_rows,0),MATCH(I$6&\" \"&year_current,capital_values_header,0))","v":13133427700},{"$f":"INDEX($J$10:$J$18,MATCH(A23,$A$10:$A$18,0),)/INDEX($I$10:$I$18,MATCH(A23,$A$10:$A$18,0),)*I23","v":13669953228.149246},{"$f":"IF(H23=\"Remainder\",\nJ23/SUMIF($H$23:$H$49,\"Remainder\",$J$23:$J$49)\n*($K$50-SUMPRODUCT($H$23:$H$49,$G$23:$G$49)),\nH23*G23)","v":640168.96900812886},{"$f":"K23/I23*100","v":4.8743479892010893E-3}]
[{"$f":"Control!A68","v":"Wellington city"},{"$f":"Control!B68","v":"Wellington city"},{"$f":"Control!C68","v":"Business"},{"$f":"Control!D68","v":"Wellington cityBusiness"},1885,0,{"$f":"E24-F24","v":1885},"Remainder",6659900150,{"$f":"INDEX($J$10:$J$18,MATCH(A24,$A$10:$A$18,0),)/INDEX($I$10:$I$18,MATCH(A24,$A$10:$A$18,0),)*I24","v":6931969751.8602962},{"$f":"IF(H24=\"Remainder\",\nJ24/SUMIF($H$23:$H$49,\"Remainder\",$J$23:$J$49)\n*($K$50-SUMPRODUCT($H$23:$H$49,$G$23:$G$49)),\nH24*G24)","v":324626.70904432528},4.8743479892010885E-3]
[{"$f":"Control!A69","v":"Wellington city"},{"$f":"Control!B69","v":"Wellington city"},{"$f":"Control!C69","v":"Residential"},{"$f":"Control!D69","v":"Wellington cityResidential"},73796,0,73796,15,93657459050,97483544579.973068,1106940,1.181902660213159E-3]
[{"$f":"Control!A70","v":"Wellington city"},{"$f":"Control!B70","v":"Wellington city"},{"$f":"Control!C70","v":"Rural"},{"$f":"Control!D70","v":"Wellington cityRural"},844,0,844,15,1301084350,1354236123.0173721,12660,9.7303453077427307E-4]
[{"$f":"Control!A71","v":"Hutt city"},{"$f":"Control!B71","v":"Hutt city"},{"$f":"Control!C71","v":"Business"},{"$f":"Control!D71","v":"Hutt cityBusiness"},2348,0,2348,"Remainder",4905894500,7435650448.7711649,348214.26249599003,7.097875066330717E-3]
[{"$f":"Control!A72","v":"Hutt city"},{"$f":"Control!B72","v":"Hutt city"},{"$f":"Control!C72","v":"Residential"},{"$f":"Control!D72","v":"Hutt cityResidential"},37680,19,37661,15,{"$f":"INDEX(capital_values,MATCH($D28,capital_values_rows,0),MATCH(I$6&\" \"&year_current,capital_values_header,0))","v":23837441000},36129370264.526924,564915,2.3698642819923498E-3]
[{"$f":"Control!A73","v":"Hutt city"},{"$f":"Control!B73","v":"Hutt city"},{"$f":"Control!C73","v":"Rural"},{"$f":"Control!D73","v":"Hutt cityRural"},440,0,440,15,388613000,589003784.70191491,6600,1.6983477135350594E-3]
[{"$f":"Control!A74","v":"Upper Hutt city"},{"$f":"Control!B74","v":"Upper Hutt city"},{"$f":"Control!C74","v":"Business"},{"$f":"Control!D74","v":"Upper Hutt cityBusiness"},768,17,751,"Remainder",1448246700,2202141922.1770406,103127.12124184189,7.1208255638933538E-3]
[{"$f":"Control!A75","v":"Upper Hutt city"},{"$f":"Control!B75","v":"Upper Hutt city"},{"$f":"Control!C75","v":"Residential"},{"$f":"Control!D75","v":"Upper Hutt cityResidential"},15478,34,15444,15,9098976100,13835513465.141645,231660,2.5460007527660171E-3]
[{"$f":"Control!A76","v":"Upper Hutt city"},{"$f":"Control!B76","v":"Upper Hutt city"},{"$f":"Control!C76","v":"Rural"},{"$f":"Control!D76","v":"Upper Hutt cityRural"},1329,50,1279,15,1170687000,1780096526.6813128,19185,1.6387813309620763E-3]
[{"$f":"Control!A77","v":"Porirua city"},{"$f":"Control!B77","v":"Porirua city"},{"$f":"Control!C77","v":"Business"},{"$f":"Control!D77","v":"Porirua cityBusiness"},801,0,801,"Remainder",1400176000,2033842448.2530501,95245.594589309359,6.8024015973212901E-3]
[{"$f":"Control!A78","v":"Porirua city"},{"$f":"Control!B78","v":"Porirua city"},{"$f":"Control!C78","v":"Residential"},{"$f":"Control!D78","v":"Porirua cityResidential"},18419,0,18419,15,12370577500,17969030771.063133,276285,2.2334042206194494E-3]
[{"$f":"Control!A79","v":"Porirua city"},{"$f":"Control!B79","v":"Porirua city"},{"$f":"Control!C79","v":"Rural"},{"$f":"Control!D79","v":"Porirua cityRural"},639,0,639,15,852855700,1238825779.6838174,9585,1.1238712480903864E-3]
[{"$f":"Control!A80","v":"Kāpiti Coast district"},{"$f":"Control!B80","v":"Kāpiti Coast district"},{"$f":"Control!C80","v":"Business"},{"$f":"Control!D80","v":"Kāpiti Coast districtBusiness"},1303,0,1303,"Remainder",1775736500,2348973231.5050979,110003.28580084692,6.1947978092947303E-3]
[{"$f":"Control!A81","v":"Kāpiti Coast district"},{"$f":"Control!B81","v":"Kāpiti Coast district excl Ōtaki "},{"$f":"Control!C81","v":"Residential"},{"$f":"Control!D81","v":"Kāpiti Coast district excl Ōtaki Residential"},18314,128,18186,15,13678059800,18093560800.899216,272790,1.9943618026878342E-3]
[{"$f":"Control!A82","v":"Kāpiti Coast district"},{"$f":"Control!B82","v":"Ōtaki rating area"},{"$f":"Control!C82","v":"Residential"},{"$f":"Control!D82","v":"Ōtaki rating areaResidential"},3227,39,{"$f":"E38-F38","v":3188},15,1671453400,{"$f":"INDEX($J$10:$J$18,MATCH(A38,$A$10:$A$18,0),)/INDEX($I$10:$I$18,MATCH(A38,$A$10:$A$18,0),)*I38","v":2211025844.3796043},47820,{"$f":"K38/I38*100","v":2.8609831419769164E-3}]
[{"$f":"Control!A83","v":"Kāpiti Coast district"},{"$f":"Control!B83","v":"Kāpiti Coast district"},{"$f":"Control!C83","v":"Rural"},{"$f":"Control!D83","v":"Kāpiti Coast districtRural"},2710,122,2588,15,2657907950,3515924027.2160821,38820,1.4605471946460748E-3]
[{"$f":"Control!A84","v":"Masterton district"},{"$f":"Control!B84","v":"Masterton district"},{"$f":"Control!C84","v":"Business"},{"$f":"Control!D84","v":"Masterton districtBusiness"},570,0,570,"Remainder",736487600,943938383.81325138,44204.983871385281,6.0021355242620899E-3]
[{"$f":"Control!A85","v":"Masterton district"},{"$f":"Control!B85","v":"Masterton district"},{"$f":"Control!C85","v":"Residential"},{"$f":"Control!D85","v":"Masterton districtResidential"},8488,92,8396,15,4080427400,5229785328.6644707,125940,3.0864413860175527E-3]
[{"$f":"Control!A86","v":"Masterton district"},{"$f":"Control!B86","v":"Masterton district"},{"$f":"Control!C86","v":"Rural"},{"$f":"Control!D86","v":"Masterton districtRural"},4016,436,3580,15,3970969155,5089495337.5222778,53700,1.3523147096819997E-3]
[{"$f":"Control!A87","v":"Carterton district"},{"$f":"Control!B87","v":"Carterton district"},{"$f":"Control!C87","v":"Business"},{"$f":"Control!D87","v":"Carterton districtBusiness"},236,0,236,"Remainder",133894500,178686334.69409963,8367.9471866379026,6.2496571454674415E-3]
[{"$f":"Control!A88","v":"Carterton district"},{"$f":"Control!B88","v":"Carterton district"},{"$f":"Control!C88","v":"Residential"},{"$f":"Control!D88","v":"Carterton districtResidential"},2599,78,2521,15,1318035500,1758958975.1013293,37815,2.8690426016598188E-3]
[{"$f":"Control!A89","v":"Carterton district"},{"$f":"Control!B89","v":"Carterton district"},{"$f":"Control!C89","v":"Rural"},{"$f":"Control!D89","v":"Carterton districtRural"},2175,316,1859,15,2277084800,3038839808.2045708,27885,1.2245920749196517E-3]
[{"$f":"Control!A90","v":"South Wairarapa district"},{"$f":"Control!B90","v":"South Wairarapa district"},{"$f":"Control!C90","v":"Business"},{"$f":"Control!D90","v":"South Wairarapa districtBusiness"},315,0,315,"Remainder",287242000,366843497.55490834,17179.416761534638,5.9808164410269518E-3]
[{"$f":"Control!A91","v":"South Wairarapa district"},{"$f":"Control!B91","v":"South Wairarapa district"},{"$f":"Control!C91","v":"Residential"},{"$f":"Control!D91","v":"South Wairarapa districtResidential"},3536,89,3447,15,2151921500,2748269436.6548228,51705,2.4027363451687247E-3]
[{"$f":"Control!A92","v":"South Wairarapa district"},{"$f":"Control!B92","v":"South Wairarapa district"},{"$f":"Control!C92","v":"Rural"},{"$f":"Control!D92","v":"South Wairarapa districtRural"},3282,279,3003,15,3915526700,5000611015.7902679,45045,1.1504199422264188E-3]
[{"$f":"Control!A93","v":"Tararua district"},{"$f":"Control!B93","v":"Tararua district"},{"$f":"Control!C93","v":"Rural"},{"$f":"Control!D93","v":"Tararua districtRural"},10,1,9,15,15976500,21686475,135,8.4499108064970427E-4]
["Region wide",null,null,null,{"$f":"SUM(E23:E49)","v":208539},{"$f":"SUM(F23:F49)","v":1700},{"$f":"SUM(G23:G49)","v":206839},null,{"$f":"SUM(I23:I49)","v":208896062055},{"$f":"SUM(J23:J49)","v":253199777590.99988},{"$f":"INDEX(ess_base_estract,MATCH(K6,ESSbase!$B$8:$B$25,0),MATCH(year_current,ESSbase!$F$6:$G$6,0))","v":4620623.29}]
[]
["Check TA totals",null,null,null,null,null,null,null,{"$f":"INDEX(capital_values,MATCH(\"Region wide\",capital_values_rows,0),MATCH(I6&\" \"&year_current,capital_values_header,0))-SUM(I10:I18)","v":0},{"$f":"INDEX(capital_values,MATCH(\"Region wide\",capital_values_rows,0),MATCH(J6&\" \"&year_current,capital_values_header,0))-SUM(J10:J18)","v":0},{"$f":"INDEX(ess_base_estract,MATCH(K6,ESSbase!$B$8:$B$25,0),MATCH(year_current,ESSbase!$F$6:$G$6,0))-SUM(K10:K18)","v":0}]
["Check category totals",null,null,null,{"$f":"INDEX(assessments,MATCH(\"region wide\",assessments_rows,0),MATCH(\"CV assessments \"&year_current,assessments_header,0))-SUM(E23:E49)","v":0},{"$f":"INDEX(assessments_contiguous,MATCH(\"region wide\",assessments_contiguous_rows,0),MATCH(\"Contiguous assements \"&year_current,assessments_contiguous_header,0))-SUM(F23:F49)","v":0},{"$f":"G50-SUM(G23:G49)","v":0},null,{"$f":"INDEX(capital_values,MATCH(\"Region wide\",capital_values_rows,0),MATCH(I6&\" \"&year_current,capital_values_header,0))-SUM(I23:I49)","v":0},{"$f":"INDEX(capital_values,MATCH(\"Region wide\",capital_values_rows,0),MATCH(J6&\" \"&year_current,capital_values_header,0))-SUM(J23:J49)","v":0},{"$f":"INDEX(ess_base_estract,MATCH(K6,ESSbase!$B$8:$B$25,0),MATCH(year_current,ESSbase!$F$6:$G$6,0))-SUM(K23:K49)","v":0}]
["Category matches TA",null,null,null,null,null,null,null,{"$f":"I50-I19","v":0},{"$f":"J50-J19","v":0},{"$f":"K50-K19","v":0}]

{"sheet":"Public transport","index":14,"n_rows":66,"n_cols":10,"rows_kept":66,"cut":false,"hidden":false,"merged":[]}
["Wellington Regional Council"]
[{"$f":"\"Public transport rate \"&year_current","v":"Public transport rate 2022/23"}]
["Printed: ",{"$f":"NOW()","v":"2023-01-19T08:30:06.840"}]
[{"$f":"check_total","v":0}]
[]
[{"$f":"Control!A41","v":"TA full name"},null,{"$f":"Control!B41","v":"Category group"},{"$f":"Control!C41","v":"Concatenated  row"},{"$f":"\"CV\"","v":"CV"},"ECV","Differential","ECV multiplied","Public transport rate","Rates sought"]
[null,null,null,null,"$","$","#","#","$","Cents/$"]
[]
["By TA"]
[{"$f":"Control!A42","v":"Wellington city"},null,{"$f":"Control!B42","v":"District wide"},{"$f":"Control!C42","v":"Wellington cityDistrict wide"},{"$f":"INDEX(capital_values,MATCH($D10,capital_values_rows,0),MATCH(E$6&\" \"&year_current,capital_values_header,0))","v":114751871250},119439703683,null,null,{"$f":"SUMIF($A$23:$A$49,$A10,$I$23:$I$49)","v":55813220.471912682}]
[{"$f":"Control!A43","v":"Hutt city"},null,{"$f":"Control!B43","v":"District wide"},{"$f":"Control!C43","v":"Hutt cityDistrict wide"},29131948500,44154024498,null,null,14007552.982125834]
[{"$f":"Control!A44","v":"Upper Hutt city"},null,{"$f":"Control!B44","v":"District wide"},{"$f":"Control!C44","v":"Upper Hutt cityDistrict wide"},11717909800,17817751914,null,null,5363263.6366864722]
[{"$f":"Control!A45","v":"Porirua city"},null,{"$f":"Control!B45","v":"District wide"},{"$f":"Control!C45","v":"Porirua cityDistrict wide"},14623609200,21241698999,null,null,6593785.1245213319]
[{"$f":"Control!A46","v":"Kāpiti Coast district"},null,{"$f":"Control!B46","v":"District wide"},{"$f":"Control!C46","v":"Kāpiti Coast districtDistrict wide"},19783157650,26169483904,null,null,6324054.456405093]
[{"$f":"Control!A47","v":"Masterton district"},null,{"$f":"Control!B47","v":"District wide"},{"$f":"Control!C47","v":"Masterton districtDistrict wide"},8787884155,11263219050,null,null,1235093.9945854624]
[{"$f":"Control!A48","v":"Carterton district"},null,{"$f":"Control!B48","v":"District wide"},{"$f":"Control!C48","v":"Carterton districtDistrict wide"},3729014800,4976485118,null,null,489099.97683658905]
[{"$f":"Control!A49","v":"South Wairarapa district"},null,{"$f":"Control!B49","v":"District wide"},{"$f":"Control!C49","v":"South Wairarapa districtDistrict wide"},6354690200,8115723950,null,null,832409.27692654193]
[{"$f":"Control!A50","v":"Tararua district"},null,{"$f":"Control!B50","v":"District wide"},{"$f":"Control!C50","v":"Tararua districtDistrict wide"},15976500,21686475,null,null,0]
["Region wide",null,null,null,{"$f":"SUM(E10:E18)","v":208896062055},{"$f":"SUM(F10:F18)","v":253199777591},null,null,{"$f":"SUM(I10:I18)","v":90658479.920000017}]
[]
[]
["By TA & Category"]
[{"$f":"Control!A67","v":"Wellington city"},{"$f":"Control!B67","v":"Wellington city"},{"$f":"Control!C67","v":"Wellington CBD"},{"$f":"Control!D67","v":"Wellington cityWellington CBD"},{"$f":"INDEX(capital_values,MATCH($D23,capital_values_rows,0),MATCH(E$6&\" \"&year_current,capital_values_header,0))","v":13133427700},13669953228.149246,{"$f":"INDEX(PT_differentials,MATCH($D23,Concat_rating_category,0),)","v":6.9572008551104281},{"$f":"F23*G23","v":95104610288.199493},{"$f":"I$50*H23/H$50","v":27047320.236460216},{"$f":"I23/E23*100","v":0.20594258295920886}]
[{"$f":"Control!A68","v":"Wellington city"},{"$f":"Control!B68","v":"Wellington city"},{"$f":"Control!C68","v":"Business"},{"$f":"Control!D68","v":"Wellington cityBusiness"},6659900150,6931969751.8602962,{"$f":"INDEX(PT_differentials,MATCH($D24,Concat_rating_category,0),)","v":1.2768370369738333},8850995718.3575401,2517183.077460743,3.7796108361485614E-2]
[{"$f":"Control!A69","v":"Wellington city"},{"$f":"Control!B69","v":"Wellington city"},{"$f":"Control!C69","v":"Residential"},{"$f":"Control!D69","v":"Wellington cityResidential"},93657459050,97483544579.973068,0.9435037036405004,91976085355.20842,26157581.921209909,2.7928989518331278E-2]
[{"$f":"Control!A70","v":"Wellington city"},{"$f":"Control!B70","v":"Wellington city"},{"$f":"Control!C70","v":"Rural"},{"$f":"Control!D70","v":"Wellington cityRural"},1301084350,1354236123.0173721,0.2366297034718059,320452492.2204088,91135.236781813655,7.0045602179300412E-3]
[{"$f":"Control!A71","v":"Hutt city"},{"$f":"Control!B71","v":"Hutt city"},{"$f":"Control!C71","v":"Business"},{"$f":"Control!D71","v":"Hutt cityBusiness"},4905894500,7435650448.7711649,1.4033888723575829,10435109098.54612,2967697.7449935139,6.0492490105392892E-2]
[{"$f":"Control!A72","v":"Hutt city"},{"$f":"Control!B72","v":"Hutt city"},{"$f":"Control!C72","v":"Residential"},{"$f":"Control!D72","v":"Hutt cityResidential"},23837441000,36129370264.526924,1.0700555390242497,38660432773.015053,10994851.905950395,4.6124296252900612E-2]
[{"$f":"Control!A73","v":"Hutt city"},{"$f":"Control!B73","v":"Hutt city"},{"$f":"Control!C73","v":"Rural"},{"$f":"Control!D73","v":"Hutt cityRural"},388613000,589003784.70191491,0.26866055256079963,{"$f":"F29*G29","v":158242082.25841871},{"$f":"I$50*H29/H$50","v":45003.331181924761},{"$f":"I29/E29*100","v":1.1580500699133781E-2}]
[{"$f":"Control!A74","v":"Upper Hutt city"},{"$f":"Control!B74","v":"Upper Hutt city"},{"$f":"Control!C74","v":"Business"},{"$f":"Control!D74","v":"Upper Hutt cityBusiness"},1448246700,2202141922.1770406,1.4327977730598132,3155224042.0569201,897331.42089202057,6.1959845714961444E-2]
[{"$f":"Control!A75","v":"Upper Hutt city"},{"$f":"Control!B75","v":"Upper Hutt city"},{"$f":"Control!C75","v":"Residential"},{"$f":"Control!D75","v":"Upper Hutt cityResidential"},9098976100,13835513465.141645,1.099464439726481,15211655060.280144,4326125.7734528361,4.7545193282273114E-2]
[{"$f":"Control!A76","v":"Upper Hutt city"},{"$f":"Control!B76","v":"Upper Hutt city"},{"$f":"Control!C76","v":"Rural"},{"$f":"Control!D76","v":"Upper Hutt cityRural"},1170687000,1780096526.6813128,0.27616011749216457,491591665.9557054,139806.44234161513,1.1942256328259827E-2]
[{"$f":"Control!A77","v":"Porirua city"},{"$f":"Control!B77","v":"Porirua city"},{"$f":"Control!C77","v":"Business"},{"$f":"Control!D77","v":"Porirua cityBusiness"},1400176000,2033842448.2530501,1.4413013861087931,2931379939.7940226,833671.17247082747,5.954045580490077E-2]
[{"$f":"Control!A78","v":"Porirua city"},{"$f":"Control!B78","v":"Porirua city"},{"$f":"Control!C78","v":"Residential"},{"$f":"Control!D78","v":"Porirua cityResidential"},12370577500,17969030771.063133,1.1079680527754596,19909112033.677135,5662061.2519900557,4.5770387453536877E-2]
[{"$f":"Control!A79","v":"Porirua city"},{"$f":"Control!B79","v":"Porirua city"},{"$f":"Control!C79","v":"Rural"},{"$f":"Control!D79","v":"Porirua cityRural"},852855700,1238825779.6838174,0.27830861506759169,344775887.05383271,98052.700060448304,1.1496985956762474E-2]
[{"$f":"Control!A80","v":"Kāpiti Coast district"},{"$f":"Control!B80","v":"Kāpiti Coast district"},{"$f":"Control!C80","v":"Business"},{"$f":"Control!D80","v":"Kāpiti Coast districtBusiness"},1775736500,2348973231.5050979,1.283996095094377,3016072456.7337656,857757.34053733281,4.8304314324638414E-2]
[{"$f":"Control!A81","v":"Kāpiti Coast district"},{"$f":"Control!B81","v":"Kāpiti Coast district excl Ōtaki "},{"$f":"Control!C81","v":"Residential"},{"$f":"Control!D81","v":"Kāpiti Coast district excl Ōtaki Residential"},13678059800,18093560800.899216,0.95066276176104336,17200874481.074203,4891850.7633535489,3.576421535570088E-2]
[{"$f":"Control!A82","v":"Kāpiti Coast district"},{"$f":"Control!B82","v":"Ōtaki rating area"},{"$f":"Control!C82","v":"Residential"},{"$f":"Control!D82","v":"Ōtaki rating areaResidential"},1671453400,2211025844.3796043,0.53399609509437707,1180679167.0514565,335779.80532159569,2.0089091644528989E-2]
[{"$f":"Control!A83","v":"Kāpiti Coast district"},{"$f":"Control!B83","v":"Kāpiti Coast district"},{"$f":"Control!C83","v":"Rural"},{"$f":"Control!D83","v":"Kāpiti Coast districtRural"},2657907950,3515924027.2160821,0.23868734585900653,839206574.29811609,238666.54719261569,8.9794888191148878E-3]
[{"$f":"Control!A84","v":"Masterton district"},{"$f":"Control!B84","v":"Masterton district"},{"$f":"Control!C84","v":"Business"},{"$f":"Control!D84","v":"Masterton districtBusiness"},736487600,943938383.81325138,0.87483123711779398,825786784.07431769,234850.01965952059,3.1887844365542692E-2]
[{"$f":"Control!A85","v":"Masterton district"},{"$f":"Control!B85","v":"Masterton district"},{"$f":"Control!C85","v":"Residential"},{"$f":"Control!D85","v":"Masterton districtResidential"},4080427400,5229785328.6644707,0.45816457045112741,2396102348.6591654,681440.65095401835,1.6700227308394662E-2]
[{"$f":"Control!A86","v":"Masterton district"},{"$f":"Control!B86","v":"Masterton district"},{"$f":"Control!C86","v":"Rural"},{"$f":"Control!D86","v":"Masterton districtRural"},3970969155,5089495337.5222778,0.22025483324096343,1120985946.8466301,318803.32397192332,8.0283505493994028E-3]
[{"$f":"Control!A87","v":"Carterton district"},{"$f":"Control!B87","v":"Carterton district"},{"$f":"Control!C87","v":"Business"},{"$f":"Control!D87","v":"Carterton districtBusiness"},133894500,178686334.69409963,0.90778368740137949,162208539.79684681,46131.373733396082,3.4453524030782508E-2]
[{"$f":"Control!A88","v":"Carterton district"},{"$f":"Control!B88","v":"Carterton district"},{"$f":"Control!C88","v":"Residential"},{"$f":"Control!D88","v":"Carterton districtResidential"},1318035500,1758958975.1013293,0.49111702073471281,863854691.44634879,245676.36002622923,1.8639585961548778E-2]
[{"$f":"Control!A89","v":"Carterton district"},{"$f":"Control!B89","v":"Carterton district"},{"$f":"Control!C89","v":"Rural"},{"$f":"Control!D89","v":"Carterton districtRural"},2277084800,3038839808.2045708,0.22828613260384917,693724987.41764426,197292.24307696373,8.6642466313491592E-3]
[{"$f":"Control!A90","v":"South Wairarapa district"},{"$f":"Control!B90","v":"South Wairarapa district"},{"$f":"Control!C90","v":"Business"},{"$f":"Control!D90","v":"South Wairarapa districtBusiness"},287242000,366843497.55490834,0.9317082878206594,341791127.00502592,97203.84782684542,3.3840402109317373E-2]
[{"$f":"Control!A91","v":"South Wairarapa district"},{"$f":"Control!B91","v":"South Wairarapa district"},{"$f":"Control!C91","v":"Residential"},{"$f":"Control!D91","v":"South Wairarapa districtResidential"},2151921500,2748269436.6548228,0.51504162115399255,1415473146.0226698,402554.14906353183,1.8706730197339067E-2]
[{"$f":"Control!A92","v":"South Wairarapa district"},{"$f":"Control!B92","v":"South Wairarapa district"},{"$f":"Control!C92","v":"Rural"},{"$f":"Control!D92","v":"South Wairarapa districtRural"},3915526700,5000611015.7902679,0.23390712606296302,1169678551.2622957,332651.28003616468,8.4956968889055139E-3]
[{"$f":"Control!A93","v":"Tararua district"},{"$f":"Control!B93","v":"Tararua district"},{"$f":"Control!C93","v":"Rural"},{"$f":"Control!D93","v":"Tararua districtRural"},15976500,21686475,0,0,0,0]
["Region wide",null,null,null,{"$f":"SUM(E23:E49)","v":208896062055},{"$f":"SUM(F23:F49)","v":253199777590.99988},null,{"$f":"SUM(H23:H49)","v":318776105238.31171},{"$f":"INDEX(ess_base_estract,MATCH(I6,ESSbase!$B$8:$B$25,0),MATCH(year_current,ESSbase!$F$6:$G$6,0))","v":90658479.920000002}]
[]
[]
["Upper Hutt breakdown"]
[{"$f":"$A$12","v":"Upper Hutt city"},"Trentham Military Camp","Business",{"$f":"B54&C54","v":"Trentham Military CampBusiness"},{"$f":"SUMIFS('UHCC Adjustments'!$D$9:$D$27,'UHCC Adjustments'!$B$9:$B$27,C54,'UHCC Adjustments'!$C$9:$C$27,B54)","v":70490000},null,null,null,{"$f":"SUMIFS($I$23:$I$49,$A$23:$A$49,A54,$C$23:$C$49,C54)\n*\nIF(B54=\"Trentham Military Camp\",\n       INDEX('UHCC Adjustments'!$E$30:$E$34,MATCH(C54,'UHCC Adjustments'!$B$30:$B$34,0),),\n       1-INDEX('UHCC Adjustments'!$E$30:$E$34,MATCH(C54,'UHCC Adjustments'!$B$30:$B$34,0),))","v":64917.482867146122},{"$f":"I54/E54*100","v":9.2094599045461939E-2}]
["Upper Hutt city","Rest of Upper Hutt City","Business","Rest of Upper Hutt CityBusiness",{"$f":"SUMIFS('UHCC Adjustments'!$D$9:$D$27,'UHCC Adjustments'!$B$9:$B$27,C55,'UHCC Adjustments'!$C$9:$C$27,B55)","v":1377756700},null,null,null,{"$f":"SUMIFS($I$23:$I$49,$A$23:$A$49,A55,$C$23:$C$49,C55)\n*\nIF(B55=\"Trentham Military Camp\",\n       INDEX('UHCC Adjustments'!$E$30:$E$34,MATCH(C55,'UHCC Adjustments'!$B$30:$B$34,0),),\n       1-INDEX('UHCC Adjustments'!$E$30:$E$34,MATCH(C55,'UHCC Adjustments'!$B$30:$B$34,0),))","v":832413.93802487443},6.0418064962041156E-2]
["Upper Hutt city","Trentham Military Camp","Residential","Trentham Military CampResidential",{"$f":"SUMIFS('UHCC Adjustments'!$D$9:$D$27,'UHCC Adjustments'!$B$9:$B$27,C56,'UHCC Adjustments'!$C$9:$C$27,B56)","v":32750000},null,null,null,{"$f":"SUMIFS($I$23:$I$49,$A$23:$A$49,A56,$C$23:$C$49,C56)\n*\nIF(B56=\"Trentham Military Camp\",\n       INDEX('UHCC Adjustments'!$E$30:$E$34,MATCH(C56,'UHCC Adjustments'!$B$30:$B$34,0),),\n       1-INDEX('UHCC Adjustments'!$E$30:$E$34,MATCH(C56,'UHCC Adjustments'!$B$30:$B$34,0),))","v":13053.108674108847},3.985682037895831E-2]
["Upper Hutt city","Rest of Upper Hutt City","Residential","Rest of Upper Hutt CityResidential",{"$f":"SUMIFS('UHCC Adjustments'!$D$9:$D$27,'UHCC Adjustments'!$B$9:$B$27,C57,'UHCC Adjustments'!$C$9:$C$27,B57)","v":9066226100},null,null,null,{"$f":"SUMIFS($I$23:$I$49,$A$23:$A$49,A57,$C$23:$C$49,C57)\n*\nIF(B57=\"Trentham Military Camp\",\n       INDEX('UHCC Adjustments'!$E$30:$E$34,MATCH(C57,'UHCC Adjustments'!$B$30:$B$34,0),),\n       1-INDEX('UHCC Adjustments'!$E$30:$E$34,MATCH(C57,'UHCC Adjustments'!$B$30:$B$34,0),))","v":4313072.6647787271},4.7572966052310643E-2]
["Upper Hutt city","Trentham Military Camp","Rural","Trentham Military CampRural",{"$f":"SUMIFS('UHCC Adjustments'!$D$9:$D$27,'UHCC Adjustments'!$B$9:$B$27,C58,'UHCC Adjustments'!$C$9:$C$27,B58)","v":6114000},null,null,null,{"$f":"SUMIFS($I$23:$I$49,$A$23:$A$49,A58,$C$23:$C$49,C58)\n*\nIF(B58=\"Trentham Military Camp\",\n       INDEX('UHCC Adjustments'!$E$30:$E$34,MATCH(C58,'UHCC Adjustments'!$B$30:$B$34,0),),\n       1-INDEX('UHCC Adjustments'!$E$30:$E$34,MATCH(C58,'UHCC Adjustments'!$B$30:$B$34,0),))","v":903.12063612859879},1.477135485980698E-2]
["Upper Hutt city","Rest of Upper Hutt City","Rural","Rest of Upper Hutt CityRural",{"$f":"SUMIFS('UHCC Adjustments'!$D$9:$D$27,'UHCC Adjustments'!$B$9:$B$27,C59,'UHCC Adjustments'!$C$9:$C$27,B59)","v":1164573000},null,null,null,{"$f":"SUMIFS($I$23:$I$49,$A$23:$A$49,A59,$C$23:$C$49,C59)\n*\nIF(B59=\"Trentham Military Camp\",\n       INDEX('UHCC Adjustments'!$E$30:$E$34,MATCH(C59,'UHCC Adjustments'!$B$30:$B$34,0),),\n       1-INDEX('UHCC Adjustments'!$E$30:$E$34,MATCH(C59,'UHCC Adjustments'!$B$30:$B$34,0),))","v":138903.32170548651},1.1927403581010937E-2]
["Total",null,null,null,{"$f":"SUM(E54:E59)","v":11717909800},null,null,null,{"$f":"SUM(I54:I59)","v":5363263.6366864722}]
[]
[]
["Check Upper Hutt total",null,null,null,{"$f":"E60-E12","v":0},null,null,null,{"$f":"I60-I12","v":0}]
["Check TA totals",null,null,null,{"$f":"INDEX(capital_values,MATCH(\"Region wide\",capital_values_rows,0),MATCH(E6&\" \"&year_current,capital_values_header,0))-SUM(E10:E18)","v":0},{"$f":"INDEX(capital_values,MATCH(\"Region wide\",capital_values_rows,0),MATCH(F6&\" \"&year_current,capital_values_header,0))-SUM(F10:F18)","v":0},null,null,{"$f":"INDEX(ess_base_estract,MATCH(I6,ESSbase!$B$8:$B$25,0),MATCH(year_current,ESSbase!$F$6:$G$6,0))-SUM(I10:I18)","v":0}]
["Check category totals",null,null,null,{"$f":"INDEX(capital_values,MATCH(\"Region wide\",capital_values_rows,0),MATCH(E6&\" \"&year_current,capital_values_header,0))-SUM(E23:E49)","v":0},{"$f":"INDEX(capital_values,MATCH(\"Region wide\",capital_values_rows,0),MATCH(F6&\" \"&year_current,capital_values_header,0))-SUM(F23:F49)","v":0},null,{"$f":"H50-SUM(H23:H49)","v":0},{"$f":"INDEX(ess_base_estract,MATCH(I6,ESSbase!$B$8:$B$25,0),MATCH(year_current,ESSbase!$F$6:$G$6,0))-SUM(I23:I49)","v":0}]
["Category matches TA",null,null,null,{"$f":"E50-E19","v":0},{"$f":"F50-F19","v":0},null,null,{"$f":"I50-I19","v":0}]

{"sheet":">>Other rates & levies","index":15,"n_rows":0,"n_cols":0,"rows_kept":0,"cut":false,"hidden":false,"merged":[]}

{"sheet":"Water levy","index":16,"n_rows":21,"n_cols":3,"rows_kept":21,"cut":false,"hidden":false,"merged":[]}
["Wellington Regional Council"]
[{"$f":"\"Water supply levy \"&year_current","v":"Water supply levy 2022/23"}]
["Printed :",{"$f":"NOW()","v":"2023-01-19T08:30:06.840"}]
[{"$f":"check_total","v":0}]
[]
[null,"Share","Bulk Water Levies"]
[null,"%","$"]
[]
["By TA"]
["Wellington city",{"$f":"INDEX(Control!$B$164:$B$172,MATCH(A10,Control!$A$164:$A$172,0),)","v":0.51},{"$f":"B10*$C$19","v":21455074.23}]
["Hutt city",{"$f":"INDEX(Control!$B$164:$B$172,MATCH(A11,Control!$A$164:$A$172,0),)","v":0.26369999999999999},11093535.440099999]
["Upper Hutt city",{"$f":"INDEX(Control!$B$164:$B$172,MATCH(A12,Control!$A$164:$A$172,0),)","v":0.1087},4572875.6250999998]
["Porirua city",{"$f":"INDEX(Control!$B$164:$B$172,MATCH(A13,Control!$A$164:$A$172,0),)","v":0.1176},{"$f":"B13*$C$19","v":4947287.7047999995}]
["Kāpiti Coast district",{"$f":"INDEX(Control!$B$164:$B$172,MATCH(A14,Control!$A$164:$A$172,0),)","v":0},0]
["Masterton district",{"$f":"INDEX(Control!$B$164:$B$172,MATCH(A15,Control!$A$164:$A$172,0),)","v":0},0]
["Carterton district",{"$f":"INDEX(Control!$B$164:$B$172,MATCH(A16,Control!$A$164:$A$172,0),)","v":0},0]
["South Wairarapa district",{"$f":"INDEX(Control!$B$164:$B$172,MATCH(A17,Control!$A$164:$A$172,0),)","v":0},0]
["Tararua district",{"$f":"INDEX(Control!$B$164:$B$172,MATCH(A18,Control!$A$164:$A$172,0),)","v":0},{"$f":"B18*$C$19","v":0}]
["Region wide",{"$f":"SUM(B10:B18)","v":1},{"$f":"INDEX(ess_base_estract,MATCH(C6,ESSbase!$B$8:$B$25,0),MATCH(year_current,ESSbase!$F$6:$G$6,0))","v":42068773}]
[]
["Checks",{"$f":"1-B19","v":0},{"$f":"C19-SUM(C10:C18)","v":0}]

{"sheet":">>Output tabs","index":17,"n_rows":0,"n_cols":0,"rows_kept":0,"cut":false,"hidden":false,"merged":[]}

{"sheet":"Comparison - TA","index":18,"n_rows":70,"n_cols":13,"rows_kept":70,"cut":false,"hidden":false,"merged":[[27,1,27,11],[4,1,4,11],[50,1,50,11],[4,0,5,0],[27,0,28,0],[50,0,51,0]]}
["Comparison of proposed vs current"]
[{"$f":"check_total","v":0}]
[]
[{"$f":"year_previous&\" rates\"","v":"2021/22 rates"}]
[null,"TA"]
[null,"Wellington city","Hutt city","Upper Hutt city","Porirua city","Kāpiti Coast district","Masterton District","Carterton District","South Wairarapa District","Tararua District","Other","Region wide"]
["General rate",29568388.705329046,10945060.956712525,4423679.6054094136,5310919.2278633695,6610566.5490190228,2920823.4971531094,1238631.8405657897,2089539.0544524922,5406.0754744311416,0,{"$f":"INDEX(ess_base_estract,MATCH(A7,ESSbase!$B$8:$B$25,0),MATCH(year_previous,ESSbase!$F$6:$G$6,0))","v":63113015.5119792},{"$f":"ROUND(L7-SUM(B7:K7),-1)","v":0}]
["Remission of rates",0,0,0,0,0,0,0,0,0,0,{"$f":"INDEX(ess_base_estract,MATCH(A8,ESSbase!$B$8:$B$25,0),MATCH(year_previous,ESSbase!$F$6:$G$6,0))","v":0},{"$f":"ROUND(L8-SUM(B8:K8),-1)","v":0}]
["Public transport rate",50191134.820438534,12819721.639966477,5043238.6975953681,6303357.8408948155,5323670.7096643876,996637.01686057332,400840.91295825073,731729.19032832445,0,0,{"$f":"INDEX(ess_base_estract,MATCH(A9,ESSbase!$B$8:$B$25,0),MATCH(year_previous,ESSbase!$F$6:$G$6,0))","v":81810330.828706726},0]
["River management rate",56888.244999999988,4306466.2947336622,1069965.7362243179,56371.235950248301,1281538.8909725803,0,24909.32,0,0,0,{"$f":"INDEX(ess_base_estract,MATCH(A10,ESSbase!$B$8:$B$25,0),MATCH(year_previous,ESSbase!$F$6:$G$6,0))","v":6796139.7228808086},{"$f":"ROUND(L10-SUM(B10:K10),-1)","v":0}]
["Stadium purposes rate",0,0,0,0,0,0,0,0,0,0,{"$f":"INDEX(ess_base_estract,MATCH(A11,ESSbase!$B$8:$B$25,0),MATCH(year_previous,ESSbase!$F$6:$G$6,0))","v":0},0]
["Economic development rate",2113485.019934962,880711.1335691819,348890.09148375574,366011.12142968294,479425.59047194885,260727.76453255187,94035.49005726102,147263.42070802051,252,0,{"$f":"INDEX(ess_base_estract,MATCH(A12,ESSbase!$B$8:$B$25,0),MATCH(year_previous,ESSbase!$F$6:$G$6,0))","v":4690801.6321873646},0]
["District-Wide Rates",{"$f":"SUM(B7:B12)","v":81929896.790702552},28951960.024981845,10885774.130712856,12036659.426138118,13695201.74012794,4178188.2785462346,1758417.5635813014,2968531.6654888373,5658.0754744311416,0,{"$f":"INDEX(ess_base_estract,MATCH(A13,ESSbase!$B$8:$B$25,0),MATCH(year_previous,ESSbase!$F$6:$G$6,0))","v":156410287.69575411},{"$f":"ROUND(L13-SUM(B13:K13),-1)","v":0}]
["Rates Penalties",0,0,0,0,0,0,0,0,0,0,{"$f":"INDEX(ess_base_estract,MATCH(A14,ESSbase!$B$8:$B$25,0),MATCH(year_previous,ESSbase!$F$6:$G$6,0))","v":0},0]
["Remission of Rates Penalties",0,0,0,0,0,0,0,0,0,0,{"$f":"INDEX(ess_base_estract,MATCH(A15,ESSbase!$B$8:$B$25,0),MATCH(year_previous,ESSbase!$F$6:$G$6,0))","v":0},0]
["Pest management rate",17925.01091753933,16701.211577610844,60144.02683534762,13987.379795541068,32116.812190661491,228612.58265506488,95040.48121421352,196400.04030144765,5872.3945125734745,0,{"$f":"INDEX(ess_base_estract,MATCH(A16,ESSbase!$B$8:$B$25,0),MATCH(year_previous,ESSbase!$F$6:$G$6,0))","v":666799.93999999994},{"$f":"ROUND(L16-SUM(B16:K16),-1)","v":0}]
["River management rate - Non district wide",0,0,0,0,0,0,0,99998.399999999994,0,0,{"$f":"INDEX(ess_base_estract,MATCH(A17,ESSbase!$B$8:$B$25,0),MATCH(year_previous,ESSbase!$F$6:$G$6,0))","v":99998.399999999994},0]
["Special rates",0,0,0,0,0,0,0,0,0,1608620.6488529737,{"$f":"INDEX(ess_base_estract,MATCH(A18,ESSbase!$B$8:$B$25,0),MATCH(year_previous,ESSbase!$F$6:$G$6,0))","v":1608620.6520529734},0]
["Total Other Rates",{"$f":"SUM(B14:B18)","v":17925.01091753933},16701.211577610844,60144.02683534762,13987.379795541068,32116.812190661491,228612.58265506488,95040.48121421352,296398.44030144764,5872.3945125734745,1608620.6488529737,{"$f":"INDEX(ess_base_estract,MATCH(A19,ESSbase!$B$8:$B$25,0),MATCH(year_previous,ESSbase!$F$6:$G$6,0))","v":2375418.9920529732},0]
["Total Regnl Rates",{"$f":"SUM(B19,B13)","v":81947821.801620096},28968661.236559454,10945918.157548204,12050646.80593366,13727318.552318601,4406800.8612012994,1853458.0447955148,3264930.1057902849,11530.469987004617,1608620.6488529737,{"$f":"INDEX(ess_base_estract,MATCH(A20,ESSbase!$B$8:$B$25,0),MATCH(year_previous,ESSbase!$F$6:$G$6,0))","v":158785706.68780708},0]
["Bulk Water Levies",20052755.449598599,10368454.141292451,4273989.2497477802,4623929.4919074411,0,0,0,0,0,0,{"$f":"INDEX(ess_base_estract,MATCH(A21,ESSbase!$B$8:$B$25,0),MATCH(year_previous,ESSbase!$F$6:$G$6,0))","v":39319128.332546271},0]
["Total Regnl Rates & levies",{"$f":"SUM(B20:B21)","v":102000577.25121869},{"$f":"SUM(C20:C21)","v":39337115.377851903},15219907.407295983,16674576.297841102,13727318.552318601,4406800.8612012994,1853458.0447955148,3264930.1057902849,11530.469987004617,1608620.6488529737,{"$f":"INDEX(ess_base_estract,MATCH(A22,ESSbase!$B$8:$B$25,0),MATCH(year_previous,ESSbase!$F$6:$G$6,0))","v":198104835.02035335},0]
["Warm Greater Wellington rate",null,null,null,null,null,null,null,null,null,2868617.5894348058,{"$f":"INDEX(ess_base_estract,MATCH(A23,ESSbase!$B$8:$B$25,0),MATCH(year_previous,ESSbase!$F$6:$G$6,0))","v":2868617.5894348058},0]
["Total Rates & Levies",{"$f":"SUM(B22:B23)","v":102000577.25121869},39337115.377851903,15219907.407295983,16674576.297841102,13727318.552318601,4406800.8612012994,1853458.0447955148,3264930.1057902849,11530.469987004617,4477238.2382877795,{"$f":"INDEX(ess_base_estract,MATCH(A24,ESSbase!$B$8:$B$25,0),MATCH(year_previous,ESSbase!$F$6:$G$6,0))","v":200973452.60978815},0]
[]
[]
[{"$f":"year_current&\" rates\"","v":"2022/23 rates"}]
[null,"TA"]
[null,"Wellington city","Hutt city","Upper Hutt city","Porirua city","Kāpiti Coast district","Masterton District","Carterton District","South Wairarapa district","Tararua District","Other","Region wide"]
["General rate",{"$f":"IFERROR(INDEX(Gen!$D$10:$D$18,MATCH(B$29,Gen!$A$10:$A$18,0),),0)","v":34594985.806497797},{"$f":"IFERROR(INDEX(Gen!$D$10:$D$18,MATCH(C$29,Gen!$A$10:$A$18,0),),0)","v":12788945.415187581},{"$f":"IFERROR(INDEX(Gen!$D$10:$D$18,MATCH(D$29,Gen!$A$10:$A$18,0),),0)","v":5160803.7826726669},{"$f":"IFERROR(INDEX(Gen!$D$10:$D$18,MATCH(E$29,Gen!$A$10:$A$18,0),),0)","v":6152529.2906507477},{"$f":"IFERROR(INDEX(Gen!$D$10:$D$18,MATCH(F$29,Gen!$A$10:$A$18,0),),0)","v":7579832.3028752599},{"$f":"IFERROR(INDEX(Gen!$D$10:$D$18,MATCH(G$29,Gen!$A$10:$A$18,0),),0)","v":3262323.0898527848},{"$f":"IFERROR(INDEX(Gen!$D$10:$D$18,MATCH(H$29,Gen!$A$10:$A$18,0),),0)","v":1441408.7335680611},{"$f":"IFERROR(INDEX(Gen!$D$10:$D$18,MATCH(I$29,Gen!$A$10:$A$18,0),),0)","v":2350670.2227331935},{"$f":"IFERROR(INDEX(Gen!$D$10:$D$18,MATCH(J$29,Gen!$A$10:$A$18,0),),0)","v":6281.3559619099451},{"$f":"IFERROR(INDEX(Gen!$D$10:$D$18,MATCH(K$29,Gen!$A$10:$A$18,0),),0)","v":0},{"$f":"INDEX(ess_base_estract,MATCH(A30,ESSbase!$B$8:$B$25,0),MATCH(year_current,ESSbase!$F$6:$G$6,0))","v":73337780},{"$f":"ROUND(L30-SUM(B30:K30),-1)","v":0}]
["Remission of rates",{"$f":"IFERROR(INDEX(Remission!$D$10:$D$18,MATCH(B$29,Remission!$A$10:$A$18,0),),0)","v":0},{"$f":"IFERROR(INDEX(Remission!$D$10:$D$18,MATCH(C$29,Remission!$A$10:$A$18,0),),0)","v":0},{"$f":"IFERROR(INDEX(Remission!$D$10:$D$18,MATCH(D$29,Remission!$A$10:$A$18,0),),0)","v":0},{"$f":"IFERROR(INDEX(Remission!$D$10:$D$18,MATCH(E$29,Remission!$A$10:$A$18,0),),0)","v":0},{"$f":"IFERROR(INDEX(Remission!$D$10:$D$18,MATCH(F$29,Remission!$A$10:$A$18,0),),0)","v":0},{"$f":"IFERROR(INDEX(Remission!$D$10:$D$18,MATCH(G$29,Remission!$A$10:$A$18,0),),0)","v":0},{"$f":"IFERROR(INDEX(Remission!$D$10:$D$18,MATCH(H$29,Remission!$A$10:$A$18,0),),0)","v":0},{"$f":"IFERROR(INDEX(Remission!$D$10:$D$18,MATCH(I$29,Remission!$A$10:$A$18,0),),0)","v":0},{"$f":"IFERROR(INDEX(Remission!$D$10:$D$18,MATCH(J$29,Remission!$A$10:$A$18,0),),0)","v":0},0,{"$f":"INDEX(ess_base_estract,MATCH(A31,ESSbase!$B$8:$B$25,0),MATCH(year_current,ESSbase!$F$6:$G$6,0))","v":0},0]
["Public transport rate",{"$f":"IFERROR(INDEX('Public transport'!$I$10:$I$18,MATCH(B$29,'Public transport'!$A$10:$A$18,0),),0)","v":55813220.471912682},{"$f":"IFERROR(INDEX('Public transport'!$I$10:$I$18,MATCH(C$29,'Public transport'!$A$10:$A$18,0),),0)","v":14007552.982125834},{"$f":"IFERROR(INDEX('Public transport'!$I$10:$I$18,MATCH(D$29,'Public transport'!$A$10:$A$18,0),),0)","v":5363263.6366864722},{"$f":"IFERROR(INDEX('Public transport'!$I$10:$I$18,MATCH(E$29,'Public transport'!$A$10:$A$18,0),),0)","v":6593785.1245213319},{"$f":"IFERROR(INDEX('Public transport'!$I$10:$I$18,MATCH(F$29,'Public transport'!$A$10:$A$18,0),),0)","v":6324054.456405093},{"$f":"IFERROR(INDEX('Public transport'!$I$10:$I$18,MATCH(G$29,'Public transport'!$A$10:$A$18,0),),0)","v":1235093.9945854624},{"$f":"IFERROR(INDEX('Public transport'!$I$10:$I$18,MATCH(H$29,'Public transport'!$A$10:$A$18,0),),0)","v":489099.97683658905},{"$f":"IFERROR(INDEX('Public transport'!$I$10:$I$18,MATCH(I$29,'Public transport'!$A$10:$A$18,0),),0)","v":832409.27692654193},{"$f":"IFERROR(INDEX('Public transport'!$I$10:$I$18,MATCH(J$29,'Public transport'!$A$10:$A$18,0),),0)","v":0},{"$f":"IFERROR(INDEX('Public transport'!$I$10:$I$18,MATCH(K$29,'Public transport'!$A$10:$A$18,0),),0)","v":0},{"$f":"INDEX(ess_base_estract,MATCH(A32,ESSbase!$B$8:$B$25,0),MATCH(year_current,ESSbase!$F$6:$G$6,0))","v":90658479.920000002},0]
["River management rate",{"$f":"IFERROR(INDEX('River management'!$C$10:$C$18,MATCH(B$29,'River management'!$A$10:$A$18,0),),0)","v":55131.48},{"$f":"IFERROR(INDEX('River management'!$C$10:$C$18,MATCH(C$29,'River management'!$A$10:$A$18,0),),0)","v":5098043.33},{"$f":"IFERROR(INDEX('River management'!$C$10:$C$18,MATCH(D$29,'River management'!$A$10:$A$18,0),),0)","v":1136721.52},{"$f":"IFERROR(INDEX('River management'!$C$10:$C$18,MATCH(E$29,'River management'!$A$10:$A$18,0),),0)","v":45883.360000000001},{"$f":"IFERROR(INDEX('River management'!$C$10:$C$18,MATCH(F$29,'River management'!$A$10:$A$18,0),),0)","v":1513486.5599999998},{"$f":"IFERROR(INDEX('River management'!$C$10:$C$18,MATCH(G$29,'River management'!$A$10:$A$18,0),),0)","v":0},{"$f":"IFERROR(INDEX('River management'!$C$10:$C$18,MATCH(H$29,'River management'!$A$10:$A$18,0),),0)","v":25282.959999999999},{"$f":"IFERROR(INDEX('River management'!$C$10:$C$18,MATCH(I$29,'River management'!$A$10:$A$18,0),),0)","v":0},{"$f":"IFERROR(INDEX('River management'!$C$10:$C$18,MATCH(J$29,'River management'!$A$10:$A$18,0),),0)","v":0},{"$f":"IFERROR(INDEX('River management'!$C$10:$C$18,MATCH(K$29,'River management'!$A$10:$A$18,0),),0)","v":0},{"$f":"INDEX(ess_base_estract,MATCH(A33,ESSbase!$B$8:$B$25,0),MATCH(year_current,ESSbase!$F$6:$G$6,0))","v":7874549.21},0]
["Stadium purposes rate",{"$f":"IFERROR(INDEX(Stadium!$I$10:$I$18,MATCH(B$29,Stadium!$A$10:$A$18,0),),0)","v":0},{"$f":"IFERROR(INDEX(Stadium!$I$10:$I$18,MATCH(C$29,Stadium!$A$10:$A$18,0),),0)","v":0},{"$f":"IFERROR(INDEX(Stadium!$I$10:$I$18,MATCH(D$29,Stadium!$A$10:$A$18,0),),0)","v":0},{"$f":"IFERROR(INDEX(Stadium!$I$10:$I$18,MATCH(E$29,Stadium!$A$10:$A$18,0),),0)","v":0},{"$f":"IFERROR(INDEX(Stadium!$I$10:$I$18,MATCH(F$29,Stadium!$A$10:$A$18,0),),0)","v":0},{"$f":"IFERROR(INDEX(Stadium!$I$10:$I$18,MATCH(G$29,Stadium!$A$10:$A$18,0),),0)","v":0},{"$f":"IFERROR(INDEX(Stadium!$I$10:$I$18,MATCH(H$29,Stadium!$A$10:$A$18,0),),0)","v":0},{"$f":"IFERROR(INDEX(Stadium!$I$10:$I$18,MATCH(I$29,Stadium!$A$10:$A$18,0),),0)","v":0},{"$f":"IFERROR(INDEX(Stadium!$I$10:$I$18,MATCH(J$29,Stadium!$A$10:$A$18,0),),0)","v":0},{"$f":"IFERROR(INDEX(Stadium!$I$10:$I$18,MATCH(K$29,Stadium!$A$10:$A$18,0),),0)","v":0},{"$f":"INDEX(ess_base_estract,MATCH(A34,ESSbase!$B$8:$B$25,0),MATCH(year_current,ESSbase!$F$6:$G$6,0))","v":0},0]
["Economic development rate",{"$f":"IFERROR(INDEX('Economic Development'!$K$10:$K$18,MATCH(B$29,'Economic Development'!$A$10:$A$18,0),),0)","v":2084395.6780524543},{"$f":"IFERROR(INDEX('Economic Development'!$K$10:$K$18,MATCH(C$29,'Economic Development'!$A$10:$A$18,0),),0)","v":919729.26249599003},{"$f":"IFERROR(INDEX('Economic Development'!$K$10:$K$18,MATCH(D$29,'Economic Development'!$A$10:$A$18,0),),0)","v":353972.12124184187},{"$f":"IFERROR(INDEX('Economic Development'!$K$10:$K$18,MATCH(E$29,'Economic Development'!$A$10:$A$18,0),),0)","v":381115.59458930936},{"$f":"IFERROR(INDEX('Economic Development'!$K$10:$K$18,MATCH(F$29,'Economic Development'!$A$10:$A$18,0),),0)","v":469433.28580084693},{"$f":"IFERROR(INDEX('Economic Development'!$K$10:$K$18,MATCH(G$29,'Economic Development'!$A$10:$A$18,0),),0)","v":223844.98387138528},{"$f":"IFERROR(INDEX('Economic Development'!$K$10:$K$18,MATCH(H$29,'Economic Development'!$A$10:$A$18,0),),0)","v":74067.947186637903},{"$f":"IFERROR(INDEX('Economic Development'!$K$10:$K$18,MATCH(I$29,'Economic Development'!$A$10:$A$18,0),),0)","v":113929.41676153464},{"$f":"IFERROR(INDEX('Economic Development'!$K$10:$K$18,MATCH(J$29,'Economic Development'!$A$10:$A$18,0),),0)","v":135},{"$f":"IFERROR(INDEX('Economic Development'!$K$10:$K$18,MATCH(K$29,'Economic Development'!$A$10:$A$18,0),),0)","v":0},{"$f":"INDEX(ess_base_estract,MATCH(A35,ESSbase!$B$8:$B$25,0),MATCH(year_current,ESSbase!$F$6:$G$6,0))","v":4620623.29},0]
["District-Wide Rates",{"$f":"SUM(B30:B35)","v":92547733.436462939},32814270.989809405,12014761.060600981,13173313.369761389,15886806.605081201,4721262.0683096331,2029859.6175912882,{"$f":"SUM(I30:I35)","v":3297008.9164212705},6416.3559619099451,0,{"$f":"INDEX(ess_base_estract,MATCH(A36,ESSbase!$B$8:$B$25,0),MATCH(year_current,ESSbase!$F$6:$G$6,0))","v":176491432.42000002},0]
["Rates Penalties",0,0,0,0,0,0,0,0,0,0,{"$f":"INDEX(ess_base_estract,MATCH(A37,ESSbase!$B$8:$B$25,0),MATCH(year_current,ESSbase!$F$6:$G$6,0))","v":0},0]
["Remission of Rates Penalties",0,0,0,0,0,0,0,0,0,0,{"$f":"INDEX(ess_base_estract,MATCH(A38,ESSbase!$B$8:$B$25,0),MATCH(year_current,ESSbase!$F$6:$G$6,0))","v":0},0]
["Pest management rate",{"$f":"IFERROR(INDEX(#REF!,MATCH(B$29,#REF!,0),),0)","v":0},{"$f":"IFERROR(INDEX(#REF!,MATCH(C$29,#REF!,0),),0)","v":0},{"$f":"IFERROR(INDEX(#REF!,MATCH(D$29,#REF!,0),),0)","v":0},{"$f":"IFERROR(INDEX(#REF!,MATCH(E$29,#REF!,0),),0)","v":0},{"$f":"IFERROR(INDEX(#REF!,MATCH(F$29,#REF!,0),),0)","v":0},{"$f":"IFERROR(INDEX(#REF!,MATCH(G$29,#REF!,0),),0)","v":0},{"$f":"IFERROR(INDEX(#REF!,MATCH(H$29,#REF!,0),),0)","v":0},{"$f":"IFERROR(INDEX(#REF!,MATCH(I$29,#REF!,0),),0)","v":0},{"$f":"IFERROR(INDEX(#REF!,MATCH(J$29,#REF!,0),),0)","v":0},{"$f":"IFERROR(INDEX(#REF!,MATCH(K$29,#REF!,0),),0)","v":0},{"$f":"INDEX(ess_base_estract,MATCH(A39,ESSbase!$B$8:$B$25,0),MATCH(year_current,ESSbase!$F$6:$G$6,0))","v":0},0]
["River management rate - Non district wide",0,0,0,0,0,0,0,{"$f":"'River management'!C31","v":101498.37},0,0,{"$f":"INDEX(ess_base_estract,MATCH(A40,ESSbase!$B$8:$B$25,0),MATCH(year_current,ESSbase!$F$6:$G$6,0))","v":101498.37},0]
["Special Rates",0,0,0,0,0,0,0,0,0,{"$f":"'Class Rates'!B91","v":1680741.4580210091},{"$f":"INDEX(ess_base_estract,MATCH(A41,ESSbase!$B$8:$B$25,0),MATCH(year_current,ESSbase!$F$6:$G$6,0))","v":1680741.46},0]
["Total Other Rates",{"$f":"SUM(B37:B41)","v":0},0,0,0,0,0,0,101498.37,0,1680741.4580210091,{"$f":"INDEX(ess_base_estract,MATCH(A42,ESSbase!$B$8:$B$25,0),MATCH(year_current,ESSbase!$F$6:$G$6,0))","v":1782239.83},0]
["Total Regnl Rates",{"$f":"SUM(B42,B36)","v":92547733.436462939},32814270.989809405,12014761.060600981,13173313.369761389,15886806.605081201,4721262.0683096331,2029859.6175912882,{"$f":"SUM(I42,I36)","v":3398507.2864212706},6416.3559619099451,1680741.4580210091,{"$f":"INDEX(ess_base_estract,MATCH(A43,ESSbase!$B$8:$B$25,0),MATCH(year_current,ESSbase!$F$6:$G$6,0))","v":178273672.25000003},0]
["Bulk Water Levies",{"$f":"IFERROR(INDEX('Water levy'!$C$10:$C$18,MATCH('Comparison - TA'!B29,'Water levy'!$A$10:$A$18,0),),0)","v":21455074.23},{"$f":"IFERROR(INDEX('Water levy'!$C$10:$C$18,MATCH('Comparison - TA'!C29,'Water levy'!$A$10:$A$18,0),),0)","v":11093535.440099999},{"$f":"IFERROR(INDEX('Water levy'!$C$10:$C$18,MATCH('Comparison - TA'!D29,'Water levy'!$A$10:$A$18,0),),0)","v":4572875.6250999998},{"$f":"IFERROR(INDEX('Water levy'!$C$10:$C$18,MATCH('Comparison - TA'!E29,'Water levy'!$A$10:$A$18,0),),0)","v":4947287.7047999995},{"$f":"IFERROR(INDEX('Water levy'!$C$10:$C$18,MATCH('Comparison - TA'!F29,'Water levy'!$A$10:$A$18,0),),0)","v":0},{"$f":"IFERROR(INDEX('Water levy'!$C$10:$C$18,MATCH('Comparison - TA'!G29,'Water levy'!$A$10:$A$18,0),),0)","v":0},{"$f":"IFERROR(INDEX('Water levy'!$C$10:$C$18,MATCH('Comparison - TA'!H29,'Water levy'!$A$10:$A$18,0),),0)","v":0},{"$f":"IFERROR(INDEX('Water levy'!$C$10:$C$18,MATCH('Comparison - TA'!I29,'Water levy'!$A$10:$A$18,0),),0)","v":0},{"$f":"IFERROR(INDEX('Water levy'!$C$10:$C$18,MATCH('Comparison - TA'!J29,'Water levy'!$A$10:$A$18,0),),0)","v":0},{"$f":"IFERROR(INDEX('Water levy'!$C$10:$C$18,MATCH('Comparison - TA'!K29,'Water levy'!$A$10:$A$18,0),),0)","v":0},{"$f":"INDEX(ess_base_estract,MATCH(A44,ESSbase!$B$8:$B$25,0),MATCH(year_current,ESSbase!$F$6:$G$6,0))","v":42068773},{"$f":"ROUND(L44-SUM(B44:K44),-1)","v":0}]
["Total Regnl Rates & levies",{"$f":"SUM(B43:B44)","v":114002807.66646294},43907806.429909408,16587636.685700981,18120601.074561387,15886806.605081201,4721262.0683096331,2029859.6175912882,3398507.2864212706,6416.3559619099451,1680741.4580210091,{"$f":"INDEX(ess_base_estract,MATCH(A45,ESSbase!$B$8:$B$25,0),MATCH(year_current,ESSbase!$F$6:$G$6,0))","v":220342445.25000003},{"$f":"ROUND(L45-SUM(B45:K45),-1)","v":0}]
["Warm Greater Wellington rate",null,null,null,null,null,null,null,null,null,{"$f":"L46","v":1937525.05},{"$f":"INDEX(ess_base_estract,MATCH(A46,ESSbase!$B$8:$B$25,0),MATCH(year_current,ESSbase!$F$6:$G$6,0))","v":1937525.05},{"$f":"ROUND(L46-SUM(B46:K46),-1)","v":0}]
["Total Rates & Levies",{"$f":"SUM(B45:B46)","v":114002807.66646294},{"$f":"SUM(C45:C46)","v":43907806.429909408},16587636.685700981,18120601.074561387,15886806.605081201,4721262.0683096331,2029859.6175912882,3398507.2864212706,6416.3559619099451,3618266.5080210092,{"$f":"INDEX(ess_base_estract,MATCH(A47,ESSbase!$B$8:$B$25,0),MATCH(year_current,ESSbase!$F$6:$G$6,0))","v":222279970.30000004},{"$f":"ROUND(L47-SUM(B47:K47),-1)","v":0}]
[]
[]
["Delta"]
[null,"TA"]
[null,"Wellington city","Hutt city","Upper Hutt city","Porirua city","Kāpiti Coast district","Masterton District","Carterton District","South Wairarapa District","Tararua District","Other","Region wide"]
["General rate",{"$f":"B30-B7","v":5026597.1011687517},1843884.4584750552,737124.17726325337,841610.06278737821,969265.75385623705,341499.59269967536,202776.89300227142,261131.16828070139,875.28048747880348,0,10224764.4880208,{"$f":"ROUND(L53-SUM(B53:K53),-1)","v":0}]
["Remission of rates",{"$f":"B31-B8","v":0},0,0,0,0,0,0,0,0,0,0,0]
["Public transport rate",{"$f":"B32-B9","v":5622085.651474148},1187831.3421593569,320024.93909110408,290427.28362651635,1000383.7467407053,238456.97772488906,88259.063878338318,100680.08659821749,0,0,8848149.0912932754,0]
["River management rate",{"$f":"B33-B10","v":-1756.7649999999849},791577.03526633792,66755.783775682095,-10487.875950248301,231947.66902741953,0,373.63999999999942,0,0,0,1078409.4871191913,{"$f":"ROUND(L56-SUM(B56:K56),-1)","v":0}]
["Stadium purposes rate",{"$f":"B34-B11","v":0},0,0,0,0,0,0,0,0,0,0,{"$f":"ROUND(L57-SUM(B57:K57),-1)","v":0}]
["Economic development rate",{"$f":"B35-B12","v":-29089.341882507782},39018.128926808131,5082.029758086137,15104.473159626417,-9992.3046711019124,-36882.780661166587,-19967.542870623118,-33334.003946485871,-117,0,-70178.342187364586,{"$f":"ROUND(L58-SUM(B58:K58),-1)","v":0}]
["District-Wide Rates",{"$f":"B36-B13","v":10617836.645760387},3862310.9648275599,1128986.9298881255,1136653.9436232708,2191604.8649532609,543073.78976339847,271442.05400998681,328477.25093243318,758.28048747880348,0,20081144.724245906,0]
["Rates Penalties",{"$f":"B37-B14","v":0},0,0,0,0,0,0,0,0,0,0,0]
["Remission of Rates Penalties",{"$f":"B38-B15","v":0},0,0,0,0,0,0,0,0,0,0,0]
["Pest management rate",{"$f":"B39-B16","v":-17925.01091753933},-16701.211577610844,-60144.02683534762,-13987.379795541068,-32116.812190661491,-228612.58265506488,-95040.48121421352,-196400.04030144765,-5872.3945125734745,0,-666799.93999999994,0]
["River management rate - Non district wide",{"$f":"B40-B17","v":0},0,0,0,0,0,0,1499.9700000000012,0,0,1499.9700000000012,{"$f":"ROUND(L63-SUM(B63:K63),-1)","v":0}]
["Special Rates",{"$f":"B41-B18","v":0},0,0,0,0,0,0,0,0,72120.809168035397,72120.807947026566,0]
["Total Other Rates",{"$f":"B42-B19","v":-17925.01091753933},-16701.211577610844,-60144.02683534762,-13987.379795541068,-32116.812190661491,-228612.58265506488,-95040.48121421352,-194900.07030144765,-5872.3945125734745,72120.809168035397,-593179.16205297317,0]
["Total Regnl Rates",{"$f":"B43-B20","v":10599911.634842843},3845609.7532499507,1068842.9030527771,1122666.5638277289,2159488.0527625997,314461.20710833371,176401.57279577339,133577.18063098565,-5114.1140250946719,72120.809168035397,19487965.562192947,0]
["Bulk Water Levies",{"$f":"B44-B21","v":1402318.7804014012},725081.29880754836,298886.37535221968,323358.21289255843,0,0,0,0,0,0,2749644.6674537286,0]
["Total Regnl Rates & levies",{"$f":"B45-B22","v":12002230.415244251},4570691.0520575047,1367729.2784049977,1446024.7767202854,2159488.0527625997,314461.20710833371,176401.57279577339,133577.18063098565,-5114.1140250946719,72120.809168035397,22237610.229646683,0]
["Warm Greater Wellington rate",{"$f":"B46-B23","v":0},0,0,0,0,0,0,0,0,-931092.53943480575,-931092.53943480575,0]
["Total Rates & Levies",{"$f":"B47-B24","v":12002230.415244251},4570691.0520575047,1367729.2784049977,1446024.7767202854,2159488.0527625997,314461.20710833371,176401.57279577339,133577.18063098565,-5114.1140250946719,-858971.73026677035,21306517.690211892,0]

{"sheet":"Comparison - Category","index":19,"n_rows":179,"n_cols":32,"rows_kept":179,"cut":false,"hidden":false,"merged":[[1,0,1,3],[5,25,5,31],[64,25,64,31],[123,25,123,31],[64,9,64,14],[64,17,64,22],[5,9,5,14],[5,17,5,22],[123,9,123,14],[123,17,123,22]]}
["Comparison of proposed vs current"]
[{"$f":"check_total","v":0}]
[]
[]
[{"$f":"year_previous&\" rates\"","v":"2021/22 rates"}]
[null,null,null,null,null,null,null,null,null,"Rates",null,null,null,null,null,null,null,"Rates for average property",null,null,null,null,null,null,null,"Cents/$ OR Economic Development Rate $/property"]
[{"$f":"Control!A$66","v":"TA full name"},{"$f":"Control!B$66","v":"Rating area"},{"$f":"Control!C$66","v":"Category group"},{"$f":"Control!D$66","v":"Concatenated  name"},null,"CV","CV Assessments","Average CV",null,"General rate","River management rate","Public transport rate","Stadium purposes rate","Remission of rates","Economic development rate","District-Wide rates",null,"General rate","River management rate","Public transport rate","Stadium purposes rate","Remission of rates","Economic development rate","District-Wide rates",null,"General rate","River management rate","Public transport rate","Stadium purposes rate","Remission of rates","Economic development rate","District-Wide rates"]
[]
["By TA"]
[{"$f":"Control!A42","v":"Wellington city"},null,{"$f":"Control!B42","v":"District wide"},{"$f":"Control!C42","v":"Wellington cityDistrict wide"},null,74139924400,79344,934411.22706190764,null,29568388.705329046,56888.244999999988,50191134.820438534,0,0,2113485.019934962,81929896.790702552,null,{"$f":"J10/$F10*$H10","v":372.66067636278797},0.71698231750352881,632.5763110057286,0,0,26.636986034671331,{"$f":"IF('Comparison - Category'!C10=\"Residential\",SUM(R10:U10,Control!$B$103),IF('Comparison - Category'!C10=\"Rural\",SUM(R10:U10,Control!$B$104),P10/$F10*$H10))","v":1032.5909557206915}]
[{"$f":"Control!A43","v":"Hutt city"},null,{"$f":"Control!B43","v":"District wide"},{"$f":"Control!C43","v":"Hutt cityDistrict wide"},null,28871779500,40078,720389.7275313139,null,10945060.956712525,4306466.2947336622,12819721.639966477,0,0,880711.1335691819,28951960.024981845,null,{"$f":"J11/$F11*$H11","v":273.09399063607276},{"$f":"K11/$F11*$H11","v":107.45212572318135},{"$f":"L11/$F11*$H11","v":319.86929587221107},{"$f":"M11/$F11*$H11","v":0},{"$f":"N11/$F11*$H11","v":0},{"$f":"O11/$F11*$H11","v":21.974927231128845},{"$f":"IF('Comparison - Category'!C11=\"Residential\",SUM(R11:U11,Control!$B$103),IF('Comparison - Category'!C11=\"Rural\",SUM(R11:U11,Control!$B$104),P11/$F11*$H11))","v":722.39033946259406}]
[{"$f":"Control!A44","v":"Upper Hutt city"},null,{"$f":"Control!B44","v":"District wide"},{"$f":"Control!C44","v":"Upper Hutt cityDistrict wide"},null,11543431800,17323,666364.47497546615,null,4423679.6054094136,1069965.7362243179,5043238.6975953681,0,0,348890.09148375574,10885774.130712854,null,255.3645214691112,61.765614282994747,291.12963676010901,0,0,20.140281214787031,{"$f":"IF('Comparison - Category'!C12=\"Residential\",SUM(R12:U12,Control!$B$103),IF('Comparison - Category'!C12=\"Rural\",SUM(R12:U12,Control!$B$104),P12/$F12*$H12))","v":628.40005372700193}]
[{"$f":"Control!A45","v":"Porirua city"},null,{"$f":"Control!B45","v":"District wide"},{"$f":"Control!C45","v":"Porirua cityDistrict wide"},null,14451701650,19397,745048.28839511261,null,5310919.2278633695,56371.235950248301,6303357.8408948155,0,0,366011.12142968294,12036659.426138116,null,273.80106345637824,2.9061832216450125,324.96560503659407,0,0,18.869470610387324,{"$f":"IF('Comparison - Category'!C13=\"Residential\",SUM(R13:U13,Control!$B$103),IF('Comparison - Category'!C13=\"Rural\",SUM(R13:U13,Control!$B$104),P13/$F13*$H13))","v":620.54232232500476}]
[{"$f":"Control!A46","v":"Kāpiti Coast district"},null,{"$f":"Control!B46","v":"District wide"},{"$f":"Control!C46","v":"Kāpiti Coast districtDistrict wide"},null,19628808150,25477,770452.09993327316,null,6610566.5490190228,1281538.8909725803,5323670.7096643876,0,0,479425.59047194885,13695201.74012794,null,{"$f":"J14/$F14*$H14","v":259.47193739525937},50.301797345550121,208.95987399083046,0,0,18.817976624875332,{"$f":"IF('Comparison - Category'!C14=\"Residential\",SUM(R14:U14,Control!$B$103),IF('Comparison - Category'!C14=\"Rural\",SUM(R14:U14,Control!$B$104),P14/$F14*$H14))","v":537.55158535651526}]
[{"$f":"Control!A47","v":"Masterton district"},null,{"$f":"Control!B47","v":"District wide"},{"$f":"Control!C47","v":"Masterton districtDistrict wide"},null,8640582655,12869,671426.11352863465,null,2920823.4971531094,0,996637.01686057332,0,0,260727.76453255187,4178188.2785462346,null,226.96584794102955,0,77.444791115127302,0,0,20.260141777337154,{"$f":"IF('Comparison - Category'!C15=\"Residential\",SUM(R15:U15,Control!$B$103),IF('Comparison - Category'!C15=\"Rural\",SUM(R15:U15,Control!$B$104),P15/$F15*$H15))","v":324.67078083349401}]
[{"$f":"Control!A48","v":"Carterton district"},null,{"$f":"Control!B48","v":"District wide"},{"$f":"Control!C48","v":"Carterton districtDistrict wide"},null,3665691300,4919,745210.67290099617,null,1238631.8405657897,24909.32,400840.91295825073,0,0,94035.49005726102,1758417.5635813016,null,251.80561914327907,5.0638991664972561,81.488292937233325,0,0,19.116790009607854,{"$f":"IF('Comparison - Category'!C16=\"Residential\",SUM(R16:U16,Control!$B$103),IF('Comparison - Category'!C16=\"Rural\",SUM(R16:U16,Control!$B$104),P16/$F16*$H16))","v":357.47460125661758}]
[{"$f":"Control!A49","v":"South Wairarapa district"},null,{"$f":"Control!B49","v":"District wide"},{"$f":"Control!C49","v":"South Wairarapa districtDistrict wide"},null,6252191400,7023,890245.10892780859,null,2089539.0544524922,0,731729.19032832445,0,0,147263.42070802051,2968531.6654888373,null,297.52798724939368,0,104.19040158455424,0,0,20.968734260005768,{"$f":"IF('Comparison - Category'!C17=\"Residential\",SUM(R17:U17,Control!$B$103),IF('Comparison - Category'!C17=\"Rural\",SUM(R17:U17,Control!$B$104),P17/$F17*$H17))","v":422.68712309395374}]
[{"$f":"Control!A50","v":"Tararua district"},null,{"$f":"Control!B50","v":"District wide"},{"$f":"Control!C50","v":"Tararua districtDistrict wide"},null,15976500,10,1597650,null,5406.0754744311416,0,0,0,0,252,5658.0754744311416,null,540.60754744311419,0,0,0,0,25.2,{"$f":"IF('Comparison - Category'!C18=\"Residential\",SUM(R18:U18,Control!$B$103),IF('Comparison - Category'!C18=\"Rural\",SUM(R18:U18,Control!$B$104),P18/$F18*$H18))","v":565.80754744311412}]
[{"$f":"Control!A51","v":"Region wide"},null,{"$f":"Control!B51","v":0},{"$f":"Control!C51","v":"Region wide"},null,167210087355,206440,809969.42140573531,null,63113015.5119792,6796139.7228808086,81810330.828706726,0,0,4690801.6321873646,156410287.69575411,null,305.720865684844,32.920653569467198,396.29108132487278,0,{"$f":"N19/$F19*$H19","v":0},{"$f":"O19/$F19*$H19","v":22.72234853801281},{"$f":"IF('Comparison - Category'!C19=\"Residential\",SUM(R19:U19,Control!$B$103),IF('Comparison - Category'!C19=\"Rural\",SUM(R19:U19,Control!$B$104),P19/$F19*$H19))","v":757.65494911719679}]
[]
["By TA & Category"]
[{"$f":"Control!A67","v":"Wellington city"},{"$f":"Control!B67","v":"Wellington city"},{"$f":"Control!C67","v":"Wellington CBD"},{"$f":"Control!D67","v":"Wellington cityWellington CBD"},null,9896987150,3276,3021058.3485958488,null,6033820.6426463025,7594.0491483836959,27237587.729153674,0,0,725587.72821206274,34004590.149160422,null,1841.8255929933769,2.3180858206299439,8314.2819686061284,0,0,221.4858755226077,10379.911522942743,null,{"$f":"J22/$F22*100","v":6.0966237009273096E-2},{"$f":"K22/$F22*100","v":7.6730918544071227E-5},{"$f":"L22/$F22*100","v":0.27521090324092895},{"$f":"M22/$F22*100","v":0},{"$f":"N22/$F22*100","v":0},{"$f":"IF(OR('Comparison - Category'!C22=\"Residential\",'Comparison - Category'!C22=\"Rural\"),W22,O22/$F22*100)","v":7.3314001242495578E-3},{"$f":"P22/$F22*100","v":0.34358527129299571}]
[{"$f":"Control!A68","v":"Wellington city"},{"$f":"Control!B68","v":"Wellington city"},{"$f":"Control!C68","v":"Business"},{"$f":"Control!D68","v":"Wellington cityBusiness"},null,4605086150,1885,2443016.5251989388,null,2146948.2692336896,3533.5249026408055,2114617.9796148106,0,0,337617.29172289919,4602717.0654740408,null,1138.9645990629654,1.8745490199685968,1121.8132517850452,0,0,179.10731656387222,2441.7597164318518,null,4.6621240065914719E-2,7.6730918544071227E-5,4.5919183935675352E-2,{"$f":"M23/$F23*100","v":0},{"$f":"N23/$F23*100","v":0},{"$f":"IF(OR('Comparison - Category'!C23=\"Residential\",'Comparison - Category'!C23=\"Rural\"),W23,O23/$F23*100)","v":7.3314001242495578E-3},{"$f":"P23/$F23*100","v":9.9948555044383727E-2}]
[{"$f":"Control!A69","v":"Wellington city"},{"$f":"Control!B69","v":"Wellington city"},{"$f":"Control!C69","v":"Residential"},{"$f":"Control!D69","v":"Wellington cityResidential"},null,58819065000,73346,801939.64224361244,null,21093982.690904941,45132.408853534311,20766169.351922758,0,0,1026844,42932128.451681234,null,287.59554291856324,0.61533565366256249,283.12613301233546,0,0,14,585.3370115845612,null,3.5862492358395941E-2,7.6730918544071227E-5,3.5305167383947296E-2,0,0,{"$f":"IF(OR('Comparison - Category'!C24=\"Residential\",'Comparison - Category'!C24=\"Rural\"),W24,O24/$F24*100)","v":14},7.2990157955896168E-2]
[{"$f":"Control!A70","v":"Wellington city"},{"$f":"Control!B70","v":"Wellington city"},{"$f":"Control!C70","v":"Rural"},{"$f":"Control!D70","v":"Wellington cityRural"},null,818786100,837,978239.06810035848,null,293637.10254410811,628.26209544117751,72759.759747297838,0,0,23436,390461.12438684714,null,350.82091104433465,0.75061182251036751,86.929223115051187,0,0,28,466.50074598189622,null,3.5862492358395934E-2,7.6730918544071227E-5,8.8862964023568355E-3,0,0,{"$f":"IF(OR('Comparison - Category'!C25=\"Residential\",'Comparison - Category'!C25=\"Rural\"),W25,O25/$F25*100)","v":28},4.7687805690258683E-2]
[{"$f":"Control!A71","v":"Hutt city"},{"$f":"Control!B71","v":"Hutt city"},{"$f":"Control!C71","v":"Business"},{"$f":"Control!D71","v":"Hutt cityBusiness"},null,4972573500,2388,2082317.2110552764,null,1885062.888805775,741700.7384610913,2646591.0592143741,0,0,346527.13356918184,5619881.8200504221,null,789.38981943290412,310.59494910430959,1108.2877132388503,0,0,145.11186497871938,2353.3843467547831,null,3.7909201117002592E-2,1.4915832585704189E-2,5.322376952727545E-2,0,0,{"$f":"IF(OR('Comparison - Category'!C26=\"Residential\",'Comparison - Category'!C26=\"Rural\"),W26,O26/$F26*100)","v":6.9687684570008237E-3},0.11301757168698304]
[{"$f":"Control!A72","v":"Hutt city"},{"$f":"Control!B72","v":"Hutt city"},{"$f":"Control!C72","v":"Residential"},{"$f":"Control!D72","v":"Hutt cityResidential"},null,23478516000,37205,631058.08359091519,null,8900517.8497276325,3502016.1401677723,10127399.6692634,0,0,520604,23050537.659158804,null,239.22907807358237,94.127567266974125,272.20533985387448,0,0,14,619.56198519443092,null,3.7909201117002592E-2,1.491583258570419E-2,4.3134752082556668E-2,0,0,{"$f":"IF(OR('Comparison - Category'!C27=\"Residential\",'Comparison - Category'!C27=\"Rural\"),W27,O27/$F27*100)","v":14},9.8177149097322863E-2]
[{"$f":"Control!A73","v":"Hutt city"},{"$f":"Control!B73","v":"Hutt city"},{"$f":"Control!C73","v":"Rural"},{"$f":"Control!D73","v":"Hutt cityRural"},null,420690000,485,867402.06185567006,null,159480.21817911821,62749.416104798955,45730.911488702972,0,0,13580,281540.54577262013,null,328.82519212189322,129.38023939133802,94.290539151964893,0,0,28,580.49597066519618,null,3.7909201117002592E-2,1.4915832585704189E-2,1.0870453656778857E-2,0,0,{"$f":"IF(OR('Comparison - Category'!C28=\"Residential\",'Comparison - Category'!C28=\"Rural\"),W28,O28/$F28*100)","v":28},6.6923517500444535E-2]
[{"$f":"Control!A74","v":"Upper Hutt city"},{"$f":"Control!B74","v":"Upper Hutt city"},{"$f":"Control!C74","v":"Business"},{"$f":"Control!D74","v":"Upper Hutt cityBusiness"},null,1426045700,748,1906478.2085561496,null,546489.93373632536,132180.79889292739,799340.488463438,0,0,100460.09148375571,1578471.3125764464,null,730.60151569027448,176.71229798519704,1068.6370166623503,0,0,134.30493513871082,2110.2557654765328,null,3.8322049127620897E-2,9.2690436844294257E-3,5.6052936344426971E-2,0,0,{"$f":"IF(OR('Comparison - Category'!C29=\"Residential\",'Comparison - Category'!C29=\"Rural\"),W29,O29/$F29*100)","v":7.0446614357278807E-3},0.11068869059220518]
[{"$f":"Control!A75","v":"Upper Hutt city"},{"$f":"Control!B75","v":"Upper Hutt city"},{"$f":"Control!C75","v":"Residential"},{"$f":"Control!D75","v":"Upper Hutt cityResidential"},null,8964529100,15249,587876.52305069182,null,3435391.2457618713,830926.11838238791,4110599.2098704916,0,0,212814,8589730.5740147512,null,225.28632997323572,54.490531732073435,269.5651655761356,0,0,14,563.34202728144476,null,3.8322049127620897E-2,9.269043684429424E-3,4.5854045025861892E-2,0,0,{"$f":"IF(OR('Comparison - Category'!C30=\"Residential\",'Comparison - Category'!C30=\"Rural\"),W30,O30/$F30*100)","v":14},9.581909410071246E-2]
[{"$f":"Control!A76","v":"Upper Hutt city"},{"$f":"Control!B76","v":"Upper Hutt city"},{"$f":"Control!C76","v":"Rural"},{"$f":"Control!D76","v":"Upper Hutt cityRural"},null,1152857000,1326,869424.58521870291,null,441798.42591121647,106858.81894900254,133298.99926143922,0,0,35616,717572.24412165827,null,333.18131667512557,80.587344607090913,100.52714876428298,0,0,28,542.29581004649947,null,3.8322049127620897E-2,9.2690436844294257E-3,1.1562492075030921E-2,0,0,{"$f":"IF(OR('Comparison - Category'!C31=\"Residential\",'Comparison - Category'!C31=\"Rural\"),W31,O31/$F31*100)","v":28},6.2242953299642391E-2]
[{"$f":"Control!A77","v":"Porirua city"},{"$f":"Control!B77","v":"Porirua city"},{"$f":"Control!C77","v":"Business"},{"$f":"Control!D77","v":"Porirua cityBusiness"},null,1434625000,803,1786581.5691158157,null,527216.63384695502,5595.9904469190978,780098.45915109571,0,0,96917.121429682971,1409828.2048746527,null,656.55869719421548,6.968854852950308,971.48002384943413,0,0,120.69380003696509,1755.701375933565,null,3.6749438623121376E-2,3.9006642480920783E-4,5.4376471841149826E-2,0,0,{"$f":"IF(OR('Comparison - Category'!C32=\"Residential\",'Comparison - Category'!C32=\"Rural\"),W32,O32/$F32*100)","v":6.7555717647247862E-3},9.8271548653805191E-2]
[{"$f":"Control!A78","v":"Porirua city"},{"$f":"Control!B78","v":"Porirua city"},{"$f":"Control!C78","v":"Residential"},{"$f":"Control!D78","v":"Porirua cityResidential"},null,12171960950,17967,677462.066566483,null,4473127.3185505522,47478.732906837889,5428221.0195456594,0,0,251538,10200365.07100305,null,248.9635063477794,2.6425520624944556,302.12172424698946,0,0,14,567.72778265726333,null,3.6749438623121383E-2,3.9006642480920783E-4,4.4596109384869985E-2,0,0,{"$f":"IF(OR('Comparison - Category'!C33=\"Residential\",'Comparison - Category'!C33=\"Rural\"),W33,O33/$F33*100)","v":14},8.3802150803014605E-2]
[{"$f":"Control!A79","v":"Porirua city"},{"$f":"Control!B79","v":"Porirua city"},{"$f":"Control!C79","v":"Rural"},{"$f":"Control!D79","v":"Porirua cityRural"},null,845115700,627,1347871.9298245613,null,310575.27546586259,3296.5125964913104,95038.36219806,0,0,17556,426466.15026041388,null,495.33536756915885,5.2575958476735405,151.57633524411483,0,0,28,680.16929866094722,null,3.6749438623121376E-2,3.9006642480920783E-4,1.1245603672734987E-2,0,0,{"$f":"IF(OR('Comparison - Category'!C34=\"Residential\",'Comparison - Category'!C34=\"Rural\"),W34,O34/$F34*100)","v":28},5.0462457419784515E-2]
[{"$f":"Control!A80","v":"Kāpiti Coast district"},{"$f":"Control!B80","v":"Kāpiti Coast district"},{"$f":"Control!C80","v":"Business"},{"$f":"Control!D80","v":"Kāpiti Coast districtBusiness"},null,1763120000,1309,1346921.3139801375,null,593781.44637408468,115111.77001603003,692152.94396877103,0,0,109153.59047194883,1510199.7508308345,null,453.61455032397606,87.938708950366703,528.76466307774717,0,0,83.387005708135092,1153.704928060225,null,3.3677880483125637E-2,6.5288675765705125E-3,3.9257279366621163E-2,0,0,{"$f":"IF(OR('Comparison - Category'!C35=\"Residential\",'Comparison - Category'!C35=\"Rural\"),W35,O35/$F35*100)","v":6.1909337125067394E-3},8.5654961138824051E-2]
[{"$f":"Control!A81","v":"Kāpiti Coast district"},{"$f":"Control!B81","v":"Kāpiti Coast district excl Ōtaki "},{"$f":"Control!C81","v":"Residential"},{"$f":"Control!D81","v":"Kāpiti Coast district excl Ōtaki Residential"},null,13585040800,18238,744875.57846255077,null,4575153.804207854,886949.32405507541,4115502.5607157024,0,0,253484,9831089.688978631,null,250.85830706260853,48.631940128033527,225.65536575916781,0,0,14,539.1456129498099,null,3.367788048312563E-2,6.5288675765705125E-3,3.0294370265827261E-2,0,0,{"$f":"IF(OR('Comparison - Category'!C36=\"Residential\",'Comparison - Category'!C36=\"Rural\"),W36,O36/$F36*100)","v":14},7.2367023652800747E-2]
[{"$f":"Control!A82","v":"Kāpiti Coast district"},{"$f":"Control!B82","v":"Ōtaki rating area"},{"$f":"Control!C82","v":"Residential"},{"$f":"Control!D82","v":"Ōtaki rating areaResidential"},null,1649798400,3205,514757.69110764429,null,555617.13336451887,107713.15281637909,314958.62226275395,0,0,44296,1022584.9084436519,null,173.35947998892942,33.607847992629985,98.271020986818698,0,0,14,319.23834896837809,null,3.3677880483125623E-2,6.5288675765705125E-3,1.9090733889834902E-2,0,0,{"$f":"IF(OR('Comparison - Category'!C37=\"Residential\",'Comparison - Category'!C37=\"Rural\"),W37,O37/$F37*100)","v":14},6.1982416060268442E-2]
[{"$f":"Control!A83","v":"Kāpiti Coast district"},{"$f":"Control!B83","v":"Kāpiti Coast district"},{"$f":"Control!C83","v":"Rural"},{"$f":"Control!D83","v":"Kāpiti Coast districtRural"},null,2630848950,2725,965449.15596330271,null,886014.16507256555,171764.64408509579,201056.58271716072,0,0,72492,1331327.3918748221,null,325.14281287066626,63.03289691196175,73.782232189783755,0,0,28,489.95794197241179,null,3.367788048312563E-2,6.5288675765705125E-3,7.6422701013359479E-3,0,0,{"$f":"IF(OR('Comparison - Category'!C38=\"Residential\",'Comparison - Category'!C38=\"Rural\"),W38,O38/$F38*100)","v":28},5.0604478522981042E-2]
[{"$f":"Control!A84","v":"Masterton district"},{"$f":"Control!B84","v":"Masterton district"},{"$f":"Control!C84","v":"Business"},{"$f":"Control!D84","v":"Masterton districtBusiness"},null,734108600,571,1285654.2907180386,null,248154.75228414132,0,185662.36438805299,0,0,45617.764532551882,479434.8812047462,null,434.59676407030003,0,325.15300243091593,0,0,79.89100618660575,839.64077268782171,null,3.3803547906146487E-2,0,2.5290858108466919E-2,0,0,{"$f":"IF(OR('Comparison - Category'!C39=\"Residential\",'Comparison - Category'!C39=\"Rural\"),W39,O39/$F39*100)","v":6.2140348897359162E-3},6.5308440904349327E-2]
[{"$f":"Control!A85","v":"Masterton district"},{"$f":"Control!B85","v":"Masterton district"},{"$f":"Control!C85","v":"Residential"},{"$f":"Control!D85","v":"Masterton districtResidential"},null,3974865400,8337,476774.06741033943,null,1343645.5296938412,0,558286.37656206032,0,0,115570,2017501.9062559016,null,161.16655028113726,0,66.964900631169513,0,0,14,242.13145091230678,null,3.3803547906146487E-2,0,1.4045415891618878E-2,0,0,{"$f":"IF(OR('Comparison - Category'!C40=\"Residential\",'Comparison - Category'!C40=\"Rural\"),W40,O40/$F40*100)","v":14},5.0756483634789282E-2]
[{"$f":"Control!A86","v":"Masterton district"},{"$f":"Control!B86","v":"Masterton district"},{"$f":"Control!C86","v":"Rural"},{"$f":"Control!D86","v":"Masterton districtRural"},null,3931608655,3961,992579.81696541281,null,1329023.2151751267,0,252688.27591045998,0,0,99540,1681251.4910855866,null,335.52719393464446,0,63.794061073077508,0,0,28,427.32125500772196,null,3.3803547906146487E-2,0,6.4270963385204974E-3,0,0,{"$f":"IF(OR('Comparison - Category'!C41=\"Residential\",'Comparison - Category'!C41=\"Rural\"),W41,O41/$F41*100)","v":28},4.2762432342991839E-2]
[{"$f":"Control!A87","v":"Carterton district"},{"$f":"Control!B87","v":"Carterton district"},{"$f":"Control!C87","v":"Business"},{"$f":"Control!D87","v":"Carterton districtBusiness"},null,126627500,228,555383.77192982461,null,42787.250904418637,860.46659692811556,34826.492431719627,0,0,7865.4900572610277,86339.699990327412,null,187.66338115973087,3.7739763023162967,152.74777382333173,0,0,34.497763409039592,378.68289469441851,null,3.3789856788153154E-2,6.7952585096295477E-4,2.7503103537319797E-2,0,0,{"$f":"IF(OR('Comparison - Category'!C42=\"Residential\",'Comparison - Category'!C42=\"Rural\"),W42,O42/$F42*100)","v":6.2115180804019881E-3},6.8184004256837905E-2]
[{"$f":"Control!A88","v":"Carterton district"},{"$f":"Control!B88","v":"Carterton district"},{"$f":"Control!C88","v":"Residential"},{"$f":"Control!D88","v":"Carterton districtResidential"},null,1285248500,2558,502442.72869429243,null,434283.62752188666,8733.5958066136118,209009.88657889757,0,0,34846,686873.10990739788,null,169.77467846829035,3.4142282277613809,81.708321571109295,0,0,14,268.89722826716104,null,3.3789856788153161E-2,6.7952585096295477E-4,1.6262215951148559E-2,0,0,{"$f":"IF(OR('Comparison - Category'!C43=\"Residential\",'Comparison - Category'!C43=\"Rural\"),W43,O43/$F43*100)","v":14},5.3442825251879142E-2]
[{"$f":"Control!A89","v":"Carterton district"},{"$f":"Control!B89","v":"Carterton district"},{"$f":"Control!C89","v":"Rural"},{"$f":"Control!D89","v":"Carterton districtRural"},null,2253815300,2133,1056641.0220346928,null,761560.96213948447,15315.257596458272,157004.53394763349,0,0,51324,985204.75368357624,null,357.03748811040055,7.1801488966049094,73.607376440522017,0,0,28,465.82501344752745,null,3.3789856788153154E-2,6.7952585096295477E-4,6.9661668348614675E-3,0,0,{"$f":"IF(OR('Comparison - Category'!C44=\"Residential\",'Comparison - Category'!C44=\"Rural\"),W44,O44/$F44*100)","v":28},4.3712754709029453E-2]
[{"$f":"Control!A90","v":"South Wairarapa district"},{"$f":"Control!B90","v":"South Wairarapa district"},{"$f":"Control!C90","v":"Business"},{"$f":"Control!D90","v":"South Wairarapa districtBusiness"},null,279106000,312,894570.51282051287,null,93279.755852006914,0,80379.12809059571,0,0,17147.420708020491,190806.30465062309,null,298.97357644874018,0,257.62541054678115,0,0,54.959681756475938,611.55866875199717,null,3.342090669924936E-2,0,2.8798781857285662E-2,0,0,{"$f":"IF(OR('Comparison - Category'!C45=\"Residential\",'Comparison - Category'!C45=\"Rural\"),W45,O45/$F45*100)","v":6.1436947640038167E-3},6.8363383320538831E-2]
[{"$f":"Control!A91","v":"South Wairarapa district"},{"$f":"Control!B91","v":"South Wairarapa district"},{"$f":"Control!C91","v":"Residential"},{"$f":"Control!D91","v":"South Wairarapa districtResidential"},null,2087271500,3463,602735.05630955822,null,697585.0605750226,0,369042.81511290005,0,0,47208,1113835.8756879226,null,201.43952081288555,0,106.56737369705459,0,0,14,322.00689450994014,null,3.342090669924936E-2,0,1.7680633071112218E-2,0,{"$f":"N46/$F46*100","v":0},{"$f":"IF(OR('Comparison - Category'!C46=\"Residential\",'Comparison - Category'!C46=\"Rural\"),W46,O46/$F46*100)","v":14},5.3363248417272149E-2]
[{"$f":"Control!A92","v":"South Wairarapa district"},{"$f":"Control!B92","v":"South Wairarapa district"},{"$f":"Control!C92","v":"Rural"},{"$f":"Control!D92","v":"South Wairarapa districtRural"},null,3885813900,3248,1196371.2746305419,null,1298674.2380254625,0,282307.24712482875,0,0,82908,1663889.4851502911,null,399.8381274708936,0,86.91725588818619,0,0,28,514.75538335907981,null,3.3420906699249353E-2,0,7.2650737886554148E-3,0,0,{"$f":"IF(OR('Comparison - Category'!C47=\"Residential\",'Comparison - Category'!C47=\"Rural\"),W47,O47/$F47*100)","v":28},4.2819587555397109E-2]
[{"$f":"Control!A93","v":"Tararua district"},{"$f":"Control!B93","v":"Tararua district"},{"$f":"Control!C93","v":"Rural"},{"$f":"Control!D93","v":"Tararua districtRural"},null,15976500,10,1597650,null,5406.0754744311416,0,0,0,0,252,5658.0754744311416,null,540.60754744311419,0,0,0,0,28,568.60754744311419,null,3.3837670794173574E-2,0,0,0,0,{"$f":"IF(OR('Comparison - Category'!C48=\"Residential\",'Comparison - Category'!C48=\"Rural\"),W48,O48/$F48*100)","v":28},3.5414987478053023E-2]
[{"$f":"Control!A94","v":"Region wide"},null,{"$f":"Control!C94","v":0},{"$f":"Control!D94","v":"Region wide"},null,167210087355,206440,809969.42140573531,null,63113015.5119792,6796139.7228808114,81810330.828706741,0,0,4690801.6321873646,156410287.69575414,null,305.720865684844,32.920653569467213,396.29108132487278,0,0,22.72234853801281,757.65494911719691,null,3.7744741666204243E-2,4.0644316562385846E-3,4.8926671902884092E-2,0,{"$f":"N49/$F49*100","v":0},{"$f":"O49/$F49*100","v":2.8053341197223519E-3},9.3541179345049297E-2]
[]
["By category"]
["Region Wide",null,{"$f":"C22","v":"Wellington CBD"},{"$f":"A52&C52","v":"Region WideWellington CBD"},null,{"$f":"SUMIF($C$22:$C$48,$C52,F$22:F$48)","v":9896987150},3276,{"$f":"F52/G52","v":3021058.3485958488},null,{"$f":"SUMIF($C$22:$C$48,$C52,J$22:J$48)","v":6033820.6426463025},7594.0491483836959,27237587.729153674,0,0,{"$f":"SUMIF($C$22:$C$48,$C52,O$22:O$48)","v":725587.72821206274},{"$f":"SUMIF($C$22:$C$48,$C52,P$22:P$48)","v":34004590.149160422},null,1841.8255929933769,2.3180858206299439,8314.2819686061284,0,0,221.4858755226077,10379.911522942743,null,{"$f":"J52/$F52*100","v":6.0966237009273096E-2},7.6730918544071227E-5,0.27521090324092895,0,0,{"$f":"IF(OR('Comparison - Category'!C52=\"Residential\",'Comparison - Category'!C52=\"Rural\"),W52,O52/$F52*100)","v":7.3314001242495578E-3},{"$f":"P52/$F52*100","v":0.34358527129299571}]
["Region Wide",null,{"$f":"C23","v":"Business"},{"$f":"A53&C53","v":"Region WideBusiness"},null,15341292450,8244,{"$f":"F53/G53","v":1860903.9847161572},null,6083720.9310373971,998983.28931653674,7333668.9153228588,0,0,1061305.9039753019,15477679.039652094,null,737.95741521559887,121.17701228973031,889.57653024294746,0,0,128.73676661515063,1877.4477243634271,null,3.9655856577047371E-2,6.5117283473501396E-3,4.7803462056567853E-2,0,0,{"$f":"IF(OR('Comparison - Category'!C53=\"Residential\",'Comparison - Category'!C53=\"Rural\"),W53,O53/$F53*100)","v":6.9179693134348783E-3},{"$f":"P53/$F53*100","v":0.10088901629440024}]
["Region Wide",null,{"$f":"C24","v":"Residential"},{"$f":"A54&C54","v":"Region WideResidential"},null,126016295650,179568,{"$f":"F54/G54","v":701774.79088701773},null,45509304.260308124,5428949.4729886008,45999189.511834629,0,0,2507204,99444647.245131344,null,253.43771863755305,30.233390542794936,256.16585088565131,0,0,13.962420921322286,553.83696006599928,null,3.6113824823661309E-2,4.3081328847080751E-3,3.6502572365397591E-2,0,0,{"$f":"IF(OR('Comparison - Category'!C54=\"Residential\",'Comparison - Category'!C54=\"Rural\"),W54,O54/$F54*100)","v":13.962420921322286},{"$f":"P54/$F54*100","v":7.8914117203802564E-2}]
["Region Wide",null,{"$f":"C25","v":"Rural"},{"$f":"A55&C55","v":"Region WideRural"},null,15955512105,15352,{"$f":"F55/G55","v":1039311.6274752475},null,5486169.6779873753,360612.91142728803,1239884.672395583,0,0,396704,7483371.2618102459,null,357.35862936342983,23.489637273794163,80.763722798044753,0,0,25.840541948931733,489.61198943526875,null,3.4384165433763589E-2,2.2601149311546214E-3,7.7708861002777768E-3,0,0,{"$f":"IF(OR('Comparison - Category'!C55=\"Residential\",'Comparison - Category'!C55=\"Rural\"),W55,O55/$F55*100)","v":25.840541948931733},{"$f":"P55/$F55*100","v":4.6901479642669518E-2}]
["Region Wide",null,"Total",{"$f":"A56&C56","v":"Region WideTotal"},null,{"$f":"SUM(F52:F55)","v":167210087355},{"$f":"SUM(G52:G55)","v":206440},{"$f":"F56/G56","v":809969.42140573531},null,{"$f":"SUM(J52:J55)","v":63113015.5119792},6796139.7228808096,81810330.828706741,0,0,4690801.6321873646,{"$f":"SUM(P52:P55)","v":156410287.69575411},null,305.720865684844,32.920653569467206,396.29108132487278,0,0,22.72234853801281,757.65494911719679,null,3.7744741666204243E-2,4.0644316562385846E-3,4.8926671902884092E-2,0,0,{"$f":"IF(OR('Comparison - Category'!C56=\"Residential\",'Comparison - Category'!C56=\"Rural\"),W56,O56/$F56*100)","v":2.8053341197223519E-3},{"$f":"P56/$F56*100","v":9.3541179345049269E-2}]
[]
[]
[null,null,null,null,null,null,null,null,null,{"$f":"IF(ABS(J19-SUM(J10:J18))>tolerance_dollar,1,0)","v":0},0,0,0,0,0,0]
[null,null,null,null,null,null,null,null,null,{"$f":"J49-SUM(J22:J48)","v":0},0,0,0,0,0,0]
[null,null,null,null,null,{"$f":"F49-F19","v":0},{"$f":"G49-G19","v":0},null,null,{"$f":"IF(ABS(J49-J19)>tolerance_dollar,1,0)","v":0},0,0,0,0,0,{"$f":"IF(ABS(P49-P19)>tolerance_dollar,1,0)","v":0},null,{"$f":"IF(ABS(R49-R19)>tolerance_dollar,1,0)","v":0},{"$f":"IF(ABS(S49-S19)>tolerance_dollar,1,0)","v":0},0,0,{"$f":"IF(ABS(V49-V19)>tolerance_dollar,1,0)","v":0},0,0]
[]
[]
[{"$f":"year_current&\" rates\"","v":"2022/23 rates"}]
[null,null,null,null,null,null,null,null,null,"Rates",null,null,null,null,null,null,null,"Rates / average CV",null,null,null,null,null,null,null,"Cents/$ OR Economic Development Rate $/property"]
[{"$f":"Control!A$66","v":"TA full name"},{"$f":"Control!B$66","v":"Rating area"},{"$f":"Control!C$66","v":"Category group"},{"$f":"Control!D$66","v":"Concatenated  name"},null,"CV","CV Assessments","Average CV",null,"General rate","River management rate","Public transport rate","Stadium purposes rate","Remission of rates","Economic development rate","District-Wide rates",null,"General rate","River management rate","Public transport rate","Stadium purposes rate","Remission of rates","Economic development rate","District-Wide rates",null,"General rate","River management rate","Public transport rate","Stadium purposes rate","Remission of rates","Economic development rate","District-Wide rates"]
[]
["By TA"]
[{"$f":"Control!A42","v":"Wellington city"},null,{"$f":"Control!B42","v":"District wide"},{"$f":"Control!C42","v":"Wellington cityDistrict wide"},null,{"$f":"INDEX(capital_values,MATCH($D69,capital_values_rows,0),MATCH(F$66&\" \"&year_current,capital_values_header,0))","v":114751871250},{"$f":"INDEX(assessments,MATCH($D69,assessments_rows,0),MATCH(G$66&\" \"&year_current,assessments_header,0))","v":79856},{"$f":"F69/G69","v":1436984.963559407},null,{"$f":"INDEX(Gen!$D$10:$D$18,MATCH($A69,Gen!$A$10:$A$18,0),)","v":34594985.806497797},{"$f":"INDEX('River management'!$C$10:$C$18,MATCH($A69,'River management'!$A$10:$A$18,0),)","v":55131.48},{"$f":"INDEX('Public transport'!$I$10:$I$18,MATCH($A69,'Public transport'!$A$10:$A$18,0),)","v":55813220.471912682},{"$f":"INDEX(Stadium!$I$10:$I$18,MATCH($A69,Stadium!$A$10:$A$18,0),)","v":0},{"$f":"INDEX(Remission!$D$10:$D$18,MATCH($A69,Remission!$A$10:$A$18,0),)","v":0},{"$f":"INDEX('Economic Development'!$K$10:$K$18,MATCH($A69,'Economic Development'!$A$10:$A$18,0),)","v":2084395.6780524543},{"$f":"SUM(J69:O69)","v":92547733.436462939},null,{"$f":"J69/$F69*$H69","v":433.21711338531605},{"$f":"K69/$F69*$H69","v":0.69038619515127242},{"$f":"L69/$F69*$H69","v":698.92331787107651},{"$f":"M69/$F69*$H69","v":0},{"$f":"N69/$F69*$H69","v":0},{"$f":"O69/$F69*$H69","v":26.101929448663274},{"$f":"IF('Comparison - Category'!C69=\"Residential\",SUM(R69:W69,Control!$B$103),IF('Comparison - Category'!C69=\"Rural\",SUM(R69:V69,Control!$B$104),P69/$F69*$H69))","v":1158.9327469002071}]
[{"$f":"Control!A43","v":"Hutt city"},null,{"$f":"Control!B43","v":"District wide"},{"$f":"Control!C43","v":"Hutt cityDistrict wide"},null,29131948500,40468,{"$f":"F70/G70","v":719876.16141148563},null,{"$f":"INDEX(Gen!$D$10:$D$18,MATCH($A70,Gen!$A$10:$A$18,0),)","v":12788945.415187581},{"$f":"INDEX('River management'!$C$10:$C$18,MATCH($A70,'River management'!$A$10:$A$18,0),)","v":5098043.33},{"$f":"INDEX('Public transport'!$I$10:$I$18,MATCH($A70,'Public transport'!$A$10:$A$18,0),)","v":14007552.982125834},{"$f":"INDEX(Stadium!$I$10:$I$18,MATCH($A70,Stadium!$A$10:$A$18,0),)","v":0},{"$f":"INDEX(Remission!$D$10:$D$18,MATCH($A70,Remission!$A$10:$A$18,0),)","v":0},{"$f":"INDEX('Economic Development'!$K$10:$K$18,MATCH($A70,'Economic Development'!$A$10:$A$18,0),)","v":919729.26249599003},{"$f":"SUM(J70:O70)","v":32814270.989809405},null,316.02612966263666,125.97715058811902,346.13899827334768,0,0,22.727321896214047,{"$f":"IF('Comparison - Category'!C70=\"Residential\",SUM(R70:W70,Control!$B$103),IF('Comparison - Category'!C70=\"Rural\",SUM(R70:V70,Control!$B$104),P70/$F70*$H70))","v":810.86960042031751}]
[{"$f":"Control!A44","v":"Upper Hutt city"},null,{"$f":"Control!B44","v":"District wide"},{"$f":"Control!C44","v":"Upper Hutt cityDistrict wide"},null,11717909800,17575,666737.39971550496,null,{"$f":"INDEX(Gen!$D$10:$D$18,MATCH($A71,Gen!$A$10:$A$18,0),)","v":5160803.7826726669},{"$f":"INDEX('River management'!$C$10:$C$18,MATCH($A71,'River management'!$A$10:$A$18,0),)","v":1136721.52},{"$f":"INDEX('Public transport'!$I$10:$I$18,MATCH($A71,'Public transport'!$A$10:$A$18,0),)","v":5363263.6366864722},{"$f":"INDEX(Stadium!$I$10:$I$18,MATCH($A71,Stadium!$A$10:$A$18,0),)","v":0},{"$f":"INDEX(Remission!$D$10:$D$18,MATCH($A71,Remission!$A$10:$A$18,0),)","v":0},{"$f":"INDEX('Economic Development'!$K$10:$K$18,MATCH($A71,'Economic Development'!$A$10:$A$18,0),)","v":353972.12124184187},12014761.060600981,null,293.64459645363684,64.678322617354198,305.16436055115059,0,0,20.140661237089155,{"$f":"IF('Comparison - Category'!C71=\"Residential\",SUM(R71:W71,Control!$B$103),IF('Comparison - Category'!C71=\"Rural\",SUM(R71:V71,Control!$B$104),P71/$F71*$H71))","v":683.62794085923076}]
[{"$f":"Control!A45","v":"Porirua city"},null,{"$f":"Control!B45","v":"District wide"},{"$f":"Control!C45","v":"Porirua cityDistrict wide"},null,14623609200,19859,736371.8817664535,null,{"$f":"INDEX(Gen!$D$10:$D$18,MATCH($A72,Gen!$A$10:$A$18,0),)","v":6152529.2906507477},{"$f":"INDEX('River management'!$C$10:$C$18,MATCH($A72,'River management'!$A$10:$A$18,0),)","v":45883.360000000001},{"$f":"INDEX('Public transport'!$I$10:$I$18,MATCH($A72,'Public transport'!$A$10:$A$18,0),)","v":6593785.1245213319},{"$f":"INDEX(Stadium!$I$10:$I$18,MATCH($A72,Stadium!$A$10:$A$18,0),)","v":0},{"$f":"INDEX(Remission!$D$10:$D$18,MATCH($A72,Remission!$A$10:$A$18,0),)","v":0},{"$f":"INDEX('Economic Development'!$K$10:$K$18,MATCH($A72,'Economic Development'!$A$10:$A$18,0),)","v":381115.59458930936},13173313.369761391,null,309.81062947030301,2.3104567198751194,332.03006820692542,0,0,19.191076821053898,{"$f":"IF('Comparison - Category'!C72=\"Residential\",SUM(R72:W72,Control!$B$103),IF('Comparison - Category'!C72=\"Rural\",SUM(R72:V72,Control!$B$104),P72/$F72*$H72))","v":663.34223121815751}]
[{"$f":"Control!A46","v":"Kāpiti Coast district"},null,{"$f":"Control!B46","v":"District wide"},{"$f":"Control!C46","v":"Kāpiti Coast districtDistrict wide"},null,19783157650,25554,774170.6836503091,null,{"$f":"INDEX(Gen!$D$10:$D$18,MATCH($A73,Gen!$A$10:$A$18,0),)","v":7579832.3028752599},{"$f":"INDEX('River management'!$C$10:$C$18,MATCH($A73,'River management'!$A$10:$A$18,0),)","v":1513486.5599999998},{"$f":"INDEX('Public transport'!$I$10:$I$18,MATCH($A73,'Public transport'!$A$10:$A$18,0),)","v":6324054.456405093},{"$f":"INDEX(Stadium!$I$10:$I$18,MATCH($A73,Stadium!$A$10:$A$18,0),)","v":0},{"$f":"INDEX(Remission!$D$10:$D$18,MATCH($A73,Remission!$A$10:$A$18,0),)","v":0},{"$f":"INDEX('Economic Development'!$K$10:$K$18,MATCH($A73,'Economic Development'!$A$10:$A$18,0),)","v":469433.28580084693},15886806.605081199,null,296.62018873269386,59.226992251702271,247.4780643502032,0,0,18.370246763749194,{"$f":"IF('Comparison - Category'!C73=\"Residential\",SUM(R73:W73,Control!$B$103),IF('Comparison - Category'!C73=\"Rural\",SUM(R73:V73,Control!$B$104),P73/$F73*$H73))","v":621.6954920983485}]
[{"$f":"Control!A47","v":"Masterton district"},null,{"$f":"Control!B47","v":"District wide"},{"$f":"Control!C47","v":"Masterton districtDistrict wide"},null,8787884155,13074,672164.91930549184,null,{"$f":"INDEX(Gen!$D$10:$D$18,MATCH($A74,Gen!$A$10:$A$18,0),)","v":3262323.0898527848},{"$f":"INDEX('River management'!$C$10:$C$18,MATCH($A74,'River management'!$A$10:$A$18,0),)","v":0},{"$f":"INDEX('Public transport'!$I$10:$I$18,MATCH($A74,'Public transport'!$A$10:$A$18,0),)","v":1235093.9945854624},{"$f":"INDEX(Stadium!$I$10:$I$18,MATCH($A74,Stadium!$A$10:$A$18,0),)","v":0},{"$f":"INDEX(Remission!$D$10:$D$18,MATCH($A74,Remission!$A$10:$A$18,0),)","v":0},{"$f":"INDEX('Economic Development'!$K$10:$K$18,MATCH($A74,'Economic Development'!$A$10:$A$18,0),)","v":223844.98387138528},4721262.0683096331,null,249.52754243940532,0,94.469480999346985,0,0,17.121384723220537,{"$f":"IF('Comparison - Category'!C74=\"Residential\",SUM(R74:W74,Control!$B$103),IF('Comparison - Category'!C74=\"Rural\",SUM(R74:V74,Control!$B$104),P74/$F74*$H74))","v":361.11840816197287}]
[{"$f":"Control!A48","v":"Carterton district"},null,{"$f":"Control!B48","v":"District wide"},{"$f":"Control!C48","v":"Carterton districtDistrict wide"},null,3729014800,5010,744314.33133732539,null,{"$f":"INDEX(Gen!$D$10:$D$18,MATCH($A75,Gen!$A$10:$A$18,0),)","v":1441408.7335680611},{"$f":"INDEX('River management'!$C$10:$C$18,MATCH($A75,'River management'!$A$10:$A$18,0),)","v":25282.959999999999},{"$f":"INDEX('Public transport'!$I$10:$I$18,MATCH($A75,'Public transport'!$A$10:$A$18,0),)","v":489099.97683658905},{"$f":"INDEX(Stadium!$I$10:$I$18,MATCH($A75,Stadium!$A$10:$A$18,0),)","v":0},{"$f":"INDEX(Remission!$D$10:$D$18,MATCH($A75,Remission!$A$10:$A$18,0),)","v":0},{"$f":"INDEX('Economic Development'!$K$10:$K$18,MATCH($A75,'Economic Development'!$A$10:$A$18,0),)","v":74067.947186637903},2029859.6175912882,null,287.7063340455212,5.0464990019960076,97.624745875566674,0,0,14.784021394538504,{"$f":"IF('Comparison - Category'!C75=\"Residential\",SUM(R75:W75,Control!$B$103),IF('Comparison - Category'!C75=\"Rural\",SUM(R75:V75,Control!$B$104),P75/$F75*$H75))","v":405.1616003176224}]
[{"$f":"Control!A49","v":"South Wairarapa district"},null,{"$f":"Control!B49","v":"District wide"},{"$f":"Control!C49","v":"South Wairarapa districtDistrict wide"},null,6354690200,7133,890886.05075003509,null,{"$f":"INDEX(Gen!$D$10:$D$18,MATCH($A76,Gen!$A$10:$A$18,0),)","v":2350670.2227331935},{"$f":"INDEX('River management'!$C$10:$C$18,MATCH($A76,'River management'!$A$10:$A$18,0),)","v":0},{"$f":"INDEX('Public transport'!$I$10:$I$18,MATCH($A76,'Public transport'!$A$10:$A$18,0),)","v":832409.27692654193},{"$f":"INDEX(Stadium!$I$10:$I$18,MATCH($A76,Stadium!$A$10:$A$18,0),)","v":0},{"$f":"INDEX(Remission!$D$10:$D$18,MATCH($A76,Remission!$A$10:$A$18,0),)","v":0},{"$f":"INDEX('Economic Development'!$K$10:$K$18,MATCH($A76,'Economic Development'!$A$10:$A$18,0),)","v":113929.41676153464},3297008.9164212705,null,329.54860826204873,0,116.6983424823415,0,0,15.972159927314543,{"$f":"IF('Comparison - Category'!C76=\"Residential\",SUM(R76:W76,Control!$B$103),IF('Comparison - Category'!C76=\"Rural\",SUM(R76:V76,Control!$B$104),P76/$F76*$H76))","v":462.21911067170487}]
[{"$f":"Control!A50","v":"Tararua district"},null,{"$f":"Control!B50","v":"District wide"},{"$f":"Control!C50","v":"Tararua districtDistrict wide"},null,15976500,10,1597650,null,{"$f":"INDEX(Gen!$D$10:$D$18,MATCH($A77,Gen!$A$10:$A$18,0),)","v":6281.3559619099451},{"$f":"INDEX('River management'!$C$10:$C$18,MATCH($A77,'River management'!$A$10:$A$18,0),)","v":0},{"$f":"INDEX('Public transport'!$I$10:$I$18,MATCH($A77,'Public transport'!$A$10:$A$18,0),)","v":0},{"$f":"INDEX(Stadium!$I$10:$I$18,MATCH($A77,Stadium!$A$10:$A$18,0),)","v":0},{"$f":"INDEX(Remission!$D$10:$D$18,MATCH($A77,Remission!$A$10:$A$18,0),)","v":0},{"$f":"INDEX('Economic Development'!$K$10:$K$18,MATCH($A77,'Economic Development'!$A$10:$A$18,0),)","v":135},6416.3559619099451,null,628.13559619099453,0,0,0,0,13.5,{"$f":"IF('Comparison - Category'!C77=\"Residential\",SUM(R77:W77,Control!$B$103),IF('Comparison - Category'!C77=\"Rural\",SUM(R77:V77,Control!$B$104),P77/$F77*$H77))","v":641.63559619099453}]
["Region wide",null,null,{"$f":"Control!C51","v":"Region wide"},null,{"$f":"SUM(F69:F77)","v":208896062055},{"$f":"SUM(G69:G77)","v":208539},{"$f":"F78/G78","v":1001712.2075726843},null,{"$f":"INDEX(ess_base_estract,MATCH(J66,ESSbase!$B$8:$B$25,0),MATCH(year_current,ESSbase!$F$6:$G$6,0))","v":73337780},{"$f":"INDEX(ess_base_estract,MATCH(K66,ESSbase!$B$8:$B$25,0),MATCH(year_current,ESSbase!$F$6:$G$6,0))","v":7874549.21},{"$f":"INDEX(ess_base_estract,MATCH(L66,ESSbase!$B$8:$B$25,0),MATCH(year_current,ESSbase!$F$6:$G$6,0))","v":90658479.920000002},{"$f":"INDEX(ess_base_estract,MATCH(M66,ESSbase!$B$8:$B$25,0),MATCH(year_current,ESSbase!$F$6:$G$6,0))","v":0},{"$f":"INDEX(ess_base_estract,MATCH(N66,ESSbase!$B$8:$B$25,0),MATCH(year_current,ESSbase!$F$6:$G$6,0))","v":0},{"$f":"INDEX(ess_base_estract,MATCH(O66,ESSbase!$B$8:$B$25,0),MATCH(year_current,ESSbase!$F$6:$G$6,0))","v":4620623.29},{"$f":"SUM(P69:P77)","v":176491432.42000002},null,351.67417125813398,37.760558984170828,434.731536643026,0,0,22.15711828482922,{"$f":"IF('Comparison - Category'!C78=\"Residential\",SUM(R78:W78,Control!$B$103),IF('Comparison - Category'!C78=\"Rural\",SUM(R78:V78,Control!$B$104),P78/$F78*$H78))","v":846.32338517016012}]
[]
["By TA & Category"]
[{"$f":"Control!A67","v":"Wellington city"},{"$f":"Control!B67","v":"Wellington city"},{"$f":"Control!C67","v":"Wellington CBD"},{"$f":"Control!D67","v":"Wellington cityWellington CBD"},null,{"$f":"INDEX(capital_values,MATCH($D81,capital_values_rows,0),MATCH(F$66&\" \"&year_current,capital_values_header,0))","v":13133427700},{"$f":"INDEX(assessments,MATCH($D81,assessments_rows,0),MATCH(G$66&\" \"&year_current,assessments_header,0))","v":3331},{"$f":"F81/G81","v":3942788.2617832483},null,{"$f":"Gen!F24","v":6132891.7858683774},{"$f":"($F81/INDEX($F$69:$F$77,MATCH($A81,$A$69:$A$77,0),))\n*\nINDEX(K$69:K$77,MATCH($A81,$A$69:$A$77,0),)","v":6309.834416525875},{"$f":"INDEX('Public transport'!$I$23:$I$49,MATCH($D81,'Public transport'!$D$23:$D$49,0),)","v":27047320.236460216},{"$f":"INDEX(Stadium!$I$23:$I$49,MATCH($D81,Stadium!$D$23:$D$49,0),)","v":0},{"$f":"Remission!F24","v":0},{"$f":"INDEX('Economic Development'!$K$23:$K$49,MATCH($D81,'Economic Development'!$D$23:$D$49,0),)","v":640168.96900812886},{"$f":"SUM(J81:O81)","v":33826690.825753249},null,{"$f":"J81/$F81*$H81","v":1841.1563452021549},{"$f":"K81/$F81*$H81","v":1.894276318380629},{"$f":"L81/$F81*$H81","v":8119.879986928916},{"$f":"M81/$F81*$H81","v":0},0,{"$f":"IF(AND('Comparison - Category'!C81=\"Residential\",Control!$B$103<>\"Remainder\"),Control!$B$103,IF(AND('Comparison - Category'!C81=\"Rural\",Control!$B$103<>\"Remainder\"),Control!$B$104,O81/$F81*$H81))","v":192.18522035668835},{"$f":"IF('Comparison - Category'!C81=\"Residential\",SUM(R81:V81,Control!$B$103),IF('Comparison - Category'!C81=\"Rural\",SUM(R81:V81,Control!$B$104),P81/$F81*$H81))","v":10155.11582880614},null,{"$f":"J81/$F81*100","v":4.6696810048060623E-2},{"$f":"K81/$F81*100","v":4.8044079281190814E-5},{"$f":"L81/$F81*100","v":0.20594258295920886},{"$f":"M81/$F81*100","v":0},0,{"$f":"IF(OR('Comparison - Category'!C81=\"Residential\",'Comparison - Category'!C81=\"Rural\"),W81,O81/$F81*100)","v":4.8743479892010893E-3},{"$f":"P81/$F81*100","v":0.25756178507575178}]
[{"$f":"Control!A68","v":"Wellington city"},{"$f":"Control!B68","v":"Wellington city"},{"$f":"Control!C68","v":"Business"},{"$f":"Control!D68","v":"Wellington cityBusiness"},null,6659900150,1885,3533103.5278514591,null,{"$f":"Gen!F25","v":2378205.4112745919},{"$f":"($F82/INDEX($F$69:$F$77,MATCH($A82,$A$69:$A$77,0),))\n*\nINDEX(K$69:K$77,MATCH($A82,$A$69:$A$77,0),)","v":3199.6877081141456},{"$f":"INDEX('Public transport'!$I$23:$I$49,MATCH($D82,'Public transport'!$D$23:$D$49,0),)","v":2517183.077460743},{"$f":"INDEX(Stadium!$I$23:$I$49,MATCH($D82,Stadium!$D$23:$D$49,0),)","v":0},{"$f":"Remission!F25","v":0},{"$f":"INDEX('Economic Development'!$K$23:$K$49,MATCH($D82,'Economic Development'!$D$23:$D$49,0),)","v":324626.70904432528},{"$f":"SUM(J82:O82)","v":5223214.8854877744},null,{"$f":"J82/$F82*$H82","v":1261.647433036919},1.6974470600075044,1335.3756379102085,0,0,{"$f":"IF(AND('Comparison - Category'!C82=\"Residential\",Control!$B$103<>\"Remainder\"),Control!$B$103,IF(AND('Comparison - Category'!C82=\"Rural\",Control!$B$103<>\"Remainder\"),Control!$B$104,O82/$F82*$H82))","v":172.21576076622031},{"$f":"IF('Comparison - Category'!C82=\"Residential\",SUM(R82:V82,Control!$B$103),IF('Comparison - Category'!C82=\"Rural\",SUM(R82:V82,Control!$B$104),P82/$F82*$H82))","v":2770.9362787733553},null,{"$f":"J82/$F82*100","v":3.5709325330869894E-2},4.8044079281190814E-5,3.7796108361485614E-2,0,0,{"$f":"IF(OR('Comparison - Category'!C82=\"Residential\",'Comparison - Category'!C82=\"Rural\"),W82,O82/$F82*100)","v":4.8743479892010885E-3},{"$f":"P82/$F82*100","v":7.8427825760837788E-2}]
[{"$f":"Control!A69","v":"Wellington city"},{"$f":"Control!B69","v":"Wellington city"},{"$f":"Control!C69","v":"Residential"},{"$f":"Control!D69","v":"Wellington cityResidential"},null,93657459050,73796,1269140.0489186405,null,{"$f":"Gen!F26","v":25726497.499069802},44996.863878730815,{"$f":"INDEX('Public transport'!$I$23:$I$49,MATCH($D83,'Public transport'!$D$23:$D$49,0),)","v":26157581.921209909},{"$f":"INDEX(Stadium!$I$23:$I$49,MATCH($D83,Stadium!$D$23:$D$49,0),)","v":0},{"$f":"Remission!F26","v":0},{"$f":"INDEX('Economic Development'!$K$23:$K$49,MATCH($D83,'Economic Development'!$D$23:$D$49,0),)","v":1106940},53036016.284158438,null,348.61642228670661,0.60974665129181549,354.45799123543156,0,0,{"$f":"IF(AND('Comparison - Category'!C83=\"Residential\",Control!$B$103<>\"Remainder\"),Control!$B$103,IF(AND('Comparison - Category'!C83=\"Rural\",Control!$B$103<>\"Remainder\"),Control!$B$104,O83/$F83*$H83))","v":15},{"$f":"IF('Comparison - Category'!C83=\"Residential\",SUM(R83:V83,Control!$B$103),IF('Comparison - Category'!C83=\"Rural\",SUM(R83:V83,Control!$B$104),P83/$F83*$H83))","v":718.68416017342997},null,2.746871179297684E-2,4.8044079281190814E-5,2.7928989518331278E-2,0,0,{"$f":"IF(OR('Comparison - Category'!C83=\"Residential\",'Comparison - Category'!C83=\"Rural\"),W83,O83/$F83*100)","v":15},5.6627648050802462E-2]
[{"$f":"Control!A70","v":"Wellington city"},{"$f":"Control!B70","v":"Wellington city"},{"$f":"Control!C70","v":"Rural"},{"$f":"Control!D70","v":"Wellington cityRural"},null,1301084350,844,1541569.13507109,null,{"$f":"Gen!F27","v":357391.11028502608},625.0939966291661,{"$f":"INDEX('Public transport'!$I$23:$I$49,MATCH($D84,'Public transport'!$D$23:$D$49,0),)","v":91135.236781813655},{"$f":"INDEX(Stadium!$I$23:$I$49,MATCH($D84,Stadium!$D$23:$D$49,0),)","v":0},{"$f":"Remission!F27","v":0},{"$f":"INDEX('Economic Development'!$K$23:$K$49,MATCH($D84,'Economic Development'!$D$23:$D$49,0),)","v":12660},461811.44106346893,null,423.44918280216353,0.74063269742792193,107.98013836707779,0,0,{"$f":"IF(AND('Comparison - Category'!C84=\"Residential\",Control!$B$103<>\"Remainder\"),Control!$B$103,IF(AND('Comparison - Category'!C84=\"Rural\",Control!$B$103<>\"Remainder\"),Control!$B$104,O84/$F84*$H84))","v":15},{"$f":"IF('Comparison - Category'!C84=\"Residential\",SUM(R84:V84,Control!$B$103),IF('Comparison - Category'!C84=\"Rural\",SUM(R84:V84,Control!$B$104),P84/$F84*$H84))","v":547.16995386666929},null,2.746871179297684E-2,4.8044079281190814E-5,7.0045602179300412E-3,0,0,{"$f":"IF(OR('Comparison - Category'!C84=\"Residential\",'Comparison - Category'!C84=\"Rural\"),W84,O84/$F84*100)","v":15},3.5494350620962345E-2]
[{"$f":"Control!A71","v":"Hutt city"},{"$f":"Control!B71","v":"Hutt city"},{"$f":"Control!C71","v":"Business"},{"$f":"Control!D71","v":"Hutt cityBusiness"},null,4905894500,2348,2089392.8875638843,null,{"$f":"($F85/INDEX($F$69:$F$77,MATCH($A85,$A$69:$A$77,0),))\n*\nINDEX(J$69:J$77,MATCH($A85,$A$69:$A$77,0),)","v":2153691.057540108},858523.51185533253,{"$f":"INDEX('Public transport'!$I$23:$I$49,MATCH($D85,'Public transport'!$D$23:$D$49,0),)","v":2967697.7449935139},{"$f":"INDEX(Stadium!$I$23:$I$49,MATCH($D85,Stadium!$D$23:$D$49,0),)","v":0},{"$f":"($F85/INDEX($F$69:$F$77,MATCH($A85,$A$69:$A$77,0),))*INDEX(N$69:N$77,MATCH($A85,$A$69:$A$77,0),)","v":0},{"$f":"INDEX('Economic Development'!$K$23:$K$49,MATCH($D85,'Economic Development'!$D$23:$D$49,0),)","v":348214.26249599003},6328126.5768849449,null,917.24491377347022,365.64033724673448,1263.9257857723655,0,0,{"$f":"IF(AND('Comparison - Category'!C85=\"Residential\",Control!$B$103<>\"Remainder\"),Control!$B$103,IF(AND('Comparison - Category'!C85=\"Rural\",Control!$B$103<>\"Remainder\"),Control!$B$104,O85/$F85*$H85))","v":148.30249680408434},{"$f":"IF('Comparison - Category'!C85=\"Residential\",SUM(R85:V85,Control!$B$103),IF('Comparison - Category'!C85=\"Rural\",SUM(R85:V85,Control!$B$104),P85/$F85*$H85))","v":2695.1135335966546},null,4.3900068734460312E-2,1.7499836408127661E-2,6.0492490105392892E-2,0,0,{"$f":"IF(OR('Comparison - Category'!C85=\"Residential\",'Comparison - Category'!C85=\"Rural\"),W85,O85/$F85*100)","v":7.097875066330717E-3},0.12899027031431159]
[{"$f":"Control!A72","v":"Hutt city"},{"$f":"Control!B72","v":"Hutt city"},{"$f":"Control!C72","v":"Residential"},{"$f":"Control!D72","v":"Hutt cityResidential"},null,23837441000,37680,632628.47664543521,null,10464652.983536424,4171513.1788839502,{"$f":"INDEX('Public transport'!$I$23:$I$49,MATCH($D86,'Public transport'!$D$23:$D$49,0),)","v":10994851.905950395},{"$f":"INDEX(Stadium!$I$23:$I$49,MATCH($D86,Stadium!$D$23:$D$49,0),)","v":0},{"$f":"($F86/INDEX($F$69:$F$77,MATCH($A86,$A$69:$A$77,0),))*INDEX(N$69:N$77,MATCH($A86,$A$69:$A$77,0),)","v":0},{"$f":"INDEX('Economic Development'!$K$23:$K$49,MATCH($D86,'Economic Development'!$D$23:$D$49,0),)","v":564915},26195933.068370767,null,277.72433608111527,110.70894848418126,291.79543274815273,0,0,{"$f":"IF(AND('Comparison - Category'!C86=\"Residential\",Control!$B$103<>\"Remainder\"),Control!$B$103,IF(AND('Comparison - Category'!C86=\"Rural\",Control!$B$103<>\"Remainder\"),Control!$B$104,O86/$F86*$H86))","v":15},{"$f":"IF('Comparison - Category'!C86=\"Residential\",SUM(R86:V86,Control!$B$103),IF('Comparison - Category'!C86=\"Rural\",SUM(R86:V86,Control!$B$104),P86/$F86*$H86))","v":695.22871731344924},null,4.3900068734460312E-2,1.7499836408127658E-2,4.6124296252900612E-2,0,0,{"$f":"IF(OR('Comparison - Category'!C86=\"Residential\",'Comparison - Category'!C86=\"Rural\"),W86,O86/$F86*100)","v":15},0.10989406567748093]
[{"$f":"Control!A73","v":"Hutt city"},{"$f":"Control!B73","v":"Hutt city"},{"$f":"Control!C73","v":"Rural"},{"$f":"Control!D73","v":"Hutt cityRural"},null,388613000,440,883211.36363636365,null,170601.37411104827,68006.639260717144,{"$f":"INDEX('Public transport'!$I$23:$I$49,MATCH($D87,'Public transport'!$D$23:$D$49,0),)","v":45003.331181924761},{"$f":"INDEX(Stadium!$I$23:$I$49,MATCH($D87,Stadium!$D$23:$D$49,0),)","v":0},0,{"$f":"INDEX('Economic Development'!$K$23:$K$49,MATCH($D87,'Economic Development'!$D$23:$D$49,0),)","v":6600},290211.34455369017,null,387.73039570692788,154.56054377435714,102.2802981407381,0,0,{"$f":"IF(AND('Comparison - Category'!C87=\"Residential\",Control!$B$103<>\"Remainder\"),Control!$B$103,IF(AND('Comparison - Category'!C87=\"Rural\",Control!$B$103<>\"Remainder\"),Control!$B$104,O87/$F87*$H87))","v":15},{"$f":"IF('Comparison - Category'!C87=\"Residential\",SUM(R87:V87,Control!$B$103),IF('Comparison - Category'!C87=\"Rural\",SUM(R87:V87,Control!$B$104),P87/$F87*$H87))","v":659.57123762202309},null,4.3900068734460312E-2,1.7499836408127658E-2,1.1580500699133781E-2,0,0,{"$f":"IF(OR('Comparison - Category'!C87=\"Residential\",'Comparison - Category'!C87=\"Rural\"),W87,O87/$F87*100)","v":15},7.4678753555256813E-2]
[{"$f":"Control!A74","v":"Upper Hutt city"},{"$f":"Control!B74","v":"Upper Hutt city"},{"$f":"Control!C74","v":"Business"},{"$f":"Control!D74","v":"Upper Hutt cityBusiness"},null,1448246700,768,1885737.890625,null,637837.05244114494,140490.34497252948,{"$f":"INDEX('Public transport'!$I$23:$I$49,MATCH($D88,'Public transport'!$D$23:$D$49,0),)","v":897331.42089202057},{"$f":"INDEX(Stadium!$I$23:$I$49,MATCH($D88,Stadium!$D$23:$D$49,0),)","v":0},0,{"$f":"INDEX('Economic Development'!$K$23:$K$49,MATCH($D88,'Economic Development'!$D$23:$D$49,0),)","v":103127.12124184189},1778785.9395475369,null,830.51699536607418,182.9301366829811,1168.4002876198183,0,0,{"$f":"IF(AND('Comparison - Category'!C88=\"Residential\",Control!$B$103<>\"Remainder\"),Control!$B$103,IF(AND('Comparison - Category'!C88=\"Rural\",Control!$B$103<>\"Remainder\"),Control!$B$104,O88/$F88*$H88))","v":134.28010578364828},{"$f":"IF('Comparison - Category'!C88=\"Residential\",SUM(R88:V88,Control!$B$103),IF('Comparison - Category'!C88=\"Rural\",SUM(R88:V88,Control!$B$104),P88/$F88*$H88))","v":2316.1275254525221},null,4.4042016628875795E-2,9.7007191504409774E-3,6.1959845714961444E-2,0,0,{"$f":"IF(OR('Comparison - Category'!C88=\"Residential\",'Comparison - Category'!C88=\"Rural\"),W88,O88/$F88*100)","v":7.1208255638933538E-3},0.12282340705817157]
[{"$f":"Control!A75","v":"Upper Hutt city"},{"$f":"Control!B75","v":"Upper Hutt city"},{"$f":"Control!C75","v":"Residential"},{"$f":"Control!D75","v":"Upper Hutt cityResidential"},null,9098976100,15478,587865.1053107637,null,4007372.5670194346,882666.11702674755,{"$f":"INDEX('Public transport'!$I$23:$I$49,MATCH($D89,'Public transport'!$D$23:$D$49,0),)","v":4326125.7734528361},{"$f":"INDEX(Stadium!$I$23:$I$49,MATCH($D89,Stadium!$D$23:$D$49,0),)","v":0},0,{"$f":"INDEX('Economic Development'!$K$23:$K$49,MATCH($D89,'Economic Development'!$D$23:$D$49,0),)","v":231660},9447824.4574990179,null,258.90764743632479,57.027142849641272,279.50160055904098,0,0,{"$f":"IF(AND('Comparison - Category'!C89=\"Residential\",Control!$B$103<>\"Remainder\"),Control!$B$103,IF(AND('Comparison - Category'!C89=\"Rural\",Control!$B$103<>\"Remainder\"),Control!$B$104,O89/$F89*$H89))","v":15},{"$f":"IF('Comparison - Category'!C89=\"Residential\",SUM(R89:V89,Control!$B$103),IF('Comparison - Category'!C89=\"Rural\",SUM(R89:V89,Control!$B$104),P89/$F89*$H89))","v":610.43639084500705},null,4.4042016628875802E-2,9.7007191504409774E-3,4.7545193282273114E-2,0,0,{"$f":"IF(OR('Comparison - Category'!C89=\"Residential\",'Comparison - Category'!C89=\"Rural\"),W89,O89/$F89*100)","v":15},0.10383392981435589]
[{"$f":"Control!A76","v":"Upper Hutt city"},{"$f":"Control!B76","v":"Upper Hutt city"},{"$f":"Control!C76","v":"Rural"},{"$f":"Control!D76","v":"Upper Hutt cityRural"},null,1170687000,1329,880878.1038374718,null,515594.16321208724,113565.05800072296,{"$f":"INDEX('Public transport'!$I$23:$I$49,MATCH($D90,'Public transport'!$D$23:$D$49,0),)","v":139806.44234161513},{"$f":"INDEX(Stadium!$I$23:$I$49,MATCH($D90,Stadium!$D$23:$D$49,0),)","v":0},0,{"$f":"INDEX('Economic Development'!$K$23:$K$49,MATCH($D90,'Economic Development'!$D$23:$D$49,0),)","v":19185},788150.66355442523,null,387.95648097222517,85.451510911002984,105.19672109978565,0,0,{"$f":"IF(AND('Comparison - Category'!C90=\"Residential\",Control!$B$103<>\"Remainder\"),Control!$B$103,IF(AND('Comparison - Category'!C90=\"Rural\",Control!$B$103<>\"Remainder\"),Control!$B$104,O90/$F90*$H90))","v":15},{"$f":"IF('Comparison - Category'!C90=\"Residential\",SUM(R90:V90,Control!$B$103),IF('Comparison - Category'!C90=\"Rural\",SUM(R90:V90,Control!$B$104),P90/$F90*$H90))","v":593.60471298301377},null,4.4042016628875802E-2,9.7007191504409774E-3,1.1942256328259827E-2,0,0,{"$f":"IF(OR('Comparison - Category'!C90=\"Residential\",'Comparison - Category'!C90=\"Rural\"),W90,O90/$F90*100)","v":15},6.7323773438538667E-2]
[{"$f":"Control!A77","v":"Porirua city"},{"$f":"Control!B77","v":"Porirua city"},{"$f":"Control!C77","v":"Business"},{"$f":"Control!D77","v":"Porirua cityBusiness"},null,1400176000,801,1748034.9563046193,null,589090.13050391153,4393.2232182025218,{"$f":"INDEX('Public transport'!$I$23:$I$49,MATCH($D91,'Public transport'!$D$23:$D$49,0),)","v":833671.17247082747},{"$f":"INDEX(Stadium!$I$23:$I$49,MATCH($D91,Stadium!$D$23:$D$49,0),)","v":0},0,{"$f":"INDEX('Economic Development'!$K$23:$K$49,MATCH($D91,'Economic Development'!$D$23:$D$49,0),)","v":95245.594589309359},1522400.1207822508,null,735.44335893122548,5.4846731812765572,1040.7879806127685,0,0,{"$f":"IF(AND('Comparison - Category'!C91=\"Residential\",Control!$B$103<>\"Remainder\"),Control!$B$103,IF(AND('Comparison - Category'!C91=\"Rural\",Control!$B$103<>\"Remainder\"),Control!$B$104,O91/$F91*$H91))","v":118.90835778939994},{"$f":"IF('Comparison - Category'!C91=\"Residential\",SUM(R91:V91,Control!$B$103),IF('Comparison - Category'!C91=\"Rural\",SUM(R91:V91,Control!$B$104),P91/$F91*$H91))","v":1900.6243705146701},null,4.2072577340556583E-2,3.1376221405041382E-4,5.954045580490077E-2,0,0,{"$f":"IF(OR('Comparison - Category'!C91=\"Residential\",'Comparison - Category'!C91=\"Rural\"),W91,O91/$F91*100)","v":6.8024015973212901E-3},0.10872919695682905]
[{"$f":"Control!A78","v":"Porirua city"},{"$f":"Control!B78","v":"Porirua city"},{"$f":"Control!C78","v":"Residential"},{"$f":"Control!D78","v":"Porirua cityResidential"},null,12370577500,18419,671620.47342418157,null,5204620.7861609915,38814.197854822327,{"$f":"INDEX('Public transport'!$I$23:$I$49,MATCH($D92,'Public transport'!$D$23:$D$49,0),)","v":5662061.2519900557},{"$f":"INDEX(Stadium!$I$23:$I$49,MATCH($D92,Stadium!$D$23:$D$49,0),)","v":0},0,{"$f":"INDEX('Economic Development'!$K$23:$K$49,MATCH($D92,'Economic Development'!$D$23:$D$49,0),)","v":276285},11181781.236005869,null,282.5680431164011,2.1072912674315831,307.40329290352656,0,0,{"$f":"IF(AND('Comparison - Category'!C92=\"Residential\",Control!$B$103<>\"Remainder\"),Control!$B$103,IF(AND('Comparison - Category'!C92=\"Rural\",Control!$B$103<>\"Remainder\"),Control!$B$104,O92/$F92*$H92))","v":15},{"$f":"IF('Comparison - Category'!C92=\"Residential\",SUM(R92:V92,Control!$B$103),IF('Comparison - Category'!C92=\"Rural\",SUM(R92:V92,Control!$B$104),P92/$F92*$H92))","v":607.07862728735927},null,4.207257734055659E-2,3.1376221405041382E-4,4.5770387453536877E-2,0,0,{"$f":"IF(OR('Comparison - Category'!C92=\"Residential\",'Comparison - Category'!C92=\"Rural\"),W92,O92/$F92*100)","v":15},9.0390131228763312E-2]
[{"$f":"Control!A79","v":"Porirua city"},{"$f":"Control!B79","v":"Porirua city"},{"$f":"Control!C79","v":"Rural"},{"$f":"Control!D79","v":"Porirua cityRural"},null,852855700,639,1334672.4569640062,null,358818.37398584525,2675.9389269751546,{"$f":"INDEX('Public transport'!$I$23:$I$49,MATCH($D93,'Public transport'!$D$23:$D$49,0),)","v":98052.700060448304},{"$f":"INDEX(Stadium!$I$23:$I$49,MATCH($D93,Stadium!$D$23:$D$49,0),)","v":0},0,{"$f":"INDEX('Economic Development'!$K$23:$K$49,MATCH($D93,'Economic Development'!$D$23:$D$49,0),)","v":9585},469132.01297326869,null,561.53110169928834,4.1876978512913219,153.44710494592849,0,0,{"$f":"IF(AND('Comparison - Category'!C93=\"Residential\",Control!$B$103<>\"Remainder\"),Control!$B$103,IF(AND('Comparison - Category'!C93=\"Rural\",Control!$B$103<>\"Remainder\"),Control!$B$104,O93/$F93*$H93))","v":15},{"$f":"IF('Comparison - Category'!C93=\"Residential\",SUM(R93:V93,Control!$B$103),IF('Comparison - Category'!C93=\"Rural\",SUM(R93:V93,Control!$B$104),P93/$F93*$H93))","v":734.16590449650812},null,4.207257734055659E-2,3.1376221405041377E-4,1.1496985956762474E-2,0,0,{"$f":"IF(OR('Comparison - Category'!C93=\"Residential\",'Comparison - Category'!C93=\"Rural\"),W93,O93/$F93*100)","v":15},5.5007196759459857E-2]
[{"$f":"Control!A80","v":"Kāpiti Coast district"},{"$f":"Control!B80","v":"Kāpiti Coast district"},{"$f":"Control!C80","v":"Business"},{"$f":"Control!D80","v":"Kāpiti Coast districtBusiness"},null,1775736500,1303,1362806.2164236377,null,680365.85070102068,135850.57423082506,{"$f":"INDEX('Public transport'!$I$23:$I$49,MATCH($D94,'Public transport'!$D$23:$D$49,0),)","v":857757.34053733281},{"$f":"INDEX(Stadium!$I$23:$I$49,MATCH($D94,Stadium!$D$23:$D$49,0),)","v":0},0,{"$f":"INDEX('Economic Development'!$K$23:$K$49,MATCH($D94,'Economic Development'!$D$23:$D$49,0),)","v":110003.28580084692},1783977.0512700255,null,522.15337736072195,104.25984208044902,658.29419841698609,0,0,{"$f":"IF(AND('Comparison - Category'!C94=\"Residential\",Control!$B$103<>\"Remainder\"),Control!$B$103,IF(AND('Comparison - Category'!C94=\"Rural\",Control!$B$103<>\"Remainder\"),Control!$B$104,O94/$F94*$H94))","v":84.42308963994391},{"$f":"IF('Comparison - Category'!C94=\"Residential\",SUM(R94:V94,Control!$B$103),IF('Comparison - Category'!C94=\"Rural\",SUM(R94:V94,Control!$B$104),P94/$F94*$H94))","v":1369.1305074981008},null,3.8314572612604444E-2,7.6503791092217268E-3,4.8304314324638414E-2,0,0,{"$f":"IF(OR('Comparison - Category'!C94=\"Residential\",'Comparison - Category'!C94=\"Rural\"),W94,O94/$F94*100)","v":6.1947978092947303E-3},0.1004640638557593]
[{"$f":"Control!A81","v":"Kāpiti Coast district"},{"$f":"Control!B81","v":"Kāpiti Coast district excl Ōtaki "},{"$f":"Control!C81","v":"Residential"},{"$f":"Control!D81","v":"Kāpiti Coast district excl Ōtaki Residential"},null,13678059800,18314,746863.59069564263,null,5240690.1540664574,1046423.429486055,{"$f":"INDEX('Public transport'!$I$23:$I$49,MATCH($D95,'Public transport'!$D$23:$D$49,0),)","v":4891850.7633535489},{"$f":"INDEX(Stadium!$I$23:$I$49,MATCH($D95,Stadium!$D$23:$D$49,0),)","v":0},0,{"$f":"INDEX('Economic Development'!$K$23:$K$49,MATCH($D95,'Economic Development'!$D$23:$D$49,0),)","v":272790},11451754.346906062,null,286.15759277418681,57.137896116962708,267.10990298970995,0,0,{"$f":"IF(AND('Comparison - Category'!C95=\"Residential\",Control!$B$103<>\"Remainder\"),Control!$B$103,IF(AND('Comparison - Category'!C95=\"Rural\",Control!$B$103<>\"Remainder\"),Control!$B$104,O95/$F95*$H95))","v":15},{"$f":"IF('Comparison - Category'!C95=\"Residential\",SUM(R95:V95,Control!$B$103),IF('Comparison - Category'!C95=\"Rural\",SUM(R95:V95,Control!$B$104),P95/$F95*$H95))","v":625.4053918808595},null,3.8314572612604438E-2,7.6503791092217268E-3,3.576421535570088E-2,0,0,{"$f":"IF(OR('Comparison - Category'!C95=\"Residential\",'Comparison - Category'!C95=\"Rural\"),W95,O95/$F95*100)","v":15},8.3723528880214879E-2]
[{"$f":"Control!A82","v":"Kāpiti Coast district"},{"$f":"Control!B82","v":"Ōtaki rating area"},{"$f":"Control!C82","v":"Residential"},{"$f":"Control!D82","v":"Ōtaki rating areaResidential"},null,1671453400,3227,{"$f":"F96/G96","v":517958.90920359467},null,640410.22662884567,127872.52173397626,{"$f":"INDEX('Public transport'!$I$23:$I$49,MATCH($D96,'Public transport'!$D$23:$D$49,0),)","v":335779.80532159569},{"$f":"INDEX(Stadium!$I$23:$I$49,MATCH($D96,Stadium!$D$23:$D$49,0),)","v":0},0,{"$f":"INDEX('Economic Development'!$K$23:$K$49,MATCH($D96,'Economic Development'!$D$23:$D$49,0),)","v":47820},1151882.5536844176,null,{"$f":"J96/$F96*$H96","v":198.45374237026516},{"$f":"K96/$F96*$H96","v":39.625820184064537},{"$f":"L96/$F96*$H96","v":104.05323995091283},{"$f":"M96/$F96*$H96","v":0},0,{"$f":"IF(AND('Comparison - Category'!C96=\"Residential\",Control!$B$103<>\"Remainder\"),Control!$B$103,IF(AND('Comparison - Category'!C96=\"Rural\",Control!$B$103<>\"Remainder\"),Control!$B$104,O96/$F96*$H96))","v":15},{"$f":"IF('Comparison - Category'!C96=\"Residential\",SUM(R96:V96,Control!$B$103),IF('Comparison - Category'!C96=\"Rural\",SUM(R96:V96,Control!$B$104),P96/$F96*$H96))","v":357.13280250524252},null,3.8314572612604438E-2,7.6503791092217268E-3,2.0089091644528989E-2,0,0,{"$f":"IF(OR('Comparison - Category'!C96=\"Residential\",'Comparison - Category'!C96=\"Rural\"),W96,O96/$F96*100)","v":15},6.8915026508332061E-2]
[{"$f":"Control!A83","v":"Kāpiti Coast district"},{"$f":"Control!B83","v":"Kāpiti Coast district"},{"$f":"Control!C83","v":"Rural"},{"$f":"Control!D83","v":"Kāpiti Coast districtRural"},null,2657907950,2710,980777.84132841334,null,1018366.0714789361,203340.03454914346,{"$f":"INDEX('Public transport'!$I$23:$I$49,MATCH($D97,'Public transport'!$D$23:$D$49,0),)","v":238666.54719261569},{"$f":"INDEX(Stadium!$I$23:$I$49,MATCH($D97,Stadium!$D$23:$D$49,0),)","v":0},0,{"$f":"INDEX('Economic Development'!$K$23:$K$49,MATCH($D97,'Economic Development'!$D$23:$D$49,0),)","v":38820},1499192.6532206952,null,375.78083818410931,75.033223080864758,88.068836602441223,0,0,{"$f":"IF(AND('Comparison - Category'!C97=\"Residential\",Control!$B$103<>\"Remainder\"),Control!$B$103,IF(AND('Comparison - Category'!C97=\"Rural\",Control!$B$103<>\"Remainder\"),Control!$B$104,O97/$F97*$H97))","v":15},{"$f":"IF('Comparison - Category'!C97=\"Residential\",SUM(R97:V97,Control!$B$103),IF('Comparison - Category'!C97=\"Rural\",SUM(R97:V97,Control!$B$104),P97/$F97*$H97))","v":553.88289786741529},null,3.8314572612604444E-2,7.6503791092217268E-3,8.9794888191148878E-3,0,0,{"$f":"IF(OR('Comparison - Category'!C97=\"Residential\",'Comparison - Category'!C97=\"Rural\"),W97,O97/$F97*100)","v":15},5.640498773558713E-2]
[{"$f":"Control!A84","v":"Masterton district"},{"$f":"Control!B84","v":"Masterton district"},{"$f":"Control!C84","v":"Business"},{"$f":"Control!D84","v":"Masterton districtBusiness"},null,{"$f":"INDEX(capital_values,MATCH($D98,capital_values_rows,0),MATCH(F$66&\" \"&year_current,capital_values_header,0))","v":736487600},570,1292083.5087719299,null,273406.02817382745,0,{"$f":"INDEX('Public transport'!$I$23:$I$49,MATCH($D98,'Public transport'!$D$23:$D$49,0),)","v":234850.01965952059},{"$f":"INDEX(Stadium!$I$23:$I$49,MATCH($D98,Stadium!$D$23:$D$49,0),)","v":0},0,{"$f":"INDEX('Economic Development'!$K$23:$K$49,MATCH($D98,'Economic Development'!$D$23:$D$49,0),)","v":44204.983871385281},552461.03170473338,null,479.65969855057455,0,412.01757835003616,0,0,{"$f":"IF(AND('Comparison - Category'!C98=\"Residential\",Control!$B$103<>\"Remainder\"),Control!$B$103,IF(AND('Comparison - Category'!C98=\"Rural\",Control!$B$103<>\"Remainder\"),Control!$B$104,O98/$F98*$H98))","v":77.552603283132072},{"$f":"IF('Comparison - Category'!C98=\"Residential\",SUM(R98:V98,Control!$B$103),IF('Comparison - Category'!C98=\"Rural\",SUM(R98:V98,Control!$B$104),P98/$F98*$H98))","v":969.22988018374292},null,3.7122964212001328E-2,0,3.1887844365542692E-2,0,0,{"$f":"IF(OR('Comparison - Category'!C98=\"Residential\",'Comparison - Category'!C98=\"Rural\"),W98,O98/$F98*100)","v":6.0021355242620899E-3},7.5012944101806117E-2]
[{"$f":"Control!A85","v":"Masterton district"},{"$f":"Control!B85","v":"Masterton district"},{"$f":"Control!C85","v":"Residential"},{"$f":"Control!D85","v":"Masterton districtResidential"},null,{"$f":"INDEX(capital_values,MATCH($D99,capital_values_rows,0),MATCH(F$66&\" \"&year_current,capital_values_header,0))","v":4080427400},8488,480728.958529689,null,1514775.6033986961,0,{"$f":"INDEX('Public transport'!$I$23:$I$49,MATCH($D99,'Public transport'!$D$23:$D$49,0),)","v":681440.65095401835},{"$f":"INDEX(Stadium!$I$23:$I$49,MATCH($D99,Stadium!$D$23:$D$49,0),)","v":0},0,{"$f":"INDEX('Economic Development'!$K$23:$K$49,MATCH($D99,'Economic Development'!$D$23:$D$49,0),)","v":125940},{"$f":"SUM(J99:O99)","v":2322156.2543527144},null,178.46083923170315,0,80.28282881173638,0,0,{"$f":"IF(AND('Comparison - Category'!C99=\"Residential\",Control!$B$103<>\"Remainder\"),Control!$B$103,IF(AND('Comparison - Category'!C99=\"Rural\",Control!$B$103<>\"Remainder\"),Control!$B$104,O99/$F99*$H99))","v":15},{"$f":"IF('Comparison - Category'!C99=\"Residential\",SUM(R99:V99,Control!$B$103),IF('Comparison - Category'!C99=\"Rural\",SUM(R99:V99,Control!$B$104),P99/$F99*$H99))","v":273.74366804343953},null,3.7122964212001328E-2,0,1.6700227308394662E-2,0,0,{"$f":"IF(OR('Comparison - Category'!C99=\"Residential\",'Comparison - Category'!C99=\"Rural\"),W99,O99/$F99*100)","v":15},5.6909632906413536E-2]
[{"$f":"Control!A86","v":"Masterton district"},{"$f":"Control!B86","v":"Masterton district"},{"$f":"Control!C86","v":"Rural"},{"$f":"Control!D86","v":"Masterton districtRural"},null,3970969155,4016,988787.14018924301,null,1474141.4582802611,0,{"$f":"INDEX('Public transport'!$I$23:$I$49,MATCH($D100,'Public transport'!$D$23:$D$49,0),)","v":318803.32397192332},{"$f":"INDEX(Stadium!$I$23:$I$49,MATCH($D100,Stadium!$D$23:$D$49,0),)","v":0},0,{"$f":"INDEX('Economic Development'!$K$23:$K$49,MATCH($D100,'Economic Development'!$D$23:$D$49,0),)","v":53700},1846644.7822521846,null,367.06709618532398,0,79.383297801773736,0,0,{"$f":"IF(AND('Comparison - Category'!C100=\"Residential\",Control!$B$103<>\"Remainder\"),Control!$B$103,IF(AND('Comparison - Category'!C100=\"Rural\",Control!$B$103<>\"Remainder\"),Control!$B$104,O100/$F100*$H100))","v":15},{"$f":"IF('Comparison - Category'!C100=\"Residential\",SUM(R100:V100,Control!$B$103),IF('Comparison - Category'!C100=\"Rural\",SUM(R100:V100,Control!$B$104),P100/$F100*$H100))","v":461.4503939870977},null,3.7122964212001321E-2,0,8.0283505493994028E-3,0,0,{"$f":"IF(OR('Comparison - Category'!C100=\"Residential\",'Comparison - Category'!C100=\"Rural\"),W100,O100/$F100*100)","v":15},4.6503629471082726E-2]
[{"$f":"Control!A87","v":"Carterton district"},{"$f":"Control!B87","v":"Carterton district"},{"$f":"Control!C87","v":"Business"},{"$f":"Control!D87","v":"Carterton districtBusiness"},null,133894500,236,567349.57627118647,null,51755.413166160877,907.8133151201223,{"$f":"INDEX('Public transport'!$I$23:$I$49,MATCH($D101,'Public transport'!$D$23:$D$49,0),)","v":46131.373733396082},{"$f":"INDEX(Stadium!$I$23:$I$49,MATCH($D101,Stadium!$D$23:$D$49,0),)","v":0},0,{"$f":"INDEX('Economic Development'!$K$23:$K$49,MATCH($D101,'Economic Development'!$D$23:$D$49,0),)","v":8367.9471866379026},107162.54740131498,null,219.30259816169863,3.8466665894920435,195.47192259913595,0,0,{"$f":"IF(AND('Comparison - Category'!C101=\"Residential\",Control!$B$103<>\"Remainder\"),Control!$B$103,IF(AND('Comparison - Category'!C101=\"Rural\",Control!$B$103<>\"Remainder\"),Control!$B$104,O101/$F101*$H101))","v":35.457403333211452},{"$f":"IF('Comparison - Category'!C101=\"Residential\",SUM(R101:V101,Control!$B$103),IF('Comparison - Category'!C101=\"Rural\",SUM(R101:V101,Control!$B$104),P101/$F101*$H101))","v":454.0785906835381},null,3.8653875376629267E-2,6.7800642679133371E-4,3.4453524030782508E-2,0,0,{"$f":"IF(OR('Comparison - Category'!C101=\"Residential\",'Comparison - Category'!C101=\"Rural\"),W101,O101/$F101*100)","v":6.2496571454674415E-3},8.0035062979670543E-2]
[{"$f":"Control!A88","v":"Carterton district"},{"$f":"Control!B88","v":"Carterton district"},{"$f":"Control!C88","v":"Residential"},{"$f":"Control!D88","v":"Carterton districtResidential"},null,1318035500,2599,507131.78145440551,null,509471.79958973249,8936.3653973912897,{"$f":"INDEX('Public transport'!$I$23:$I$49,MATCH($D102,'Public transport'!$D$23:$D$49,0),)","v":245676.36002622923},{"$f":"INDEX(Stadium!$I$23:$I$49,MATCH($D102,Stadium!$D$23:$D$49,0),)","v":0},0,{"$f":"INDEX('Economic Development'!$K$23:$K$49,MATCH($D102,'Economic Development'!$D$23:$D$49,0),)","v":37815},801899.52501335298,null,196.02608679866583,3.4383860705622507,94.527264342527587,0,0,{"$f":"IF(AND('Comparison - Category'!C102=\"Residential\",Control!$B$103<>\"Remainder\"),Control!$B$103,IF(AND('Comparison - Category'!C102=\"Rural\",Control!$B$103<>\"Remainder\"),Control!$B$104,O102/$F102*$H102))","v":15},{"$f":"IF('Comparison - Category'!C102=\"Residential\",SUM(R102:V102,Control!$B$103),IF('Comparison - Category'!C102=\"Rural\",SUM(R102:V102,Control!$B$104),P102/$F102*$H102))","v":308.99173721175566},null,3.8653875376629274E-2,6.7800642679133371E-4,1.8639585961548778E-2,0,0,{"$f":"IF(OR('Comparison - Category'!C102=\"Residential\",'Comparison - Category'!C102=\"Rural\"),W102,O102/$F102*100)","v":15},6.0840510366629193E-2]
[{"$f":"Control!A89","v":"Carterton district"},{"$f":"Control!B89","v":"Carterton district"},{"$f":"Control!C89","v":"Rural"},{"$f":"Control!D89","v":"Carterton districtRural"},null,2277084800,2175,1046935.540229885,null,880181.52081216779,15438.781287488588,{"$f":"INDEX('Public transport'!$I$23:$I$49,MATCH($D103,'Public transport'!$D$23:$D$49,0),)","v":197292.24307696373},{"$f":"INDEX(Stadium!$I$23:$I$49,MATCH($D103,Stadium!$D$23:$D$49,0),)","v":0},0,{"$f":"INDEX('Economic Development'!$K$23:$K$49,MATCH($D103,'Economic Development'!$D$23:$D$49,0),)","v":27885},1120797.5451766201,null,404.68115899410014,7.0982902471211888,90.70907727676493,0,0,{"$f":"IF(AND('Comparison - Category'!C103=\"Residential\",Control!$B$103<>\"Remainder\"),Control!$B$103,IF(AND('Comparison - Category'!C103=\"Rural\",Control!$B$103<>\"Remainder\"),Control!$B$104,O103/$F103*$H103))","v":15},{"$f":"IF('Comparison - Category'!C103=\"Residential\",SUM(R103:V103,Control!$B$103),IF('Comparison - Category'!C103=\"Rural\",SUM(R103:V103,Control!$B$104),P103/$F103*$H103))","v":517.48852651798632},null,3.8653875376629267E-2,6.7800642679133371E-4,8.6642466313491592E-3,0,0,{"$f":"IF(OR('Comparison - Category'!C103=\"Residential\",'Comparison - Category'!C103=\"Rural\"),W103,O103/$F103*100)","v":15},4.9220720509689418E-2]
[{"$f":"Control!A90","v":"South Wairarapa district"},{"$f":"Control!B90","v":"South Wairarapa district"},{"$f":"Control!C90","v":"Business"},{"$f":"Control!D90","v":"South Wairarapa districtBusiness"},null,287242000,315,911879.36507936509,null,106253.99427313199,0,{"$f":"INDEX('Public transport'!$I$23:$I$49,MATCH($D104,'Public transport'!$D$23:$D$49,0),)","v":97203.84782684542},{"$f":"INDEX(Stadium!$I$23:$I$49,MATCH($D104,Stadium!$D$23:$D$49,0),)","v":0},0,{"$f":"INDEX('Economic Development'!$K$23:$K$49,MATCH($D104,'Economic Development'!$D$23:$D$49,0),)","v":17179.416761534638},220637.25886151206,null,337.31426753375234,0,308.58364389474735,0,0,{"$f":"IF(AND('Comparison - Category'!C104=\"Residential\",Control!$B$103<>\"Remainder\"),Control!$B$103,IF(AND('Comparison - Category'!C104=\"Rural\",Control!$B$103<>\"Remainder\"),Control!$B$104,O104/$F104*$H104))","v":54.537830988998849},{"$f":"IF('Comparison - Category'!C104=\"Residential\",SUM(R104:V104,Control!$B$103),IF('Comparison - Category'!C104=\"Rural\",SUM(R104:V104,Control!$B$104),P104/$F104*$H104))","v":700.43574241749866},null,3.6991106548879341E-2,0,3.3840402109317373E-2,0,0,{"$f":"IF(OR('Comparison - Category'!C104=\"Residential\",'Comparison - Category'!C104=\"Rural\"),W104,O104/$F104*100)","v":5.9808164410269518E-3},7.6812325099223672E-2]
[{"$f":"Control!A91","v":"South Wairarapa district"},{"$f":"Control!B91","v":"South Wairarapa district"},{"$f":"Control!C91","v":"Residential"},{"$f":"Control!D91","v":"South Wairarapa districtResidential"},null,2151921500,3536,608575.08484162891,null,796019.57491324248,0,{"$f":"INDEX('Public transport'!$I$23:$I$49,MATCH($D105,'Public transport'!$D$23:$D$49,0),)","v":402554.14906353183},{"$f":"INDEX(Stadium!$I$23:$I$49,MATCH($D105,Stadium!$D$23:$D$49,0),)","v":0},0,{"$f":"INDEX('Economic Development'!$K$23:$K$49,MATCH($D105,'Economic Development'!$D$23:$D$49,0),)","v":51705},1250278.7239767744,null,225.11865806369977,0,113.84449916955084,0,0,{"$f":"IF(AND('Comparison - Category'!C105=\"Residential\",Control!$B$103<>\"Remainder\"),Control!$B$103,IF(AND('Comparison - Category'!C105=\"Rural\",Control!$B$103<>\"Remainder\"),Control!$B$104,O105/$F105*$H105))","v":15},{"$f":"IF('Comparison - Category'!C105=\"Residential\",SUM(R105:V105,Control!$B$103),IF('Comparison - Category'!C105=\"Rural\",SUM(R105:V105,Control!$B$104),P105/$F105*$H105))","v":353.96315723325063},null,3.6991106548879341E-2,0,1.8706730197339067E-2,0,0,{"$f":"IF(OR('Comparison - Category'!C105=\"Residential\",'Comparison - Category'!C105=\"Rural\"),W105,O105/$F105*100)","v":15},5.810057309138713E-2]
[{"$f":"Control!A92","v":"South Wairarapa district"},{"$f":"Control!B92","v":"South Wairarapa district"},{"$f":"Control!C92","v":"Rural"},{"$f":"Control!D92","v":"South Wairarapa districtRural"},null,3915526700,3282,1193030.6825106642,null,1448396.653546819,0,{"$f":"INDEX('Public transport'!$I$23:$I$49,MATCH($D106,'Public transport'!$D$23:$D$49,0),)","v":332651.28003616468},{"$f":"INDEX(Stadium!$I$23:$I$49,MATCH($D106,Stadium!$D$23:$D$49,0),)","v":0},0,{"$f":"INDEX('Economic Development'!$K$23:$K$49,MATCH($D106,'Economic Development'!$D$23:$D$49,0),)","v":45045},1826092.9335829837,null,441.31525092834215,0,101.35627057774671,0,0,{"$f":"IF(AND('Comparison - Category'!C106=\"Residential\",Control!$B$103<>\"Remainder\"),Control!$B$103,IF(AND('Comparison - Category'!C106=\"Rural\",Control!$B$103<>\"Remainder\"),Control!$B$104,O106/$F106*$H106))","v":15},{"$f":"IF('Comparison - Category'!C106=\"Residential\",SUM(R106:V106,Control!$B$103),IF('Comparison - Category'!C106=\"Rural\",SUM(R106:V106,Control!$B$104),P106/$F106*$H106))","v":557.67152150608888},null,3.6991106548879341E-2,0,8.4956968889055139E-3,0,0,{"$f":"IF(OR('Comparison - Category'!C106=\"Residential\",'Comparison - Category'!C106=\"Rural\"),W106,O106/$F106*100)","v":15},4.6637223380011271E-2]
[{"$f":"Control!A93","v":"Tararua district"},{"$f":"Control!B93","v":"Tararua district"},{"$f":"Control!C93","v":"Rural"},{"$f":"Control!D93","v":"Tararua districtRural"},null,15976500,10,1597650,null,6281.3559619099451,0,{"$f":"INDEX('Public transport'!$I$23:$I$49,MATCH($D107,'Public transport'!$D$23:$D$49,0),)","v":0},{"$f":"INDEX(Stadium!$I$23:$I$49,MATCH($D107,Stadium!$D$23:$D$49,0),)","v":0},0,{"$f":"INDEX('Economic Development'!$K$23:$K$49,MATCH($D107,'Economic Development'!$D$23:$D$49,0),)","v":135},{"$f":"SUM(J107:O107)","v":6416.3559619099451},null,628.13559619099453,0,0,0,0,{"$f":"IF(AND('Comparison - Category'!C107=\"Residential\",Control!$B$103<>\"Remainder\"),Control!$B$103,IF(AND('Comparison - Category'!C107=\"Rural\",Control!$B$103<>\"Remainder\"),Control!$B$104,O107/$F107*$H107))","v":15},{"$f":"IF('Comparison - Category'!C107=\"Residential\",SUM(R107:V107,Control!$B$103),IF('Comparison - Category'!C107=\"Rural\",SUM(R107:V107,Control!$B$104),P107/$F107*$H107))","v":643.13559619099453},null,3.931622046073887E-2,0,0,0,0,{"$f":"IF(OR('Comparison - Category'!C107=\"Residential\",'Comparison - Category'!C107=\"Rural\"),W107,O107/$F107*100)","v":15},4.0161211541388575E-2]
["Region wide",null,null,{"$f":"Control!D94","v":"Region wide"},null,{"$f":"SUM(F81:F107)","v":208896062055},{"$f":"SUM(G81:G107)","v":208539},1001712.2075726843,null,{"$f":"SUM(J81:J107)","v":73337780.000000015},7874549.209999999,90658479.919999987,0,0,4620623.2899999991,176491432.42000002,null,351.67417125813404,37.760558984170821,434.73153664302595,0,0,{"$f":"IF(AND('Comparison - Category'!C108=\"Residential\",Control!$B$103<>\"Remainder\"),Control!$B$103,IF(AND('Comparison - Category'!C108=\"Rural\",Control!$B$103<>\"Remainder\"),Control!$B$104,O108/$F108*$H108))","v":22.157118284829213},{"$f":"IF('Comparison - Category'!C108=\"Residential\",SUM(R108:V108,Control!$B$103),IF('Comparison - Category'!C108=\"Rural\",SUM(R108:V108,Control!$B$104),P108/$F108*$H108))","v":846.32338517016012},null,3.510730613040039E-2,3.7696015580833296E-3,4.3398845831823588E-2,0,0,{"$f":"IF(OR('Comparison - Category'!C108=\"Residential\",'Comparison - Category'!C108=\"Rural\"),W108,O108/$F108*100)","v":2.2119245545104819E-3},8.4487678074817801E-2]
[]
["By category"]
["Region Wide",null,{"$f":"C81","v":"Wellington CBD"},{"$f":"A111&C111","v":"Region WideWellington CBD"},null,{"$f":"SUMIF($C$81:$C$107,$C111,F$81:F$107)","v":13133427700},3331,{"$f":"F111/G111","v":3942788.2617832483},null,{"$f":"SUMIF($C$81:$C$107,$C111,J$81:J$107)","v":6132891.7858683774},6309.834416525875,27047320.236460216,0,0,640168.96900812886,{"$f":"SUMIF($C$81:$C$107,$C111,P$81:P$107)","v":33826690.825753249},null,{"$f":"J111/$F111*$H111","v":1841.1563452021549},1.894276318380629,8119.879986928916,0,0,192.18522035668835,{"$f":"IF('Comparison - Category'!C111=\"Residential\",SUM(R111:U111,Control!$B$103),IF('Comparison - Category'!C111=\"Rural\",SUM(R111:U111,Control!$B$104),P111/$F111*$H111))","v":10155.11582880614}]
["Region Wide",null,{"$f":"C82","v":"Business"},{"$f":"A112&C112","v":"Region WideBusiness"},null,17347577950,8226,{"$f":"F112/G112","v":2108871.6204716749},null,6870604.9380738977,1143365.1553001236,8451825.9975742009,0,0,1050969.3209918714,{"$f":"SUMIF($C$81:$C$107,$C112,P$81:P$107)","v":17516765.411940094},null,{"$f":"J112/$F112*$H112","v":835.23035960052243},138.99406215659172,1027.4527106217117,0,0,127.76189168391336,{"$f":"IF('Comparison - Category'!C112=\"Residential\",SUM(R112:U112,Control!$B$103),IF('Comparison - Category'!C112=\"Rural\",SUM(R112:U112,Control!$B$104),P112/$F112*$H112))","v":2129.439024062739}]
["Region Wide",null,{"$f":"C83","v":"Residential"},{"$f":"A113&C113","v":"Region WideResidential"},null,161864351250,181537,{"$f":"F113/G113","v":891632.84206525388},null,54104511.194383621,6321222.6742616724,53697922.581322126,0,0,2715870,{"$f":"SUMIF($C$81:$C$107,$C113,P$81:P$107)","v":116839526.44996741},null,298.03572381599133,34.8205747272549,295.79602274644907,0,0,14.960421291527348,{"$f":"IF('Comparison - Category'!C113=\"Residential\",SUM(R113:V113,Control!$B$103),IF('Comparison - Category'!C113=\"Rural\",SUM(R113:V113,Control!$B$104),P113/$F113*$H113))","v":643.65232128969524}]
["Region Wide",null,{"$f":"C84","v":"Rural"},{"$f":"A114&C114","v":"Region WideRural"},null,16550705155,15445,{"$f":"F114/G114","v":1071589.8449336356},null,6229772.0816741008,403651.54602167645,1461411.1046434692,0,0,213615,{"$f":"SUMIF($C$81:$C$107,$C114,P$81:P$107)","v":8308449.7323392462},null,403.352028596575,26.134771513219583,94.620336979182213,0,0,13.830689543541599,{"$f":"IF('Comparison - Category'!C114=\"Residential\",SUM(R114:V114,Control!$B$103),IF('Comparison - Category'!C114=\"Rural\",SUM(R114:V114,Control!$B$104),P114/$F114*$H114))","v":539.10713708897674}]
["Region Wide",null,"Total",{"$f":"A115&C115","v":"Region WideTotal"},null,{"$f":"SUM(F111:F114)","v":208896062055},{"$f":"SUM(G111:G114)","v":208539},{"$f":"F115/G115","v":1001712.2075726843},null,{"$f":"SUM(J111:J114)","v":73337780},{"$f":"SUM(K111:K114)","v":7874549.2099999981},90658479.920000017,0,0,4620623.29,{"$f":"SUM(P111:P114)","v":176491432.41999999},null,351.67417125813398,37.760558984170821,434.73153664302606,0,0,22.15711828482922,{"$f":"IF('Comparison - Category'!C115=\"Residential\",SUM(R115:V115,Control!$B$103),IF('Comparison - Category'!C115=\"Rural\",SUM(R115:V115,Control!$B$104),P115/$F115*$H115))","v":846.32338517016001}]
[]
[]
[null,null,null,null,null,null,null,null,null,{"$f":"IF(ABS(J78-SUM(J69:J77))>tolerance_dollar,1,0)","v":0},0,0,0,0,0,0]
[null,null,null,null,null,null,null,null,null,{"$f":"J108-SUM(J81:J107)","v":0},0,0,0,0,0,0]
[null,null,null,null,null,{"$f":"F108-F78","v":0},{"$f":"G108-G78","v":0},null,null,{"$f":"IF(ABS(J108-J78)>tolerance_dollar,1,0)","v":0},{"$f":"IF(ABS(K108-K78)>tolerance_dollar,1,0)","v":0},0,0,0,0,{"$f":"IF(ABS(P108-P78)>tolerance_dollar,1,0)","v":0},null,{"$f":"IF(ABS(R108-R78)>tolerance_dollar,1,0)","v":0},0,0,0,0,0,0]
[]
[]
["Delta"]
[null,null,null,null,null,null,null,null,null,"Rates",null,null,null,null,null,null,null,"Rates / average CV",null,null,null,null,null,null,null,"Cents/$ OR Economic Development Rate $/property"]
[{"$f":"Control!A$66","v":"TA full name"},{"$f":"Control!B$66","v":"Rating area"},{"$f":"Control!C$66","v":"Category group"},{"$f":"Control!D$66","v":"Concatenated  name"},null,"CV","CV Assessments","Average CV",null,"General rate","River management rate","Public transport rate","Stadium purposes rate","Remission of rates","Economic development rate",null,null,"General rate","River management rate","Public transport rate","Remission of rates","Stadium purposes rate","Economic development rate","District-Wide rates",null,"General rate","River management rate","Public transport rate","Remission of rates","Stadium purposes rate","Economic development rate","District-Wide rates"]
[]
["By TA"]
[{"$f":"Control!A42","v":"Wellington city"},null,{"$f":"Control!B42","v":"District wide"},{"$f":"Control!C42","v":"Wellington cityDistrict wide"},null,{"$f":"F69-F10","v":40611946850},512,502573.7364974994,null,{"$f":"J69-J10","v":5026597.1011687517},{"$f":"K69-K10","v":-1756.7649999999849},5622085.651474148,0,0,-29089.341882507782,10617836.645760387,null,{"$f":"R69-R10","v":60.556437022528087},-2.6596122352256391E-2,66.347006865347907,0,0,-0.53505658600805717,{"$f":"X69-X10","v":126.34179117951567}]
[{"$f":"Control!A43","v":"Hutt city"},null,{"$f":"Control!B43","v":"District wide"},{"$f":"Control!C43","v":"Hutt cityDistrict wide"},null,260169000,390,-513.56611982826144,null,1843884.4584750552,{"$f":"K70-K11","v":791577.03526633792},{"$f":"L70-L11","v":1187831.3421593569},0,0,39018.128926808131,3862310.9648275599,null,42.932139026563902,18.525024864937663,26.269702401136612,{"$f":"U70-U11","v":0},0,0.75239466508520181,{"$f":"X70-X11","v":88.479260957723454}]
[{"$f":"Control!A44","v":"Upper Hutt city"},null,{"$f":"Control!B44","v":"District wide"},{"$f":"Control!C44","v":"Upper Hutt cityDistrict wide"},null,174478000,252,372.92474003881216,null,737124.17726325337,66755.783775682095,320024.93909110408,0,0,5082.029758086137,1128986.9298881274,null,38.280074984525641,2.9127083343594506,14.034723791041586,0,0,3.8002230212441646E-4,55.22788713222883]
[{"$f":"Control!A45","v":"Porirua city"},null,{"$f":"Control!B45","v":"District wide"},{"$f":"Control!C45","v":"Porirua cityDistrict wide"},null,171907550,462,-8676.4066286591114,null,841610.06278737821,-10487.875950248301,290427.28362651635,0,0,15104.473159626417,1136653.9436232746,null,36.009566013924768,-0.59572650176989317,7.0644631703313507,0,0,0.32160621066657313,42.799908893152747]
[{"$f":"Control!A46","v":"Kāpiti Coast district"},null,{"$f":"Control!B46","v":"District wide"},{"$f":"Control!C46","v":"Kāpiti Coast districtDistrict wide"},null,154349500,77,3718.5837170359446,null,969265.75385623705,231947.66902741953,1000383.7467407053,0,0,-9992.3046711019124,2191604.864953259,null,37.148251337434488,8.9251949061521501,38.518190359372738,0,0,-0.44772986112613822,84.143906741833234]
[{"$f":"Control!A47","v":"Masterton district"},null,{"$f":"Control!B47","v":"District wide"},{"$f":"Control!C47","v":"Masterton districtDistrict wide"},null,147301500,205,738.8057768571889,null,341499.59269967536,0,238456.97772488906,0,0,-36882.780661166587,543073.78976339847,null,22.561694498375772,0,17.024689884219683,0,0,-3.138757054116617,36.447627328478859]
[{"$f":"Control!A48","v":"Carterton district"},null,{"$f":"Control!B48","v":"District wide"},{"$f":"Control!C48","v":"Carterton districtDistrict wide"},null,63323500,91,-896.34156367077958,null,202776.89300227142,373.63999999999942,88259.063878338318,0,0,-19967.542870623118,271442.05400998658,null,35.900714902242129,-1.7400164501248483E-2,16.136452938333349,0,0,-4.3327686150693498,47.686999061004826]
[{"$f":"Control!A49","v":"South Wairarapa district"},null,{"$f":"Control!B49","v":"District wide"},{"$f":"Control!C49","v":"South Wairarapa districtDistrict wide"},null,102498800,110,640.94182222650852,null,261131.16828070139,0,100680.08659821749,0,0,-33334.003946485871,328477.25093243318,null,32.020621012655056,0,12.507940897787265,0,0,-4.9965743326912246,39.531987577751124]
[{"$f":"Control!A50","v":"Tararua district"},null,{"$f":"Control!B50","v":"District wide"},{"$f":"Control!C50","v":"Tararua districtDistrict wide"},null,0,0,0,null,875.28048747880348,0,0,0,0,-117,758.28048747880348,null,87.528048747880348,0,0,0,0,-11.7,75.828048747880416]
["Region wide",null,null,{"$f":"Control!C51","v":"Region wide"},null,41685974700,2099,191742.78616694896,null,10224764.4880208,1078409.4871191913,8848149.0912932754,0,0,{"$f":"O78-O19","v":-70178.342187364586},{"$f":"P78-P19","v":20081144.724245906},null,45.953305573289981,4.8399054147036296,38.440455318153226,0,0,-0.56523025318358933,88.66843605296333]
[]
["By TA & Category"]
[{"$f":"Control!A67","v":"Wellington city"},{"$f":"Control!B67","v":"Wellington city"},{"$f":"Control!C67","v":"Wellington CBD"},{"$f":"Control!D67","v":"Wellington cityWellington CBD"},null,{"$f":"F81-F22","v":3236440550},55,921729.91318739951,null,{"$f":"J81-J22","v":99071.143222074956},-1284.2147318578209,-190267.49269345775,0,0,-85418.759203933878,-177899.32340717316,null,{"$f":"R81-R22","v":-0.66924779122200562},-0.42380950224931491,-194.40198167721246,0,0,-29.300655165919352,-224.79569413660283,null,{"$f":"Z81-Z22","v":-1.4269426961212472E-2},-2.8686839262880414E-5,-6.9268320281720086E-2,0,0,-2.4570521350484684E-3,{"$f":"AF81-AF22","v":-8.6023486217243927E-2}]
[{"$f":"Control!A68","v":"Wellington city"},{"$f":"Control!B68","v":"Wellington city"},{"$f":"Control!C68","v":"Business"},{"$f":"Control!D68","v":"Wellington cityBusiness"},null,2054814000,0,1090087.0026525203,null,{"$f":"J82-J23","v":231257.14204090228},{"$f":"K82-K23","v":-333.83719452665991},402565.09784593247,0,0,-12990.582678573905,620497.82001373358,null,122.68283397395362,-0.17710195996109235,213.56238612516336,0,0,{"$f":"W82-W23","v":-6.891555797651904},329.17656234150354,null,-1.0911914735044825E-2,-2.8686839262880414E-5,-8.1230755741897379E-3,0,{"$f":"AD82-AD23","v":0},-2.4570521350484693E-3,-2.1520729283545939E-2]
[{"$f":"Control!A69","v":"Wellington city"},{"$f":"Control!B69","v":"Wellington city"},{"$f":"Control!C69","v":"Residential"},{"$f":"Control!D69","v":"Wellington cityResidential"},null,34838394050,450,467200.40667502803,null,4632514.8081648611,-135.54497480349528,5391412.5692871511,0,0,80096,10103887.832477205,null,61.020879368143369,-5.5890023707469982E-3,71.331858223096106,0,0,1,133.34714858886878,null,-8.3937805654191004E-3,-2.8686839262880414E-5,-7.3761778656160175E-3,0,0,1,-1.6362509905093706E-2]
[{"$f":"Control!A70","v":"Wellington city"},{"$f":"Control!B70","v":"Wellington city"},{"$f":"Control!C70","v":"Rural"},{"$f":"Control!D70","v":"Wellington cityRural"},null,482298250,7,563330.06697073148,null,63754.007740917965,-3.168098812011408,18375.477034515818,0,0,-10776,71350.316676621791,null,72.628271757828884,-9.9791250824455835E-3,21.050915252026599,0,{"$f":"V84-V25","v":0},-13,80.669207884773073,null,-8.3937805654190935E-3,-2.8686839262880414E-5,-1.8817361844267943E-3,0,0,-13,-1.2193455069296338E-2]
[{"$f":"Control!A71","v":"Hutt city"},{"$f":"Control!B71","v":"Hutt city"},{"$f":"Control!C71","v":"Business"},{"$f":"Control!D71","v":"Hutt cityBusiness"},null,-66679000,-40,7075.6765086078085,null,268628.16873433301,116822.77339424123,321106.68577913987,0,0,1687.1289268081891,708244.75683452282,null,127.8550943405661,55.045388142424883,155.63807253351524,0,0,3.1906318253649602,341.72918684187152,null,5.9908676174577208E-3,2.5840038224234727E-3,7.2687205781174422E-3,0,0,1.2910660932989333E-4,1.5972698627328558E-2]
[{"$f":"Control!A72","v":"Hutt city"},{"$f":"Control!B72","v":"Hutt city"},{"$f":"Control!C72","v":"Residential"},{"$f":"Control!D72","v":"Hutt cityResidential"},null,358925000,475,1570.3930545200128,null,1564135.1338087916,669497.03871617792,867452.23668699525,0,0,44311,3145395.4092119634,null,38.495258007532897,16.581381217207138,19.590092894278257,0,0,1,75.66673211901832,null,5.9908676174577208E-3,2.5840038224234675E-3,2.989544170343944E-3,0,0,1,1.1716916580158068E-2]
[{"$f":"Control!A73","v":"Hutt city"},{"$f":"Control!B73","v":"Hutt city"},{"$f":"Control!C73","v":"Rural"},{"$f":"Control!D73","v":"Hutt cityRural"},null,-32077000,-45,15809.301780693582,null,11121.155931930058,5257.2231559181891,-727.5803067782108,0,0,-6980,8670.7987810700433,null,58.905203585034656,25.18030438301912,7.9897589887732039,0,0,-13,79.075266956826908,null,5.9908676174577208E-3,2.5840038224234693E-3,7.100470423549235E-4,0,0,-13,7.7552360548122784E-3]
[{"$f":"Control!A74","v":"Upper Hutt city"},{"$f":"Control!B74","v":"Upper Hutt city"},{"$f":"Control!C74","v":"Business"},{"$f":"Control!D74","v":"Upper Hutt cityBusiness"},null,22201000,20,-20740.317931149621,null,91347.118704819586,8309.5460796020925,97990.932428582571,0,0,2667.0297580861807,200314.62697109045,null,99.915479675799702,6.2178386977840603,99.763270957467967,0,0,-2.4829355062536251E-2,205.87175997598933,null,5.7199675012548981E-3,4.3167546601155168E-4,5.906909370534473E-3,0,0,7.6164128165473119E-5,1.2134716465966394E-2]
[{"$f":"Control!A75","v":"Upper Hutt city"},{"$f":"Control!B75","v":"Upper Hutt city"},{"$f":"Control!C75","v":"Residential"},{"$f":"Control!D75","v":"Upper Hutt cityResidential"},null,134447000,229,-11.417739928117953,null,571981.32125756331,51739.998644359643,215526.56358234445,0,0,18846,858093.8834842667,null,33.621317463089071,2.536611117567837,9.9364349829053822,0,0,1,47.094363563562297,null,5.7199675012549051E-3,4.3167546601155342E-4,1.6911482564112221E-3,0,0,1,8.0148357136434339E-3]
[{"$f":"Control!A76","v":"Upper Hutt city"},{"$f":"Control!B76","v":"Upper Hutt city"},{"$f":"Control!C76","v":"Rural"},{"$f":"Control!D76","v":"Upper Hutt cityRural"},null,17830000,3,11453.518618768896,null,73795.737300870765,6706.2390517204185,6507.4430801759008,0,0,-16431,70578.419432766968,null,54.775164297099593,4.8641663039120715,4.6695723355026644,0,0,-13,51.308902936514301,null,5.7199675012549051E-3,4.3167546601155168E-4,3.7976425322890604E-4,0,0,-13,5.0808201388962762E-3]
[{"$f":"Control!A77","v":"Porirua city"},{"$f":"Control!B77","v":"Porirua city"},{"$f":"Control!C77","v":"Business"},{"$f":"Control!D77","v":"Porirua cityBusiness"},null,-34449000,-2,-38546.612811196363,null,61873.4966569565,-1202.767228716576,53572.71331973176,0,0,-1671.5268403736118,112571.9159075981,null,78.884661737009992,-1.4841816716737508,69.307956763334346,0,0,-1.7854422475651432,144.92299458110506,null,5.3231387174352066E-3,-7.6304210758794009E-5,5.1639839637509441E-3,0,0,4.6829832596503862E-5,1.0457648303023856E-2]
[{"$f":"Control!A78","v":"Porirua city"},{"$f":"Control!B78","v":"Porirua city"},{"$f":"Control!C78","v":"Residential"},{"$f":"Control!D78","v":"Porirua cityResidential"},null,198616550,452,-5841.5931423014263,null,731493.46761043929,-8664.5350520155625,233840.23244439624,0,0,24747,981416.16500281915,null,33.604536768621699,-0.5352607950628725,5.2815686565371038,0,0,1,39.350844630095935,null,5.3231387174352066E-3,-7.6304210758794009E-5,1.1742780686668924E-3,0,0,1,6.5879804257487073E-3]
[{"$f":"Control!A79","v":"Porirua city"},{"$f":"Control!B79","v":"Porirua city"},{"$f":"Control!C79","v":"Rural"},{"$f":"Control!D79","v":"Porirua cityRural"},null,{"$f":"F93-F34","v":7740000},12,-13199.472860555165,null,48243.098519982654,-620.57366951615586,3014.3378623883036,0,0,-7971,42665.862712854811,null,66.195734130129495,-1.0698979963822186,1.8707697018136571,0,0,-13,53.996605835560899,null,5.3231387174352135E-3,-7.6304210758794064E-5,2.5138228402748694E-4,0,0,-13,4.5447393396753424E-3]
[{"$f":"Control!A80","v":"Kāpiti Coast district"},{"$f":"Control!B80","v":"Kāpiti Coast district"},{"$f":"Control!C80","v":"Business"},{"$f":"Control!D80","v":"Kāpiti Coast districtBusiness"},null,12616500,-6,15884.902443500236,null,86584.404326935997,{"$f":"K94-K35","v":20738.804214795033},{"$f":"L94-L35","v":165604.39656856179},{"$f":"M94-M35","v":0},{"$f":"N94-N35","v":0},{"$f":"O94-O35","v":849.69532889808761},{"$f":"P94-P35","v":273777.30043919105},null,68.538827036745886,16.321133130082316,129.52953533923892,0,0,1.0360839318088182,215.42557943787574,null,4.6366921294788074E-3,1.1215115326512143E-3,9.0470349580172513E-3,0,0,3.8640967879909408E-6,1.4809102716935252E-2]
[{"$f":"Control!A81","v":"Kāpiti Coast district"},{"$f":"Control!B81","v":"Kāpiti Coast district excl Ōtaki "},{"$f":"Control!C81","v":"Residential"},{"$f":"Control!D81","v":"Kāpiti Coast district excl Ōtaki Residential"},null,{"$f":"F95-F36","v":93019000},76,1988.0122330918675,null,{"$f":"J95-J36","v":665536.34985860344},159474.10543097963,776348.20263784658,0,0,19306,1620664.6579274312,null,{"$f":"R95-R36","v":35.299285711578278},8.5059559889291805,41.454537230542144,0,0,1,86.259778931049595,null,{"$f":"Z95-Z36","v":4.6366921294788074E-3},1.1215115326512143E-3,5.4698450898736199E-3,0,0,1,1.1356505227414132E-2]
[{"$f":"Control!A82","v":"Kāpiti Coast district"},{"$f":"Control!B82","v":"Ōtaki rating area"},{"$f":"Control!C82","v":"Residential"},{"$f":"Control!D82","v":"Ōtaki rating areaResidential"},null,21655000,22,3201.2180959503748,null,{"$f":"J96-J37","v":84793.093264326802},20159.368917597167,20821.183058841736,0,0,3524,129297.64524076576,null,{"$f":"R96-R37","v":25.094262381335739},6.0179721914345521,5.7822189640941275,0,0,1,37.894453536864432,null,{"$f":"Z96-Z37","v":4.6366921294788144E-3},1.1215115326512143E-3,9.983577546940868E-4,0,0,1,6.9326104480636197E-3]
[{"$f":"Control!A83","v":"Kāpiti Coast district"},{"$f":"Control!B83","v":"Kāpiti Coast district"},{"$f":"Control!C83","v":"Rural"},{"$f":"Control!D83","v":"Kāpiti Coast districtRural"},null,27059000,-15,15328.685365110636,null,{"$f":"J97-J38","v":132351.90640637057},31575.390464047669,37609.964475454966,0,0,-33672,167865.26134587312,null,{"$f":"R97-R38","v":50.638025313443052},12.000326168903008,14.286604412657468,0,0,-13,63.924955895003507,null,{"$f":"Z97-Z38","v":4.6366921294788144E-3},1.1215115326512143E-3,1.3372187177789398E-3,0,0,-13,5.8005092126060878E-3]
[{"$f":"Control!A84","v":"Masterton district"},{"$f":"Control!B84","v":"Masterton district"},{"$f":"Control!C84","v":"Business"},{"$f":"Control!D84","v":"Masterton districtBusiness"},null,2379000,-1,6429.2180538913235,null,{"$f":"J98-J39","v":25251.275889686134},0,49187.655271467607,0,0,-1412.7806611666019,73026.150499987183,null,{"$f":"R98-R39","v":45.062934480274521},0,86.864575919120227,0,0,-2.3384029034736784,129.58910749592121,null,{"$f":"Z98-Z39","v":3.3194163058548401E-3},0,6.596986257075773E-3,0,0,-2.1189936547382632E-4,9.7045031974567902E-3]
[{"$f":"Control!A85","v":"Masterton district"},{"$f":"Control!B85","v":"Masterton district"},{"$f":"Control!C85","v":"Residential"},{"$f":"Control!D85","v":"Masterton districtResidential"},null,{"$f":"F99-F40","v":105562000},151,3954.8911193495733,null,{"$f":"J99-J40","v":171130.07370485482},0,123154.27439195802,0,0,10370,304654.34809681284,null,{"$f":"R99-R40","v":17.294288950565885},0,13.317928180566867,0,0,1,31.612217131132752,null,{"$f":"Z99-Z40","v":3.3194163058548401E-3},0,2.654811416775784E-3,0,0,1,6.1531492716242545E-3]
[{"$f":"Control!A86","v":"Masterton district"},{"$f":"Control!B86","v":"Masterton district"},{"$f":"Control!C86","v":"Rural"},{"$f":"Control!D86","v":"Masterton districtRural"},null,39360500,55,-3792.6767761697993,null,145118.24310513446,0,66115.048061463342,0,0,-45840,165393.29116659798,null,31.539902250679518,0,15.589236728696228,0,0,-13,34.129138979375739,null,3.3194163058548332E-3,0,1.6012542108789054E-3,0,0,-13,3.7411971280908868E-3]
[{"$f":"Control!A87","v":"Carterton district"},{"$f":"Control!B87","v":"Carterton district"},{"$f":"Control!C87","v":"Business"},{"$f":"Control!D87","v":"Carterton districtBusiness"},null,7267000,8,11965.804341361858,null,8968.1622617422399,47.346718192006733,11304.881301676454,0,0,502.45712937687495,20822.847410987568,null,31.639217001967751,7.2690287175746882E-2,42.724148775804224,0,0,0.95963992417186006,75.395695989119588,null,4.8640185884761128E-3,-1.519424171621069E-6,6.9504204934627105E-3,0,0,3.8139065065453427E-5,1.1851058722832639E-2]
[{"$f":"Control!A88","v":"Carterton district"},{"$f":"Control!B88","v":"Carterton district"},{"$f":"Control!C88","v":"Residential"},{"$f":"Control!D88","v":"Carterton districtResidential"},null,32787000,41,4689.0527601130889,null,75188.172067845822,202.76959077767788,36666.473447331664,0,0,2969,115026.41510595509,null,26.251408330375483,2.4157842800869744E-2,12.818942771418293,0,0,1,40.094508944594622,null,4.8640185884761128E-3,-1.519424171621069E-6,2.3773700104002191E-3,0,0,1,7.3976851147500508E-3]
[{"$f":"Control!A89","v":"Carterton district"},{"$f":"Control!B89","v":"Carterton district"},{"$f":"Control!C89","v":"Rural"},{"$f":"Control!D89","v":"Carterton districtRural"},null,23269500,42,-9705.4818048077868,null,118620.55867268331,123.5236910303156,40287.709129330236,0,0,-23439,135592.79149304389,null,47.643670883699599,-8.1858649483720569E-2,17.101700836242912,0,0,-13,51.663513070458862,null,4.8640185884761128E-3,-1.519424171621069E-6,1.6980797964876917E-3,0,0,-13,5.5079658006599655E-3]
[{"$f":"Control!A90","v":"South Wairarapa district"},{"$f":"Control!B90","v":"South Wairarapa district"},{"$f":"Control!C90","v":"Business"},{"$f":"Control!D90","v":"South Wairarapa districtBusiness"},null,8136000,3,17308.852258852217,null,12974.238421125076,0,16824.71973624971,0,0,31.996053514147206,29830.954210888973,null,38.340691085012168,0,50.9582333479662,0,0,-0.42185076747708905,88.877073665501484,null,3.5701998496299805E-3,0,5.0416202520317116E-3,0,0,-1.6287832297686485E-4,8.4489417786848403E-3]
[{"$f":"Control!A91","v":"South Wairarapa district"},{"$f":"Control!B91","v":"South Wairarapa district"},{"$f":"Control!C91","v":"Residential"},{"$f":"Control!D91","v":"South Wairarapa districtResidential"},null,64650000,73,5840.0285320706898,null,98434.514338219888,0,33511.333950631786,0,0,4497,136442.84828885179,null,23.679137250814222,0,7.2771254724962517,0,0,1,31.956262723310488,null,3.5701998496299805E-3,0,1.0260971262268485E-3,0,0,1,4.7373246741149802E-3]
[{"$f":"Control!A92","v":"South Wairarapa district"},{"$f":"Control!B92","v":"South Wairarapa district"},{"$f":"Control!C92","v":"Rural"},{"$f":"Control!D92","v":"South Wairarapa districtRural"},null,29712800,34,-3340.5921198776923,null,149722.41552135651,0,50344.032911335933,0,0,-37863,162203.44843269256,null,41.477123457448556,0,14.439014689560523,0,0,-13,42.916138147009065,null,3.5701998496299875E-3,0,1.2306231002500992E-3,0,0,-13,3.8176358246141615E-3]
[{"$f":"Control!A93","v":"Tararua district"},{"$f":"Control!B93","v":"Tararua district"},{"$f":"Control!C93","v":"Rural"},{"$f":"Control!D93","v":"Tararua districtRural"},null,0,0,0,null,875.28048747880348,0,0,0,0,-117,758.28048747880348,null,87.528048747880348,0,0,0,0,-13,74.528048747880348,null,5.4785496665652952E-3,0,0,0,0,-13,4.7462240633355524E-3]
["Region wide",null,null,{"$f":"Control!D94","v":"Region wide"},null,41685974700,2099,191742.78616694896,null,10224764.488020815,1078409.4871191876,8848149.0912932456,0,0,-70178.342187365517,20081144.724245876,null,45.953305573290038,4.8399054147036082,38.44045531815317,0,0,-0.56523025318359643,88.668436052963216,null,-2.6374355358038531E-3,-2.9483009815525502E-4,-5.5278260710605043E-3,0,0,-5.9340956521186997E-4,-9.0535012702314954E-3]
[]
["By category"]
["Region Wide",null,{"$f":"C140","v":"Wellington CBD"},{"$f":"A170&C170","v":"Region WideWellington CBD"},null,{"$f":"F111-F52","v":3236440550},55,921729.91318739951,null,{"$f":"J111-J52","v":99071.143222074956},-1284.2147318578209,-190267.49269345775,0,0,{"$f":"O111-O52","v":-85418.759203933878},{"$f":"P111-P52","v":-177899.32340717316},null,{"$f":"R111-R52","v":-0.66924779122200562},-0.42380950224931491,-194.40198167721246,0,0,-29.300655165919352,{"$f":"X111-X52","v":-224.79569413660283}]
["Region Wide",null,{"$f":"C141","v":"Business"},{"$f":"A171&C171","v":"Region WideBusiness"},null,2006285500,-18,247967.63575551775,null,786884.00703650061,144381.86598358687,1118157.082251342,0,0,-10336.582983430475,2039086.3722879998,null,{"$f":"R112-R53","v":97.272944384923562},17.81704986686141,137.87618037876427,0,0,-0.97487493123726665,{"$f":"X112-X53","v":251.99129969931187}]
["Region Wide",null,{"$f":"C142","v":"Residential"},{"$f":"A172&C172","v":"Region WideResidential"},null,35848055600,1969,189858.05117823614,null,8595206.9340754971,892273.20127307158,7698733.0694874972,0,0,208666,17394879.204836071,null,{"$f":"R113-R54","v":44.598005178438285},4.5871841844599643,39.630171860797759,0,0,0.99800037020506238,{"$f":"X113-X54","v":89.815361223695959}]
["Region Wide",null,{"$f":"C143","v":"Rural"},{"$f":"A173&C173","v":"Region WideRural"},null,595193050,93,32278.21745838807,null,743602.40368672553,43038.634594388423,221526.4322478862,0,0,-183089,825078.47052900027,null,{"$f":"R114-R55","v":45.993399233145169},2.6451342394254205,13.856614181137459,0,0,-12.009852405390134,{"$f":"X114-X55","v":49.495147653707988}]
["Region Wide",null,"Total",{"$f":"A174&C174","v":"Region WideTotal"},null,41685974700,2099,191742.78616694896,null,10224764.4880208,1078409.4871191885,8848149.0912932754,0,0,-70178.342187364586,20081144.724245876,null,45.953305573289981,4.8399054147036153,38.440455318153283,0,0,-0.56523025318358933,{"$f":"X115-X56","v":88.668436052963216}]
[]
[]
[null,null,null,null,null,null,null,null,null,{"$f":"IF(ABS(J137-SUM(J128:J136))>tolerance_dollar,1,0)","v":0},{"$f":"IF(ABS(K137-SUM(K128:K136))>tolerance_dollar,1,0)","v":0},{"$f":"IF(ABS(L137-SUM(L128:L136))>tolerance_dollar,1,0)","v":0},{"$f":"IF(ABS(M137-SUM(M128:M136))>tolerance_dollar,1,0)","v":0},{"$f":"IF(ABS(O137-SUM(O128:O136))>tolerance_dollar,1,0)","v":0},{"$f":"IF(ABS(P137-SUM(P128:P136))>tolerance_dollar,1,0)","v":0},{"$f":"IF(ABS(Q137-SUM(Q128:Q136))>tolerance_dollar,1,0)","v":0}]
[null,null,null,null,null,null,null,null,null,{"$f":"IF(ABS(J167-SUM(J140:J166))>tolerance_dollar,1,0)","v":0},0,0,0,0,0,{"$f":"IF(ABS(P167-SUM(P140:P166))>tolerance_dollar,1,0)","v":0}]
[null,null,null,null,null,{"$f":"F167-F137","v":0},{"$f":"G167-G137","v":0},null,null,{"$f":"IF(ABS(J167-J137)>tolerance_dollar,1,0)","v":0},0,0,0,0,0,{"$f":"IF(ABS(P167-P137)>tolerance_dollar,1,0)","v":0},null,{"$f":"IF(ABS(R167-R137)>tolerance_dollar,1,0)","v":0},0,0,0,0,0,0]

{"sheet":"Rates Check - ex-KCDC &  UHC","index":20,"n_rows":43,"n_cols":9,"rows_kept":43,"cut":false,"hidden":false,"merged":[[27,0,28,0],[7,3,7,5],[6,7,6,8],[6,3,6,5],[18,0,21,0],[14,0,17,0],[22,0,23,0]]}
["Wellington Regional Council"]
[{"$f":"B5&\" Check \"&year_current","v":"Porirua city Check 2022/23"}]
[{"$f":"check_total","v":0}]
["Printed: ",{"$f":"NOW()","v":"2023-01-19T08:30:06.840"}]
["TA to view","Porirua city"]
[]
[null,null,null,"Excluding GST",null,null,null,"Including GST"]
[]
["Total"]
["Rate","Categories",null,"Rateable Capital Value","Cents in Dollar","Rates Set",null,"Cents in Dollar","Rates Set"]
[null,null,null,"$","Cents / $","$",null,"Cents / $","$"]
["General rate ","District wide",null,{"$f":"INDEX(capital_values,MATCH($B$5&B12,capital_values_rows,0),MATCH(\"CV \"&year_current,capital_values_header,0))","v":14623609200},{"$f":"INDEX(Gen!$E$10:$E$19,MATCH(B5,Gen!$A$10:$A$19,0),)","v":4.2072577340556583E-2},{"$f":"+E12*D12/100","v":6152529.2906507477},null,{"$f":"+E12*(1+GST)","v":4.8383463941640066E-2},{"$f":"+F12*(1+GST)","v":7075408.6842483589}]
["Remission of Rates","District wide",null,{"$f":"INDEX(capital_values,MATCH($B$5&B13,capital_values_rows,0),MATCH(\"CV \"&year_current,capital_values_header,0))","v":14623609200},{"$f":"INDEX(Remission!$E$10:$E$19,MATCH(B5,Remission!$A$10:$A$19,0),)","v":0},{"$f":"+E13*D13/100","v":0},null,0,0]
["River management rate","District wide",null,{"$f":"INDEX(capital_values,MATCH($B$5&B14,capital_values_rows,0),MATCH(\"CV \"&year_current,capital_values_header,0))","v":14623609200},{"$f":"INDEX('River management'!$D$10:$D$19,MATCH(B5,'River management'!$A$10:$A$19,0),)","v":3.1376221405041377E-4},{"$f":"+E14*D14/100","v":45883.360000000001},null,3.608265461579758E-4,52765.863999999994]
["Public transport rate","Wellington CBD",null,{"$f":"IFERROR(INDEX(capital_values,MATCH($B$5&B15,capital_values_rows,0),MATCH(\"CV \"&year_current,capital_values_header,0)),0)","v":0},{"$f":"IFERROR(INDEX('Public transport'!$J$23:$J$50,MATCH($B$5&B15,'Public transport'!$D$23:$D$50,0),),0)","v":0},0,null,0,0]
[null,"Business",null,1400176000,{"$f":"IFERROR(INDEX('Public transport'!$J$23:$J$50,MATCH($B$5&B16,'Public transport'!$D$23:$D$50,0),),0)","v":5.954045580490077E-2},833671.17247082735,null,6.8471524175635887E-2,958721.84834145138]
[null,"Residential",null,12370577500,{"$f":"IFERROR(INDEX('Public transport'!$J$23:$J$50,MATCH($B$5&B17,'Public transport'!$D$23:$D$50,0),),0)","v":4.5770387453536877E-2},5662061.2519900557,null,5.2635945571567408E-2,6511370.4397885632]
[null,"Rural",null,852855700,{"$f":"IFERROR(INDEX('Public transport'!$J$23:$J$50,MATCH($B$5&B18,'Public transport'!$D$23:$D$50,0),),0)","v":1.1496985956762474E-2},98052.700060448289,null,1.3221533850276844E-2,112760.60506951553]
["Stadium purposes rate","Wellington CBD",null,0,{"$f":"IFERROR(INDEX(Stadium!$J$23:$J$49,MATCH($B$5&B19,Stadium!$D$23:$D$49,0),),0)","v":0},0,null,0,0]
[null,"Business",null,1400176000,{"$f":"IFERROR(INDEX(Stadium!$J$23:$J$49,MATCH($B$5&B20,Stadium!$D$23:$D$49,0),),0)","v":0},0,null,0,0]
[null,"Residential",null,12370577500,{"$f":"IFERROR(INDEX(Stadium!$J$23:$J$49,MATCH($B$5&B21,Stadium!$D$23:$D$49,0),),0)","v":0},0,null,0,0]
[null,"Rural",null,852855700,{"$f":"IFERROR(INDEX(Stadium!$J$23:$J$49,MATCH($B$5&B22,Stadium!$D$23:$D$49,0),),0)","v":0},0,null,0,0]
["Economic development rate","Wellington CBD",null,0,{"$f":"IFERROR(INDEX('Economic Development'!$L$23:$L$49,MATCH($B$5&B23,'Economic Development'!$D$23:$D$49,0),),0)","v":0},0,null,0,0]
[null,"Business",null,1400176000,{"$f":"IFERROR(INDEX('Economic Development'!$L$23:$L$49,MATCH($B$5&B24,'Economic Development'!$D$23:$D$49,0),),0)","v":6.8024015973212901E-3},95245.594589309345,null,7.8227618369194826E-3,109532.43377770574]
[]
["Rate","Categories",null,"Number of assessments","Amount per rating unit","Rates Set",null,"Amount per rating unit","Rates Set"]
[null,null,null,"#","$","$",null,"$","$"]
[{"$f":"+A23","v":"Economic development rate"},"Residential",null,{"$f":"IFERROR(INDEX('Economic Development'!$G$23:$G$49,MATCH($B$5&B28,'Economic Development'!$D$23:$D$49,0),),0)","v":18419},{"$f":"INDEX(WRS_value,MATCH(B28,WRS_categories,0),)","v":15},{"$f":"D28*E28","v":276285},null,{"$f":"+E28*(1+GST)","v":17.25},{"$f":"+F28*(1+GST)","v":317727.75}]
[null,"Rural",null,{"$f":"IFERROR(INDEX('Economic Development'!$G$23:$G$49,MATCH($B$5&B29,'Economic Development'!$D$23:$D$49,0),),0)","v":639},{"$f":"INDEX(WRS_value,MATCH(B29,WRS_categories,0),)","v":15},{"$f":"D29*E29","v":9585},null,{"$f":"+E29*(1+GST)","v":17.25},{"$f":"+F29*(1+GST)","v":11022.75}]
[]
[]
["District-Wide Rates",null,null,null,null,{"$f":"SUM(F12:F30)","v":13173313.369761389},null,null,{"$f":"SUM(I12:I30)","v":15149310.375225594}]
[]
[]
["Rate","Categories",null,"Rateable Capital Value or Land Value","Cents in Dollar","Rates Set",null,"Cents in Dollar","Rates Set"]
[null,null,null,"$","Cents / $","$",null,"Cents / $","$"]
["Greytown river management rate","Greytown Urban -CV",null,{"$f":"INDEX('Capital values'!$E$48:$F$49,MATCH(B37,'Capital values'!$A$48:$A$49,0),MATCH(\"CV \"&year_current,capital_values_header,0))","v":1131557500},{"$f":"IF($B$5=\"South Wairarapa District\",INDEX('River management'!$D$29:$D$30,MATCH(A37,'River management'!$A$29:$A$30,0),),0)","v":0},{"$f":"+E37*D37/100","v":0},null,{"$f":"+E37*(1+GST)","v":0},{"$f":"+F37*(1+GST)","v":0}]
["Donalds Creek stopbank river management rate","Featherston Urban - LV",null,{"$f":"INDEX('Capital values'!$E$48:$F$49,MATCH(B38,'Capital values'!$A$48:$A$49,0),MATCH(\"CV \"&year_current,capital_values_header,0))","v":282168500},{"$f":"IF($B$5=\"South Wairarapa District\",INDEX('River management'!$D$29:$D$30,MATCH(A38,'River management'!$A$29:$A$30,0),),0)","v":0},{"$f":"+E38*D38/100","v":0},null,{"$f":"+E38*(1+GST)","v":0},{"$f":"+F38*(1+GST)","v":0}]
[]
[]
["Total regional rates (excl special rates)",null,null,null,null,{"$f":"SUM(F32:F40)","v":13173313.369761389},null,null,{"$f":"SUM(I32:I40)","v":15149310.375225594}]
[]
["Check",null,null,null,null,{"$f":"IF(ABS(INDEX('Comparison - TA'!$B$43:$L$43,,MATCH(B5,'Comparison - TA'!$B$29:$L$29,0))-F41)>tolerance_dollar,1,0)","v":0}]

{"sheet":"Rates Check - UHC","index":21,"n_rows":54,"n_cols":9,"rows_kept":54,"cut":false,"hidden":false,"merged":[[6,7,6,8],[7,3,7,5],[14,0,17,0],[18,0,21,0],[22,0,23,0],[49,0,50,0],[27,0,28,0],[43,0,45,0],[46,0,48,0],[6,3,6,5]]}
["Wellington Regional Council"]
[{"$f":"B5&\" Check \"&year_current","v":"Upper Hutt city Check 2022/23"}]
[{"$f":"check_total","v":0}]
["Printed: ",{"$f":"NOW()","v":"2023-01-19T08:30:06.840"}]
["TA to view","Upper Hutt city"]
[]
[null,null,null,"Excluding GST",null,null,null,"Including GST"]
[]
[]
["Rate","Categories",null,"Rateable Capital Value","Cents in Dollar","Rates Set",null,"Cents in Dollar","Rates Set"]
[null,null,null,"$","Cents / $","$",null,"Cents / $","$"]
["General rate ","District wide",null,{"$f":"'UHCC Adjustments'!$D$20","v":11608555800},{"$f":"Gen!E35","v":4.4097951926102316E-2},{"$f":"+E12*D12/100","v":5119135.355998762},null,{"$f":"+E12*(1+GST)","v":5.0712644715017657E-2},5887005.6593985762]
["Remission of rates","District wide",null,{"$f":"'UHCC Adjustments'!$D$20","v":11608555800},{"$f":"Remission!E35","v":0},{"$f":"+E13*D13/100","v":0},null,0,0]
["River management rate","District wide",null,{"$f":"'UHCC Adjustments'!$D$20","v":11608555800},{"$f":"'River management'!D24","v":9.7130394902102297E-3},{"$f":"+E14*D14/100","v":1127543.6090970901},null,1.1169995413741763E-2,1296675.1504616535]
["Public transport rate","Wellington CBD",null,0,0,0,null,0,0]
[null,"Business",null,{"$f":"'UHCC Adjustments'!D16","v":1377756700},{"$f":"'Public transport'!J55","v":6.0418064962041156E-2},832413.93802487443,null,6.9480774706347323E-2,957276.02872860548]
[null,"Residential",null,{"$f":"'UHCC Adjustments'!D17","v":9066226100},{"$f":"'Public transport'!J57","v":4.7572966052310643E-2},4313072.6647787271,null,5.4708910960157238E-2,4960033.5644955356]
[null,"Rural",null,{"$f":"'UHCC Adjustments'!D18","v":1164573000},{"$f":"'Public transport'!J59","v":1.1927403581010937E-2},138903.32170548651,null,1.3716514118162576E-2,159738.81996130946]
["Stadium purposes rate","Wellington CBD",null,0,0,0,null,0,0]
[null,"Business",null,{"$f":"'UHCC Adjustments'!D16","v":1377756700},{"$f":"Stadium!J55","v":0},0,null,0,0]
[null,"Residential",null,{"$f":"'UHCC Adjustments'!D17","v":9066226100},{"$f":"Stadium!J57","v":0},0,null,0,0]
[null,"Rural",null,{"$f":"'UHCC Adjustments'!D18","v":1164573000},{"$f":"Stadium!J59","v":0},0,null,0,0]
["Economic development rate","Wellington CBD",null,0,{"$f":"IFERROR(INDEX('Economic Development'!$L$23:$L$49,MATCH($B$5&B23,'Economic Development'!$D$23:$D$49,0),),0)","v":0},0,null,0,0]
[null,"Business",null,{"$f":"'UHCC Adjustments'!D16","v":1377756700},{"$f":"IFERROR(INDEX('Economic Development'!$L$23:$L$49,MATCH($B$5&B24,'Economic Development'!$D$23:$D$49,0),),0)","v":7.1208255638933538E-3},98107.651301853475,null,8.1889493984773562E-3,112823.79899713148]
[]
["Rate","Categories",null,"Number of assessments","Amount per rating unit","Rates Set",null,"Amount per rating unit","Rates Set"]
[null,null,null,"#","$","$",null,"$","$"]
[{"$f":"+A23","v":"Economic development rate"},"Residential",null,{"$f":"IFERROR(INDEX('Economic Development'!$G$23:$G$49,MATCH($B$5&B28,'Economic Development'!$D$23:$D$49,0),),0)","v":15444},{"$f":"INDEX(WRS_value,MATCH(B28,WRS_categories,0),)","v":15},{"$f":"D28*E28","v":231660},null,{"$f":"+E28*(1+GST)","v":17.25},{"$f":"+F28*(1+GST)","v":266409}]
[null,"Rural",null,{"$f":"IFERROR(INDEX('Economic Development'!$G$23:$G$49,MATCH($B$5&B29,'Economic Development'!$D$23:$D$49,0),),0)","v":1279},{"$f":"INDEX(WRS_value,MATCH(B29,WRS_categories,0),)","v":15},{"$f":"D29*E29","v":19185},null,{"$f":"+E29*(1+GST)","v":17.25},{"$f":"+F29*(1+GST)","v":22062.75}]
[]
[]
["District-Wide Rates",null,null,null,null,{"$f":"SUM(F12:F30)","v":11880021.540906794},null,null,{"$f":"SUM(I12:I30)","v":13662024.772042813}]
[]
["Total regional rates (excl special rates)",null,null,null,null,{"$f":"SUM(F32:F33)","v":11880021.540906794},null,null,{"$f":"SUM(I32:I33)","v":13662024.772042813}]
[]
[]
[]
["Trentham Military Camp"]
["Rate","Categories",null,"Rateable Capital Value","Cents in Dollar","Rates Set",null,"Cents in Dollar","Rates Set"]
[null,null,null,"$","Cents / $","$",null,"Cents / $","$"]
["General rate ","Trentham Military Camp",null,{"$f":"Gen!B34","v":109354000},{"$f":"IF(B5=\"Upper Hutt City\",Gen!E34,0)","v":3.8104163244055925E-2},{"$f":"+E41*D41/100","v":41668.42667390492},null,{"$f":"+E41*(1+GST)","v":4.3819787730664313E-2},47918.690674990656]
["Remission of rates","Trentham Military Camp",null,{"$f":"Remission!B34","v":109354000},{"$f":"IF(B5=\"Upper Hutt City\",Remission!E34,0)","v":0},{"$f":"+E42*D42/100","v":0}]
["River management rate","Trentham Military Camp",null,{"$f":"'River management'!B23","v":109354000},{"$f":"IF(B5=\"Upper Hutt City\",'River management'!D23,0)","v":8.3928442516138652E-3},9177.9109029098254,null,9.6517708893559435E-3,10554.597538346299]
["Public transport rate","Business",null,{"$f":"'Public transport'!E54","v":70490000},{"$f":"IF(B5=\"Upper Hutt City\",'Public transport'!J54,0)","v":9.2094599045461939E-2},64917.482867146122,null,0.10590878890228123,74655.105297218033]
[null,"Residential",null,{"$f":"'Public transport'!E56","v":32750000},{"$f":"IF(B5=\"Upper Hutt City\",'Public transport'!J56,0)","v":3.985682037895831E-2},13053.108674108847,null,4.5835343435802055E-2,15011.074975225174]
[null,"Rural",null,{"$f":"'Public transport'!E58","v":6114000},{"$f":"IF(B5=\"Upper Hutt City\",'Public transport'!J58,0)","v":1.477135485980698E-2},903.12063612859868,null,1.6987058088778026E-2,1038.5887315478883]
["Stadium purposes Rate","Business",null,{"$f":"Stadium!E54","v":70490000},{"$f":"IF(B5=\"Upper Hutt City\",Stadium!J54,0)","v":0},0,null,0,0]
[null,"Residential",null,{"$f":"Stadium!E56","v":32750000},{"$f":"IF(B5=\"Upper Hutt City\",Stadium!J56,0)","v":0},0,null,0,0]
[null,"Rural",null,{"$f":"Stadium!E58","v":6114000},{"$f":"IF(B5=\"Upper Hutt City\",Stadium!J58,0)","v":0},0,null,0,0]
["Economic development rate","Business",null,{"$f":"'UHCC Adjustments'!D9","v":70490000},{"$f":"IF(B5=\"Upper Hutt City\",'Economic Development'!L30,0)","v":7.1208255638933538E-3},5019.4699399884248,null,8.1889493984773562E-3,5772.3904309866884]
[null,"No change for residential or rural as it is a fixed charge per property"]
["Trentham Military Camp",null,null,null,null,{"$f":"SUM(F41:F51)","v":134739.51969418675},null,null,{"$f":"SUM(I41:I51)","v":154950.4476483147}]
[]
["Check",null,null,null,null,{"$f":"ROUND(INDEX('Comparison - TA'!$B$43:$L$43,,MATCH(B5,'Comparison - TA'!$B$29:$L$29,0))-F34-F52,0)","v":0}]

{"sheet":"Rates Check - KCDC","index":22,"n_rows":38,"n_cols":9,"rows_kept":38,"cut":false,"hidden":false,"merged":[[24,0,25,0],[29,0,30,0],[6,3,6,5],[6,7,6,8],[7,3,7,5],[14,0,18,0],[19,0,23,0]]}
["Wellington Regional Council"]
[{"$f":"B5&\" Check \"&year_current","v":"Kāpiti Coast district Check 2022/23"}]
[{"$f":"check_total","v":0}]
["Printed: ",{"$f":"NOW()","v":"2023-01-19T08:30:06.840"}]
["TA to view","Kāpiti Coast district"]
[]
[null,null,null,"Excluding GST",null,null,null,"Including GST"]
[]
["Total"]
["Rate","Categories",null,"Rateable Capital Value","Cents in Dollar","Rates Set",null,"Cents in Dollar","Rates Set"]
[null,null,null,"$","Cents / $","$",null,"Cents / $","$"]
["General rate","District wide",null,{"$f":"INDEX(capital_values,MATCH($B$5&B12,capital_values_rows,0),MATCH(\"CV \"&year_current,capital_values_header,0))","v":19783157650},{"$f":"INDEX(Gen!$E$10:$E$19,MATCH(B5,Gen!$A$10:$A$19,0),)","v":3.8314572612604438E-2},{"$f":"+E12*D12/100","v":7579832.3028752599},null,{"$f":"+E12*(1+GST)","v":4.4061758504495098E-2},8716807.1483065486]
["Remission of rates","District wide",null,{"$f":"INDEX(capital_values,MATCH($B$5&B13,capital_values_rows,0),MATCH(\"CV \"&year_current,capital_values_header,0))","v":19783157650},{"$f":"INDEX(Remission!$E$10:$E$19,MATCH(B5,Remission!$A$10:$A$19,0),)","v":0},{"$f":"+E13*D13/100","v":0},null,0,0]
["River management rate","District wide",null,{"$f":"INDEX(capital_values,MATCH($B$5&B14,capital_values_rows,0),MATCH(\"CV \"&year_current,capital_values_header,0))","v":19783157650},{"$f":"INDEX('River management'!$D$10:$D$19,MATCH(B5,'River management'!$A$10:$A$19,0),)","v":7.6503791092217268E-3},{"$f":"+E14*D14/100","v":1513486.56},null,8.7979359756049855E-3,1740509.544]
["Public transport rate","Wellington CBD",null,{"$f":"IFERROR(INDEX(capital_values,MATCH($B$5&B15,capital_values_rows,0),MATCH(\"CV \"&year_current,capital_values_header,0)),0)","v":0},{"$f":"IFERROR(INDEX('Public transport'!$J$23:$J$52,MATCH($B$5&B15,'Public transport'!$D$23:$D$52,0),),0)","v":0},0,null,0,0]
[null,"Business",null,1775736500,{"$f":"IFERROR(INDEX('Public transport'!$J$23:$J$52,MATCH($B$5&B16,'Public transport'!$D$23:$D$52,0),),0)","v":4.8304314324638414E-2},857757.3405373327,null,5.5549961473334172E-2,986420.94161793252]
[null,"Residential - excl-Otaki",null,{"$f":"IFERROR(INDEX(capital_values,MATCH(\"Kāpiti Coast district excl Ōtaki Residential\",capital_values_rows,0),MATCH(\"CV \"&year_current,capital_values_header,0)),0)","v":13678059800},{"$f":"IFERROR(INDEX('Public transport'!$J$23:$J$52,MATCH(\"Kāpiti Coast district excl Ōtaki Residential\",'Public transport'!$D$23:$D$52,0),),0)","v":3.576421535570088E-2},4891850.7633535489,null,4.1128847659056007E-2,5625628.3778565805]
[null,"Residential - Otaki",null,{"$f":"IFERROR(INDEX(capital_values,MATCH(\"Ōtaki rating areaResidential\",capital_values_rows,0),MATCH(\"CV \"&year_current,capital_values_header,0)),0)","v":1671453400},{"$f":"IFERROR(INDEX('Public transport'!$J$23:$J$52,MATCH(\"Ōtaki rating areaResidential\",'Public transport'!$D$23:$D$52,0),),0)","v":2.0089091644528989E-2},335779.80532159569,null,{"$f":"+E18*(1+GST)","v":2.3102455391208334E-2},{"$f":"+F18*(1+GST)","v":386146.77611983503}]
[null,"Rural",null,2657907950,{"$f":"IFERROR(INDEX('Public transport'!$J$23:$J$52,MATCH($B$5&B19,'Public transport'!$D$23:$D$52,0),),0)","v":8.9794888191148878E-3},238666.54719261572,null,{"$f":"+E19*(1+GST)","v":1.0326412141982121E-2},{"$f":"+F19*(1+GST)","v":274466.52927150804}]
["Stadium purposes rate","Wellington CBD",null,0,{"$f":"IFERROR(INDEX(Stadium!$J$23:$J$49,MATCH($B$5&B20,Stadium!$D$23:$D$49,0),),0)","v":0},0,null,0,0]
[null,"Business",null,1775736500,{"$f":"IFERROR(INDEX(Stadium!$J$23:$J$49,MATCH($B$5&B21,Stadium!$D$23:$D$49,0),),0)","v":0},0,null,0,0]
[null,"Residential - excl-Otaki",null,{"$f":"IFERROR(INDEX(capital_values,MATCH(\"Kāpiti Coast district excl Ōtaki Residential\",capital_values_rows,0),MATCH(\"CV \"&year_current,capital_values_header,0)),0)","v":13678059800},{"$f":"IFERROR(INDEX(Stadium!$J$23:$J$49,MATCH(\"Kāpiti Coast district excl Ōtaki Residential\",Stadium!$D$23:$D$49,0),),0)","v":0},0,null,0,0]
[null,"Residential - Otaki",null,{"$f":"IFERROR(INDEX(capital_values,MATCH(\"Ōtaki rating areaResidential\",capital_values_rows,0),MATCH(\"CV \"&year_current,capital_values_header,0)),0)","v":1671453400},{"$f":"IFERROR(INDEX(Stadium!$J$23:$J$49,MATCH(\"Ōtaki rating areaResidential\",Stadium!$D$23:$D$49,0),),0)","v":0},{"$f":"+E23*D23/100","v":0},null,{"$f":"+E23*(1+GST)","v":0},{"$f":"+F23*(1+GST)","v":0}]
[null,"Rural",null,2657907950,{"$f":"IFERROR(INDEX(Stadium!$J$23:$J$49,MATCH($B$5&B24,Stadium!$D$23:$D$49,0),),0)","v":0},0,null,0,0]
["Economic development rate","Wellington CBD",null,0,{"$f":"IFERROR(INDEX('Economic Development'!$L$23:$L$49,MATCH($B$5&B25,'Economic Development'!$D$23:$D$49,0),),0)","v":0},0,null,0,0]
[null,"Business",null,1775736500,{"$f":"IFERROR(INDEX('Economic Development'!$L$23:$L$49,MATCH($B$5&B26,'Economic Development'!$D$23:$D$49,0),),0)","v":6.1947978092947303E-3},110003.28580084693,null,7.124017480688939E-3,126503.77867097396]
[]
["Rate","Categories",null,"Number of assessments","Amount per rating unit","Rates Set",null,"Amount per rating unit","Rates Set"]
[null,null,null,"#","$","$",null,"$","$"]
[{"$f":"+A25","v":"Economic development rate"},"Residential",null,{"$f":"SUMIFS('Economic Development'!$G$23:$G$49,'Economic Development'!$A$23:$A$49,$B$5,'Economic Development'!$C$23:$C$49,$B30)","v":21374},{"$f":"F30/D30","v":15},{"$f":"SUMIFS('Economic Development'!$K$23:$K$49,'Economic Development'!$A$23:$A$49,$B$5,'Economic Development'!$C$23:$C$49,$B30)","v":320610},null,{"$f":"+E30*(1+GST)","v":17.25},{"$f":"+F30*(1+GST)","v":368701.5}]
[null,"Rural",null,{"$f":"SUMIFS('Economic Development'!$G$23:$G$49,'Economic Development'!$A$23:$A$49,$B$5,'Economic Development'!$C$23:$C$49,$B31)","v":2588},{"$f":"F31/D31","v":15},{"$f":"SUMIFS('Economic Development'!$K$23:$K$49,'Economic Development'!$A$23:$A$49,$B$5,'Economic Development'!$C$23:$C$49,$B31)","v":38820},null,{"$f":"+E31*(1+GST)","v":17.25},{"$f":"+F31*(1+GST)","v":44643}]
[]
[]
["District-Wide Rates",null,null,null,null,{"$f":"SUM(F12:F32)","v":15886806.605081201},null,null,{"$f":"SUM(I12:I32)","v":18269827.595843378}]
[]
["Total regional rates (excl special rates)",null,null,null,null,{"$f":"SUM(F34:F35)","v":15886806.605081201},null,null,{"$f":"SUM(I34:I35)","v":18269827.595843378}]
[]
["Check",null,null,null,null,{"$f":"INDEX('Comparison - TA'!$B$43:$L$43,,MATCH(B5,'Comparison - TA'!$B$29:$L$29,0))-F36","v":0}]

{"sheet":"Checks","index":23,"n_rows":46,"n_cols":4,"rows_kept":46,"cut":false,"hidden":false,"merged":[[2,0,2,1]]}
["Wellington Regional Council"]
["Value checks"]
[{"$f":"check_total","v":0}]
[]
["Tab/component","Check",null,"Check notes"]
[]
["OVERALL",{"$f":"SUM(B9:B47)","v":0}]
[]
[]
["Capital values tab"]
["Populated",{"$f":"SUM('Capital values'!J8:K140)","v":0}]
["TA total matches category"]
["Capital values",{"$f":"SUM('Capital values'!E51:F51)","v":0}]
["No. of Assessments (#)",{"$f":"SUM('Capital values'!E97:F97)","v":0}]
["Number of Assessments Contiguous for WRS",{"$f":"SUM('Capital values'!E143:F143)","v":0}]
[]
["Rate model checks"]
["General rate",{"$f":"SUM(Gen!B39:D40)","v":0}]
["River management rate",{"$f":"SUM('River management'!B34:C36)","v":0}]
["Stadium rate",{"$f":"SUM(Stadium!E63:I66)","v":0}]
["Economic development rate",{"$f":"SUM('Economic Development'!E52:K54)","v":0}]
["Public transport rate",{"$f":"SUM('Public transport'!E63:I66)","v":0}]
["Water Levy",{"$f":"SUM('Water levy'!B21:C21)","v":0}]
["Class rates - schemes",{"$f":"SUM('Class Rates'!B92:H92)","v":0}]
[]
["Comparison - TA",{"$f":"SUM('Comparison - TA'!M7:M68)","v":0}]
[]
["Comparison - category"]
["Previous year",{"$f":"SUM('Comparison - Category'!F59:W61)","v":0}]
["Current year",{"$f":"SUM('Comparison - Category'!F118:W120)","v":0}]
["Delta",{"$f":"SUM('Comparison - Category'!F177:W179)","v":0}]
[]
["Rates check"]
["ex-KCDC & UHC",{"$f":"'Rates Check - ex-KCDC &  UHC'!F43","v":0}]
["UHC",{"$f":"'Rates Check - UHC'!F54","v":0}]
["KCDC",{"$f":"'Rates Check - KCDC'!F38","v":0}]
[]
["Rates"]
[1,{"$f":"SUM('1'!J19:K46)","v":0}]
[2,{"$f":"SUM('2'!J21:K41)","v":0}]
["3 - changes",{"$f":"SUM('3'!V14:Y39)","v":0}]
["3 - inputs",{"$f":"SUM('3'!W64:W124)","v":0}]
[4,{"$f":"SUM('4'!W16:X24)","v":0}]
[5,{"$f":"SUM('5'!R20:S42)","v":0}]
["Impact for annual plan - excl GST",{"$f":"'Impact - excl GST'!L197+'Impact - excl GST'!L201","v":0}]
["Impact for annual plan - incl GST",{"$f":"'Impact - incl GST'!L197+'Impact - incl GST'!L201","v":0}]

{"sheet":">>Rates","index":24,"n_rows":0,"n_cols":0,"rows_kept":0,"cut":false,"hidden":false,"merged":[]}

{"sheet":"1","index":25,"n_rows":52,"n_cols":11,"rows_kept":52,"cut":false,"hidden":false,"merged":[[48,0,48,4],[49,0,49,4],[2,0,2,4],[3,0,3,4],[5,0,5,4],[7,0,7,4],[4,0,4,4],[9,0,9,4],[47,0,47,4]]}
["Summary of Rates and Water Levies"]
[]
["Rates for Greater Wellington are mostly allocated to ratepayers on the basis of their capital values. Within the region, different territorial authorities undertake general revaluations at different times. To equalise the values, each year Council gets Quotable Value or another registered valuer to estimate the projected valuations of all the rateable land in the districts within the region. This means that rates are assessed on a consistent valuation basis, regardless of the timing of individual territorial authority revaluations."]
["The summary information in this section should be read in conjunction with the Funding Impact Statement and the Revenue and Financing policy. \n"]
["All figures on this page exclude GST."]
[{"$f":"\"This table shows the rates and levies for GWRC in \"&year_current&\", with the changes from last year \"&year_previous&\". Rates comprise the general rate and various targeted rates. GWRC also charges a water supply levy directly to the four city councils in the region, and they set their own rates to cover the cost of this levy.\"","v":"This table shows the rates and levies for GWRC in 2022/23, with the changes from last year 2021/22. Rates comprise the general rate and various targeted rates. GWRC also charges a water supply levy directly to the four city councils in the region, and they set their own rates to cover the cost of this levy."}]
[]
[{"$f":"\"The total rate increase in regional rates for \"&year_current&\" is \"&ROUND(E37*100,1)&\"%. The water supply levy, which is charged to the four metropolitan city councils is proposed to increase by \"&ROUND(E39*100,1)&\"% compared to \"&year_previous&\". When the water supply levy is included, Greater Wellington Regional Council's overall increase is \"&ROUND(E41*100,1)&\"%\"","v":"The total rate increase in regional rates for 2022/23 is 12.3%. The water supply levy, which is charged to the four metropolitan city councils is proposed to increase by 7% compared to 2021/22. When the water supply levy is included, Greater Wellington Regional Council's overall increase is 11.2%"}]
[]
["Summary of rates and levies"]
[null,{"$f":"year_previous","v":"2021/22"},{"$f":"year_current","v":"2022/23"}]
[null,"Plan","Plan","Change","Change"]
[null,"$000s","$000s","$000s","%  ",null,"Row lookup","Column lookup"]
["General rates"]
[{"$f":"ESSbase!C38","v":"Catchment Management (excluding forests)"},{"$f":"ESSbase!F38/1000","v":26585.680646916251},{"$f":"ESSbase!G38/1000","v":29269.006000000001},{"$f":"C15-B15","v":2683.3253530837501},{"$f":"ROUND(D15/B15,4)","v":0.1009}]
["Other",{"$f":"ESSbase!F43/1000-SUM(B15,B17:B18)","v":34453.152129550348},{"$f":"ESSbase!G43/1000-SUM(C15,C17:C18)","v":39489.296999999999},{"$f":"C16-B16","v":5036.1448704496506},{"$f":"ROUND(D16/B16,4)","v":0.1462}]
[{"$f":"ESSbase!C39","v":"Strategy Group"},{"$f":"ESSbase!F39/1000","v":8755.7523910107266},{"$f":"ESSbase!G39/1000","v":8753.6290000000008},{"$f":"C17-B17","v":-2.1233910107257543},{"$f":"ROUND(D17/B17,4)","v":-2.0000000000000001E-4}]
[{"$f":"ESSbase!C41","v":"Investment Management."},{"$f":"ESSbase!F41/1000","v":-6681.5696554981232},{"$f":"ESSbase!G41/1000","v":-4174.152},{"$f":"C18-B18","v":2507.4176554981232},{"$f":"-ROUND(D18/B18,4)","v":0.37530000000000002}]
["General rate",{"$f":"INDEX('Comparison - TA'!$B$7:$L$24,MATCH(G19,'Comparison - TA'!$A$7:$A$24,0),MATCH(H19,'Comparison - TA'!$B$6:$L$6,0))/1000","v":63113.015511979203},{"$f":"INDEX('Comparison - TA'!$B$30:$L$47,MATCH(G19,'Comparison - TA'!$A$30:$A$47,0),MATCH(H19,'Comparison - TA'!$B$29:$L$29,0))/1000","v":73337.78},{"$f":"C19-B19","v":10224.764488020795},{"$f":"ROUND(D19/B19,4)","v":0.16200000000000001},null,"General rate","Region wide",null,{"$f":"INDEX(ess_base_estract,MATCH($A19,ESSbase!$B$8:$B$25,0),MATCH(B$11,ESSbase!$F$6:$G$6,0))/1000-B19","v":0},{"$f":"INDEX(ess_base_estract,MATCH($A19,ESSbase!$B$8:$B$25,0),MATCH(C$11,ESSbase!$F$6:$G$6,0))/1000-C19","v":0}]
[]
[]
["Remission of rates",{"$f":"ESSbase!F9","v":0},{"$f":"ESSbase!G9/1000","v":0},{"$f":"+B22-C22","v":0},{"$error":"#DIV/0!"},null,null,null,null,{"$f":"INDEX(ess_base_estract,MATCH($A22,ESSbase!$B$8:$B$25,0),MATCH(B$11,ESSbase!$F$6:$G$6,0))/1000-B22","v":0},{"$f":"INDEX(ess_base_estract,MATCH($A22,ESSbase!$B$8:$B$25,0),MATCH(C$11,ESSbase!$F$6:$G$6,0))/1000-C22","v":0}]
[]
["Targeted rates"]
["Region wide targeted rates1"]
["River management rate",{"$f":"INDEX('Comparison - TA'!$B$7:$L$24,MATCH(G26,'Comparison - TA'!$A$7:$A$24,0),MATCH(H26,'Comparison - TA'!$B$6:$L$6,0))/1000","v":6796.1397228808082},{"$f":"INDEX('Comparison - TA'!$B$30:$L$47,MATCH(G26,'Comparison - TA'!$A$30:$A$47,0),MATCH(H26,'Comparison - TA'!$B$29:$L$29,0))/1000","v":7874.5492100000001},{"$f":"C26-B26","v":1078.4094871191919},{"$f":"ROUND(D26/B26,4)","v":0.15870000000000001},null,"River management rate","Region wide",null,{"$f":"INDEX(ess_base_estract,MATCH($A26,ESSbase!$B$8:$B$25,0),MATCH(B$11,ESSbase!$F$6:$G$6,0))/1000-B26","v":0},{"$f":"INDEX(ess_base_estract,MATCH($A26,ESSbase!$B$8:$B$25,0),MATCH(C$11,ESSbase!$F$6:$G$6,0))/1000-C26","v":0}]
["Public transport rate",{"$f":"INDEX('Comparison - TA'!$B$7:$L$24,MATCH(G27,'Comparison - TA'!$A$7:$A$24,0),MATCH(H27,'Comparison - TA'!$B$6:$L$6,0))/1000","v":81810.330828706719},{"$f":"INDEX('Comparison - TA'!$B$30:$L$47,MATCH(G27,'Comparison - TA'!$A$30:$A$47,0),MATCH(H27,'Comparison - TA'!$B$29:$L$29,0))/1000","v":90658.479919999998},{"$f":"C27-B27","v":8848.1490912932786},{"$f":"ROUND(D27/B27,4)","v":0.1082},null,"Public transport rate","Region wide",null,{"$f":"INDEX(ess_base_estract,MATCH($A27,ESSbase!$B$8:$B$25,0),MATCH(B$11,ESSbase!$F$6:$G$6,0))/1000-B27","v":0},{"$f":"INDEX(ess_base_estract,MATCH($A27,ESSbase!$B$8:$B$25,0),MATCH(C$11,ESSbase!$F$6:$G$6,0))/1000-C27","v":0}]
["Stadium purposes rate",{"$f":"INDEX('Comparison - TA'!$B$7:$L$24,MATCH(G28,'Comparison - TA'!$A$7:$A$24,0),MATCH(H28,'Comparison - TA'!$B$6:$L$6,0))/1000","v":0},{"$f":"INDEX('Comparison - TA'!$B$30:$L$47,MATCH(G28,'Comparison - TA'!$A$30:$A$47,0),MATCH(H28,'Comparison - TA'!$B$29:$L$29,0))/1000","v":0},{"$f":"C28-B28","v":0},{"$f":"ROUND(D28/B28,4)","v":{"$error":"#DIV/0!"}},null,"Stadium purposes rate","Region wide",null,{"$f":"INDEX(ess_base_estract,MATCH($A28,ESSbase!$B$8:$B$25,0),MATCH(B$11,ESSbase!$F$6:$G$6,0))/1000-B28","v":0},{"$f":"INDEX(ess_base_estract,MATCH($A28,ESSbase!$B$8:$B$25,0),MATCH(C$11,ESSbase!$F$6:$G$6,0))/1000-C28","v":0}]
["Economic development rate",{"$f":"INDEX('Comparison - TA'!$B$7:$L$24,MATCH(G29,'Comparison - TA'!$A$7:$A$24,0),MATCH(H29,'Comparison - TA'!$B$6:$L$6,0))/1000","v":4690.8016321873647},{"$f":"INDEX('Comparison - TA'!$B$30:$L$47,MATCH(G29,'Comparison - TA'!$A$30:$A$47,0),MATCH(H29,'Comparison - TA'!$B$29:$L$29,0))/1000","v":4620.6232900000005},{"$f":"C29-B29","v":-70.178342187364251},{"$f":"ROUND(D29/B29,4)","v":-1.4999999999999999E-2},null,"Economic development rate","Region wide",null,{"$f":"INDEX(ess_base_estract,MATCH($A29,ESSbase!$B$8:$B$25,0),MATCH(B$11,ESSbase!$F$6:$G$6,0))/1000-B29","v":0},{"$f":"INDEX(ess_base_estract,MATCH($A29,ESSbase!$B$8:$B$25,0),MATCH(C$11,ESSbase!$F$6:$G$6,0))/1000-C29","v":0}]
[]
["Specific area targeted rates:"]
["Pest management rate",{"$f":"INDEX('Comparison - TA'!$B$7:$L$24,MATCH(G32,'Comparison - TA'!$A$7:$A$24,0),MATCH(H32,'Comparison - TA'!$B$6:$L$6,0))/1000","v":666.79993999999999},{"$f":"INDEX('Comparison - TA'!$B$30:$L$47,MATCH(G32,'Comparison - TA'!$A$30:$A$47,0),MATCH(H32,'Comparison - TA'!$B$29:$L$29,0))/1000","v":0},{"$f":"C32-B32","v":-666.79993999999999},{"$f":"ROUND(D32/B32,4)","v":-1},null,"Pest management rate","Region wide",null,{"$f":"INDEX(ess_base_estract,MATCH($A32,ESSbase!$B$8:$B$25,0),MATCH(B$11,ESSbase!$F$6:$G$6,0))/1000-B32","v":0},{"$f":"INDEX(ess_base_estract,MATCH($A32,ESSbase!$B$8:$B$25,0),MATCH(C$11,ESSbase!$F$6:$G$6,0))/1000-C32","v":0}]
["South Wairarapa district – river rates",{"$f":"INDEX('Comparison - TA'!$B$7:$L$24,MATCH(G33,'Comparison - TA'!$A$7:$A$24,0),MATCH(H33,'Comparison - TA'!$B$6:$L$6,0))/1000","v":99.99839999999999},{"$f":"INDEX('Comparison - TA'!$B$30:$L$47,MATCH(G33,'Comparison - TA'!$A$30:$A$47,0),MATCH(H33,'Comparison - TA'!$B$29:$L$29,0))/1000","v":101.49836999999999},{"$f":"C33-B33","v":1.4999700000000047},{"$f":"ROUND(D33/B33,4)","v":1.4999999999999999E-2},null,"River management rate - Non district wide","Region wide",null,{"$f":"INDEX(ess_base_estract,MATCH($G33,ESSbase!$B$8:$B$25,0),MATCH(B$11,ESSbase!$F$6:$G$6,0))/1000-B33","v":0},{"$f":"INDEX(ess_base_estract,MATCH($G33,ESSbase!$B$8:$B$25,0),MATCH(C$11,ESSbase!$F$6:$G$6,0))/1000-C33","v":0}]
["Wairarapa scheme and stopbank rates",{"$f":"INDEX('Comparison - TA'!$B$7:$L$24,MATCH(G34,'Comparison - TA'!$A$7:$A$24,0),MATCH(H34,'Comparison - TA'!$B$6:$L$6,0))/1000","v":1608.6206520529734},{"$f":"INDEX('Comparison - TA'!$B$30:$L$47,MATCH(G34,'Comparison - TA'!$A$30:$A$47,0),MATCH(H34,'Comparison - TA'!$B$29:$L$29,0))/1000","v":1680.74146},{"$f":"C34-B34","v":72.120807947026606},{"$f":"ROUND(D34/B34,4)","v":4.48E-2},null,"Special Rates","Region wide",null,{"$f":"INDEX(ess_base_estract,MATCH($G34,ESSbase!$B$8:$B$25,0),MATCH(B$11,ESSbase!$F$6:$G$6,0))/1000-B34","v":0},{"$f":"INDEX(ess_base_estract,MATCH($G34,ESSbase!$B$8:$B$25,0),MATCH(C$11,ESSbase!$F$6:$G$6,0))/1000-C34","v":0}]
["Total targeted rates 2",{"$f":"SUM(B26:B34)","v":95672.691175827844},{"$f":"SUM(C26:C34)","v":104935.89225},{"$f":"SUM(D26:D34)","v":9263.2010741721333},{"$f":"ROUND(D35/B35,4)","v":9.6799999999999997E-2}]
[]
["Total regional rates",{"$f":"INDEX('Comparison - TA'!$B$7:$L$24,MATCH(G37,'Comparison - TA'!$A$7:$A$24,0),MATCH(H37,'Comparison - TA'!$B$6:$L$6,0))/1000","v":158785.70668780708},{"$f":"INDEX('Comparison - TA'!$B$30:$L$47,MATCH(G37,'Comparison - TA'!$A$30:$A$47,0),MATCH(H37,'Comparison - TA'!$B$29:$L$29,0))/1000","v":178273.67225000003},{"$f":"C37-B37","v":19487.965562192956},{"$f":"ROUND(D37/B37,6)","v":0.12273100000000001},null,"Total Regnl Rates","Region wide",null,{"$f":"INDEX(ess_base_estract,MATCH($G37,ESSbase!$B$8:$B$25,0),MATCH(B$11,ESSbase!$F$6:$G$6,0))/1000-B37","v":0},{"$f":"INDEX(ess_base_estract,MATCH($G37,ESSbase!$B$8:$B$25,0),MATCH(C$11,ESSbase!$F$6:$G$6,0))/1000-C37","v":0}]
[]
["Water supply levy",{"$f":"INDEX('Comparison - TA'!$B$7:$L$24,MATCH(G39,'Comparison - TA'!$A$7:$A$24,0),MATCH(H39,'Comparison - TA'!$B$6:$L$6,0))/1000","v":39319.128332546272},{"$f":"INDEX('Comparison - TA'!$B$30:$L$47,MATCH(G39,'Comparison - TA'!$A$30:$A$47,0),MATCH(H39,'Comparison - TA'!$B$29:$L$29,0))/1000","v":42068.773000000001},{"$f":"C39-B39","v":2749.6446674537292},{"$f":"ROUND(D39/B39,6)","v":6.9930999999999993E-2},null,"Bulk Water Levies","Region wide",null,{"$f":"INDEX(ess_base_estract,MATCH($G39,ESSbase!$B$8:$B$25,0),MATCH(B$11,ESSbase!$F$6:$G$6,0))/1000-B39","v":0},{"$f":"INDEX(ess_base_estract,MATCH($G39,ESSbase!$B$8:$B$25,0),MATCH(C$11,ESSbase!$F$6:$G$6,0))/1000-C39","v":0}]
[]
["Total regional rates and levies",{"$f":"INDEX('Comparison - TA'!$B$7:$L$24,MATCH(G41,'Comparison - TA'!$A$7:$A$24,0),MATCH(H41,'Comparison - TA'!$B$6:$L$6,0))/1000","v":198104.83502035335},{"$f":"INDEX('Comparison - TA'!$B$30:$L$47,MATCH(G41,'Comparison - TA'!$A$30:$A$47,0),MATCH(H41,'Comparison - TA'!$B$29:$L$29,0))/1000","v":220342.44525000002},{"$f":"C41-B41","v":22237.610229646671},{"$f":"ROUND(D41/B41,6)","v":0.112252},null,"Total Regnl Rates & levies","Region wide",null,{"$f":"INDEX(ess_base_estract,MATCH($G41,ESSbase!$B$8:$B$25,0),MATCH(B$11,ESSbase!$F$6:$G$6,0))/1000-B41","v":0},{"$f":"INDEX(ess_base_estract,MATCH($G41,ESSbase!$B$8:$B$25,0),MATCH(C$11,ESSbase!$F$6:$G$6,0))/1000-C41","v":0}]
[]
["Warm Greater Wellington rates 3",{"$f":"INDEX('Comparison - TA'!$B$7:$L$24,MATCH(G43,'Comparison - TA'!$A$7:$A$24,0),MATCH(H43,'Comparison - TA'!$B$6:$L$6,0))/1000","v":2868.6175894348057},{"$f":"INDEX('Comparison - TA'!$B$30:$L$47,MATCH(G43,'Comparison - TA'!$A$30:$A$47,0),MATCH(H43,'Comparison - TA'!$B$29:$L$29,0))/1000","v":1937.52505},null,null,null,"Warm Greater Wellington rate","Region wide",null,{"$f":"INDEX(ess_base_estract,MATCH($G43,ESSbase!$B$8:$B$25,0),MATCH(B$11,ESSbase!$F$6:$G$6,0))/1000-B43","v":0},{"$f":"INDEX(ess_base_estract,MATCH($G43,ESSbase!$B$8:$B$25,0),MATCH(C$11,ESSbase!$F$6:$G$6,0))/1000-C43","v":0}]
[]
["Total rates and levies",{"$f":"INDEX('Comparison - TA'!$B$7:$L$24,MATCH(G45,'Comparison - TA'!$A$7:$A$24,0),MATCH(H45,'Comparison - TA'!$B$6:$L$6,0))/1000","v":200973.45260978816},{"$f":"INDEX('Comparison - TA'!$B$30:$L$47,MATCH(G45,'Comparison - TA'!$A$30:$A$47,0),MATCH(H45,'Comparison - TA'!$B$29:$L$29,0))/1000","v":222279.97030000004},null,null,null,"Total Rates & Levies","Region wide",null,{"$f":"INDEX(ess_base_estract,MATCH($G45,ESSbase!$B$8:$B$25,0),MATCH(B$11,ESSbase!$F$6:$G$6,0))/1000-B45","v":0},{"$f":"INDEX(ess_base_estract,MATCH($G45,ESSbase!$B$8:$B$25,0),MATCH(C$11,ESSbase!$F$6:$G$6,0))/1000-C45","v":0}]
[null,null,null,null,null,null,null,null,null,{"$f":"SUM(B43,B39,B25:B34,B15:B18)-B45","v":0},{"$f":"SUM(C43,C39,C25:C34,C15:C18)-C45","v":0}]
[]
["1  Region-wide rates are charged to all ratepayers in the region. They exclude targeted rates for pest management, Wairarapa river and drainage schemes, and \"Warm Greater Wellington\", because those rates only apply to highly specific ratepayers in those work programmes."]
["2 This total excludes \"Warm Greater Wellington\" targeted rates because they only apply to ratepayers who participate in the scheme."]
["3   The Warm Greater Wellington scheme assists regional ratepayers to insulate thier homes. Only ratepayers who participate in the scheme are charged this rate. "]
[]
[null,null,{"$f":"+C19+C35+C39+C43","v":222279.97029999999}]

{"sheet":"2","index":26,"n_rows":45,"n_cols":11,"rows_kept":45,"cut":false,"hidden":false,"merged":[[42,0,42,4],[43,0,43,4],[44,0,44,4],[2,0,4,4],[7,0,7,4]]}
["Impact on each City and District"]
[]
["Rates increases vary among cities and districts  because of differing equalised capital values. Targeted  rates are applied according to the Revenue and Financing policy. The next page shows the different rates paid in each city and district. "]
[]
[]
["All figures on this page exclude GST."]
[]
["Impact on each city and district"]
[null,{"$f":"year_previous","v":"2021/22"},{"$f":"year_current","v":"2022/23"}]
[null,"Plan","Plan","Change","Change",null,"Row lookup","Column lookup"]
["Region-wide rates1","$000s","$000s","$000s","%  "]
["Wellington city",{"$f":"INDEX('Comparison - TA'!$B$7:$L$24,MATCH(G12,'Comparison - TA'!$A$7:$A$24,0),MATCH(H12,'Comparison - TA'!$B$6:$L$6,0))/1000","v":81929.896790702551},{"$f":"INDEX('Comparison - TA'!$B$30:$L$47,MATCH(G12,'Comparison - TA'!$A$30:$A$47,0),MATCH($H12,'Comparison - TA'!$B$29:$L$29,0))/1000","v":92547.733436462935},{"$f":"C12-B12","v":10617.836645760384},{"$f":"ROUND(+D12/B12,4)","v":0.12959999999999999},null,"District-wide rates","Wellington city"]
["Hutt city",{"$f":"INDEX('Comparison - TA'!$B$7:$L$24,MATCH(G13,'Comparison - TA'!$A$7:$A$24,0),MATCH(H13,'Comparison - TA'!$B$6:$L$6,0))/1000","v":28951.960024981847},{"$f":"INDEX('Comparison - TA'!$B$30:$L$47,MATCH(G13,'Comparison - TA'!$A$30:$A$47,0),MATCH($H13,'Comparison - TA'!$B$29:$L$29,0))/1000","v":32814.270989809404},{"$f":"C13-B13","v":3862.3109648275567},{"$f":"ROUND(+D13/B13,4)","v":0.13339999999999999},null,"District-wide rates","Hutt city"]
["Upper Hutt city",{"$f":"INDEX('Comparison - TA'!$B$7:$L$24,MATCH(G14,'Comparison - TA'!$A$7:$A$24,0),MATCH(H14,'Comparison - TA'!$B$6:$L$6,0))/1000","v":10885.774130712856},{"$f":"INDEX('Comparison - TA'!$B$30:$L$47,MATCH(G14,'Comparison - TA'!$A$30:$A$47,0),MATCH($H14,'Comparison - TA'!$B$29:$L$29,0))/1000","v":12014.76106060098},1128.986929888124,{"$f":"ROUND(+D14/B14,4)","v":0.1037},null,"District-wide rates","Upper Hutt city"]
["Porirua city",{"$f":"INDEX('Comparison - TA'!$B$7:$L$24,MATCH(G15,'Comparison - TA'!$A$7:$A$24,0),MATCH(H15,'Comparison - TA'!$B$6:$L$6,0))/1000","v":12036.659426138118},{"$f":"INDEX('Comparison - TA'!$B$30:$L$47,MATCH(G15,'Comparison - TA'!$A$30:$A$47,0),MATCH($H15,'Comparison - TA'!$B$29:$L$29,0))/1000","v":13173.313369761388},1136.6539436232706,9.4399999999999998E-2,null,"District-wide rates","Porirua city"]
["Kāpiti Coast district",{"$f":"INDEX('Comparison - TA'!$B$7:$L$24,MATCH(G16,'Comparison - TA'!$A$7:$A$24,0),MATCH(H16,'Comparison - TA'!$B$6:$L$6,0))/1000","v":13695.201740127939},{"$f":"INDEX('Comparison - TA'!$B$30:$L$47,MATCH(G16,'Comparison - TA'!$A$30:$A$47,0),MATCH($H16,'Comparison - TA'!$B$29:$L$29,0))/1000","v":15886.806605081201},2191.6048649532622,0.16,null,"District-wide rates","Kāpiti Coast district"]
["Masterton district",{"$f":"INDEX('Comparison - TA'!$B$7:$L$24,MATCH(G17,'Comparison - TA'!$A$7:$A$24,0),MATCH(H17,'Comparison - TA'!$B$6:$L$6,0))/1000","v":4178.1882785462349},{"$f":"INDEX('Comparison - TA'!$B$30:$L$47,MATCH(G17,'Comparison - TA'!$A$30:$A$47,0),MATCH($H17,'Comparison - TA'!$B$29:$L$29,0))/1000","v":4721.2620683096329},543.07378976339805,0.13,null,"District-wide rates","Masterton district"]
["Carterton district",{"$f":"INDEX('Comparison - TA'!$B$7:$L$24,MATCH(G18,'Comparison - TA'!$A$7:$A$24,0),MATCH(H18,'Comparison - TA'!$B$6:$L$6,0))/1000","v":1758.4175635813015},{"$f":"INDEX('Comparison - TA'!$B$30:$L$47,MATCH(G18,'Comparison - TA'!$A$30:$A$47,0),MATCH($H18,'Comparison - TA'!$B$29:$L$29,0))/1000","v":2029.8596175912883},271.4420540099868,0.15440000000000001,null,"District-wide rates","Carterton district"]
["South Wairarapa district",{"$f":"INDEX('Comparison - TA'!$B$7:$L$24,MATCH(G19,'Comparison - TA'!$A$7:$A$24,0),MATCH(H19,'Comparison - TA'!$B$6:$L$6,0))/1000","v":2968.5316654888375},{"$f":"INDEX('Comparison - TA'!$B$30:$L$47,MATCH(G19,'Comparison - TA'!$A$30:$A$47,0),MATCH($H19,'Comparison - TA'!$B$29:$L$29,0))/1000","v":3297.0089164212704},328.47725093243298,{"$f":"ROUND(+D19/B19,4)","v":0.11070000000000001},null,"District-wide rates","South Wairarapa district"]
["Tararua district",{"$f":"INDEX('Comparison - TA'!$B$7:$L$24,MATCH(G20,'Comparison - TA'!$A$7:$A$24,0),MATCH(H20,'Comparison - TA'!$B$6:$L$6,0))/1000","v":5.6580754744311417},{"$f":"INDEX('Comparison - TA'!$B$30:$L$47,MATCH(G20,'Comparison - TA'!$A$30:$A$47,0),MATCH($H20,'Comparison - TA'!$B$29:$L$29,0))/1000","v":6.4163559619099448},0.75828048747880317,0.13400000000000001,null,"District-wide rates","Tararua district"]
["Total region-wide rates",{"$f":"INDEX('Comparison - TA'!$B$7:$L$24,MATCH(G21,'Comparison - TA'!$A$7:$A$24,0),MATCH(H21,'Comparison - TA'!$B$6:$L$6,0))/1000","v":156410.28769575412},{"$f":"INDEX('Comparison - TA'!$B$30:$L$47,MATCH(G21,'Comparison - TA'!$A$30:$A$47,0),MATCH($H21,'Comparison - TA'!$B$29:$L$29,0))/1000","v":176491.43242000003},{"$f":"C21-B21","v":20081.144724245911},{"$f":"ROUND(+D21/B21,6)","v":0.128388},null,"District-wide rates","Region wide",null,{"$f":"INDEX(ess_base_estract,MATCH($G21,ESSbase!$B$8:$B$25,0),MATCH(B$9,ESSbase!$F$6:$G$6,0))/1000-B21","v":0},{"$f":"INDEX(ess_base_estract,MATCH($G21,ESSbase!$B$8:$B$25,0),MATCH(C$9,ESSbase!$F$6:$G$6,0))/1000-C21","v":0}]
[]
["Specific area targeted rates"]
["Pest management rate",{"$f":"INDEX('Comparison - TA'!$B$7:$L$24,MATCH(G24,'Comparison - TA'!$A$7:$A$24,0),MATCH(H24,'Comparison - TA'!$B$6:$L$6,0))/1000","v":666.79993999999999},{"$f":"INDEX('Comparison - TA'!$B$30:$L$47,MATCH(G24,'Comparison - TA'!$A$30:$A$47,0),MATCH($H24,'Comparison - TA'!$B$29:$L$29,0))/1000","v":0},{"$f":"ROUND(C24-B24,0)","v":-667},{"$f":"ROUND(+D24/B24,6)","v":-1.0003},null,"Pest management rate","Region wide",null,{"$f":"INDEX(ess_base_estract,MATCH($G24,ESSbase!$B$8:$B$25,0),MATCH(B$9,ESSbase!$F$6:$G$6,0))/1000-B24","v":0},{"$f":"INDEX(ess_base_estract,MATCH($G24,ESSbase!$B$8:$B$25,0),MATCH(C$9,ESSbase!$F$6:$G$6,0))/1000-C24","v":0}]
["South Wairarapa district – river rates ",{"$f":"INDEX('Comparison - TA'!$B$7:$L$24,MATCH(G25,'Comparison - TA'!$A$7:$A$24,0),MATCH(H25,'Comparison - TA'!$B$6:$L$6,0))/1000","v":99.99839999999999},{"$f":"INDEX('Comparison - TA'!$B$30:$L$47,MATCH(G25,'Comparison - TA'!$A$30:$A$47,0),MATCH($H25,'Comparison - TA'!$B$29:$L$29,0))/1000","v":101.49836999999999},{"$f":"ROUND(C25-B25,0)","v":1},{"$f":"ROUND(+D25/B25,6)","v":0.01},null,"River management rate - Non district wide","Region wide",null,{"$f":"INDEX(ess_base_estract,MATCH($G25,ESSbase!$B$8:$B$25,0),MATCH(B$9,ESSbase!$F$6:$G$6,0))/1000-B25","v":0},{"$f":"INDEX(ess_base_estract,MATCH($G25,ESSbase!$B$8:$B$25,0),MATCH(C$9,ESSbase!$F$6:$G$6,0))/1000-C25","v":0}]
["Wairarapa scheme and stopbank rates",{"$f":"INDEX('Comparison - TA'!$B$7:$L$24,MATCH(G26,'Comparison - TA'!$A$7:$A$24,0),MATCH(H26,'Comparison - TA'!$B$6:$L$6,0))/1000","v":1608.6206520529734},{"$f":"INDEX('Comparison - TA'!$B$30:$L$47,MATCH(G26,'Comparison - TA'!$A$30:$A$47,0),MATCH($H26,'Comparison - TA'!$B$29:$L$29,0))/1000","v":1680.74146},{"$f":"ROUND(C26-B26,0)","v":72},{"$f":"ROUND(+D26/B26,6)","v":4.4759E-2},null,"Special Rates","Region wide",null,{"$f":"INDEX(ess_base_estract,MATCH($G26,ESSbase!$B$8:$B$25,0),MATCH(B$9,ESSbase!$F$6:$G$6,0))/1000-B26","v":0},{"$f":"INDEX(ess_base_estract,MATCH($G26,ESSbase!$B$8:$B$25,0),MATCH(C$9,ESSbase!$F$6:$G$6,0))/1000-C26","v":0}]
["Total regional rates",{"$f":"INDEX('Comparison - TA'!$B$7:$L$24,MATCH(G27,'Comparison - TA'!$A$7:$A$24,0),MATCH(H27,'Comparison - TA'!$B$6:$L$6,0))/1000","v":158785.70668780708},{"$f":"INDEX('Comparison - TA'!$B$30:$L$47,MATCH(G27,'Comparison - TA'!$A$30:$A$47,0),MATCH($H27,'Comparison - TA'!$B$29:$L$29,0))/1000","v":178273.67225000003},{"$f":"ROUND(C27-B27,0)","v":19488},{"$f":"ROUND(+D27/B27,6)","v":0.12273100000000001},null,"Total Regnl Rates","Region wide",null,{"$f":"INDEX(ess_base_estract,MATCH($G27,ESSbase!$B$8:$B$25,0),MATCH(B$9,ESSbase!$F$6:$G$6,0))/1000-B27","v":0},{"$f":"INDEX(ess_base_estract,MATCH($G27,ESSbase!$B$8:$B$25,0),MATCH(C$9,ESSbase!$F$6:$G$6,0))/1000-C27","v":0}]
[]
["Water supply levy"]
["Wellington City Council",{"$f":"INDEX('Comparison - TA'!$B$7:$L$24,MATCH(G30,'Comparison - TA'!$A$7:$A$24,0),MATCH(H30,'Comparison - TA'!$B$6:$L$6,0))/1000","v":20052.755449598601},{"$f":"INDEX('Comparison - TA'!$B$30:$L$47,MATCH(G30,'Comparison - TA'!$A$30:$A$47,0),MATCH($H30,'Comparison - TA'!$B$29:$L$29,0))/1000","v":21455.074230000002},{"$f":"ROUND(C30-B30,0)","v":1402},{"$f":"ROUND(+D30/B30,6)","v":6.9916000000000006E-2},null,"Bulk Water Levies","Wellington city"]
["Hutt City Council",{"$f":"INDEX('Comparison - TA'!$B$7:$L$24,MATCH(G31,'Comparison - TA'!$A$7:$A$24,0),MATCH(H31,'Comparison - TA'!$B$6:$L$6,0))/1000","v":10368.454141292452},{"$f":"INDEX('Comparison - TA'!$B$30:$L$47,MATCH(G31,'Comparison - TA'!$A$30:$A$47,0),MATCH($H31,'Comparison - TA'!$B$29:$L$29,0))/1000","v":11093.535440099999},{"$f":"ROUND(C31-B31,0)","v":725},{"$f":"ROUND(+D31/B31,6)","v":6.9924E-2},null,"Bulk Water Levies","Hutt city"]
["Upper Hutt City Council",{"$f":"INDEX('Comparison - TA'!$B$7:$L$24,MATCH(G32,'Comparison - TA'!$A$7:$A$24,0),MATCH(H32,'Comparison - TA'!$B$6:$L$6,0))/1000","v":4273.9892497477804},{"$f":"INDEX('Comparison - TA'!$B$30:$L$47,MATCH(G32,'Comparison - TA'!$A$30:$A$47,0),MATCH($H32,'Comparison - TA'!$B$29:$L$29,0))/1000","v":4572.8756250999995},{"$f":"ROUND(C32-B32,0)","v":299},{"$f":"ROUND(+D32/B32,6)","v":6.9958000000000006E-2},null,"Bulk Water Levies","Upper Hutt city"]
["Porirua City Council",{"$f":"INDEX('Comparison - TA'!$B$7:$L$24,MATCH(G33,'Comparison - TA'!$A$7:$A$24,0),MATCH(H33,'Comparison - TA'!$B$6:$L$6,0))/1000","v":4623.9294919074409},{"$f":"INDEX('Comparison - TA'!$B$30:$L$47,MATCH(G33,'Comparison - TA'!$A$30:$A$47,0),MATCH($H33,'Comparison - TA'!$B$29:$L$29,0))/1000","v":4947.2877047999991},{"$f":"ROUND(C33-B33,0)","v":323},{"$f":"ROUND(+D33/B33,6)","v":6.9853999999999999E-2},null,"Bulk Water Levies","Porirua city"]
["Water supply levy",{"$f":"INDEX('Comparison - TA'!$B$7:$L$24,MATCH(G34,'Comparison - TA'!$A$7:$A$24,0),MATCH(H34,'Comparison - TA'!$B$6:$L$6,0))/1000","v":39319.128332546272},{"$f":"INDEX('Comparison - TA'!$B$30:$L$47,MATCH(G34,'Comparison - TA'!$A$30:$A$47,0),MATCH($H34,'Comparison - TA'!$B$29:$L$29,0))/1000","v":42068.773000000001},{"$f":"ROUND(C34-B34,0)","v":2750},{"$f":"ROUND(+D34/B34,6)","v":6.9941000000000003E-2},null,"Bulk Water Levies","Region wide",null,{"$f":"INDEX(ess_base_estract,MATCH($G34,ESSbase!$B$8:$B$25,0),MATCH(B$9,ESSbase!$F$6:$G$6,0))/1000-B34","v":0},{"$f":"INDEX(ess_base_estract,MATCH($G34,ESSbase!$B$8:$B$25,0),MATCH(C$9,ESSbase!$F$6:$G$6,0))/1000-C34","v":0}]
[]
["Total regional rates and levies 2",{"$f":"INDEX('Comparison - TA'!$B$7:$L$24,MATCH(G36,'Comparison - TA'!$A$7:$A$24,0),MATCH(H36,'Comparison - TA'!$B$6:$L$6,0))/1000","v":198104.83502035335},{"$f":"INDEX('Comparison - TA'!$B$30:$L$47,MATCH(G36,'Comparison - TA'!$A$30:$A$47,0),MATCH($H36,'Comparison - TA'!$B$29:$L$29,0))/1000","v":220342.44525000002},{"$f":"ROUND(C36-B36,0)","v":22238},{"$f":"ROUND(+D36/B36,6)","v":0.11225400000000001},null,"Total Regnl Rates & levies","Region wide",null,{"$f":"INDEX(ess_base_estract,MATCH($G36,ESSbase!$B$8:$B$25,0),MATCH(B$9,ESSbase!$F$6:$G$6,0))/1000-B36","v":0},{"$f":"INDEX(ess_base_estract,MATCH($G36,ESSbase!$B$8:$B$25,0),MATCH(C$9,ESSbase!$F$6:$G$6,0))/1000-C36","v":0}]
[]
["Warm Wellington rate 3",{"$f":"INDEX('Comparison - TA'!$B$7:$L$24,MATCH(G38,'Comparison - TA'!$A$7:$A$24,0),MATCH(H38,'Comparison - TA'!$B$6:$L$6,0))/1000","v":2868.6175894348057},{"$f":"INDEX('Comparison - TA'!$B$30:$L$47,MATCH(G38,'Comparison - TA'!$A$30:$A$47,0),MATCH($H38,'Comparison - TA'!$B$29:$L$29,0))/1000","v":1937.52505},null,null,null,"Warm Greater Wellington rate","Region wide",null,{"$f":"INDEX(ess_base_estract,MATCH($G38,ESSbase!$B$8:$B$25,0),MATCH(B$9,ESSbase!$F$6:$G$6,0))/1000-B38","v":0},{"$f":"INDEX(ess_base_estract,MATCH($G38,ESSbase!$B$8:$B$25,0),MATCH(C$9,ESSbase!$F$6:$G$6,0))/1000-C38","v":0}]
[]
["Total rates and levies",{"$f":"INDEX('Comparison - TA'!$B$7:$L$24,MATCH(G40,'Comparison - TA'!$A$7:$A$24,0),MATCH(H40,'Comparison - TA'!$B$6:$L$6,0))/1000","v":200973.45260978816},{"$f":"INDEX('Comparison - TA'!$B$30:$L$47,MATCH(G40,'Comparison - TA'!$A$30:$A$47,0),MATCH($H40,'Comparison - TA'!$B$29:$L$29,0))/1000","v":222279.97030000004},null,null,null,"Total Rates & Levies","Region wide",null,{"$f":"INDEX(ess_base_estract,MATCH($G40,ESSbase!$B$8:$B$25,0),MATCH(B$9,ESSbase!$F$6:$G$6,0))/1000-B40","v":0},{"$f":"INDEX(ess_base_estract,MATCH($G40,ESSbase!$B$8:$B$25,0),MATCH(C$9,ESSbase!$F$6:$G$6,0))/1000-C40","v":0}]
[null,null,null,null,null,null,null,null,null,{"$f":"B40-SUM(B38,B30:B33,B24:B26,B12:B20)","v":0},{"$f":"C40-SUM(C38,C30:C33,C24:C26,C12:C20)","v":0}]
[]
["1  Region-wide rates are charged to all ratepayers in the region. They exclude targeted rates for pest management, Wairarapa river and drainage schemes, and \"Warm Greater Wellington\", because those rates only apply to highly specific ratepayers in those work programmes."]
["2 This total excludes \"Warm Greater Wellington\" targeted rates because they only apply to ratepayers who participate in the scheme."]
["3   The Warm Greater Wellington scheme assists regional ratepayers to insulate thier homes. Only ratepayers who participate in the scheme are charged this rate. "]

{"sheet":"3","index":27,"n_rows":163,"n_cols":27,"rows_kept":163,"cut":false,"hidden":false,"merged":[[58,0,59,15],[48,0,49,19],[132,8,132,9],[132,6,132,7],[132,4,132,5],[44,0,45,19],[46,0,46,19],[27,0,28,15],[25,0,25,3],[53,0,54,15],[51,0,52,15],[8,14,9,15],[8,16,9,17],[8,2,9,3],[8,4,9,5],[8,12,9,13],[8,10,9,11],[8,8,9,9],[8,6,9,7]]}
["PAGE NOT USED"]
[]
["RATES AND LEVIES - REGION-WIDE CHANGES BY CITY AND RATE TYPE"]
["WHAT IS THE IMPACT ON YOUR CITY OR DISTRICT?"]
[]
[]
[{"$f":"\"Changes in Region-wide rates due to equalised capital value (ECV) movements and apportionment from \"&year_previous&\" to \"&year_current","v":"Changes in Region-wide rates due to equalised capital value (ECV) movements and apportionment from 2021/22 to 2022/23"}]
[]
[null,null,"ECV movements1",null,"General rate",null,"Remission of rates",null,"River management rate",null,"Public transport rate",null,"Stadium purposes rate",null,"Economic development rate",null,"Total Region-wide rates2"]
[]
[null,null,null,null,null,null,null,null,null,null,null,null,null,null,null,null,"District-Wide Rates","Region-wide rates"]
[null,null,"Change","Contribution to region-wide change","Change","Contribution to region-wide change","Change","Contribution to region-wide change","Change","Contribution to region-wide change","Change","Contribution to region-wide change","Change","Contribution to region-wide change","Change","Contribution to region-wide change","Change","Change"]
[null,null,"$000s","%  ","$000s","%  ","$000s","%  ","$000s","%  ","$000s","%  ","$000s","%  ","$000s","%  ","$000s","%  ",null,null,null,null,null,"Check $","Check $","Check %","Check %"]
["Wellington city",null,{"$f":"INDEX($J$90:$J$99,MATCH(A14,$A$90:$A$99,0),)/1000","v":-1006.0794901036807},{"$f":"C14*1000/INDEX($J$64:$J$73,MATCH($A14,$A$64:$A$73,0))","v":-1.2279760252521777E-2},{"$f":"INDEX($D$103:$J$112,MATCH($A14,$A$103:$A$112,0),MATCH(E$9,$D$102:$J$102,0))/1000","v":4823.2382046178882},{"$f":"E14*1000/INDEX($J$64:$J$73,MATCH($A14,$A$64:$A$73,0))","v":5.887030734262113E-2},{"$f":"INDEX($D$103:$J$112,MATCH($A14,$A$103:$A$112,0),MATCH(G$9,$D$102:$J$102,0))/1000","v":0},{"$f":"G14*1000/INDEX($J$64:$J$73,MATCH($A14,$A$64:$A$73,0))","v":0},{"$f":"INDEX($D$103:$J$112,MATCH($A14,$A$103:$A$112,0),MATCH(I$9,$D$102:$J$102,0))/1000","v":-1.7567649999999848},{"$f":"I14*1000/INDEX($J$64:$J$73,MATCH($A14,$A$64:$A$73,0))","v":-2.1442294800978482E-5},{"$f":"INDEX($D$103:$J$112,MATCH($A14,$A$103:$A$112,0),MATCH(K$9,$D$102:$J$102,0))/1000","v":6831.5240381286885},{"$f":"K14*1000/INDEX($J$64:$J$73,MATCH($A14,$A$64:$A$73,0))","v":8.3382553936085679E-2},{"$f":"INDEX($D$103:$J$112,MATCH($A14,$A$103:$A$112,0),MATCH(M$9,$D$102:$J$102,0))/1000","v":0},{"$f":"M14*1000/INDEX($J$64:$J$73,MATCH($A14,$A$64:$A$73,0))","v":0},{"$f":"INDEX($D$103:$J$112,MATCH($A14,$A$103:$A$112,0),MATCH(O$9,$D$102:$J$102,0))/1000","v":-29.089341882507782},{"$f":"O14*1000/INDEX($J$64:$J$73,MATCH($A14,$A$64:$A$73,0))","v":-3.5505161146265297E-4},{"$f":"INDEX('Comparison - TA'!$B$59:$K$59,MATCH('3'!A14,'Comparison - TA'!$B$52:$K$52,0))/1000","v":10617.836645760388},{"$f":"Q14*1000/INDEX($J$64:$J$73,MATCH($A14,$A$64:$A$73,0),)","v":0.12959660711992138},null,null,null,null,null,{"$f":"IF(ABS((C14+E14+G14+I14+K14+M14+O14-Q14)*1000)>tolerance_dollar,1,0)","v":0},{"$f":"ROUND(INDEX('2'!$D$12:$D$21,MATCH(A14,'2'!$H$12:$H$21,0),)-Q14,3)","v":0},{"$f":"ROUND(D14+F14+J14+L14+N14+P14-R14,2)","v":0},{"$f":"ROUND(INDEX('2'!$E$12:$E$21,MATCH(A14,'2'!$H$12:$H$21,0),)-R14,2)","v":0}]
["Hutt city",null,650.77466500971468,2.2477741211585647E-2,1783.0367229611575,6.158604534624338E-2,0,0,791.57703526633793,2.7341051679516965E-2,597.90441266353992,2.0651603972498742E-2,0,0,39.018128926808131,1.3476852307457066E-3,{"$f":"INDEX('Comparison - TA'!$B$59:$K$59,MATCH('3'!A15,'Comparison - TA'!$B$52:$K$52,0))/1000","v":3862.3109648275599},0.13340412744059049,null,null,null,null,null,0,{"$f":"ROUND(INDEX('2'!$D$12:$D$21,MATCH(A15,'2'!$H$12:$H$21,0),)-Q15,3)","v":0},0,{"$f":"ROUND(INDEX('2'!$E$12:$E$21,MATCH(A15,'2'!$H$12:$H$21,0),)-R15,2)","v":0}]
["Upper Hutt city",null,241.18431640228721,2.2155917760760417E-2,719.52005155752977,6.6097279156977329E-2,0,0,66.75578377568209,6.1323873685141953E-3,96.444748394540511,8.859705082657713E-3,0,0,5.0820297580861373,4.6685056083864759E-4,{"$f":"INDEX('Comparison - TA'!$B$59:$K$59,MATCH('3'!A16,'Comparison - TA'!$B$52:$K$52,0))/1000","v":1128.9869298881256},0.10371213992974829,null,null,null,null,null,0,{"$f":"ROUND(INDEX('2'!$D$12:$D$21,MATCH(A16,'2'!$H$12:$H$21,0),)-Q16,3)","v":0},0,{"$f":"ROUND(INDEX('2'!$E$12:$E$21,MATCH(A16,'2'!$H$12:$H$21,0),)-R16,2)","v":0}]
["Porirua city",null,212.92454654076417,1.7689671112434194E-2,857.78657333987303,7.1264504790851946E-2,0,0,-10.4878759502483,-8.7132779776699784E-4,61.326226533257405,5.0949540368389005E-3,0,0,15.104473159626417,1.2548725210938855E-3,{"$f":"INDEX('Comparison - TA'!$B$59:$K$59,MATCH('3'!A17,'Comparison - TA'!$B$52:$K$52,0))/1000","v":1136.6539436232708},9.4432674663451774E-2,null,null,null,null,null,0,{"$f":"ROUND(INDEX('2'!$D$12:$D$21,MATCH(A17,'2'!$H$12:$H$21,0),)-Q17,3)","v":0},0,{"$f":"ROUND(INDEX('2'!$E$12:$E$21,MATCH(A17,'2'!$H$12:$H$21,0),)-R17,2)","v":0}]
["Kāpiti Coast district",null,50.651539898925463,3.6984880442113353E-3,1056.7813772872826,7.7164352693749383E-2,0,0,231.94766902741952,1.6936418566788684E-2,862.2165834107343,6.2957567166343875E-2,0,0,-9.9923046711019126,-7.2962084536686532E-4,{"$f":"INDEX('Comparison - TA'!$B$59:$K$59,MATCH('3'!A18,'Comparison - TA'!$B$52:$K$52,0))/1000","v":2191.6048649532609},0.16002720562572648,null,null,null,null,null,0,{"$f":"ROUND(INDEX('2'!$D$12:$D$21,MATCH(A18,'2'!$H$12:$H$21,0),)-Q18,3)","v":0},0,{"$f":"ROUND(INDEX('2'!$E$12:$E$21,MATCH(A18,'2'!$H$12:$H$21,0),)-R18,2)","v":0}]
["Masterton district",null,-112.53634637137026,-2.6934244909261561E-2,454.83358342149154,0.10885904442289687,0,0,0,0,237.65933337444324,5.6880953545045798E-2,0,0,-36.882780661166585,-8.8274577884746835E-3,{"$f":"INDEX('Comparison - TA'!$B$59:$K$59,MATCH('3'!A19,'Comparison - TA'!$B$52:$K$52,0))/1000","v":543.07378976339851},0.12997829527020655,null,null,null,null,null,0,{"$f":"ROUND(INDEX('2'!$D$12:$D$21,MATCH(A19,'2'!$H$12:$H$21,0),)-Q19,3)","v":0},0,{"$f":"ROUND(INDEX('2'!$E$12:$E$21,MATCH(A19,'2'!$H$12:$H$21,0),)-R19,2)","v":0}]
["Carterton district",null,20.619502073889134,1.1726169313217153E-2,200.9614257714064,0.11428538359348274,0,0,0.37363999999999942,2.124865036260336E-4,69.455029035314226,3.9498598327156048E-2,0,0,-19.967542870623117,-1.1355404588859992E-2,{"$f":"INDEX('Comparison - TA'!$B$59:$K$59,MATCH('3'!A20,'Comparison - TA'!$B$52:$K$52,0))/1000","v":271.4420540099868},0.15436723314862211,null,null,null,null,null,0,{"$f":"ROUND(INDEX('2'!$D$12:$D$21,MATCH(A20,'2'!$H$12:$H$21,0),)-Q20,3)","v":0},0,{"$f":"ROUND(INDEX('2'!$E$12:$E$21,MATCH(A20,'2'!$H$12:$H$21,0),)-R20,2)","v":0}]
["South Wairarapa district",null,-57.538266330483722,-1.9382736252876964E-2,327.73080145663374,0.11040165252967422,0,0,0,0,91.618719752768868,3.0863312262388056E-2,0,0,-33.334003946485872,-1.1229121903605047E-2,{"$f":"INDEX('Comparison - TA'!$B$59:$K$59,MATCH('3'!A21,'Comparison - TA'!$B$52:$K$52,0))/1000","v":328.47725093243315},0.11065310663558033,null,null,null,null,null,0,{"$f":"ROUND(INDEX('2'!$D$12:$D$21,MATCH(A21,'2'!$H$12:$H$21,0),)-Q21,3)","v":0},0,{"$f":"ROUND(INDEX('2'!$E$12:$E$21,MATCH(A21,'2'!$H$12:$H$21,0),)-R21,2)","v":0}]
["Tararua district",null,-4.6712004291930501E-4,-8.2558114509115641E-5,0.87574760752172276,0.15477835378464438,0,0,0,0,0,0,0,0,-0.11700000000000001,-2.0678409209761044E-2,{"$f":"INDEX('Comparison - TA'!$B$59:$K$59,MATCH('3'!A22,'Comparison - TA'!$B$52:$K$52,0))/1000","v":0.7582804874788035},0.1340173864603742,null,null,null,null,null,0,{"$f":"ROUND(INDEX('2'!$D$12:$D$21,MATCH(A22,'2'!$H$12:$H$21,0),)-Q22,3)","v":0},0,{"$f":"ROUND(INDEX('2'!$E$12:$E$21,MATCH(A22,'2'!$H$12:$H$21,0),)-R22,2)","v":0}]
["Region wide",2,{"$f":"SUM(C14:C22)","v":3.0915998385470933E-12},1.9765962227246882E-17,10224.764488020783,6.5371432011619157E-2,0,0,{"$f":"INDEX($D$103:$J$112,MATCH(\"Region wide\",$A$103:$A$112,0),MATCH(I$9,$D$102:$J$102,0))/1000","v":1078.409487119191},6.8947478008408872E-3,{"$f":"INDEX($D$103:$J$112,MATCH(\"Region wide\",$A$103:$A$112,0),MATCH(K$9,$D$102:$J$102,0))/1000","v":8848.1490912932859},5.6570122219227123E-2,0,0,-70.178342187364592,-4.4868111440261508E-4,{"$f":"INDEX($D$103:$J$112,MATCH(\"Region wide\",$A$103:$A$112,0),MATCH(Q$11,$D$102:$J$102,0))/1000","v":20081.144724245903},0.12838762091728459,null,null,null,null,null,0,{"$f":"ROUND(INDEX('2'!$D$12:$D$21,MATCH(A23,'2'!$H$12:$H$21,0),)-Q23,3)","v":0},0,{"$f":"ROUND(INDEX('2'!$E$12:$E$21,MATCH(A23,'2'!$H$12:$H$21,0),)-R23,2)","v":0}]
[null,null,null,null,null,null,null,null,null,null,null,null,null,null,null,null,null,null,null,null,null,"Doesn't incl area specifc rates"]
[]
["WATER SUPPLY LEVY"]
[]
[{"$f":"\"This table shows that the proposed water supply levy will increase by \"&ROUND(P39*100,1)&\"% from the \"&year_previous&\" level. The amounts charged to each of the four cities are based on the water consumption budgets and will be based on actual usage when the annual plan is finalised.\"","v":"This table shows that the proposed water supply levy will increase by 7% from the 2021/22 level. The amounts charged to each of the four cities are based on the water consumption budgets and will be based on actual usage when the annual plan is finalised."}]
[]
[]
[]
[null,null,null,null,null,null,null,null,null,null,null,null,{"$f":"year_previous","v":"2021/22"},{"$f":"year_current","v":"2022/23"}]
[null,null,null,null,null,null,null,null,null,null,null,null,"Budget","Plan","Change","Change"]
[null,null,null,null,null,null,null,null,null,null,null,null,"$000s","$000s","$000s","%  "]
["Wellington city",null,null,null,null,null,null,null,null,null,null,null,{"$f":"INDEX('Comparison - TA'!$B$21:$K$21,,MATCH(A35,'Comparison - TA'!$B$6:$K$6,0))/1000","v":20052.755449598601},{"$f":"INDEX('Water levy'!$C$10:$C$19,MATCH(A35,'Water levy'!$A$10:$A$19,0),)/1000","v":21455.074230000002},{"$f":"+N35-M35","v":1402.3187804014015},{"$f":"ROUND((N35-M35)/M35,6)","v":6.9930999999999993E-2}]
["Hutt city",null,null,null,null,null,null,null,null,null,null,null,{"$f":"INDEX('Comparison - TA'!$B$21:$K$21,,MATCH(A36,'Comparison - TA'!$B$6:$K$6,0))/1000","v":10368.454141292452},{"$f":"INDEX('Water levy'!$C$10:$C$19,MATCH(A36,'Water levy'!$A$10:$A$19,0),)/1000","v":11093.535440099999},{"$f":"+N36-M36","v":725.08129880754677},{"$f":"ROUND((N36-M36)/M36,6)","v":6.9930999999999993E-2}]
["Upper Hutt city",null,null,null,null,null,null,null,null,null,null,null,{"$f":"INDEX('Comparison - TA'!$B$21:$K$21,,MATCH(A37,'Comparison - TA'!$B$6:$K$6,0))/1000","v":4273.9892497477804},{"$f":"INDEX('Water levy'!$C$10:$C$19,MATCH(A37,'Water levy'!$A$10:$A$19,0),)/1000","v":4572.8756250999995},{"$f":"+N37-M37","v":298.88637535221915},{"$f":"ROUND((N37-M37)/M37,6)","v":6.9930999999999993E-2}]
["Porirua city",null,null,null,null,null,null,null,null,null,null,null,{"$f":"INDEX('Comparison - TA'!$B$21:$K$21,,MATCH(A38,'Comparison - TA'!$B$6:$K$6,0))/1000","v":4623.9294919074409},{"$f":"INDEX('Water levy'!$C$10:$C$19,MATCH(A38,'Water levy'!$A$10:$A$19,0),)/1000","v":4947.2877047999991},{"$f":"+N38-M38","v":323.35821289255819},{"$f":"ROUND((N38-M38)/M38,6)","v":6.9930999999999993E-2}]
["Bulk Water Levies",null,null,null,null,null,null,null,null,null,null,null,{"$f":"INDEX(ESSbase!$F$8:$F$25,MATCH(A39,ESSbase!$B$8:$B$25,0),)/1000","v":39319.128332546272},{"$f":"INDEX(ESSbase!$G$8:$G$25,MATCH(A39,ESSbase!$B$8:$B$25,0),)/1000","v":42068.773000000001},{"$f":"+N39-M39","v":2749.6446674537292},{"$f":"ROUND((N39-M39)/M39,6)","v":6.9930999999999993E-2},null,null,null,null,null,{"$f":"M39-SUM(M35:M38)","v":0},{"$f":"N39-SUM(N35:N38)","v":0}]
[]
[]
[]
["Notes:"]
[]
["1 Rates for Greater Wellington are mostly allocated to ratepayers on the basis of their capital values. The territorial local authorities undertake valuations in different years. To ensure properties are valued on the same basis in each territorial area,  Greater Wellington undertakes an equalised capital value (ECV) calculation. The movements in ECV reflect the extent to which capital values in each area have moved relative to each other."]
[]
[{"$f":"\"The ECV change by city amount shows how much the general rate changes as a direct consequence of the relative changes in capital values between the cities and districts from \"&year_previous&\" to \"&year_current","v":"The ECV change by city amount shows how much the general rate changes as a direct consequence of the relative changes in capital values between the cities and districts from 2021/22 to 2022/23"}]
[]
["2  Region-wide rates are rates that are charged to all ratepayers in  the region. It excludes  South Wairarapa Region river rates, Wairarapa river and drainage schemes and any \"Warm Greater Wellington\" targeted rates as they impact only certain ratepayers that are covered by these programmes"]
[]
[]
["This information should be read in conjunction with the Funding Impact Statement and the Revenue and Financing Policy contained within the 2015/25 long term plan available at www.gw.govt.nz"]
[]
[{"$f":"+'1'!$A$46","v":0}]
[]
[]
[]
[]
["Movement workings"]
[]
[]
["Last years rate"]
[null,null,null,"General Rate","Remission of Rates","River management rate","Public transport rate","Stadium purposes rate","Economic development rate","District-Wide Rates",null,null,null,null,null,null,null,null,null,null,null,null,"Checks"]
["Wellington city",null,null,{"$f":"INDEX('Comparison - Category'!$J$10:$P$19,MATCH($A64,'Comparison - Category'!$A$10:$A$19,0),MATCH(D$63,'Comparison - Category'!$J$7:$P$7,0))","v":29568388.705329046},{"$f":"INDEX('Comparison - Category'!$J$10:$P$19,MATCH($A64,'Comparison - Category'!$A$10:$A$19,0),MATCH(E$63,'Comparison - Category'!$J$7:$P$7,0))","v":0},{"$f":"INDEX('Comparison - Category'!$J$10:$O$19,MATCH($A64,'Comparison - Category'!$A$10:$A$19,0),MATCH(F$63,'Comparison - Category'!$J$7:$O$7,0))","v":56888.244999999988},{"$f":"INDEX('Comparison - Category'!$J$10:$O$19,MATCH($A64,'Comparison - Category'!$A$10:$A$19,0),MATCH(G$63,'Comparison - Category'!$J$7:$O$7,0))","v":50191134.820438534},{"$f":"INDEX('Comparison - Category'!$J$10:$O$19,MATCH($A64,'Comparison - Category'!$A$10:$A$19,0),MATCH(H$63,'Comparison - Category'!$J$7:$O$7,0))","v":0},{"$f":"INDEX('Comparison - Category'!$J$10:$O$19,MATCH($A64,'Comparison - Category'!$A$10:$A$19,0),MATCH(I$63,'Comparison - Category'!$J$7:$O$7,0))","v":2113485.019934962},{"$f":"INDEX('Comparison - Category'!$J$10:$P$19,MATCH($A64,'Comparison - Category'!$A$10:$A$19,0),MATCH(J$63,'Comparison - Category'!$J$7:$P$7,0))","v":81929896.790702552},null,null,null,null,null,null,null,null,null,null,null,null,{"$f":"J64-SUM(D64:I64)","v":0}]
["Hutt city",null,null,{"$f":"INDEX('Comparison - Category'!$J$10:$P$19,MATCH($A65,'Comparison - Category'!$A$10:$A$19,0),MATCH(D$63,'Comparison - Category'!$J$7:$P$7,0))","v":10945060.956712525},{"$f":"INDEX('Comparison - Category'!$J$10:$P$19,MATCH($A65,'Comparison - Category'!$A$10:$A$19,0),MATCH(E$63,'Comparison - Category'!$J$7:$P$7,0))","v":0},{"$f":"INDEX('Comparison - Category'!$J$10:$O$19,MATCH($A65,'Comparison - Category'!$A$10:$A$19,0),MATCH(F$63,'Comparison - Category'!$J$7:$O$7,0))","v":4306466.2947336622},{"$f":"INDEX('Comparison - Category'!$J$10:$O$19,MATCH($A65,'Comparison - Category'!$A$10:$A$19,0),MATCH(G$63,'Comparison - Category'!$J$7:$O$7,0))","v":12819721.639966477},{"$f":"INDEX('Comparison - Category'!$J$10:$O$19,MATCH($A65,'Comparison - Category'!$A$10:$A$19,0),MATCH(H$63,'Comparison - Category'!$J$7:$O$7,0))","v":0},{"$f":"INDEX('Comparison - Category'!$J$10:$O$19,MATCH($A65,'Comparison - Category'!$A$10:$A$19,0),MATCH(I$63,'Comparison - Category'!$J$7:$O$7,0))","v":880711.1335691819},{"$f":"INDEX('Comparison - Category'!$J$10:$P$19,MATCH($A65,'Comparison - Category'!$A$10:$A$19,0),MATCH(J$63,'Comparison - Category'!$J$7:$P$7,0))","v":28951960.024981845},null,null,null,null,null,null,null,null,null,null,null,null,0]
["Upper Hutt city",null,null,{"$f":"INDEX('Comparison - Category'!$J$10:$P$19,MATCH($A66,'Comparison - Category'!$A$10:$A$19,0),MATCH(D$63,'Comparison - Category'!$J$7:$P$7,0))","v":4423679.6054094136},{"$f":"INDEX('Comparison - Category'!$J$10:$P$19,MATCH($A66,'Comparison - Category'!$A$10:$A$19,0),MATCH(E$63,'Comparison - Category'!$J$7:$P$7,0))","v":0},{"$f":"INDEX('Comparison - Category'!$J$10:$O$19,MATCH($A66,'Comparison - Category'!$A$10:$A$19,0),MATCH(F$63,'Comparison - Category'!$J$7:$O$7,0))","v":1069965.7362243179},{"$f":"INDEX('Comparison - Category'!$J$10:$O$19,MATCH($A66,'Comparison - Category'!$A$10:$A$19,0),MATCH(G$63,'Comparison - Category'!$J$7:$O$7,0))","v":5043238.6975953681},{"$f":"INDEX('Comparison - Category'!$J$10:$O$19,MATCH($A66,'Comparison - Category'!$A$10:$A$19,0),MATCH(H$63,'Comparison - Category'!$J$7:$O$7,0))","v":0},{"$f":"INDEX('Comparison - Category'!$J$10:$O$19,MATCH($A66,'Comparison - Category'!$A$10:$A$19,0),MATCH(I$63,'Comparison - Category'!$J$7:$O$7,0))","v":348890.09148375574},{"$f":"INDEX('Comparison - Category'!$J$10:$P$19,MATCH($A66,'Comparison - Category'!$A$10:$A$19,0),MATCH(J$63,'Comparison - Category'!$J$7:$P$7,0))","v":10885774.130712854},null,null,null,null,null,null,null,null,null,null,null,null,0]
["Porirua city",null,null,{"$f":"INDEX('Comparison - Category'!$J$10:$P$19,MATCH($A67,'Comparison - Category'!$A$10:$A$19,0),MATCH(D$63,'Comparison - Category'!$J$7:$P$7,0))","v":5310919.2278633695},{"$f":"INDEX('Comparison - Category'!$J$10:$P$19,MATCH($A67,'Comparison - Category'!$A$10:$A$19,0),MATCH(E$63,'Comparison - Category'!$J$7:$P$7,0))","v":0},{"$f":"INDEX('Comparison - Category'!$J$10:$O$19,MATCH($A67,'Comparison - Category'!$A$10:$A$19,0),MATCH(F$63,'Comparison - Category'!$J$7:$O$7,0))","v":56371.235950248301},{"$f":"INDEX('Comparison - Category'!$J$10:$O$19,MATCH($A67,'Comparison - Category'!$A$10:$A$19,0),MATCH(G$63,'Comparison - Category'!$J$7:$O$7,0))","v":6303357.8408948155},{"$f":"INDEX('Comparison - Category'!$J$10:$O$19,MATCH($A67,'Comparison - Category'!$A$10:$A$19,0),MATCH(H$63,'Comparison - Category'!$J$7:$O$7,0))","v":0},{"$f":"INDEX('Comparison - Category'!$J$10:$O$19,MATCH($A67,'Comparison - Category'!$A$10:$A$19,0),MATCH(I$63,'Comparison - Category'!$J$7:$O$7,0))","v":366011.12142968294},{"$f":"INDEX('Comparison - Category'!$J$10:$P$19,MATCH($A67,'Comparison - Category'!$A$10:$A$19,0),MATCH(J$63,'Comparison - Category'!$J$7:$P$7,0))","v":12036659.426138116},null,null,null,null,null,null,null,null,null,null,null,null,0]
["Kāpiti Coast district",null,null,{"$f":"INDEX('Comparison - Category'!$J$10:$P$19,MATCH($A68,'Comparison - Category'!$A$10:$A$19,0),MATCH(D$63,'Comparison - Category'!$J$7:$P$7,0))","v":6610566.5490190228},{"$f":"INDEX('Comparison - Category'!$J$10:$P$19,MATCH($A68,'Comparison - Category'!$A$10:$A$19,0),MATCH(E$63,'Comparison - Category'!$J$7:$P$7,0))","v":0},{"$f":"INDEX('Comparison - Category'!$J$10:$O$19,MATCH($A68,'Comparison - Category'!$A$10:$A$19,0),MATCH(F$63,'Comparison - Category'!$J$7:$O$7,0))","v":1281538.8909725803},{"$f":"INDEX('Comparison - Category'!$J$10:$O$19,MATCH($A68,'Comparison - Category'!$A$10:$A$19,0),MATCH(G$63,'Comparison - Category'!$J$7:$O$7,0))","v":5323670.7096643876},{"$f":"INDEX('Comparison - Category'!$J$10:$O$19,MATCH($A68,'Comparison - Category'!$A$10:$A$19,0),MATCH(H$63,'Comparison - Category'!$J$7:$O$7,0))","v":0},{"$f":"INDEX('Comparison - Category'!$J$10:$O$19,MATCH($A68,'Comparison - Category'!$A$10:$A$19,0),MATCH(I$63,'Comparison - Category'!$J$7:$O$7,0))","v":479425.59047194885},{"$f":"INDEX('Comparison - Category'!$J$10:$P$19,MATCH($A68,'Comparison - Category'!$A$10:$A$19,0),MATCH(J$63,'Comparison - Category'!$J$7:$P$7,0))","v":13695201.74012794},null,null,null,null,null,null,null,null,null,null,null,null,0]
["Masterton district",null,null,{"$f":"INDEX('Comparison - Category'!$J$10:$P$19,MATCH($A69,'Comparison - Category'!$A$10:$A$19,0),MATCH(D$63,'Comparison - Category'!$J$7:$P$7,0))","v":2920823.4971531094},{"$f":"INDEX('Comparison - Category'!$J$10:$P$19,MATCH($A69,'Comparison - Category'!$A$10:$A$19,0),MATCH(E$63,'Comparison - Category'!$J$7:$P$7,0))","v":0},{"$f":"INDEX('Comparison - Category'!$J$10:$O$19,MATCH($A69,'Comparison - Category'!$A$10:$A$19,0),MATCH(F$63,'Comparison - Category'!$J$7:$O$7,0))","v":0},{"$f":"INDEX('Comparison - Category'!$J$10:$O$19,MATCH($A69,'Comparison - Category'!$A$10:$A$19,0),MATCH(G$63,'Comparison - Category'!$J$7:$O$7,0))","v":996637.01686057332},{"$f":"INDEX('Comparison - Category'!$J$10:$O$19,MATCH($A69,'Comparison - Category'!$A$10:$A$19,0),MATCH(H$63,'Comparison - Category'!$J$7:$O$7,0))","v":0},{"$f":"INDEX('Comparison - Category'!$J$10:$O$19,MATCH($A69,'Comparison - Category'!$A$10:$A$19,0),MATCH(I$63,'Comparison - Category'!$J$7:$O$7,0))","v":260727.76453255187},{"$f":"INDEX('Comparison - Category'!$J$10:$P$19,MATCH($A69,'Comparison - Category'!$A$10:$A$19,0),MATCH(J$63,'Comparison - Category'!$J$7:$P$7,0))","v":4178188.2785462346},null,null,null,null,null,null,null,null,null,null,null,null,0]
["Carterton district",null,null,{"$f":"INDEX('Comparison - Category'!$J$10:$P$19,MATCH($A70,'Comparison - Category'!$A$10:$A$19,0),MATCH(D$63,'Comparison - Category'!$J$7:$P$7,0))","v":1238631.8405657897},{"$f":"INDEX('Comparison - Category'!$J$10:$P$19,MATCH($A70,'Comparison - Category'!$A$10:$A$19,0),MATCH(E$63,'Comparison - Category'!$J$7:$P$7,0))","v":0},{"$f":"INDEX('Comparison - Category'!$J$10:$O$19,MATCH($A70,'Comparison - Category'!$A$10:$A$19,0),MATCH(F$63,'Comparison - Category'!$J$7:$O$7,0))","v":24909.32},{"$f":"INDEX('Comparison - Category'!$J$10:$O$19,MATCH($A70,'Comparison - Category'!$A$10:$A$19,0),MATCH(G$63,'Comparison - Category'!$J$7:$O$7,0))","v":400840.91295825073},{"$f":"INDEX('Comparison - Category'!$J$10:$O$19,MATCH($A70,'Comparison - Category'!$A$10:$A$19,0),MATCH(H$63,'Comparison - Category'!$J$7:$O$7,0))","v":0},{"$f":"INDEX('Comparison - Category'!$J$10:$O$19,MATCH($A70,'Comparison - Category'!$A$10:$A$19,0),MATCH(I$63,'Comparison - Category'!$J$7:$O$7,0))","v":94035.49005726102},{"$f":"INDEX('Comparison - Category'!$J$10:$P$19,MATCH($A70,'Comparison - Category'!$A$10:$A$19,0),MATCH(J$63,'Comparison - Category'!$J$7:$P$7,0))","v":1758417.5635813016},null,null,null,null,null,null,null,null,null,null,null,null,0]
["South Wairarapa district",null,null,{"$f":"INDEX('Comparison - Category'!$J$10:$P$19,MATCH($A71,'Comparison - Category'!$A$10:$A$19,0),MATCH(D$63,'Comparison - Category'!$J$7:$P$7,0))","v":2089539.0544524922},{"$f":"INDEX('Comparison - Category'!$J$10:$P$19,MATCH($A71,'Comparison - Category'!$A$10:$A$19,0),MATCH(E$63,'Comparison - Category'!$J$7:$P$7,0))","v":0},{"$f":"INDEX('Comparison - Category'!$J$10:$O$19,MATCH($A71,'Comparison - Category'!$A$10:$A$19,0),MATCH(F$63,'Comparison - Category'!$J$7:$O$7,0))","v":0},{"$f":"INDEX('Comparison - Category'!$J$10:$O$19,MATCH($A71,'Comparison - Category'!$A$10:$A$19,0),MATCH(G$63,'Comparison - Category'!$J$7:$O$7,0))","v":731729.19032832445},{"$f":"INDEX('Comparison - Category'!$J$10:$O$19,MATCH($A71,'Comparison - Category'!$A$10:$A$19,0),MATCH(H$63,'Comparison - Category'!$J$7:$O$7,0))","v":0},{"$f":"INDEX('Comparison - Category'!$J$10:$O$19,MATCH($A71,'Comparison - Category'!$A$10:$A$19,0),MATCH(I$63,'Comparison - Category'!$J$7:$O$7,0))","v":147263.42070802051},{"$f":"INDEX('Comparison - Category'!$J$10:$P$19,MATCH($A71,'Comparison - Category'!$A$10:$A$19,0),MATCH(J$63,'Comparison - Category'!$J$7:$P$7,0))","v":2968531.6654888373},null,null,null,null,null,null,null,null,null,null,null,null,0]
["Tararua district",null,null,{"$f":"INDEX('Comparison - Category'!$J$10:$P$19,MATCH($A72,'Comparison - Category'!$A$10:$A$19,0),MATCH(D$63,'Comparison - Category'!$J$7:$P$7,0))","v":5406.0754744311416},{"$f":"INDEX('Comparison - Category'!$J$10:$P$19,MATCH($A72,'Comparison - Category'!$A$10:$A$19,0),MATCH(E$63,'Comparison - Category'!$J$7:$P$7,0))","v":0},{"$f":"INDEX('Comparison - Category'!$J$10:$O$19,MATCH($A72,'Comparison - Category'!$A$10:$A$19,0),MATCH(F$63,'Comparison - Category'!$J$7:$O$7,0))","v":0},{"$f":"INDEX('Comparison - Category'!$J$10:$O$19,MATCH($A72,'Comparison - Category'!$A$10:$A$19,0),MATCH(G$63,'Comparison - Category'!$J$7:$O$7,0))","v":0},{"$f":"INDEX('Comparison - Category'!$J$10:$O$19,MATCH($A72,'Comparison - Category'!$A$10:$A$19,0),MATCH(H$63,'Comparison - Category'!$J$7:$O$7,0))","v":0},{"$f":"INDEX('Comparison - Category'!$J$10:$O$19,MATCH($A72,'Comparison - Category'!$A$10:$A$19,0),MATCH(I$63,'Comparison - Category'!$J$7:$O$7,0))","v":252},{"$f":"INDEX('Comparison - Category'!$J$10:$P$19,MATCH($A72,'Comparison - Category'!$A$10:$A$19,0),MATCH(J$63,'Comparison - Category'!$J$7:$P$7,0))","v":5658.0754744311416},null,null,null,null,null,null,null,null,null,null,null,null,0]
["Region wide",null,null,{"$f":"SUM(D64:D72)","v":63113015.511979215},0,6796139.7228808086,81810330.828706741,0,4690801.6321873637,{"$f":"INDEX('Comparison - Category'!$J$10:$P$19,MATCH($A73,'Comparison - Category'!$A$10:$A$19,0),MATCH(J$63,'Comparison - Category'!$J$7:$P$7,0))","v":156410287.69575411}]
[]
["Last years rate, this years ECV"]
[null,null,{"$f":"\"ECV \"&year_current","v":"ECV 2022/23"},"General Rate","Remission of Rates","River management rate","Public transport rate","Stadium purposes rate","Economic development rate","District-Wide Rates",null,null,null,null,null,null,null,null,null,null,null,null,"Checks"]
["Wellington city",null,{"$f":"INDEX('Capital values'!$G$8:$H$17,MATCH($A77,'Capital values'!$A$8:$A$17,0),MATCH(C$76,'Capital values'!$G$6:$H$6,0))","v":119439703683},{"$f":"D$73*$C77/$C$86","v":29771747.601879906},{"$f":"E$73*$C77/$C$86","v":0},{"$f":"F64","v":56888.244999999988},{"$f":"SUMIF($A$136:$A$162,A77,$M$136:$M$162)","v":48981696.433783993},{"$f":"H64","v":0},{"$f":"I64","v":2113485.019934962},{"$f":"SUM(D77:I77)","v":80923817.300598875}]
["Hutt city",null,{"$f":"INDEX('Capital values'!$G$8:$H$17,MATCH($A78,'Capital values'!$A$8:$A$17,0),MATCH(C$76,'Capital values'!$G$6:$H$6,0))","v":44154024498},{"$f":"D$73*$C78/$C$86","v":11005908.692226423},0,4306466.2947336622,13409648.569462294,0,880711.1335691819,29602734.68999156]
["Upper Hutt city",null,{"$f":"INDEX('Capital values'!$G$8:$H$17,MATCH($A79,'Capital values'!$A$8:$A$17,0),MATCH(C$76,'Capital values'!$G$6:$H$6,0))","v":17817751914},4441283.7311151372,0,1069965.7362243179,5266818.8882919317,0,348890.09148375574,11126958.447115142]
["Porirua city",null,{"$f":"INDEX('Capital values'!$G$8:$H$17,MATCH($A80,'Capital values'!$A$8:$A$17,0),MATCH(C$76,'Capital values'!$G$6:$H$6,0))","v":21241698999},5294742.7173108747,0,56371.235950248301,6532458.8979880745,0,366011.12142968294,12249583.972678881]
["Kāpiti Coast district",null,{"$f":"INDEX('Capital values'!$G$8:$H$17,MATCH($A81,'Capital values'!$A$8:$A$17,0),MATCH(C$76,'Capital values'!$G$6:$H$6,0))","v":26169483904},6523050.9255879773,0,1281538.8909725803,5461837.8729943587,0,479425.59047194885,13745853.280026864]
["Masterton district",null,{"$f":"INDEX('Capital values'!$G$8:$H$17,MATCH($A82,'Capital values'!$A$8:$A$17,0),MATCH(C$76,'Capital values'!$G$6:$H$6,0))","v":11263219050},2807489.5064312932,0,0,997434.66121101927,0,260727.76453255187,4065651.9321748642]
["Carterton district",null,{"$f":"INDEX('Capital values'!$G$8:$H$17,MATCH($A83,'Capital values'!$A$8:$A$17,0),MATCH(C$76,'Capital values'!$G$6:$H$6,0))","v":4976485118},1240447.3077966548,0,24909.32,419644.94780127483,0,94035.49005726102,1779037.0656551907]
["South Wairarapa district",null,{"$f":"INDEX('Capital values'!$G$8:$H$17,MATCH($A84,'Capital values'!$A$8:$A$17,0),MATCH(C$76,'Capital values'!$G$6:$H$6,0))","v":8115723950},2022939.4212765598,0,0,740790.55717377306,0,147263.42070802051,2910993.3991583535]
["Tararua district",null,{"$f":"INDEX('Capital values'!$G$8:$H$17,MATCH($A85,'Capital values'!$A$8:$A$17,0),MATCH(C$76,'Capital values'!$G$6:$H$6,0))","v":21686475},5405.6083543882223,0,0,0,0,252,5657.6083543882223]
["Region wide",null,{"$f":"INDEX('Capital values'!$G$8:$H$17,MATCH($A86,'Capital values'!$A$8:$A$17,0),MATCH(C$76,'Capital values'!$G$6:$H$6,0))","v":253199777591},{"$f":"SUM(D77:D85)","v":63113015.511979222},0,6796139.7228808086,81810330.828706726,0,4690801.6321873637,156410287.69575414,null,null,null,null,null,null,null,null,null,null,null,null,{"$f":"J86-J73","v":0}]
[]
["ECV movements"]
[null,null,null,"General Rate","Remission of Rates","River management rate","Public transport rate","Stadium purposes rate","Economic development rate","District-Wide Rates"]
["Wellington city",null,null,{"$f":"D77-D64","v":203358.89655086026},0,0,-1209438.3866545409,0,0,{"$f":"SUM(D90:I90)","v":-1006079.4901036806}]
["Hutt city",null,null,{"$f":"D78-D65","v":60847.735513897613},{"$f":"E78-E65","v":0},{"$f":"F78-F65","v":0},589926.92949581705,0,0,650774.66500971466]
["Upper Hutt city",null,null,17604.125705723651,0,0,223580.19069656357,0,0,241184.31640228722]
["Porirua city",null,null,-16176.510552494787,0,0,229101.05709325895,0,0,212924.54654076416]
["Kāpiti Coast district",null,null,-87515.623431045562,0,0,138167.16332997102,0,0,50651.539898925461]
["Masterton district",null,null,-113333.9907218162,0,0,797.64435044594575,0,0,-112536.34637137025]
["Carterton district",null,null,1815.4672308650333,0,0,18804.034843024099,0,0,20619.502073889133]
["South Wairarapa district",null,null,-66599.633175932337,0,0,9061.3668454486178,0,0,-57538.266330483719]
["Tararua district",null,null,-0.46712004291930498,0,0,0,0,0,-0.46712004291930498]
["Region wide",null,null,{"$f":"SUM(D90:D98)","v":1.4751094568055123E-8},0,0,-1.1641532182693481E-8,0,0,3.1095623853616416E-9]
[]
["Rate movements"]
[null,null,null,"General Rate","Remission of Rates","River management rate","Public transport rate","Stadium purposes rate","Economic development rate","District-Wide Rates"]
["Wellington city",null,null,{"$f":"D116-D90-D64","v":4823238.2046178877},0,-1756.7649999999849,6831524.0381286889,0,-29089.341882507782,{"$f":"SUM(D103:I103)","v":11623916.135864068}]
["Hutt city",null,null,{"$f":"D117-D91-D65","v":1783036.7229611576},0,{"$f":"F117-F91-F65","v":791577.03526633792},597904.41266353987,0,39018.128926808131,3211536.2998178434]
["Upper Hutt city",null,null,719520.05155752972,0,66755.783775682095,96444.748394540511,0,5082.029758086137,887802.61348583852]
["Porirua city",null,null,857786.57333987299,0,-10487.875950248301,61326.226533257402,0,15104.473159626417,923729.39708250854]
["Kāpiti Coast district",null,null,1056781.3772872826,0,231947.66902741953,862216.58341073431,0,-9992.3046711019124,2140953.3250543349]
["Masterton district",null,null,454833.58342149155,0,0,237659.33337444323,0,-36882.780661166587,655610.13613476814]
["Carterton district",null,null,200961.42577140639,0,373.63999999999942,69455.029035314219,0,-19967.542870623118,250822.5519360975]
["South Wairarapa district",null,null,327730.80145663372,0,0,91618.71975276887,0,-33334.003946485871,386015.51726291672]
["Tararua district",null,null,875.74760752172278,0,0,0,0,-117,758.74760752172278]
["Region wide",null,null,{"$f":"SUM(D103:D111)","v":10224764.488020783},0,1078409.4871191911,8848149.0912932865,0,-70178.342187364586,20081144.724245902]
[]
["This years rate"]
[null,null,null,"General Rate","Remission of Rates","River management rate","Public transport rate","Stadium purposes rate","Economic development rate","District-Wide Rates",null,null,null,null,null,null,null,null,null,null,null,null,"Checks"]
["Wellington city",null,null,{"$f":"INDEX('Comparison - Category'!$J$69:$Q$78,MATCH($A116,'Comparison - Category'!$A$69:$A$78,0),MATCH(D$63,'Comparison - Category'!$J$7:$O$7,0))","v":34594985.806497797},{"$f":"INDEX('Comparison - Category'!$J$69:$Q$78,MATCH($A116,'Comparison - Category'!$A$69:$A$78,0),MATCH(E$63,'Comparison - Category'!$J$7:$O$7,0))","v":0},{"$f":"INDEX('Comparison - Category'!$J$69:$Q$78,MATCH($A116,'Comparison - Category'!$A$69:$A$78,0),MATCH(F$63,'Comparison - Category'!$J$7:$O$7,0))","v":55131.48},{"$f":"INDEX('Comparison - Category'!$J$69:$Q$78,MATCH($A116,'Comparison - Category'!$A$69:$A$78,0),MATCH(G$63,'Comparison - Category'!$J$7:$O$7,0))","v":55813220.471912682},{"$f":"INDEX('Comparison - Category'!$J$69:$Q$78,MATCH($A116,'Comparison - Category'!$A$69:$A$78,0),MATCH(H$63,'Comparison - Category'!$J$7:$O$7,0))","v":0},{"$f":"INDEX('Comparison - Category'!$J$69:$Q$78,MATCH($A116,'Comparison - Category'!$A$69:$A$78,0),MATCH(I$63,'Comparison - Category'!$J$7:$O$7,0))","v":2084395.6780524543},{"$f":"INDEX('Comparison - Category'!$J$69:$Q$78,MATCH($A116,'Comparison - Category'!$A$69:$A$78,0),MATCH(J$63,'Comparison - Category'!$J$7:$P$7,0))","v":92547733.436462939},null,null,null,null,null,null,null,null,null,null,null,null,{"$f":"J116-SUM(D116:I116)","v":0}]
["Hutt city",null,null,{"$f":"INDEX('Comparison - Category'!$J$69:$Q$78,MATCH($A117,'Comparison - Category'!$A$69:$A$78,0),MATCH(D$63,'Comparison - Category'!$J$7:$O$7,0))","v":12788945.415187581},{"$f":"INDEX('Comparison - Category'!$J$69:$Q$78,MATCH($A117,'Comparison - Category'!$A$69:$A$78,0),MATCH(E$63,'Comparison - Category'!$J$7:$O$7,0))","v":0},{"$f":"INDEX('Comparison - Category'!$J$69:$Q$78,MATCH($A117,'Comparison - Category'!$A$69:$A$78,0),MATCH(F$63,'Comparison - Category'!$J$7:$O$7,0))","v":5098043.33},{"$f":"INDEX('Comparison - Category'!$J$69:$Q$78,MATCH($A117,'Comparison - Category'!$A$69:$A$78,0),MATCH(G$63,'Comparison - Category'!$J$7:$O$7,0))","v":14007552.982125834},{"$f":"INDEX('Comparison - Category'!$J$69:$Q$78,MATCH($A117,'Comparison - Category'!$A$69:$A$78,0),MATCH(H$63,'Comparison - Category'!$J$7:$O$7,0))","v":0},{"$f":"INDEX('Comparison - Category'!$J$69:$Q$78,MATCH($A117,'Comparison - Category'!$A$69:$A$78,0),MATCH(I$63,'Comparison - Category'!$J$7:$O$7,0))","v":919729.26249599003},{"$f":"INDEX('Comparison - Category'!$J$69:$Q$78,MATCH($A117,'Comparison - Category'!$A$69:$A$78,0),MATCH(J$63,'Comparison - Category'!$J$7:$P$7,0))","v":32814270.989809405},null,null,null,null,null,null,null,null,null,null,null,null,0]
["Upper Hutt city",null,null,{"$f":"INDEX('Comparison - Category'!$J$69:$Q$78,MATCH($A118,'Comparison - Category'!$A$69:$A$78,0),MATCH(D$63,'Comparison - Category'!$J$7:$O$7,0))","v":5160803.7826726669},{"$f":"INDEX('Comparison - Category'!$J$69:$Q$78,MATCH($A118,'Comparison - Category'!$A$69:$A$78,0),MATCH(E$63,'Comparison - Category'!$J$7:$O$7,0))","v":0},{"$f":"INDEX('Comparison - Category'!$J$69:$Q$78,MATCH($A118,'Comparison - Category'!$A$69:$A$78,0),MATCH(F$63,'Comparison - Category'!$J$7:$O$7,0))","v":1136721.52},{"$f":"INDEX('Comparison - Category'!$J$69:$Q$78,MATCH($A118,'Comparison - Category'!$A$69:$A$78,0),MATCH(G$63,'Comparison - Category'!$J$7:$O$7,0))","v":5363263.6366864722},{"$f":"INDEX('Comparison - Category'!$J$69:$Q$78,MATCH($A118,'Comparison - Category'!$A$69:$A$78,0),MATCH(H$63,'Comparison - Category'!$J$7:$O$7,0))","v":0},{"$f":"INDEX('Comparison - Category'!$J$69:$Q$78,MATCH($A118,'Comparison - Category'!$A$69:$A$78,0),MATCH(I$63,'Comparison - Category'!$J$7:$O$7,0))","v":353972.12124184187},{"$f":"INDEX('Comparison - Category'!$J$69:$Q$78,MATCH($A118,'Comparison - Category'!$A$69:$A$78,0),MATCH(J$63,'Comparison - Category'!$J$7:$P$7,0))","v":12014761.060600981},null,null,null,null,null,null,null,null,null,null,null,null,0]
["Porirua city",null,null,{"$f":"INDEX('Comparison - Category'!$J$69:$Q$78,MATCH($A119,'Comparison - Category'!$A$69:$A$78,0),MATCH(D$63,'Comparison - Category'!$J$7:$O$7,0))","v":6152529.2906507477},{"$f":"INDEX('Comparison - Category'!$J$69:$Q$78,MATCH($A119,'Comparison - Category'!$A$69:$A$78,0),MATCH(E$63,'Comparison - Category'!$J$7:$O$7,0))","v":0},{"$f":"INDEX('Comparison - Category'!$J$69:$Q$78,MATCH($A119,'Comparison - Category'!$A$69:$A$78,0),MATCH(F$63,'Comparison - Category'!$J$7:$O$7,0))","v":45883.360000000001},{"$f":"INDEX('Comparison - Category'!$J$69:$Q$78,MATCH($A119,'Comparison - Category'!$A$69:$A$78,0),MATCH(G$63,'Comparison - Category'!$J$7:$O$7,0))","v":6593785.1245213319},{"$f":"INDEX('Comparison - Category'!$J$69:$Q$78,MATCH($A119,'Comparison - Category'!$A$69:$A$78,0),MATCH(H$63,'Comparison - Category'!$J$7:$O$7,0))","v":0},{"$f":"INDEX('Comparison - Category'!$J$69:$Q$78,MATCH($A119,'Comparison - Category'!$A$69:$A$78,0),MATCH(I$63,'Comparison - Category'!$J$7:$O$7,0))","v":381115.59458930936},{"$f":"INDEX('Comparison - Category'!$J$69:$Q$78,MATCH($A119,'Comparison - Category'!$A$69:$A$78,0),MATCH(J$63,'Comparison - Category'!$J$7:$P$7,0))","v":13173313.369761391},null,null,null,null,null,null,null,null,null,null,null,null,0]
["Kāpiti Coast district",null,null,{"$f":"INDEX('Comparison - Category'!$J$69:$Q$78,MATCH($A120,'Comparison - Category'!$A$69:$A$78,0),MATCH(D$63,'Comparison - Category'!$J$7:$O$7,0))","v":7579832.3028752599},{"$f":"INDEX('Comparison - Category'!$J$69:$Q$78,MATCH($A120,'Comparison - Category'!$A$69:$A$78,0),MATCH(E$63,'Comparison - Category'!$J$7:$O$7,0))","v":0},{"$f":"INDEX('Comparison - Category'!$J$69:$Q$78,MATCH($A120,'Comparison - Category'!$A$69:$A$78,0),MATCH(F$63,'Comparison - Category'!$J$7:$O$7,0))","v":1513486.5599999998},{"$f":"INDEX('Comparison - Category'!$J$69:$Q$78,MATCH($A120,'Comparison - Category'!$A$69:$A$78,0),MATCH(G$63,'Comparison - Category'!$J$7:$O$7,0))","v":6324054.456405093},{"$f":"INDEX('Comparison - Category'!$J$69:$Q$78,MATCH($A120,'Comparison - Category'!$A$69:$A$78,0),MATCH(H$63,'Comparison - Category'!$J$7:$O$7,0))","v":0},{"$f":"INDEX('Comparison - Category'!$J$69:$Q$78,MATCH($A120,'Comparison - Category'!$A$69:$A$78,0),MATCH(I$63,'Comparison - Category'!$J$7:$O$7,0))","v":469433.28580084693},{"$f":"INDEX('Comparison - Category'!$J$69:$Q$78,MATCH($A120,'Comparison - Category'!$A$69:$A$78,0),MATCH(J$63,'Comparison - Category'!$J$7:$P$7,0))","v":15886806.605081199},null,null,null,null,null,null,null,null,null,null,null,null,0]
["Masterton district",null,null,{"$f":"INDEX('Comparison - Category'!$J$69:$Q$78,MATCH($A121,'Comparison - Category'!$A$69:$A$78,0),MATCH(D$63,'Comparison - Category'!$J$7:$O$7,0))","v":3262323.0898527848},{"$f":"INDEX('Comparison - Category'!$J$69:$Q$78,MATCH($A121,'Comparison - Category'!$A$69:$A$78,0),MATCH(E$63,'Comparison - Category'!$J$7:$O$7,0))","v":0},{"$f":"INDEX('Comparison - Category'!$J$69:$Q$78,MATCH($A121,'Comparison - Category'!$A$69:$A$78,0),MATCH(F$63,'Comparison - Category'!$J$7:$O$7,0))","v":0},{"$f":"INDEX('Comparison - Category'!$J$69:$Q$78,MATCH($A121,'Comparison - Category'!$A$69:$A$78,0),MATCH(G$63,'Comparison - Category'!$J$7:$O$7,0))","v":1235093.9945854624},{"$f":"INDEX('Comparison - Category'!$J$69:$Q$78,MATCH($A121,'Comparison - Category'!$A$69:$A$78,0),MATCH(H$63,'Comparison - Category'!$J$7:$O$7,0))","v":0},{"$f":"INDEX('Comparison - Category'!$J$69:$Q$78,MATCH($A121,'Comparison - Category'!$A$69:$A$78,0),MATCH(I$63,'Comparison - Category'!$J$7:$O$7,0))","v":223844.98387138528},{"$f":"INDEX('Comparison - Category'!$J$69:$Q$78,MATCH($A121,'Comparison - Category'!$A$69:$A$78,0),MATCH(J$63,'Comparison - Category'!$J$7:$P$7,0))","v":4721262.0683096331},null,null,null,null,null,null,null,null,null,null,null,null,0]
["Carterton district",null,null,{"$f":"INDEX('Comparison - Category'!$J$69:$Q$78,MATCH($A122,'Comparison - Category'!$A$69:$A$78,0),MATCH(D$63,'Comparison - Category'!$J$7:$O$7,0))","v":1441408.7335680611},{"$f":"INDEX('Comparison - Category'!$J$69:$Q$78,MATCH($A122,'Comparison - Category'!$A$69:$A$78,0),MATCH(E$63,'Comparison - Category'!$J$7:$O$7,0))","v":0},{"$f":"INDEX('Comparison - Category'!$J$69:$Q$78,MATCH($A122,'Comparison - Category'!$A$69:$A$78,0),MATCH(F$63,'Comparison - Category'!$J$7:$O$7,0))","v":25282.959999999999},{"$f":"INDEX('Comparison - Category'!$J$69:$Q$78,MATCH($A122,'Comparison - Category'!$A$69:$A$78,0),MATCH(G$63,'Comparison - Category'!$J$7:$O$7,0))","v":489099.97683658905},{"$f":"INDEX('Comparison - Category'!$J$69:$Q$78,MATCH($A122,'Comparison - Category'!$A$69:$A$78,0),MATCH(H$63,'Comparison - Category'!$J$7:$O$7,0))","v":0},{"$f":"INDEX('Comparison - Category'!$J$69:$Q$78,MATCH($A122,'Comparison - Category'!$A$69:$A$78,0),MATCH(I$63,'Comparison - Category'!$J$7:$O$7,0))","v":74067.947186637903},{"$f":"INDEX('Comparison - Category'!$J$69:$Q$78,MATCH($A122,'Comparison - Category'!$A$69:$A$78,0),MATCH(J$63,'Comparison - Category'!$J$7:$P$7,0))","v":2029859.6175912882},null,null,null,null,null,null,null,null,null,null,null,null,0]
["South Wairarapa district",null,null,{"$f":"INDEX('Comparison - Category'!$J$69:$Q$78,MATCH($A123,'Comparison - Category'!$A$69:$A$78,0),MATCH(D$63,'Comparison - Category'!$J$7:$O$7,0))","v":2350670.2227331935},{"$f":"INDEX('Comparison - Category'!$J$69:$Q$78,MATCH($A123,'Comparison - Category'!$A$69:$A$78,0),MATCH(E$63,'Comparison - Category'!$J$7:$O$7,0))","v":0},{"$f":"INDEX('Comparison - Category'!$J$69:$Q$78,MATCH($A123,'Comparison - Category'!$A$69:$A$78,0),MATCH(F$63,'Comparison - Category'!$J$7:$O$7,0))","v":0},{"$f":"INDEX('Comparison - Category'!$J$69:$Q$78,MATCH($A123,'Comparison - Category'!$A$69:$A$78,0),MATCH(G$63,'Comparison - Category'!$J$7:$O$7,0))","v":832409.27692654193},{"$f":"INDEX('Comparison - Category'!$J$69:$Q$78,MATCH($A123,'Comparison - Category'!$A$69:$A$78,0),MATCH(H$63,'Comparison - Category'!$J$7:$O$7,0))","v":0},{"$f":"INDEX('Comparison - Category'!$J$69:$Q$78,MATCH($A123,'Comparison - Category'!$A$69:$A$78,0),MATCH(I$63,'Comparison - Category'!$J$7:$O$7,0))","v":113929.41676153464},{"$f":"INDEX('Comparison - Category'!$J$69:$Q$78,MATCH($A123,'Comparison - Category'!$A$69:$A$78,0),MATCH(J$63,'Comparison - Category'!$J$7:$P$7,0))","v":3297008.9164212705},null,null,null,null,null,null,null,null,null,null,null,null,0]
["Tararua district",null,null,{"$f":"INDEX('Comparison - Category'!$J$69:$Q$78,MATCH($A124,'Comparison - Category'!$A$69:$A$78,0),MATCH(D$63,'Comparison - Category'!$J$7:$O$7,0))","v":6281.3559619099451},{"$f":"INDEX('Comparison - Category'!$J$69:$Q$78,MATCH($A124,'Comparison - Category'!$A$69:$A$78,0),MATCH(E$63,'Comparison - Category'!$J$7:$O$7,0))","v":0},{"$f":"INDEX('Comparison - Category'!$J$69:$Q$78,MATCH($A124,'Comparison - Category'!$A$69:$A$78,0),MATCH(F$63,'Comparison - Category'!$J$7:$O$7,0))","v":0},{"$f":"INDEX('Comparison - Category'!$J$69:$Q$78,MATCH($A124,'Comparison - Category'!$A$69:$A$78,0),MATCH(G$63,'Comparison - Category'!$J$7:$O$7,0))","v":0},{"$f":"INDEX('Comparison - Category'!$J$69:$Q$78,MATCH($A124,'Comparison - Category'!$A$69:$A$78,0),MATCH(H$63,'Comparison - Category'!$J$7:$O$7,0))","v":0},{"$f":"INDEX('Comparison - Category'!$J$69:$Q$78,MATCH($A124,'Comparison - Category'!$A$69:$A$78,0),MATCH(I$63,'Comparison - Category'!$J$7:$O$7,0))","v":135},{"$f":"INDEX('Comparison - Category'!$J$69:$Q$78,MATCH($A124,'Comparison - Category'!$A$69:$A$78,0),MATCH(J$63,'Comparison - Category'!$J$7:$P$7,0))","v":6416.3559619099451},null,null,null,null,null,null,null,null,null,null,null,null,0]
["Region wide",null,null,{"$f":"SUM(D116:D124)","v":73337780},0,7874549.21,90658479.920000017,0,4620623.29,176491432.42000002]
[]
[]
[]
[]
[]
[]
[]
[null,null,null,null,"Differential",null,"ECV $000",null,"Rate",null,null,"Last years rate & differential, this years ECV",null,null,null,"Last years rate, this years differential and ECV"]
["PT",null,null,null,{"$f":"year_previous","v":"2021/22"},{"$f":"year_current","v":"2022/23"},{"$f":"year_previous","v":"2021/22"},{"$f":"year_current","v":"2022/23"},{"$f":"year_previous","v":"2021/22"},{"$f":"year_current","v":"2022/23"},null,"ECV multiplied","Proxy rate","ECV movement",null,"ECV multiplied","Proxy rate","Differenital impact",null,"Rate change impact"]
["By TA & Category"]
[{"$f":"Control!A67","v":"Wellington city"},{"$f":"Control!B67","v":"Wellington city"},{"$f":"Control!C67","v":"Wellington CBD"},{"$f":"Control!D67","v":"Wellington cityWellington CBD"},{"$f":"IF(VALUE(LEFT(year_current,4))>2023,Control!N67,INDEX(Control!$H67:$M67,,MATCH(year_current,Control!$H$66:$M$66,0)-1))","v":6.9144017102208561},{"$f":"INDEX('Public transport'!$G$23:$G$49,MATCH(D136,'Public transport'!$D$23:$D$49,0),)","v":6.9572008551104281},{"$f":"INDEX('Capital values'!$G$19:$G$45,MATCH($D136,'Capital values'!$D$19:$D$45,0),)/1000","v":11664820.641943514},{"$f":"INDEX('Capital values'!$H$19:$H$45,MATCH($D136,'Capital values'!$D$19:$D$45,0),)/1000","v":13669953.228149246},{"$f":"INDEX('Comparison - Category'!$L$22:$L$49,MATCH(D136,'Comparison - Category'!$D$22:$D$49,0),)","v":27237587.729153674},{"$f":"INDEX('Comparison - Category'!$L$81:$L$108,MATCH(D136,'Comparison - Category'!$D$81:$D$108,0),)","v":27047320.236460216},null,{"$f":"E136*H136","v":94519547.979354262},{"$f":"$I$163*L136/$L$163","v":24458675.810115177},{"$f":"M136-I136","v":-2778911.9190384969},null,{"$f":"F136*H136","v":95104610.288199499},{"$f":"$I$163*P136/$P$163","v":24407537.149612349},{"$f":"Q136-M136","v":-51138.660502828658},null,{"$f":"J136-Q136","v":2639783.0868478678}]
[{"$f":"Control!A68","v":"Wellington city"},{"$f":"Control!B68","v":"Wellington city"},{"$f":"Control!C68","v":"Business"},{"$f":"Control!D68","v":"Wellington cityBusiness"},{"$f":"IF(VALUE(LEFT(year_current,4))>2023,Control!N68,INDEX(Control!$H68:$M68,,MATCH(year_current,Control!$H$66:$M$66,0)-1))","v":1.153674073947667},{"$f":"INDEX('Public transport'!$G$23:$G$49,MATCH(D137,'Public transport'!$D$23:$D$49,0),)","v":1.2768370369738333},{"$f":"INDEX('Capital values'!$G$19:$G$45,MATCH($D137,'Capital values'!$D$19:$D$45,0),)/1000","v":5427662.2942213472},{"$f":"INDEX('Capital values'!$H$19:$H$45,MATCH($D137,'Capital values'!$D$19:$D$45,0),)/1000","v":6931969.7518602964},{"$f":"INDEX('Comparison - Category'!$L$22:$L$49,MATCH(D137,'Comparison - Category'!$D$22:$D$49,0),)","v":2114617.9796148106},{"$f":"INDEX('Comparison - Category'!$L$81:$L$108,MATCH(D137,'Comparison - Category'!$D$81:$D$108,0),)","v":2517183.077460743},null,7997233.7841106663,2069431.6962453981,{"$f":"M137-I137","v":-45186.283369412413},null,{"$f":"F137*H137","v":8850995.7183575388},2271509.3006766299,{"$f":"Q137-M137","v":202077.60443123174},null,{"$f":"J137-Q137","v":245673.77678411314}]
[{"$f":"Control!A69","v":"Wellington city"},{"$f":"Control!B69","v":"Wellington city"},{"$f":"Control!C69","v":"Residential"},{"$f":"Control!D69","v":"Wellington cityResidential"},{"$f":"IF(VALUE(LEFT(year_current,4))>2023,Control!N69,INDEX(Control!$H69:$M69,,MATCH(year_current,Control!$H$66:$M$66,0)-1))","v":0.88700740728100058},{"$f":"INDEX('Public transport'!$G$23:$G$49,MATCH(D138,'Public transport'!$D$23:$D$49,0),)","v":0.9435037036405004},{"$f":"INDEX('Capital values'!$G$19:$G$45,MATCH($D138,'Capital values'!$D$19:$D$45,0),)/1000","v":69325526.359991014},{"$f":"INDEX('Capital values'!$H$19:$H$45,MATCH($D138,'Capital values'!$D$19:$D$45,0),)/1000","v":97483544.579973072},{"$f":"INDEX('Comparison - Category'!$L$22:$L$49,MATCH(D138,'Comparison - Category'!$D$22:$D$49,0),)","v":20766169.351922758},{"$f":"INDEX('Comparison - Category'!$L$81:$L$108,MATCH(D138,'Comparison - Category'!$D$81:$D$108,0),)","v":26157581.921209909},null,86468626.130443752,22375351.33719147,1609181.985268712,null,91976085.355208427,23604636.130470663,1229284.7932791933,null,2552945.7907392457]
[{"$f":"Control!A70","v":"Wellington city"},{"$f":"Control!B70","v":"Wellington city"},{"$f":"Control!C70","v":"Rural"},{"$f":"Control!D70","v":"Wellington cityRural"},{"$f":"IF(VALUE(LEFT(year_current,4))>2023,Control!N70,INDEX(Control!$H70:$M70,,MATCH(year_current,Control!$H$66:$M$66,0)-1))","v":0.22325940694361179},{"$f":"INDEX('Public transport'!$G$23:$G$49,MATCH(D139,'Public transport'!$D$23:$D$49,0),)","v":0.2366297034718059},{"$f":"INDEX('Capital values'!$G$19:$G$45,MATCH($D139,'Capital values'!$D$19:$D$45,0),)/1000","v":965040.45684412424},{"$f":"INDEX('Capital values'!$H$19:$H$45,MATCH($D139,'Capital values'!$D$19:$D$45,0),)/1000","v":1354236.1230173721},{"$f":"INDEX('Comparison - Category'!$L$22:$L$49,MATCH(D139,'Comparison - Category'!$D$22:$D$49,0),)","v":72759.759747297838},{"$f":"INDEX('Comparison - Category'!$L$81:$L$108,MATCH(D139,'Comparison - Category'!$D$81:$D$108,0),)","v":91135.236781813655},null,302345.95368647459,78237.590231947062,5477.8304846492247,null,320452.49222040881,82240.55684423502,4002.9666122879571,null,8894.6799375786359]
[{"$f":"Control!A71","v":"Hutt city"},{"$f":"Control!B71","v":"Hutt city"},{"$f":"Control!C71","v":"Business"},{"$f":"Control!D71","v":"Hutt cityBusiness"},{"$f":"IF(VALUE(LEFT(year_current,4))>2023,Control!N71,INDEX(Control!$H71:$M71,,MATCH(year_current,Control!$H$66:$M$66,0)-1))","v":1.4067777447151657},{"$f":"INDEX('Public transport'!$G$23:$G$49,MATCH(D140,'Public transport'!$D$23:$D$49,0),)","v":1.4033888723575829},{"$f":"INDEX('Capital values'!$G$19:$G$45,MATCH($D140,'Capital values'!$D$19:$D$45,0),)/1000","v":5570900.2557302462},{"$f":"INDEX('Capital values'!$H$19:$H$45,MATCH($D140,'Capital values'!$D$19:$D$45,0),)/1000","v":7435650.4487711648},{"$f":"INDEX('Comparison - Category'!$L$22:$L$49,MATCH(D140,'Comparison - Category'!$D$22:$D$49,0),)","v":2646591.0592143741},{"$f":"INDEX('Comparison - Category'!$L$81:$L$108,MATCH(D140,'Comparison - Category'!$D$81:$D$108,0),)","v":2967697.7449935139},null,10460307.568812609,2706797.4526874111,60206.393473037053,null,10435109.098546119,2678054.3257704149,-28743.126916996203,null,289643.41922309902]
[{"$f":"Control!A72","v":"Hutt city"},{"$f":"Control!B72","v":"Hutt city"},{"$f":"Control!C72","v":"Residential"},{"$f":"Control!D72","v":"Hutt cityResidential"},{"$f":"IF(VALUE(LEFT(year_current,4))>2023,Control!N72,INDEX(Control!$H72:$M72,,MATCH(year_current,Control!$H$66:$M$66,0)-1))","v":1.1401110780484991},{"$f":"INDEX('Public transport'!$G$23:$G$49,MATCH(D141,'Public transport'!$D$23:$D$49,0),)","v":1.0700555390242497},{"$f":"INDEX('Capital values'!$G$19:$G$45,MATCH($D141,'Capital values'!$D$19:$D$45,0),)/1000","v":26303577.169561535},{"$f":"INDEX('Capital values'!$H$19:$H$45,MATCH($D141,'Capital values'!$D$19:$D$45,0),)/1000","v":36129370.264526926},{"$f":"INDEX('Comparison - Category'!$L$22:$L$49,MATCH(D141,'Comparison - Category'!$D$22:$D$49,0),)","v":10127399.6692634},{"$f":"INDEX('Comparison - Category'!$L$81:$L$108,MATCH(D141,'Comparison - Category'!$D$81:$D$108,0),)","v":10994851.905950395},null,41191495.281503178,10659058.901172901,531659.23190950043,null,38660432.77301506,9921768.7372673843,-737290.16390551627,null,1073083.1686830111]
[{"$f":"Control!A73","v":"Hutt city"},{"$f":"Control!B73","v":"Hutt city"},{"$f":"Control!C73","v":"Rural"},{"$f":"Control!D73","v":"Hutt cityRural"},{"$f":"IF(VALUE(LEFT(year_current,4))>2023,Control!N73,INDEX(Control!$H73:$M73,,MATCH(year_current,Control!$H$66:$M$66,0)-1))","v":0.28732110512159936},{"$f":"INDEX('Public transport'!$G$23:$G$49,MATCH(D142,'Public transport'!$D$23:$D$49,0),)","v":0.26866055256079963},{"$f":"INDEX('Capital values'!$G$19:$G$45,MATCH($D142,'Capital values'!$D$19:$D$45,0),)/1000","v":471309.68070822029},{"$f":"INDEX('Capital values'!$H$19:$H$45,MATCH($D142,'Capital values'!$D$19:$D$45,0),)/1000","v":589003.78470191488},{"$f":"INDEX('Comparison - Category'!$L$22:$L$49,MATCH(D142,'Comparison - Category'!$D$22:$D$49,0),)","v":45730.911488702972},{"$f":"INDEX('Comparison - Category'!$L$81:$L$108,MATCH(D142,'Comparison - Category'!$D$81:$D$108,0),)","v":45003.331181924761},null,169233.21834135876,43792.215601981654,-1938.6958867213179,null,158242.0822584187,40611.064906846041,-3181.1506951356132,null,4392.2662750787204]
[{"$f":"Control!A74","v":"Upper Hutt city"},{"$f":"Control!B74","v":"Upper Hutt city"},{"$f":"Control!C74","v":"Business"},{"$f":"Control!D74","v":"Upper Hutt cityBusiness"},{"$f":"IF(VALUE(LEFT(year_current,4))>2023,Control!N74,INDEX(Control!$H74:$M74,,MATCH(year_current,Control!$H$66:$M$66,0)-1))","v":1.4655955461196268},{"$f":"INDEX('Public transport'!$G$23:$G$49,MATCH(D143,'Public transport'!$D$23:$D$49,0),)","v":1.4327977730598132},{"$f":"INDEX('Capital values'!$G$19:$G$45,MATCH($D143,'Capital values'!$D$19:$D$45,0),)/1000","v":1615034.1347679999},{"$f":"INDEX('Capital values'!$H$19:$H$45,MATCH($D143,'Capital values'!$D$19:$D$45,0),)/1000","v":2202141.9221770405},{"$f":"INDEX('Comparison - Category'!$L$22:$L$49,MATCH(D143,'Comparison - Category'!$D$22:$D$49,0),)","v":799340.488463438},{"$f":"INDEX('Comparison - Category'!$L$81:$L$108,MATCH(D143,'Comparison - Category'!$D$81:$D$108,0),)","v":897331.42089202057},null,3227449.3930659844,835162.03881758335,35821.550354145351,null,3155224.04205692,809753.04760183417,-25408.991215749178,null,87578.373290186399]
[{"$f":"Control!A75","v":"Upper Hutt city"},{"$f":"Control!B75","v":"Upper Hutt city"},{"$f":"Control!C75","v":"Residential"},{"$f":"Control!D75","v":"Upper Hutt cityResidential"},{"$f":"IF(VALUE(LEFT(year_current,4))>2023,Control!N75,INDEX(Control!$H75:$M75,,MATCH(year_current,Control!$H$66:$M$66,0)-1))","v":1.1989288794529616},{"$f":"INDEX('Public transport'!$G$23:$G$49,MATCH(D144,'Public transport'!$D$23:$D$49,0),)","v":1.099464439726481},{"$f":"INDEX('Capital values'!$G$19:$G$45,MATCH($D144,'Capital values'!$D$19:$D$45,0),)/1000","v":10152564.18403776},{"$f":"INDEX('Capital values'!$H$19:$H$45,MATCH($D144,'Capital values'!$D$19:$D$45,0),)/1000","v":13835513.465141645},{"$f":"INDEX('Comparison - Category'!$L$22:$L$49,MATCH(D144,'Comparison - Category'!$D$22:$D$49,0),)","v":4110599.2098704916},{"$f":"INDEX('Comparison - Category'!$L$81:$L$108,MATCH(D144,'Comparison - Category'!$D$81:$D$108,0),)","v":4326125.7734528361},null,16587796.655418633,4292398.2337242747,181799.02385378303,null,15211655.060280142,3903901.5549905915,-388496.67873368319,null,422224.21846224461]
[{"$f":"Control!A76","v":"Upper Hutt city"},{"$f":"Control!B76","v":"Upper Hutt city"},{"$f":"Control!C76","v":"Rural"},{"$f":"Control!D76","v":"Upper Hutt cityRural"},{"$f":"IF(VALUE(LEFT(year_current,4))>2023,Control!N76,INDEX(Control!$H76:$M76,,MATCH(year_current,Control!$H$66:$M$66,0)-1))","v":0.30232023498432908},{"$f":"INDEX('Public transport'!$G$23:$G$49,MATCH(D145,'Public transport'!$D$23:$D$49,0),)","v":0.27616011749216457},{"$f":"INDEX('Capital values'!$G$19:$G$45,MATCH($D145,'Capital values'!$D$19:$D$45,0),)/1000","v":1305640.7711942415},{"$f":"INDEX('Capital values'!$H$19:$H$45,MATCH($D145,'Capital values'!$D$19:$D$45,0),)/1000","v":1780096.5266813128},{"$f":"INDEX('Comparison - Category'!$L$22:$L$49,MATCH(D145,'Comparison - Category'!$D$22:$D$49,0),)","v":133298.99926143922},{"$f":"INDEX('Comparison - Category'!$L$81:$L$108,MATCH(D145,'Comparison - Category'!$D$81:$D$108,0),)","v":139806.44234161513},null,538159.20024108246,139258.61575007311,5959.6164886338811,null,491591.66595570539,126161.51638594613,-13097.099364126974,null,13644.925955668994]
[{"$f":"Control!A77","v":"Porirua city"},{"$f":"Control!B77","v":"Porirua city"},{"$f":"Control!C77","v":"Business"},{"$f":"Control!D77","v":"Porirua cityBusiness"},{"$f":"IF(VALUE(LEFT(year_current,4))>2023,Control!N77,INDEX(Control!$H77:$M77,,MATCH(year_current,Control!$H$66:$M$66,0)-1))","v":1.4826027722175859},{"$f":"INDEX('Public transport'!$G$23:$G$49,MATCH(D146,'Public transport'!$D$23:$D$49,0),)","v":1.4413013861087931},{"$f":"INDEX('Capital values'!$G$19:$G$45,MATCH($D146,'Capital values'!$D$19:$D$45,0),)/1000","v":1558076.018452592},{"$f":"INDEX('Capital values'!$H$19:$H$45,MATCH($D146,'Capital values'!$D$19:$D$45,0),)/1000","v":2033842.44825305},{"$f":"INDEX('Comparison - Category'!$L$22:$L$49,MATCH(D146,'Comparison - Category'!$D$22:$D$49,0),)","v":780098.45915109571},{"$f":"INDEX('Comparison - Category'!$L$81:$L$108,MATCH(D146,'Comparison - Category'!$D$81:$D$108,0),)","v":833671.17247082747},null,3015380.452033774,780285.29015566385,186.83100456814282,null,2931379.9397940221,752305.95618169091,-27979.333973972942,null,81365.216289136559]
[{"$f":"Control!A78","v":"Porirua city"},{"$f":"Control!B78","v":"Porirua city"},{"$f":"Control!C78","v":"Residential"},{"$f":"Control!D78","v":"Porirua cityResidential"},{"$f":"IF(VALUE(LEFT(year_current,4))>2023,Control!N78,INDEX(Control!$H78:$M78,,MATCH(year_current,Control!$H$66:$M$66,0)-1))","v":1.215936105550919},{"$f":"INDEX('Public transport'!$G$23:$G$49,MATCH(D147,'Public transport'!$D$23:$D$49,0),)","v":1.1079680527754596},{"$f":"INDEX('Capital values'!$G$19:$G$45,MATCH($D147,'Capital values'!$D$19:$D$45,0),)/1000","v":13219371.232019816},{"$f":"INDEX('Capital values'!$H$19:$H$45,MATCH($D147,'Capital values'!$D$19:$D$45,0),)/1000","v":17969030.771063134},{"$f":"INDEX('Comparison - Category'!$L$22:$L$49,MATCH(D147,'Comparison - Category'!$D$22:$D$49,0),)","v":5428221.0195456594},{"$f":"INDEX('Comparison - Category'!$L$81:$L$108,MATCH(D147,'Comparison - Category'!$D$81:$D$108,0),)","v":5662061.2519900557},null,21849193.296291135,5653881.6252406873,225660.60569502786,null,19909112.033677135,5109451.4777488438,-544430.14749184344,null,552609.77424121182]
[{"$f":"Control!A79","v":"Porirua city"},{"$f":"Control!B79","v":"Porirua city"},{"$f":"Control!C79","v":"Rural"},{"$f":"Control!D79","v":"Porirua cityRural"},{"$f":"IF(VALUE(LEFT(year_current,4))>2023,Control!N79,INDEX(Control!$H79:$M79,,MATCH(year_current,Control!$H$66:$M$66,0)-1))","v":0.30661723013518344},{"$f":"INDEX('Public transport'!$G$23:$G$49,MATCH(D148,'Public transport'!$D$23:$D$49,0),)","v":0.27830861506759169},{"$f":"INDEX('Capital values'!$G$19:$G$45,MATCH($D148,'Capital values'!$D$19:$D$45,0),)/1000","v":917838.81152759434},{"$f":"INDEX('Capital values'!$H$19:$H$45,MATCH($D148,'Capital values'!$D$19:$D$45,0),)/1000","v":1238825.7796838174},{"$f":"INDEX('Comparison - Category'!$L$22:$L$49,MATCH(D148,'Comparison - Category'!$D$22:$D$49,0),)","v":95038.36219806},{"$f":"INDEX('Comparison - Category'!$L$81:$L$108,MATCH(D148,'Comparison - Category'!$D$81:$D$108,0),)","v":98052.700060448304},null,379845.32918671111,98291.982591723325,3253.6203936633246,null,344775.8870538327,88482.884752445214,-9809.0978392781108,null,9569.8153080030897]
[{"$f":"Control!A80","v":"Kāpiti Coast district"},{"$f":"Control!B80","v":"Kāpiti Coast district"},{"$f":"Control!C80","v":"Business"},{"$f":"Control!D80","v":"Kāpiti Coast districtBusiness"},{"$f":"IF(VALUE(LEFT(year_current,4))>2023,Control!N80,INDEX(Control!$H80:$M80,,MATCH(year_current,Control!$H$66:$M$66,0)-1))","v":1.1679921901887538},{"$f":"INDEX('Public transport'!$G$23:$G$49,MATCH(D149,'Public transport'!$D$23:$D$49,0),)","v":1.283996095094377},{"$f":"INDEX('Capital values'!$G$19:$G$45,MATCH($D149,'Capital values'!$D$19:$D$45,0),)/1000","v":1754794.0872937574},{"$f":"INDEX('Capital values'!$H$19:$H$45,MATCH($D149,'Capital values'!$D$19:$D$45,0),)/1000","v":2348973.2315050978},{"$f":"INDEX('Comparison - Category'!$L$22:$L$49,MATCH(D149,'Comparison - Category'!$D$22:$D$49,0),)","v":692152.94396877103},{"$f":"INDEX('Comparison - Category'!$L$81:$L$108,MATCH(D149,'Comparison - Category'!$D$81:$D$108,0),)","v":857757.34053733281},null,2743582.3893603939,709952.5299715203,17799.586002749274,null,3016072.4567337655,774041.34574100701,64088.815769486711,null,83715.994796325802]
[{"$f":"Control!A81","v":"Kāpiti Coast district"},{"$f":"Control!B81","v":"Kāpiti Coast district excl Ōtaki "},{"$f":"Control!C81","v":"Residential"},{"$f":"Control!D81","v":"Kāpiti Coast district excl Ōtaki Residential"},{"$f":"IF(VALUE(LEFT(year_current,4))>2023,Control!N81,INDEX(Control!$H81:$M81,,MATCH(year_current,Control!$H$66:$M$66,0)-1))","v":0.90132552352208695},{"$f":"INDEX('Public transport'!$G$23:$G$49,MATCH(D150,'Public transport'!$D$23:$D$49,0),)","v":0.95066276176104336},{"$f":"INDEX('Capital values'!$G$19:$G$45,MATCH($D150,'Capital values'!$D$19:$D$45,0),)/1000","v":13520888.692479502},{"$f":"INDEX('Capital values'!$H$19:$H$45,MATCH($D150,'Capital values'!$D$19:$D$45,0),)/1000","v":18093560.800899215},{"$f":"INDEX('Comparison - Category'!$L$22:$L$49,MATCH(D150,'Comparison - Category'!$D$22:$D$49,0),)","v":4115502.5607157024},{"$f":"INDEX('Comparison - Category'!$L$81:$L$108,MATCH(D150,'Comparison - Category'!$D$81:$D$108,0),)","v":4891850.7633535489},null,16308188.161249196,4220044.3803802188,104541.81966451649,null,17200874.481074203,4414412.5256431429,194368.14526292402,null,477438.23771040607]
[{"$f":"Control!A82","v":"Kāpiti Coast district"},{"$f":"Control!B82","v":"Ōtaki rating area"},{"$f":"Control!C82","v":"Residential"},{"$f":"Control!D82","v":"Ōtaki rating areaResidential"},{"$f":"IF(VALUE(LEFT(year_current,4))>2023,Control!N82,INDEX(Control!$H82:$M82,,MATCH(year_current,Control!$H$66:$M$66,0)-1))","v":0.56799219018875391},{"$f":"INDEX('Public transport'!$G$23:$G$49,MATCH(D151,'Public transport'!$D$23:$D$49,0),)","v":0.53399609509437707},{"$f":"INDEX('Capital values'!$G$19:$G$45,MATCH($D151,'Capital values'!$D$19:$D$45,0),)/1000","v":1642007.6214589486},{"$f":"INDEX('Capital values'!$H$19:$H$45,MATCH($D151,'Capital values'!$D$19:$D$45,0),)/1000","v":2211025.8443796043},{"$f":"INDEX('Comparison - Category'!$L$22:$L$49,MATCH(D151,'Comparison - Category'!$D$22:$D$49,0),)","v":314958.62226275395},{"$f":"INDEX('Comparison - Category'!$L$81:$L$108,MATCH(D151,'Comparison - Category'!$D$81:$D$108,0),)","v":335779.80532159569},null,{"$f":"E151*H151","v":1255845.4119131104},324973.15586308803,{"$f":"M151-I151","v":10014.533600334078},null,{"$f":"F151*H151","v":1180679.1670514566},303008.13540221652,{"$f":"Q151-M151","v":-21965.020460871514},null,{"$f":"J151-Q151","v":32771.669919379172}]
[{"$f":"Control!A83","v":"Kāpiti Coast district"},{"$f":"Control!B83","v":"Kāpiti Coast district"},{"$f":"Control!C83","v":"Rural"},{"$f":"Control!D83","v":"Kāpiti Coast districtRural"},{"$f":"IF(VALUE(LEFT(year_current,4))>2023,Control!N83,INDEX(Control!$H83:$M83,,MATCH(year_current,Control!$H$66:$M$66,0)-1))","v":0.22737469171801306},{"$f":"INDEX('Public transport'!$G$23:$G$49,MATCH(D152,'Public transport'!$D$23:$D$49,0),)","v":0.23868734585900653},{"$f":"INDEX('Capital values'!$G$19:$G$45,MATCH($D152,'Capital values'!$D$19:$D$45,0),)/1000","v":2618425.3947677929},{"$f":"INDEX('Capital values'!$H$19:$H$45,MATCH($D152,'Capital values'!$D$19:$D$45,0),)/1000","v":3515924.027216082},{"$f":"INDEX('Comparison - Category'!$L$22:$L$49,MATCH(D152,'Comparison - Category'!$D$22:$D$49,0),)","v":201056.58271716072},{"$f":"INDEX('Comparison - Category'!$L$81:$L$108,MATCH(D152,'Comparison - Category'!$D$81:$D$108,0),)","v":238666.54719261569},null,799432.14179221157,206867.80677953165,5811.2240623709222,null,839206.57429811603,215373.00427718266,8505.1974976510101,null,23293.542915433034]
[{"$f":"Control!A84","v":"Masterton district"},{"$f":"Control!B84","v":"Masterton district"},{"$f":"Control!C84","v":"Business"},{"$f":"Control!D84","v":"Masterton districtBusiness"},{"$f":"IF(VALUE(LEFT(year_current,4))>2023,Control!N84,INDEX(Control!$H84:$M84,,MATCH(year_current,Control!$H$66:$M$66,0)-1))","v":0.74966247423558818},{"$f":"INDEX('Public transport'!$G$23:$G$49,MATCH(D153,'Public transport'!$D$23:$D$49,0),)","v":0.87483123711779398},{"$f":"INDEX('Capital values'!$G$19:$G$45,MATCH($D153,'Capital values'!$D$19:$D$45,0),)/1000","v":733368.30360933254},{"$f":"INDEX('Capital values'!$H$19:$H$45,MATCH($D153,'Capital values'!$D$19:$D$45,0),)/1000","v":943938.38381325139},{"$f":"INDEX('Comparison - Category'!$L$22:$L$49,MATCH(D153,'Comparison - Category'!$D$22:$D$49,0),)","v":185662.36438805299},{"$f":"INDEX('Comparison - Category'!$L$81:$L$108,MATCH(D153,'Comparison - Category'!$D$81:$D$108,0),)","v":234850.01965952059},null,707635.18433538429,183113.65146679259,-2548.7129212603904,null,825786.78407431778,211928.96484066334,28815.31337387074,null,22921.054818857257]
[{"$f":"Control!A85","v":"Masterton district"},{"$f":"Control!B85","v":"Masterton district"},{"$f":"Control!C85","v":"Residential"},{"$f":"Control!D85","v":"Masterton districtResidential"},{"$f":"IF(VALUE(LEFT(year_current,4))>2023,Control!N85,INDEX(Control!$H85:$M85,,MATCH(year_current,Control!$H$66:$M$66,0)-1))","v":0.41632914090225492},{"$f":"INDEX('Public transport'!$G$23:$G$49,MATCH(D154,'Public transport'!$D$23:$D$49,0),)","v":0.45816457045112741},{"$f":"INDEX('Capital values'!$G$19:$G$45,MATCH($D154,'Capital values'!$D$19:$D$45,0),)/1000","v":3970857.0305175977},{"$f":"INDEX('Capital values'!$H$19:$H$45,MATCH($D154,'Capital values'!$D$19:$D$45,0),)/1000","v":5229785.3286644705},{"$f":"INDEX('Comparison - Category'!$L$22:$L$49,MATCH(D154,'Comparison - Category'!$D$22:$D$49,0),)","v":558286.37656206032},{"$f":"INDEX('Comparison - Category'!$L$81:$L$108,MATCH(D154,'Comparison - Category'!$D$81:$D$108,0),)","v":681440.65095401835},null,2177312.0329860961,563419.63425282075,5133.2576907604234,null,2396102.3486591652,614932.93450179335,51513.300248972606,null,66507.716452224995]
[{"$f":"Control!A86","v":"Masterton district"},{"$f":"Control!B86","v":"Masterton district"},{"$f":"Control!C86","v":"Rural"},{"$f":"Control!D86","v":"Masterton districtRural"},{"$f":"IF(VALUE(LEFT(year_current,4))>2023,Control!N86,INDEX(Control!$H86:$M86,,MATCH(year_current,Control!$H$66:$M$66,0)-1))","v":0.1905096664819268},{"$f":"INDEX('Public transport'!$G$23:$G$49,MATCH(D155,'Public transport'!$D$23:$D$49,0),)","v":0.22025483324096343},{"$f":"INDEX('Capital values'!$G$19:$G$45,MATCH($D155,'Capital values'!$D$19:$D$45,0),)/1000","v":3927643.9068730692},{"$f":"INDEX('Capital values'!$H$19:$H$45,MATCH($D155,'Capital values'!$D$19:$D$45,0),)/1000","v":5089495.3375222776},{"$f":"INDEX('Comparison - Category'!$L$22:$L$49,MATCH(D155,'Comparison - Category'!$D$22:$D$49,0),)","v":252688.27591045998},{"$f":"INDEX('Comparison - Category'!$L$81:$L$108,MATCH(D155,'Comparison - Category'!$D$81:$D$108,0),)","v":318803.32397192332},null,969598.05931269052,250901.37549140595,-1786.900419054029,null,1120985.9468466302,287688.53643310041,36787.160941694456,null,31114.787538822915]
[{"$f":"Control!A87","v":"Carterton district"},{"$f":"Control!B87","v":"Carterton district"},{"$f":"Control!C87","v":"Business"},{"$f":"Control!D87","v":"Carterton districtBusiness"},{"$f":"IF(VALUE(LEFT(year_current,4))>2023,Control!N87,INDEX(Control!$H87:$M87,,MATCH(year_current,Control!$H$66:$M$66,0)-1))","v":0.81556737480275909},{"$f":"INDEX('Public transport'!$G$23:$G$49,MATCH(D156,'Public transport'!$D$23:$D$49,0),)","v":0.90778368740137949},{"$f":"INDEX('Capital values'!$G$19:$G$45,MATCH($D156,'Capital values'!$D$19:$D$45,0),)/1000","v":126448.57018877927},{"$f":"INDEX('Capital values'!$H$19:$H$45,MATCH($D156,'Capital values'!$D$19:$D$45,0),)/1000","v":178686.33469409964},{"$f":"INDEX('Comparison - Category'!$L$22:$L$49,MATCH(D156,'Comparison - Category'!$D$22:$D$49,0),)","v":34826.492431719627},{"$f":"INDEX('Comparison - Category'!$L$81:$L$108,MATCH(D156,'Comparison - Category'!$D$81:$D$108,0),)","v":46131.373733396082},null,145730.74489959402,37710.51725558746,2884.0248238678323,null,162208.53979684683,41629.011980370364,3918.4947247829041,null,4502.3617530257179]
[{"$f":"Control!A88","v":"Carterton district"},{"$f":"Control!B88","v":"Carterton district"},{"$f":"Control!C88","v":"Residential"},{"$f":"Control!D88","v":"Carterton districtResidential"},{"$f":"IF(VALUE(LEFT(year_current,4))>2023,Control!N88,INDEX(Control!$H88:$M88,,MATCH(year_current,Control!$H$66:$M$66,0)-1))","v":0.48223404146942572},{"$f":"INDEX('Public transport'!$G$23:$G$49,MATCH(D157,'Public transport'!$D$23:$D$49,0),)","v":0.49111702073471281},{"$f":"INDEX('Capital values'!$G$19:$G$45,MATCH($D157,'Capital values'!$D$19:$D$45,0),)/1000","v":1283432.3915600739},{"$f":"INDEX('Capital values'!$H$19:$H$45,MATCH($D157,'Capital values'!$D$19:$D$45,0),)/1000","v":1758958.9751013294},{"$f":"INDEX('Comparison - Category'!$L$22:$L$49,MATCH(D157,'Comparison - Category'!$D$22:$D$49,0),)","v":209009.88657889757},{"$f":"INDEX('Comparison - Category'!$L$81:$L$108,MATCH(D157,'Comparison - Category'!$D$81:$D$108,0),)","v":245676.36002622923},null,848229.89534203301,219495.12525335338,10485.238674455817,null,863854.69144634879,221698.66854456606,2203.5432912126707,null,23977.691481663176]
[{"$f":"Control!A89","v":"Carterton district"},{"$f":"Control!B89","v":"Carterton district"},{"$f":"Control!C89","v":"Rural"},{"$f":"Control!D89","v":"Carterton districtRural"},{"$f":"IF(VALUE(LEFT(year_current,4))>2023,Control!N89,INDEX(Control!$H89:$M89,,MATCH(year_current,Control!$H$66:$M$66,0)-1))","v":0.20657226520769836},{"$f":"INDEX('Public transport'!$G$23:$G$49,MATCH(D158,'Public transport'!$D$23:$D$49,0),)","v":0.22828613260384917},{"$f":"INDEX('Capital values'!$G$19:$G$45,MATCH($D158,'Capital values'!$D$19:$D$45,0),)/1000","v":2250630.5672511468},{"$f":"INDEX('Capital values'!$H$19:$H$45,MATCH($D158,'Capital values'!$D$19:$D$45,0),)/1000","v":3038839.8082045708},{"$f":"INDEX('Comparison - Category'!$L$22:$L$49,MATCH(D158,'Comparison - Category'!$D$22:$D$49,0),)","v":157004.53394763349},{"$f":"INDEX('Comparison - Category'!$L$81:$L$108,MATCH(D158,'Comparison - Category'!$D$81:$D$108,0),)","v":197292.24307696373},null,627740.02278414578,162439.30529233397,5434.7713447004789,null,693724.98741764424,178036.77814041192,15597.472848077945,null,19255.464936551813]
[{"$f":"Control!A90","v":"South Wairarapa district"},{"$f":"Control!B90","v":"South Wairarapa district"},{"$f":"Control!C90","v":"Business"},{"$f":"Control!D90","v":"South Wairarapa districtBusiness"},{"$f":"IF(VALUE(LEFT(year_current,4))>2023,Control!N90,INDEX(Control!$H90:$M90,,MATCH(year_current,Control!$H$66:$M$66,0)-1))","v":0.8634165756413188},{"$f":"INDEX('Public transport'!$G$23:$G$49,MATCH(D159,'Public transport'!$D$23:$D$49,0),)","v":0.9317082878206594},{"$f":"INDEX('Capital values'!$G$19:$G$45,MATCH($D159,'Capital values'!$D$19:$D$45,0),)/1000","v":275668.37096857303},{"$f":"INDEX('Capital values'!$H$19:$H$45,MATCH($D159,'Capital values'!$D$19:$D$45,0),)/1000","v":366843.49755490833},{"$f":"INDEX('Comparison - Category'!$L$22:$L$49,MATCH(D159,'Comparison - Category'!$D$22:$D$49,0),)","v":80379.12809059571},{"$f":"INDEX('Comparison - Category'!$L$81:$L$108,MATCH(D159,'Comparison - Category'!$D$81:$D$108,0),)","v":97203.84782684542},null,316738.75645514345,81961.993325735588,1582.8652351398778,null,341791.12700502592,87716.879386846558,5754.8860611109703,null,9486.9684399988619]
[{"$f":"Control!A91","v":"South Wairarapa district"},{"$f":"Control!B91","v":"South Wairarapa district"},{"$f":"Control!C91","v":"Residential"},{"$f":"Control!D91","v":"South Wairarapa districtResidential"},{"$f":"IF(VALUE(LEFT(year_current,4))>2023,Control!N91,INDEX(Control!$H91:$M91,,MATCH(year_current,Control!$H$66:$M$66,0)-1))","v":0.53008324230798531},{"$f":"INDEX('Public transport'!$G$23:$G$49,MATCH(D160,'Public transport'!$D$23:$D$49,0),)","v":0.51504162115399255},{"$f":"INDEX('Capital values'!$G$19:$G$45,MATCH($D160,'Capital values'!$D$19:$D$45,0),)/1000","v":2061563.4711332968},{"$f":"INDEX('Capital values'!$H$19:$H$45,MATCH($D160,'Capital values'!$D$19:$D$45,0),)/1000","v":2748269.4366548229},{"$f":"INDEX('Comparison - Category'!$L$22:$L$49,MATCH(D160,'Comparison - Category'!$D$22:$D$49,0),)","v":369042.81511290005},{"$f":"INDEX('Comparison - Category'!$L$81:$L$108,MATCH(D160,'Comparison - Category'!$D$81:$D$108,0),)","v":402554.14906353183},null,1456811.5737179287,376976.85568464088,7934.0405717408285,null,1415473.1460226697,363265.39051192231,-13711.46517271857,null,39288.758551609528]
[{"$f":"Control!A92","v":"South Wairarapa district"},{"$f":"Control!B92","v":"South Wairarapa district"},{"$f":"Control!C92","v":"Rural"},{"$f":"Control!D92","v":"South Wairarapa districtRural"},{"$f":"IF(VALUE(LEFT(year_current,4))>2023,Control!N92,INDEX(Control!$H92:$M92,,MATCH(year_current,Control!$H$66:$M$66,0)-1))","v":0.21781425212592598},{"$f":"INDEX('Public transport'!$G$23:$G$49,MATCH(D161,'Public transport'!$D$23:$D$49,0),)","v":0.23390712606296302},{"$f":"INDEX('Capital values'!$G$19:$G$45,MATCH($D161,'Capital values'!$D$19:$D$45,0),)/1000","v":3837953.9948981302},{"$f":"INDEX('Capital values'!$H$19:$H$45,MATCH($D161,'Capital values'!$D$19:$D$45,0),)/1000","v":5000611.0157902678},{"$f":"INDEX('Comparison - Category'!$L$22:$L$49,MATCH(D161,'Comparison - Category'!$D$22:$D$49,0),)","v":282307.24712482875},{"$f":"INDEX('Comparison - Category'!$L$81:$L$108,MATCH(D161,'Comparison - Category'!$D$81:$D$108,0),)","v":332651.28003616468},null,1089204.3485770242,281851.70816339657,-455.53896143217571,null,1169678.5512622958,300184.95009365038,18333.241930253804,null,32466.329942514305]
[{"$f":"Control!A93","v":"Tararua district"},{"$f":"Control!B93","v":"Tararua district"},{"$f":"Control!C93","v":"Rural"},{"$f":"Control!D93","v":"Tararua districtRural"},{"$f":"IF(VALUE(LEFT(year_current,4))>2023,Control!N93,INDEX(Control!$H93:$M93,,MATCH(year_current,Control!$H$66:$M$66,0)-1))","v":0},{"$f":"INDEX('Public transport'!$G$23:$G$49,MATCH(D162,'Public transport'!$D$23:$D$49,0),)","v":0},{"$f":"INDEX('Capital values'!$G$19:$G$45,MATCH($D162,'Capital values'!$D$19:$D$45,0),)/1000","v":15976.5},{"$f":"INDEX('Capital values'!$H$19:$H$45,MATCH($D162,'Capital values'!$D$19:$D$45,0),)/1000","v":21686.474999999999},{"$f":"INDEX('Comparison - Category'!$L$22:$L$49,MATCH(D162,'Comparison - Category'!$D$22:$D$49,0),)","v":0},{"$f":"INDEX('Comparison - Category'!$L$81:$L$108,MATCH(D162,'Comparison - Category'!$D$81:$D$108,0),)","v":0},null,0,0,0,null,0,0,0,null,0]
[{"$f":"Control!A94","v":"Region wide"},null,{"$f":"Control!C94","v":0},{"$f":"Control!D94","v":"Region wide"},null,null,{"$f":"SUM(G136:G162)","v":186517020.91399997},{"$f":"SUM(H136:H162)","v":253199777.59099993},{"$f":"SUM(I136:I162)","v":81810330.828706741},{"$f":"SUM(J136:J162)","v":90658479.919999987},null,{"$f":"SUM(L136:L162)","v":316152662.96521467},{"$f":"SUM(M136:M162)","v":81810330.828706712},0,null,{"$f":"SUM(P136:P162)","v":318776105.23831171},{"$f":"SUM(Q136:Q162)","v":81810330.828706741},0,null,8848149.0912932456]

{"sheet":"4","index":28,"n_rows":53,"n_cols":24,"rows_kept":53,"cut":false,"hidden":false,"merged":[[11,18,11,20],[47,0,47,23],[52,0,53,23],[49,0,50,23],[30,15,30,17],[27,0,28,23],[31,15,31,17],[11,3,11,5],[10,18,10,20],[10,3,10,5],[10,12,10,14],[10,9,10,11],[10,15,10,17],[10,6,10,8]]}
["PAGE NOT USED"]
[]
["RATES AND LEVIES - REGION-WIDE TOTAL RATES BY CITY AND RATE TYPE"]
[{"$f":"+'3'!A4","v":"WHAT IS THE IMPACT ON YOUR CITY OR DISTRICT?"}]
[]
[]
[]
[]
[{"$f":"\"Percentage changes in each rate type which together make up the changes in region-wide rates from \"&year_previous&\" to \"&year_current","v":"Percentage changes in each rate type which together make up the changes in region-wide rates from 2021/22 to 2022/23"}]
[]
[null,null,null,"General rate",null,null,"Remission of rates",null,null,"River management rate",null,null,"Public rransport rate",null,null,"Stadium purposes rate",null,null,"Economic development rate"]
[null,null,null,"General rate",null,null,"Remission of rates",null,null,"River Management rate",null,null,"Public transport rate",null,null,"Stadium purposes rate",null,null,"Economic development rate"]
[null,null,null,{"$f":"year_previous","v":"2021/22"},{"$f":"year_current","v":"2022/23"},null,{"$f":"year_previous","v":"2021/22"},{"$f":"year_current","v":"2022/23"},null,{"$f":"year_previous","v":"2021/22"},{"$f":"year_current","v":"2022/23"},null,{"$f":"year_previous","v":"2021/22"},{"$f":"year_current","v":"2022/23"},null,{"$f":"year_previous","v":"2021/22"},{"$f":"year_current","v":"2022/23"},null,{"$f":"year_previous","v":"2021/22"},{"$f":"year_current","v":"2022/23"}]
[null,null,null,"Budget","Plan","Change","Budget","Plan","Change","Budget","Plan","Change","Budget","Plan","Change","Budget","Plan","Change","Budget","Plan","Change"]
[null,null,null,"$000s","$000s","%   ","$000s","$000s","%   ","$000s","$000s","%   ","$000s","$000s","%   ","$000s","$000s","%   ","$000s","$000s","%   "]
["Wellington city",null,null,{"$f":"INDEX('Comparison - TA'!$B$7:$L$22,MATCH(D$12,'Comparison - TA'!$A$7:$A$22,0),MATCH($A16,'Comparison - TA'!$B$6:$L$6,0))/1000","v":29568.388705329045},{"$f":"INDEX('Comparison - TA'!$B$30:$L$45,MATCH(D$12,'Comparison - TA'!$A$30:$A$45,0),MATCH($A16,'Comparison - TA'!$B$29:$L$29,0))/1000","v":34594.985806497796},{"$f":"IF(D16=0,\"n/a\",E16/D16-1)","v":0.16999901994195632},{"$f":"INDEX('Comparison - TA'!$B$7:$L$22,MATCH(G$12,'Comparison - TA'!$A$7:$A$22,0),MATCH($A16,'Comparison - TA'!$B$6:$L$6,0))/1000","v":0},{"$f":"INDEX('Comparison - TA'!$B$30:$L$45,MATCH(G$12,'Comparison - TA'!$A$30:$A$45,0),MATCH($A16,'Comparison - TA'!$B$29:$L$29,0))/1000","v":0},{"$f":"IF(G16=0,\"n/a\",H16/G16-1)","v":"n/a"},{"$f":"INDEX('Comparison - TA'!$B$7:$L$22,MATCH(J$12,'Comparison - TA'!$A$7:$A$22,0),MATCH($A16,'Comparison - TA'!$B$6:$L$6,0))/1000","v":56.888244999999991},{"$f":"INDEX('Comparison - TA'!$B$30:$L$45,MATCH(J$12,'Comparison - TA'!$A$30:$A$45,0),MATCH($A16,'Comparison - TA'!$B$29:$L$29,0))/1000","v":55.131480000000003},{"$f":"IF(J16=0,\"n/a\",K16/J16-1)","v":-3.0880984287702806E-2},{"$f":"INDEX('Comparison - TA'!$B$7:$L$22,MATCH(M$12,'Comparison - TA'!$A$7:$A$22,0),MATCH($A16,'Comparison - TA'!$B$6:$L$6,0))/1000","v":50191.134820438536},{"$f":"INDEX('Comparison - TA'!$B$30:$L$45,MATCH(M$12,'Comparison - TA'!$A$30:$A$45,0),MATCH($A16,'Comparison - TA'!$B$29:$L$29,0))/1000","v":55813.220471912682},{"$f":"IF(M16=0,\"n/a\",N16/M16-1)","v":0.11201351935132475},{"$f":"INDEX('Comparison - TA'!$B$7:$L$22,MATCH(P$12,'Comparison - TA'!$A$7:$A$22,0),MATCH($A16,'Comparison - TA'!$B$6:$L$6,0))/1000","v":0},{"$f":"INDEX('Comparison - TA'!$B$30:$L$45,MATCH(P$12,'Comparison - TA'!$A$30:$A$45,0),MATCH($A16,'Comparison - TA'!$B$29:$L$29,0))/1000","v":0},{"$f":"IF(P16=0,\"n/a\",Q16/P16-1)","v":"n/a"},{"$f":"INDEX('Comparison - TA'!$B$7:$L$22,MATCH(S$12,'Comparison - TA'!$A$7:$A$22,0),MATCH($A16,'Comparison - TA'!$B$6:$L$6,0))/1000","v":2113.4850199349621},{"$f":"INDEX('Comparison - TA'!$B$30:$L$45,MATCH(S$12,'Comparison - TA'!$A$30:$A$45,0),MATCH($A16,'Comparison - TA'!$B$29:$L$29,0))/1000","v":2084.3956780524541},{"$f":"IF(S16=0,\"n/a\",T16/S16-1)","v":-1.3763684912894814E-2},null,{"$f":"+D16+J16+M16+P16+S16-P36","v":0},{"$f":"+E16+H16+K16+N16+Q16+T16-Q36","v":0}]
["Hutt city",null,null,{"$f":"INDEX('Comparison - TA'!$B$7:$L$22,MATCH(D$12,'Comparison - TA'!$A$7:$A$22,0),MATCH($A17,'Comparison - TA'!$B$6:$L$6,0))/1000","v":10945.060956712525},{"$f":"INDEX('Comparison - TA'!$B$30:$L$45,MATCH(D$12,'Comparison - TA'!$A$30:$A$45,0),MATCH($A17,'Comparison - TA'!$B$29:$L$29,0))/1000","v":12788.94541518758},{"$f":"IF(D17=0,\"n/a\",E17/D17-1)","v":0.16846726260982714},{"$f":"INDEX('Comparison - TA'!$B$7:$L$22,MATCH(G$12,'Comparison - TA'!$A$7:$A$22,0),MATCH($A17,'Comparison - TA'!$B$6:$L$6,0))/1000","v":0},{"$f":"INDEX('Comparison - TA'!$B$30:$L$45,MATCH(G$12,'Comparison - TA'!$A$30:$A$45,0),MATCH($A17,'Comparison - TA'!$B$29:$L$29,0))/1000","v":0},{"$f":"IF(G17=0,\"n/a\",H17/G17-1)","v":"n/a"},{"$f":"INDEX('Comparison - TA'!$B$7:$L$22,MATCH(J$12,'Comparison - TA'!$A$7:$A$22,0),MATCH($A17,'Comparison - TA'!$B$6:$L$6,0))/1000","v":4306.4662947336619},{"$f":"INDEX('Comparison - TA'!$B$30:$L$45,MATCH(J$12,'Comparison - TA'!$A$30:$A$45,0),MATCH($A17,'Comparison - TA'!$B$29:$L$29,0))/1000","v":5098.0433300000004},{"$f":"IF(J17=0,\"n/a\",K17/J17-1)","v":0.18381126916849455},{"$f":"INDEX('Comparison - TA'!$B$7:$L$22,MATCH(M$12,'Comparison - TA'!$A$7:$A$22,0),MATCH($A17,'Comparison - TA'!$B$6:$L$6,0))/1000","v":12819.721639966478},{"$f":"INDEX('Comparison - TA'!$B$30:$L$45,MATCH(M$12,'Comparison - TA'!$A$30:$A$45,0),MATCH($A17,'Comparison - TA'!$B$29:$L$29,0))/1000","v":14007.552982125833},{"$f":"IF(M17=0,\"n/a\",N17/M17-1)","v":9.2656562717883029E-2},{"$f":"INDEX('Comparison - TA'!$B$7:$L$22,MATCH(P$12,'Comparison - TA'!$A$7:$A$22,0),MATCH($A17,'Comparison - TA'!$B$6:$L$6,0))/1000","v":0},{"$f":"INDEX('Comparison - TA'!$B$30:$L$45,MATCH(P$12,'Comparison - TA'!$A$30:$A$45,0),MATCH($A17,'Comparison - TA'!$B$29:$L$29,0))/1000","v":0},{"$f":"IF(P17=0,\"n/a\",Q17/P17-1)","v":"n/a"},{"$f":"INDEX('Comparison - TA'!$B$7:$L$22,MATCH(S$12,'Comparison - TA'!$A$7:$A$22,0),MATCH($A17,'Comparison - TA'!$B$6:$L$6,0))/1000","v":880.71113356918192},{"$f":"INDEX('Comparison - TA'!$B$30:$L$45,MATCH(S$12,'Comparison - TA'!$A$30:$A$45,0),MATCH($A17,'Comparison - TA'!$B$29:$L$29,0))/1000","v":919.72926249599004},{"$f":"IF(S17=0,\"n/a\",T17/S17-1)","v":4.4302981351765913E-2},null,0,{"$f":"+E17+H17+K17+N17+Q17+T17-Q37","v":0}]
["Upper Hutt city",null,null,{"$f":"INDEX('Comparison - TA'!$B$7:$L$22,MATCH(D$12,'Comparison - TA'!$A$7:$A$22,0),MATCH($A18,'Comparison - TA'!$B$6:$L$6,0))/1000","v":4423.6796054094139},{"$f":"INDEX('Comparison - TA'!$B$30:$L$45,MATCH(D$12,'Comparison - TA'!$A$30:$A$45,0),MATCH($A18,'Comparison - TA'!$B$29:$L$29,0))/1000","v":5160.8037826726668},0.16663145684463099,{"$f":"INDEX('Comparison - TA'!$B$7:$L$22,MATCH(G$12,'Comparison - TA'!$A$7:$A$22,0),MATCH($A18,'Comparison - TA'!$B$6:$L$6,0))/1000","v":0},{"$f":"INDEX('Comparison - TA'!$B$30:$L$45,MATCH(G$12,'Comparison - TA'!$A$30:$A$45,0),MATCH($A18,'Comparison - TA'!$B$29:$L$29,0))/1000","v":0},"n/a",{"$f":"INDEX('Comparison - TA'!$B$7:$L$22,MATCH(J$12,'Comparison - TA'!$A$7:$A$22,0),MATCH($A18,'Comparison - TA'!$B$6:$L$6,0))/1000","v":1069.9657362243179},{"$f":"INDEX('Comparison - TA'!$B$30:$L$45,MATCH(J$12,'Comparison - TA'!$A$30:$A$45,0),MATCH($A18,'Comparison - TA'!$B$29:$L$29,0))/1000","v":1136.7215200000001},6.2390580852849764E-2,{"$f":"INDEX('Comparison - TA'!$B$7:$L$22,MATCH(M$12,'Comparison - TA'!$A$7:$A$22,0),MATCH($A18,'Comparison - TA'!$B$6:$L$6,0))/1000","v":5043.2386975953677},{"$f":"INDEX('Comparison - TA'!$B$30:$L$45,MATCH(M$12,'Comparison - TA'!$A$30:$A$45,0),MATCH($A18,'Comparison - TA'!$B$29:$L$29,0))/1000","v":5363.2636366864726},6.345623482856233E-2,{"$f":"INDEX('Comparison - TA'!$B$7:$L$22,MATCH(P$12,'Comparison - TA'!$A$7:$A$22,0),MATCH($A18,'Comparison - TA'!$B$6:$L$6,0))/1000","v":0},{"$f":"INDEX('Comparison - TA'!$B$30:$L$45,MATCH(P$12,'Comparison - TA'!$A$30:$A$45,0),MATCH($A18,'Comparison - TA'!$B$29:$L$29,0))/1000","v":0},"n/a",{"$f":"INDEX('Comparison - TA'!$B$7:$L$22,MATCH(S$12,'Comparison - TA'!$A$7:$A$22,0),MATCH($A18,'Comparison - TA'!$B$6:$L$6,0))/1000","v":348.89009148375573},{"$f":"INDEX('Comparison - TA'!$B$30:$L$45,MATCH(S$12,'Comparison - TA'!$A$30:$A$45,0),MATCH($A18,'Comparison - TA'!$B$29:$L$29,0))/1000","v":353.97212124184188},1.4566277123186033E-2,null,0,0]
["Porirua city",null,null,{"$f":"INDEX('Comparison - TA'!$B$7:$L$22,MATCH(D$12,'Comparison - TA'!$A$7:$A$22,0),MATCH($A19,'Comparison - TA'!$B$6:$L$6,0))/1000","v":5310.9192278633691},{"$f":"INDEX('Comparison - TA'!$B$30:$L$45,MATCH(D$12,'Comparison - TA'!$A$30:$A$45,0),MATCH($A19,'Comparison - TA'!$B$29:$L$29,0))/1000","v":6152.5292906507475},0.15846787094255355,{"$f":"INDEX('Comparison - TA'!$B$7:$L$22,MATCH(G$12,'Comparison - TA'!$A$7:$A$22,0),MATCH($A19,'Comparison - TA'!$B$6:$L$6,0))/1000","v":0},{"$f":"INDEX('Comparison - TA'!$B$30:$L$45,MATCH(G$12,'Comparison - TA'!$A$30:$A$45,0),MATCH($A19,'Comparison - TA'!$B$29:$L$29,0))/1000","v":0},"n/a",{"$f":"INDEX('Comparison - TA'!$B$7:$L$22,MATCH(J$12,'Comparison - TA'!$A$7:$A$22,0),MATCH($A19,'Comparison - TA'!$B$6:$L$6,0))/1000","v":56.371235950248298},{"$f":"INDEX('Comparison - TA'!$B$30:$L$45,MATCH(J$12,'Comparison - TA'!$A$30:$A$45,0),MATCH($A19,'Comparison - TA'!$B$29:$L$29,0))/1000","v":45.883360000000003},-0.18605013307681606,{"$f":"INDEX('Comparison - TA'!$B$7:$L$22,MATCH(M$12,'Comparison - TA'!$A$7:$A$22,0),MATCH($A19,'Comparison - TA'!$B$6:$L$6,0))/1000","v":6303.3578408948151},{"$f":"INDEX('Comparison - TA'!$B$30:$L$45,MATCH(M$12,'Comparison - TA'!$A$30:$A$45,0),MATCH($A19,'Comparison - TA'!$B$29:$L$29,0))/1000","v":6593.7851245213315},4.6075011280858558E-2,{"$f":"INDEX('Comparison - TA'!$B$7:$L$22,MATCH(P$12,'Comparison - TA'!$A$7:$A$22,0),MATCH($A19,'Comparison - TA'!$B$6:$L$6,0))/1000","v":0},{"$f":"INDEX('Comparison - TA'!$B$30:$L$45,MATCH(P$12,'Comparison - TA'!$A$30:$A$45,0),MATCH($A19,'Comparison - TA'!$B$29:$L$29,0))/1000","v":0},"n/a",{"$f":"INDEX('Comparison - TA'!$B$7:$L$22,MATCH(S$12,'Comparison - TA'!$A$7:$A$22,0),MATCH($A19,'Comparison - TA'!$B$6:$L$6,0))/1000","v":366.01112142968293},{"$f":"INDEX('Comparison - TA'!$B$30:$L$45,MATCH(S$12,'Comparison - TA'!$A$30:$A$45,0),MATCH($A19,'Comparison - TA'!$B$29:$L$29,0))/1000","v":381.11559458930935},4.1267798368056496E-2,null,0,0]
["Kāpiti Coast district",null,null,{"$f":"INDEX('Comparison - TA'!$B$7:$L$22,MATCH(D$12,'Comparison - TA'!$A$7:$A$22,0),MATCH($A20,'Comparison - TA'!$B$6:$L$6,0))/1000","v":6610.5665490190231},{"$f":"INDEX('Comparison - TA'!$B$30:$L$45,MATCH(D$12,'Comparison - TA'!$A$30:$A$45,0),MATCH($A20,'Comparison - TA'!$B$29:$L$29,0))/1000","v":7579.8323028752602},0.14662370413623194,{"$f":"INDEX('Comparison - TA'!$B$7:$L$22,MATCH(G$12,'Comparison - TA'!$A$7:$A$22,0),MATCH($A20,'Comparison - TA'!$B$6:$L$6,0))/1000","v":0},{"$f":"INDEX('Comparison - TA'!$B$30:$L$45,MATCH(G$12,'Comparison - TA'!$A$30:$A$45,0),MATCH($A20,'Comparison - TA'!$B$29:$L$29,0))/1000","v":0},"n/a",{"$f":"INDEX('Comparison - TA'!$B$7:$L$22,MATCH(J$12,'Comparison - TA'!$A$7:$A$22,0),MATCH($A20,'Comparison - TA'!$B$6:$L$6,0))/1000","v":1281.5388909725802},{"$f":"INDEX('Comparison - TA'!$B$30:$L$45,MATCH(J$12,'Comparison - TA'!$A$30:$A$45,0),MATCH($A20,'Comparison - TA'!$B$29:$L$29,0))/1000","v":1513.4865599999998},0.18099151782384904,{"$f":"INDEX('Comparison - TA'!$B$7:$L$22,MATCH(M$12,'Comparison - TA'!$A$7:$A$22,0),MATCH($A20,'Comparison - TA'!$B$6:$L$6,0))/1000","v":5323.6707096643877},{"$f":"INDEX('Comparison - TA'!$B$30:$L$45,MATCH(M$12,'Comparison - TA'!$A$30:$A$45,0),MATCH($A20,'Comparison - TA'!$B$29:$L$29,0))/1000","v":6324.0544564050933},0.18791240129195952,{"$f":"INDEX('Comparison - TA'!$B$7:$L$22,MATCH(P$12,'Comparison - TA'!$A$7:$A$22,0),MATCH($A20,'Comparison - TA'!$B$6:$L$6,0))/1000","v":0},{"$f":"INDEX('Comparison - TA'!$B$30:$L$45,MATCH(P$12,'Comparison - TA'!$A$30:$A$45,0),MATCH($A20,'Comparison - TA'!$B$29:$L$29,0))/1000","v":0},"n/a",{"$f":"INDEX('Comparison - TA'!$B$7:$L$22,MATCH(S$12,'Comparison - TA'!$A$7:$A$22,0),MATCH($A20,'Comparison - TA'!$B$6:$L$6,0))/1000","v":479.42559047194885},{"$f":"INDEX('Comparison - TA'!$B$30:$L$45,MATCH(S$12,'Comparison - TA'!$A$30:$A$45,0),MATCH($A20,'Comparison - TA'!$B$29:$L$29,0))/1000","v":469.43328580084693},-2.0842243029341567E-2,null,0,0]
["Masterton district",null,null,{"$f":"INDEX('Comparison - TA'!$B$7:$L$22,MATCH(D$12,'Comparison - TA'!$A$7:$A$22,0),MATCH($A21,'Comparison - TA'!$B$6:$L$6,0))/1000","v":2920.8234971531092},{"$f":"INDEX('Comparison - TA'!$B$30:$L$45,MATCH(D$12,'Comparison - TA'!$A$30:$A$45,0),MATCH($A21,'Comparison - TA'!$B$29:$L$29,0))/1000","v":3262.323089852785},0.11691894187804608,{"$f":"INDEX('Comparison - TA'!$B$7:$L$22,MATCH(G$12,'Comparison - TA'!$A$7:$A$22,0),MATCH($A21,'Comparison - TA'!$B$6:$L$6,0))/1000","v":0},{"$f":"INDEX('Comparison - TA'!$B$30:$L$45,MATCH(G$12,'Comparison - TA'!$A$30:$A$45,0),MATCH($A21,'Comparison - TA'!$B$29:$L$29,0))/1000","v":0},"n/a",{"$f":"INDEX('Comparison - TA'!$B$7:$L$22,MATCH(J$12,'Comparison - TA'!$A$7:$A$22,0),MATCH($A21,'Comparison - TA'!$B$6:$L$6,0))/1000","v":0},{"$f":"INDEX('Comparison - TA'!$B$30:$L$45,MATCH(J$12,'Comparison - TA'!$A$30:$A$45,0),MATCH($A21,'Comparison - TA'!$B$29:$L$29,0))/1000","v":0},"n/a",{"$f":"INDEX('Comparison - TA'!$B$7:$L$22,MATCH(M$12,'Comparison - TA'!$A$7:$A$22,0),MATCH($A21,'Comparison - TA'!$B$6:$L$6,0))/1000","v":996.63701686057334},{"$f":"INDEX('Comparison - TA'!$B$30:$L$45,MATCH(M$12,'Comparison - TA'!$A$30:$A$45,0),MATCH($A21,'Comparison - TA'!$B$29:$L$29,0))/1000","v":1235.0939945854623},0.23926161048686834,{"$f":"INDEX('Comparison - TA'!$B$7:$L$22,MATCH(P$12,'Comparison - TA'!$A$7:$A$22,0),MATCH($A21,'Comparison - TA'!$B$6:$L$6,0))/1000","v":0},{"$f":"INDEX('Comparison - TA'!$B$30:$L$45,MATCH(P$12,'Comparison - TA'!$A$30:$A$45,0),MATCH($A21,'Comparison - TA'!$B$29:$L$29,0))/1000","v":0},"n/a",{"$f":"INDEX('Comparison - TA'!$B$7:$L$22,MATCH(S$12,'Comparison - TA'!$A$7:$A$22,0),MATCH($A21,'Comparison - TA'!$B$6:$L$6,0))/1000","v":260.72776453255187},{"$f":"INDEX('Comparison - TA'!$B$30:$L$45,MATCH(S$12,'Comparison - TA'!$A$30:$A$45,0),MATCH($A21,'Comparison - TA'!$B$29:$L$29,0))/1000","v":223.84498387138527},-0.1414608863282828,null,0,0]
["Carterton district",null,null,{"$f":"INDEX('Comparison - TA'!$B$7:$L$22,MATCH(D$12,'Comparison - TA'!$A$7:$A$22,0),MATCH($A22,'Comparison - TA'!$B$6:$L$6,0))/1000","v":1238.6318405657896},{"$f":"INDEX('Comparison - TA'!$B$30:$L$45,MATCH(D$12,'Comparison - TA'!$A$30:$A$45,0),MATCH($A22,'Comparison - TA'!$B$29:$L$29,0))/1000","v":1441.4087335680611},0.1637103829897073,{"$f":"INDEX('Comparison - TA'!$B$7:$L$22,MATCH(G$12,'Comparison - TA'!$A$7:$A$22,0),MATCH($A22,'Comparison - TA'!$B$6:$L$6,0))/1000","v":0},{"$f":"INDEX('Comparison - TA'!$B$30:$L$45,MATCH(G$12,'Comparison - TA'!$A$30:$A$45,0),MATCH($A22,'Comparison - TA'!$B$29:$L$29,0))/1000","v":0},"n/a",{"$f":"INDEX('Comparison - TA'!$B$7:$L$22,MATCH(J$12,'Comparison - TA'!$A$7:$A$22,0),MATCH($A22,'Comparison - TA'!$B$6:$L$6,0))/1000","v":24.909320000000001},{"$f":"INDEX('Comparison - TA'!$B$30:$L$45,MATCH(J$12,'Comparison - TA'!$A$30:$A$45,0),MATCH($A22,'Comparison - TA'!$B$29:$L$29,0))/1000","v":25.282959999999999},1.5000008029123268E-2,{"$f":"INDEX('Comparison - TA'!$B$7:$L$22,MATCH(M$12,'Comparison - TA'!$A$7:$A$22,0),MATCH($A22,'Comparison - TA'!$B$6:$L$6,0))/1000","v":400.84091295825073},{"$f":"INDEX('Comparison - TA'!$B$30:$L$45,MATCH(M$12,'Comparison - TA'!$A$30:$A$45,0),MATCH($A22,'Comparison - TA'!$B$29:$L$29,0))/1000","v":489.09997683658906},0.22018476913191476,{"$f":"INDEX('Comparison - TA'!$B$7:$L$22,MATCH(P$12,'Comparison - TA'!$A$7:$A$22,0),MATCH($A22,'Comparison - TA'!$B$6:$L$6,0))/1000","v":0},{"$f":"INDEX('Comparison - TA'!$B$30:$L$45,MATCH(P$12,'Comparison - TA'!$A$30:$A$45,0),MATCH($A22,'Comparison - TA'!$B$29:$L$29,0))/1000","v":0},"n/a",{"$f":"INDEX('Comparison - TA'!$B$7:$L$22,MATCH(S$12,'Comparison - TA'!$A$7:$A$22,0),MATCH($A22,'Comparison - TA'!$B$6:$L$6,0))/1000","v":94.035490057261015},{"$f":"INDEX('Comparison - TA'!$B$30:$L$45,MATCH(S$12,'Comparison - TA'!$A$30:$A$45,0),MATCH($A22,'Comparison - TA'!$B$29:$L$29,0))/1000","v":74.067947186637909},-0.21234049887403439,null,0,0]
["South Wairarapa district",null,null,{"$f":"INDEX('Comparison - TA'!$B$7:$L$22,MATCH(D$12,'Comparison - TA'!$A$7:$A$22,0),MATCH($A23,'Comparison - TA'!$B$6:$L$6,0))/1000","v":2089.5390544524921},{"$f":"INDEX('Comparison - TA'!$B$30:$L$45,MATCH(D$12,'Comparison - TA'!$A$30:$A$45,0),MATCH($A23,'Comparison - TA'!$B$29:$L$29,0))/1000","v":2350.6702227331934},0.12497070477063832,{"$f":"INDEX('Comparison - TA'!$B$7:$L$22,MATCH(G$12,'Comparison - TA'!$A$7:$A$22,0),MATCH($A23,'Comparison - TA'!$B$6:$L$6,0))/1000","v":0},{"$f":"INDEX('Comparison - TA'!$B$30:$L$45,MATCH(G$12,'Comparison - TA'!$A$30:$A$45,0),MATCH($A23,'Comparison - TA'!$B$29:$L$29,0))/1000","v":0},"n/a",{"$f":"INDEX('Comparison - TA'!$B$7:$L$22,MATCH(J$12,'Comparison - TA'!$A$7:$A$22,0),MATCH($A23,'Comparison - TA'!$B$6:$L$6,0))/1000","v":0},{"$f":"INDEX('Comparison - TA'!$B$30:$L$45,MATCH(J$12,'Comparison - TA'!$A$30:$A$45,0),MATCH($A23,'Comparison - TA'!$B$29:$L$29,0))/1000","v":0},"n/a",{"$f":"INDEX('Comparison - TA'!$B$7:$L$22,MATCH(M$12,'Comparison - TA'!$A$7:$A$22,0),MATCH($A23,'Comparison - TA'!$B$6:$L$6,0))/1000","v":731.72919032832442},{"$f":"INDEX('Comparison - TA'!$B$30:$L$45,MATCH(M$12,'Comparison - TA'!$A$30:$A$45,0),MATCH($A23,'Comparison - TA'!$B$29:$L$29,0))/1000","v":832.40927692654191},0.1375920052513453,{"$f":"INDEX('Comparison - TA'!$B$7:$L$22,MATCH(P$12,'Comparison - TA'!$A$7:$A$22,0),MATCH($A23,'Comparison - TA'!$B$6:$L$6,0))/1000","v":0},{"$f":"INDEX('Comparison - TA'!$B$30:$L$45,MATCH(P$12,'Comparison - TA'!$A$30:$A$45,0),MATCH($A23,'Comparison - TA'!$B$29:$L$29,0))/1000","v":0},"n/a",{"$f":"INDEX('Comparison - TA'!$B$7:$L$22,MATCH(S$12,'Comparison - TA'!$A$7:$A$22,0),MATCH($A23,'Comparison - TA'!$B$6:$L$6,0))/1000","v":147.2634207080205},{"$f":"INDEX('Comparison - TA'!$B$30:$L$45,MATCH(S$12,'Comparison - TA'!$A$30:$A$45,0),MATCH($A23,'Comparison - TA'!$B$29:$L$29,0))/1000","v":113.92941676153464},-0.22635630617719571,null,0,0]
["Tararua district",null,null,{"$f":"INDEX('Comparison - TA'!$B$7:$L$22,MATCH(D$12,'Comparison - TA'!$A$7:$A$22,0),MATCH($A24,'Comparison - TA'!$B$6:$L$6,0))/1000","v":5.4060754744311419},{"$f":"INDEX('Comparison - TA'!$B$30:$L$45,MATCH(D$12,'Comparison - TA'!$A$30:$A$45,0),MATCH($A24,'Comparison - TA'!$B$29:$L$29,0))/1000","v":6.2813559619099451},0.16190681976575716,{"$f":"INDEX('Comparison - TA'!$B$7:$L$22,MATCH(G$12,'Comparison - TA'!$A$7:$A$22,0),MATCH($A24,'Comparison - TA'!$B$6:$L$6,0))/1000","v":0},{"$f":"INDEX('Comparison - TA'!$B$30:$L$45,MATCH(G$12,'Comparison - TA'!$A$30:$A$45,0),MATCH($A24,'Comparison - TA'!$B$29:$L$29,0))/1000","v":0},"n/a",{"$f":"INDEX('Comparison - TA'!$B$7:$L$22,MATCH(J$12,'Comparison - TA'!$A$7:$A$22,0),MATCH($A24,'Comparison - TA'!$B$6:$L$6,0))/1000","v":0},{"$f":"INDEX('Comparison - TA'!$B$30:$L$45,MATCH(J$12,'Comparison - TA'!$A$30:$A$45,0),MATCH($A24,'Comparison - TA'!$B$29:$L$29,0))/1000","v":0},"n/a",{"$f":"INDEX('Comparison - TA'!$B$7:$L$22,MATCH(M$12,'Comparison - TA'!$A$7:$A$22,0),MATCH($A24,'Comparison - TA'!$B$6:$L$6,0))/1000","v":0},{"$f":"INDEX('Comparison - TA'!$B$30:$L$45,MATCH(M$12,'Comparison - TA'!$A$30:$A$45,0),MATCH($A24,'Comparison - TA'!$B$29:$L$29,0))/1000","v":0},"n/a",{"$f":"INDEX('Comparison - TA'!$B$7:$L$22,MATCH(P$12,'Comparison - TA'!$A$7:$A$22,0),MATCH($A24,'Comparison - TA'!$B$6:$L$6,0))/1000","v":0},{"$f":"INDEX('Comparison - TA'!$B$30:$L$45,MATCH(P$12,'Comparison - TA'!$A$30:$A$45,0),MATCH($A24,'Comparison - TA'!$B$29:$L$29,0))/1000","v":0},"n/a",{"$f":"INDEX('Comparison - TA'!$B$7:$L$22,MATCH(S$12,'Comparison - TA'!$A$7:$A$22,0),MATCH($A24,'Comparison - TA'!$B$6:$L$6,0))/1000","v":0.252},{"$f":"INDEX('Comparison - TA'!$B$30:$L$45,MATCH(S$12,'Comparison - TA'!$A$30:$A$45,0),MATCH($A24,'Comparison - TA'!$B$29:$L$29,0))/1000","v":0.13500000000000001},-0.4642857142857143,null,0,0]
["Region-wide rates1",null,null,{"$f":"SUM(D16:D24)","v":63113.015511979203},{"$f":"SUM(E16:E24)","v":73337.78},0.162007224739247,{"$f":"IF(E25=0,\"n/a\",F25/E25-1)","v":-0.99999779094452079},{"$f":"IF(F25=0,\"n/a\",G25/F25-1)","v":-7.1725505918271972},6.1725664364243835,{"$f":"SUM(J16:J24)","v":6796.1397228808082},{"$f":"SUM(K16:K24)","v":7874.5492100000001},0.15867971099659295,{"$f":"SUM(M16:M24)","v":81810.330828706734},{"$f":"SUM(N16:N24)","v":90658.479920000012},0.10815442257310259,{"$f":"SUM(P16:P24)","v":0},{"$f":"SUM(Q16:Q24)","v":0},"n/a",{"$f":"SUM(S16:S24)","v":4690.8016321873665},{"$f":"SUM(T16:T24)","v":4620.6232899999995},-1.496084202448833E-2]
[null,null,null,{"$f":"E17-D17","v":1843.884458475055}]
[]
["Rates increases vary between city and district councils because of differing capital values.  In addition, some of Greater Wellington’s work programmes impact differently across the region, especially flood protection and public transport"]
[]
[]
[null,null,null,null,null,null,null,null,null,null,null,null,null,null,null,"Total Region-wide rates1"]
[null,null,null,null,null,null,null,null,null,null,null,null,null,null,null,"District-Wide Rates"]
[null,null,null,null,null,null,null,null,null,null,null,null,null,null,null,{"$f":"+M13","v":"2021/22"},{"$f":"+N13","v":"2022/23"},"Change"]
[null,null,null,null,null,null,null,null,null,null,null,null,null,null,null,"Budget","Plan"]
[null,null,null,null,null,null,null,null,null,null,null,null,null,null,null,"$000s","$000s","%   "]
[{"$f":"+A16","v":"Wellington city"},null,null,null,null,null,null,null,null,null,null,null,null,null,null,{"$f":"INDEX('Comparison - TA'!$B$7:$L$22,MATCH(P$32,'Comparison - TA'!$A$7:$A$22,0),MATCH($A36,'Comparison - TA'!$B$6:$L$6,0))/1000","v":81929.896790702551},{"$f":"INDEX('Comparison - TA'!$B$30:$L$45,MATCH(P$32,'Comparison - TA'!$A$30:$A$45,0),MATCH($A36,'Comparison - TA'!$B$29:$L$29,0))/1000","v":92547.733436462935},{"$f":"IF(P36=0,\"n/a\",Q36/P36-1)","v":0.12959660711992127}]
["Hutt city",null,null,null,null,null,null,null,null,null,null,null,null,null,null,{"$f":"INDEX('Comparison - TA'!$B$7:$L$22,MATCH(P$32,'Comparison - TA'!$A$7:$A$22,0),MATCH($A37,'Comparison - TA'!$B$6:$L$6,0))/1000","v":28951.960024981847},{"$f":"INDEX('Comparison - TA'!$B$30:$L$45,MATCH(P$32,'Comparison - TA'!$A$30:$A$45,0),MATCH($A37,'Comparison - TA'!$B$29:$L$29,0))/1000","v":32814.270989809404},{"$f":"IF(P37=0,\"n/a\",Q37/P37-1)","v":0.13340412744059038}]
["Upper Hutt city",null,null,null,null,null,null,null,null,null,null,null,null,null,null,{"$f":"INDEX('Comparison - TA'!$B$7:$L$22,MATCH(P$32,'Comparison - TA'!$A$7:$A$22,0),MATCH($A38,'Comparison - TA'!$B$6:$L$6,0))/1000","v":10885.774130712856},{"$f":"INDEX('Comparison - TA'!$B$30:$L$45,MATCH(P$32,'Comparison - TA'!$A$30:$A$45,0),MATCH($A38,'Comparison - TA'!$B$29:$L$29,0))/1000","v":12014.76106060098},0.10371213992974804]
["Porirua city",null,null,null,null,null,null,null,null,null,null,null,null,null,null,{"$f":"INDEX('Comparison - TA'!$B$7:$L$22,MATCH(P$32,'Comparison - TA'!$A$7:$A$22,0),MATCH($A39,'Comparison - TA'!$B$6:$L$6,0))/1000","v":12036.659426138118},{"$f":"INDEX('Comparison - TA'!$B$30:$L$45,MATCH(P$32,'Comparison - TA'!$A$30:$A$45,0),MATCH($A39,'Comparison - TA'!$B$29:$L$29,0))/1000","v":13173.313369761388},9.4432674663451843E-2]
["Kāpiti Coast district",null,null,null,null,null,null,null,null,null,null,null,null,null,null,{"$f":"INDEX('Comparison - TA'!$B$7:$L$22,MATCH(P$32,'Comparison - TA'!$A$7:$A$22,0),MATCH($A40,'Comparison - TA'!$B$6:$L$6,0))/1000","v":13695.201740127939},{"$f":"INDEX('Comparison - TA'!$B$30:$L$45,MATCH(P$32,'Comparison - TA'!$A$30:$A$45,0),MATCH($A40,'Comparison - TA'!$B$29:$L$29,0))/1000","v":15886.806605081201},0.16002720562572659]
["Masterton district",null,null,null,null,null,null,null,null,null,null,null,null,null,null,{"$f":"INDEX('Comparison - TA'!$B$7:$L$22,MATCH(P$32,'Comparison - TA'!$A$7:$A$22,0),MATCH($A41,'Comparison - TA'!$B$6:$L$6,0))/1000","v":4178.1882785462349},{"$f":"INDEX('Comparison - TA'!$B$30:$L$45,MATCH(P$32,'Comparison - TA'!$A$30:$A$45,0),MATCH($A41,'Comparison - TA'!$B$29:$L$29,0))/1000","v":4721.2620683096329},0.12997829527020643]
["Carterton district",null,null,null,null,null,null,null,null,null,null,null,null,null,null,{"$f":"INDEX('Comparison - TA'!$B$7:$L$22,MATCH(P$32,'Comparison - TA'!$A$7:$A$22,0),MATCH($A42,'Comparison - TA'!$B$6:$L$6,0))/1000","v":1758.4175635813015},{"$f":"INDEX('Comparison - TA'!$B$30:$L$45,MATCH(P$32,'Comparison - TA'!$A$30:$A$45,0),MATCH($A42,'Comparison - TA'!$B$29:$L$29,0))/1000","v":2029.8596175912883},0.15436723314862211]
["South Wairarapa district",null,null,null,null,null,null,null,null,null,null,null,null,null,null,{"$f":"INDEX('Comparison - TA'!$B$7:$L$22,MATCH(P$32,'Comparison - TA'!$A$7:$A$22,0),MATCH($A43,'Comparison - TA'!$B$6:$L$6,0))/1000","v":2968.5316654888375},{"$f":"INDEX('Comparison - TA'!$B$30:$L$45,MATCH(P$32,'Comparison - TA'!$A$30:$A$45,0),MATCH($A43,'Comparison - TA'!$B$29:$L$29,0))/1000","v":3297.0089164212704},0.11065310663558026]
["Tararua district",null,null,null,null,null,null,null,null,null,null,null,null,null,null,{"$f":"INDEX('Comparison - TA'!$B$7:$L$22,MATCH(P$32,'Comparison - TA'!$A$7:$A$22,0),MATCH($A44,'Comparison - TA'!$B$6:$L$6,0))/1000","v":5.6580754744311417},{"$f":"INDEX('Comparison - TA'!$B$30:$L$45,MATCH(P$32,'Comparison - TA'!$A$30:$A$45,0),MATCH($A44,'Comparison - TA'!$B$29:$L$29,0))/1000","v":6.4163559619099448},0.1340173864603742]
["Region-wide rates1",null,null,null,null,null,null,null,null,null,null,null,null,null,null,{"$f":"SUM(P36:P44)","v":156410.28769575414},{"$f":"SUM(Q36:Q44)","v":176491.43242},0.12838762091728428,null,{"$f":"ROUND(P45-ESSbase!F14/1000,2)","v":0},{"$f":"ROUND(Q45-ESSbase!G14/1000,2)","v":0}]
[]
[]
[{"$f":"+'1'!$A$46","v":0}]
[]
["1 Region-wide rates are rates that are charged to all ratepayers in  the region. It excludes South Wairarapa Region river rates, Wairarapa river and drainage schemes and any \"Warm Greater Wellington\" targeted rates as they impact only certain ratepayers that are covered by these programmes"]
[]
[]
["This information should be read in conjunction with the Funding Impact Statement and the Revenue and Financing Policy contained within the 2015/25 long term plan available at www.gw.govt.nz"]

{"sheet":"5","index":29,"n_rows":44,"n_cols":19,"rows_kept":44,"cut":false,"hidden":false,"merged":[[43,0,43,11],[31,2,31,3],[17,12,17,13],[17,2,17,3],[17,6,17,7],[17,8,17,9],[17,4,17,5],[17,0,17,1],[17,10,17,11],[31,10,31,11],[17,14,17,15],[31,0,31,1],[31,12,31,13],[31,8,31,9],[31,4,31,5],[31,6,31,7]]}
["Residential region-wide rates"]
["All figures on this page include GST"]
[]
["Average value of residential property in each city or district"]
[null,null,{"$f":"year_previous","v":"2021/22"},{"$f":"year_current","v":"2022/23"}]
["Wellington city",null,{"$f":"INDEX('Comparison - Category'!$H$22:$H$49,MATCH($A6&\"residential\",'Comparison - Category'!$D$22:$D$49,0),)","v":801939.64224361244},{"$f":"INDEX('Comparison - Category'!$H$81:$H$108,MATCH($A6&\"residential\",'Comparison - Category'!$D$81:$D$108,0),)","v":1269140.0489186405}]
["Hutt city",null,{"$f":"INDEX('Comparison - Category'!$H$22:$H$49,MATCH($A7&\"residential\",'Comparison - Category'!$D$22:$D$49,0),)","v":631058.08359091519},{"$f":"INDEX('Comparison - Category'!$H$81:$H$108,MATCH($A7&\"residential\",'Comparison - Category'!$D$81:$D$108,0),)","v":632628.47664543521}]
["Upper Hutt city",null,{"$f":"INDEX('Comparison - Category'!$H$22:$H$49,MATCH($A8&\"residential\",'Comparison - Category'!$D$22:$D$49,0),)","v":587876.52305069182},{"$f":"INDEX('Comparison - Category'!$H$81:$H$108,MATCH($A8&\"residential\",'Comparison - Category'!$D$81:$D$108,0),)","v":587865.1053107637}]
["Porirua city",null,{"$f":"INDEX('Comparison - Category'!$H$22:$H$49,MATCH($A9&\"residential\",'Comparison - Category'!$D$22:$D$49,0),)","v":677462.066566483},{"$f":"INDEX('Comparison - Category'!$H$81:$H$108,MATCH($A9&\"residential\",'Comparison - Category'!$D$81:$D$108,0),)","v":671620.47342418157}]
["Kāpiti Coast district excl Ōtaki ",null,{"$f":"INDEX('Comparison - Category'!$H$22:$H$49,MATCH($A10&\"residential\",'Comparison - Category'!$D$22:$D$49,0),)","v":744875.57846255077},{"$f":"INDEX('Comparison - Category'!$H$81:$H$108,MATCH($A10&\"residential\",'Comparison - Category'!$D$81:$D$108,0),)","v":746863.59069564263}]
["Ōtaki rating area",null,{"$f":"INDEX('Comparison - Category'!$H$22:$H$49,MATCH($A11&\"residential\",'Comparison - Category'!$D$22:$D$49,0),)","v":514757.69110764429},{"$f":"INDEX('Comparison - Category'!$H$81:$H$108,MATCH($A11&\"residential\",'Comparison - Category'!$D$81:$D$108,0),)","v":517958.90920359467}]
["Masterton district",null,{"$f":"INDEX('Comparison - Category'!$H$22:$H$49,MATCH($A12&\"residential\",'Comparison - Category'!$D$22:$D$49,0),)","v":476774.06741033943},{"$f":"INDEX('Comparison - Category'!$H$81:$H$108,MATCH($A12&\"residential\",'Comparison - Category'!$D$81:$D$108,0),)","v":480728.958529689}]
["Carterton district",null,{"$f":"INDEX('Comparison - Category'!$H$22:$H$49,MATCH($A13&\"residential\",'Comparison - Category'!$D$22:$D$49,0),)","v":502442.72869429243},{"$f":"INDEX('Comparison - Category'!$H$81:$H$108,MATCH($A13&\"residential\",'Comparison - Category'!$D$81:$D$108,0),)","v":507131.78145440551}]
["South Wairarapa district",null,{"$f":"INDEX('Comparison - Category'!$H$22:$H$49,MATCH($A14&\"residential\",'Comparison - Category'!$D$22:$D$49,0),)","v":602735.05630955822},{"$f":"INDEX('Comparison - Category'!$H$81:$H$108,MATCH($A14&\"residential\",'Comparison - Category'!$D$81:$D$108,0),)","v":608575.08484162891}]
[]
[]
[{"$f":"year_current&\" residential region-wide rates, for an average value residential property\"","v":"2022/23 residential region-wide rates, for an average value residential property"}]
[null,null,"General rate",null,"River management rate",null,"Public transport rate",null,"Stadium purposes rate",null,"Remission of rates",null,"Economic development rate",null,"Total region-wide rates"]
[null,null,{"$f":"year_previous","v":"2021/22"},{"$f":"year_current","v":"2022/23"},{"$f":"year_previous","v":"2021/22"},{"$f":"year_current","v":"2022/23"},{"$f":"year_previous","v":"2021/22"},{"$f":"year_current","v":"2022/23"},{"$f":"year_previous","v":"2021/22"},{"$f":"year_current","v":"2022/23"},{"$f":"year_previous","v":"2021/22"},{"$f":"year_current","v":"2022/23"},{"$f":"year_previous","v":"2021/22"},{"$f":"year_current","v":"2022/23"},{"$f":"year_previous","v":"2021/22"},{"$f":"year_current","v":"2022/23"}]
["Wellington city",null,{"$f":"INDEX('Comparison - Category'!$R$22:$W$49,MATCH($A20&\"residential\",'Comparison - Category'!$D$22:$D$49,0),MATCH(C$18,'Comparison - Category'!$R$7:$W$7,0))*(1+GST)","v":330.73487435634769},{"$f":"INDEX('Comparison - Category'!$R$81:$V$108,MATCH($A20&\"residential\",'Comparison - Category'!$D$81:$D$108,0),MATCH(C$18,'Comparison - Category'!$R$7:$V$7,0))*(1+GST)","v":400.90888562971259},{"$f":"INDEX('Comparison - Category'!$R$22:$W$49,MATCH($A20&\"residential\",'Comparison - Category'!$D$22:$D$49,0),MATCH(E$18,'Comparison - Category'!$R$7:$W$7,0))*(1+GST)","v":0.70763600171194685},{"$f":"INDEX('Comparison - Category'!$R$81:$V$108,MATCH($A20&\"residential\",'Comparison - Category'!$D$81:$D$108,0),MATCH(E$18,'Comparison - Category'!$R$7:$V$7,0))*(1+GST)","v":0.70120864898558777},{"$f":"INDEX('Comparison - Category'!$R$22:$W$49,MATCH($A20&\"residential\",'Comparison - Category'!$D$22:$D$49,0),MATCH(G$18,'Comparison - Category'!$R$7:$W$7,0))*(1+GST)","v":325.59505296418575},{"$f":"INDEX('Comparison - Category'!$R$81:$V$108,MATCH($A20&\"residential\",'Comparison - Category'!$D$81:$D$108,0),MATCH(G$18,'Comparison - Category'!$R$7:$V$7,0))*(1+GST)","v":407.62668992074629},{"$f":"INDEX('Comparison - Category'!$R$22:$V$49,MATCH($A20&\"residential\",'Comparison - Category'!$D$22:$D$49,0),MATCH(I$18,'Comparison - Category'!$R$7:$V$7,0))*(1+GST)","v":0},{"$f":"INDEX('Comparison - Category'!$R$81:$V$108,MATCH($A20&\"residential\",'Comparison - Category'!$D$81:$D$108,0),MATCH(I$18,'Comparison - Category'!$R$7:$V$7,0))*(1+GST)","v":0},{"$f":"INDEX('Comparison - Category'!$R$22:$W$49,MATCH($A20&\"residential\",'Comparison - Category'!$D$22:$D$49,0),MATCH(K$18,'Comparison - Category'!$R$7:$W$7,0))*(1+GST)","v":0},{"$f":"INDEX('Comparison - Category'!$R$81:$V$108,MATCH($A20&\"residential\",'Comparison - Category'!$D$81:$D$108,0),MATCH(K$18,'Comparison - Category'!$R$7:$V$7,0))*(1+GST)","v":0},{"$f":"INDEX('Comparison - Category'!$R$22:$W$49,MATCH($A20&\"residential\",'Comparison - Category'!$D$22:$D$49,0),MATCH(M$18,'Comparison - Category'!$R$7:$W$7,0))*(1+GST)","v":16.099999999999998},{"$f":"INDEX('Comparison - Category'!$R$81:$W$108,MATCH($A20&\"residential\",'Comparison - Category'!$D$81:$D$108,0),MATCH(M$18,'Comparison - Category'!$R$7:$W$7,0))*(1+GST)","v":17.25},{"$f":"INDEX('Comparison - Category'!$X$22:$X$49,MATCH(A20&\"Residential\",'Comparison - Category'!$D$22:$D$49,0),)*(1+GST)","v":673.13756332224534},{"$f":"INDEX('Comparison - Category'!$X$81:$X$108,MATCH(A20&\"Residential\",'Comparison - Category'!$D$81:$D$108,0),)*(1+GST)","v":826.4867841994444},null,{"$f":"O20-SUM(C20,E20,G20,K20,I20,M20)","v":0},{"$f":"P20-SUM(D20,F20,H20,J20,L20,N20)","v":0}]
["Hutt city",null,{"$f":"INDEX('Comparison - Category'!$R$22:$W$49,MATCH($A21&\"residential\",'Comparison - Category'!$D$22:$D$49,0),MATCH(C$18,'Comparison - Category'!$R$7:$W$7,0))*(1+GST)","v":275.11343978461969},{"$f":"INDEX('Comparison - Category'!$R$81:$V$108,MATCH($A21&\"residential\",'Comparison - Category'!$D$81:$D$108,0),MATCH(C$18,'Comparison - Category'!$R$7:$V$7,0))*(1+GST)","v":319.38298649328254},{"$f":"INDEX('Comparison - Category'!$R$22:$W$49,MATCH($A21&\"residential\",'Comparison - Category'!$D$22:$D$49,0),MATCH(E$18,'Comparison - Category'!$R$7:$W$7,0))*(1+GST)","v":108.24670235702024},{"$f":"INDEX('Comparison - Category'!$R$81:$V$108,MATCH($A21&\"residential\",'Comparison - Category'!$D$81:$D$108,0),MATCH(E$18,'Comparison - Category'!$R$7:$V$7,0))*(1+GST)","v":127.31529075680844},{"$f":"INDEX('Comparison - Category'!$R$22:$W$49,MATCH($A21&\"residential\",'Comparison - Category'!$D$22:$D$49,0),MATCH(G$18,'Comparison - Category'!$R$7:$W$7,0))*(1+GST)","v":313.03614083195561},{"$f":"INDEX('Comparison - Category'!$R$81:$V$108,MATCH($A21&\"residential\",'Comparison - Category'!$D$81:$D$108,0),MATCH(G$18,'Comparison - Category'!$R$7:$V$7,0))*(1+GST)","v":335.56474766037564},{"$f":"INDEX('Comparison - Category'!$R$22:$V$49,MATCH($A21&\"residential\",'Comparison - Category'!$D$22:$D$49,0),MATCH(I$18,'Comparison - Category'!$R$7:$V$7,0))*(1+GST)","v":0},{"$f":"INDEX('Comparison - Category'!$R$81:$V$108,MATCH($A21&\"residential\",'Comparison - Category'!$D$81:$D$108,0),MATCH(I$18,'Comparison - Category'!$R$7:$V$7,0))*(1+GST)","v":0},{"$f":"INDEX('Comparison - Category'!$R$22:$W$49,MATCH($A21&\"residential\",'Comparison - Category'!$D$22:$D$49,0),MATCH(K$18,'Comparison - Category'!$R$7:$W$7,0))*(1+GST)","v":0},{"$f":"INDEX('Comparison - Category'!$R$81:$V$108,MATCH($A21&\"residential\",'Comparison - Category'!$D$81:$D$108,0),MATCH(K$18,'Comparison - Category'!$R$7:$V$7,0))*(1+GST)","v":0},{"$f":"INDEX('Comparison - Category'!$R$22:$W$49,MATCH($A21&\"residential\",'Comparison - Category'!$D$22:$D$49,0),MATCH(M$18,'Comparison - Category'!$R$7:$W$7,0))*(1+GST)","v":16.099999999999998},{"$f":"INDEX('Comparison - Category'!$R$81:$W$108,MATCH($A21&\"residential\",'Comparison - Category'!$D$81:$D$108,0),MATCH(M$18,'Comparison - Category'!$R$7:$W$7,0))*(1+GST)","v":17.25},{"$f":"INDEX('Comparison - Category'!$X$22:$X$49,MATCH(A21&\"Residential\",'Comparison - Category'!$D$22:$D$49,0),)*(1+GST)","v":712.4962829735955},{"$f":"INDEX('Comparison - Category'!$X$81:$X$108,MATCH(A21&\"Residential\",'Comparison - Category'!$D$81:$D$108,0),)*(1+GST)","v":799.51302491046658},null,{"$f":"O21-SUM(C21,E21,G21,K21,I21,M21)","v":0},{"$f":"P21-SUM(D21,F21,H21,J21,L21,N21)","v":0}]
["Upper Hutt city",null,{"$f":"INDEX('Comparison - Category'!$R$22:$W$49,MATCH($A22&\"residential\",'Comparison - Category'!$D$22:$D$49,0),MATCH(C$18,'Comparison - Category'!$R$7:$W$7,0))*(1+GST)","v":259.07927946922104},{"$f":"INDEX('Comparison - Category'!$R$81:$V$108,MATCH($A22&\"residential\",'Comparison - Category'!$D$81:$D$108,0),MATCH(C$18,'Comparison - Category'!$R$7:$V$7,0))*(1+GST)","v":297.74379455177348},{"$f":"INDEX('Comparison - Category'!$R$22:$W$49,MATCH($A22&\"residential\",'Comparison - Category'!$D$22:$D$49,0),MATCH(E$18,'Comparison - Category'!$R$7:$W$7,0))*(1+GST)","v":62.664111491884448},{"$f":"INDEX('Comparison - Category'!$R$81:$V$108,MATCH($A22&\"residential\",'Comparison - Category'!$D$81:$D$108,0),MATCH(E$18,'Comparison - Category'!$R$7:$V$7,0))*(1+GST)","v":65.581214277087454},{"$f":"INDEX('Comparison - Category'!$R$22:$W$49,MATCH($A22&\"residential\",'Comparison - Category'!$D$22:$D$49,0),MATCH(G$18,'Comparison - Category'!$R$7:$W$7,0))*(1+GST)","v":309.99994041255593},{"$f":"INDEX('Comparison - Category'!$R$81:$V$108,MATCH($A22&\"residential\",'Comparison - Category'!$D$81:$D$108,0),MATCH(G$18,'Comparison - Category'!$R$7:$V$7,0))*(1+GST)","v":321.4268406428971},{"$f":"INDEX('Comparison - Category'!$R$22:$V$49,MATCH($A22&\"residential\",'Comparison - Category'!$D$22:$D$49,0),MATCH(I$18,'Comparison - Category'!$R$7:$V$7,0))*(1+GST)","v":0},{"$f":"INDEX('Comparison - Category'!$R$81:$V$108,MATCH($A22&\"residential\",'Comparison - Category'!$D$81:$D$108,0),MATCH(I$18,'Comparison - Category'!$R$7:$V$7,0))*(1+GST)","v":0},{"$f":"INDEX('Comparison - Category'!$R$22:$W$49,MATCH($A22&\"residential\",'Comparison - Category'!$D$22:$D$49,0),MATCH(K$18,'Comparison - Category'!$R$7:$W$7,0))*(1+GST)","v":0},{"$f":"INDEX('Comparison - Category'!$R$81:$V$108,MATCH($A22&\"residential\",'Comparison - Category'!$D$81:$D$108,0),MATCH(K$18,'Comparison - Category'!$R$7:$V$7,0))*(1+GST)","v":0},{"$f":"INDEX('Comparison - Category'!$R$22:$W$49,MATCH($A22&\"residential\",'Comparison - Category'!$D$22:$D$49,0),MATCH(M$18,'Comparison - Category'!$R$7:$W$7,0))*(1+GST)","v":16.099999999999998},{"$f":"INDEX('Comparison - Category'!$R$81:$W$108,MATCH($A22&\"residential\",'Comparison - Category'!$D$81:$D$108,0),MATCH(M$18,'Comparison - Category'!$R$7:$W$7,0))*(1+GST)","v":17.25},{"$f":"INDEX('Comparison - Category'!$X$22:$X$49,MATCH(A22&\"Residential\",'Comparison - Category'!$D$22:$D$49,0),)*(1+GST)","v":647.84333137366139},{"$f":"INDEX('Comparison - Category'!$X$81:$X$108,MATCH(A22&\"Residential\",'Comparison - Category'!$D$81:$D$108,0),)*(1+GST)","v":702.00184947175808},null,0,0]
["Porirua city",null,{"$f":"INDEX('Comparison - Category'!$R$22:$W$49,MATCH($A23&\"residential\",'Comparison - Category'!$D$22:$D$49,0),MATCH(C$18,'Comparison - Category'!$R$7:$W$7,0))*(1+GST)","v":286.30803229994626},{"$f":"INDEX('Comparison - Category'!$R$81:$V$108,MATCH($A23&\"residential\",'Comparison - Category'!$D$81:$D$108,0),MATCH(C$18,'Comparison - Category'!$R$7:$V$7,0))*(1+GST)","v":324.95324958386124},{"$f":"INDEX('Comparison - Category'!$R$22:$W$49,MATCH($A23&\"residential\",'Comparison - Category'!$D$22:$D$49,0),MATCH(E$18,'Comparison - Category'!$R$7:$W$7,0))*(1+GST)","v":3.0389348718686238},{"$f":"INDEX('Comparison - Category'!$R$81:$V$108,MATCH($A23&\"residential\",'Comparison - Category'!$D$81:$D$108,0),MATCH(E$18,'Comparison - Category'!$R$7:$V$7,0))*(1+GST)","v":2.4233849575463204},{"$f":"INDEX('Comparison - Category'!$R$22:$W$49,MATCH($A23&\"residential\",'Comparison - Category'!$D$22:$D$49,0),MATCH(G$18,'Comparison - Category'!$R$7:$W$7,0))*(1+GST)","v":347.43998288403787},{"$f":"INDEX('Comparison - Category'!$R$81:$V$108,MATCH($A23&\"residential\",'Comparison - Category'!$D$81:$D$108,0),MATCH(G$18,'Comparison - Category'!$R$7:$V$7,0))*(1+GST)","v":353.51378683905551},{"$f":"INDEX('Comparison - Category'!$R$22:$V$49,MATCH($A23&\"residential\",'Comparison - Category'!$D$22:$D$49,0),MATCH(I$18,'Comparison - Category'!$R$7:$V$7,0))*(1+GST)","v":0},{"$f":"INDEX('Comparison - Category'!$R$81:$V$108,MATCH($A23&\"residential\",'Comparison - Category'!$D$81:$D$108,0),MATCH(I$18,'Comparison - Category'!$R$7:$V$7,0))*(1+GST)","v":0},{"$f":"INDEX('Comparison - Category'!$R$22:$W$49,MATCH($A23&\"residential\",'Comparison - Category'!$D$22:$D$49,0),MATCH(K$18,'Comparison - Category'!$R$7:$W$7,0))*(1+GST)","v":0},{"$f":"INDEX('Comparison - Category'!$R$81:$V$108,MATCH($A23&\"residential\",'Comparison - Category'!$D$81:$D$108,0),MATCH(K$18,'Comparison - Category'!$R$7:$V$7,0))*(1+GST)","v":0},{"$f":"INDEX('Comparison - Category'!$R$22:$W$49,MATCH($A23&\"residential\",'Comparison - Category'!$D$22:$D$49,0),MATCH(M$18,'Comparison - Category'!$R$7:$W$7,0))*(1+GST)","v":16.099999999999998},{"$f":"INDEX('Comparison - Category'!$R$81:$W$108,MATCH($A23&\"residential\",'Comparison - Category'!$D$81:$D$108,0),MATCH(M$18,'Comparison - Category'!$R$7:$W$7,0))*(1+GST)","v":17.25},{"$f":"INDEX('Comparison - Category'!$X$22:$X$49,MATCH(A23&\"Residential\",'Comparison - Category'!$D$22:$D$49,0),)*(1+GST)","v":652.88695005585282},{"$f":"INDEX('Comparison - Category'!$X$81:$X$108,MATCH(A23&\"Residential\",'Comparison - Category'!$D$81:$D$108,0),)*(1+GST)","v":698.14042138046307},null,0,0]
["Kāpiti Coast district excl Ōtaki ",null,{"$f":"INDEX('Comparison - Category'!$R$22:$W$49,MATCH($A24&\"residential\",'Comparison - Category'!$D$22:$D$49,0),MATCH(C$18,'Comparison - Category'!$R$7:$W$7,0))*(1+GST)","v":288.48705312199979},{"$f":"INDEX('Comparison - Category'!$R$81:$V$108,MATCH($A24&\"residential\",'Comparison - Category'!$D$81:$D$108,0),MATCH(C$18,'Comparison - Category'!$R$7:$V$7,0))*(1+GST)","v":329.08123169031478},{"$f":"INDEX('Comparison - Category'!$R$22:$W$49,MATCH($A24&\"residential\",'Comparison - Category'!$D$22:$D$49,0),MATCH(E$18,'Comparison - Category'!$R$7:$W$7,0))*(1+GST)","v":55.926731147238549},{"$f":"INDEX('Comparison - Category'!$R$81:$V$108,MATCH($A24&\"residential\",'Comparison - Category'!$D$81:$D$108,0),MATCH(E$18,'Comparison - Category'!$R$7:$V$7,0))*(1+GST)","v":65.708580534507107},{"$f":"INDEX('Comparison - Category'!$R$22:$W$49,MATCH($A24&\"residential\",'Comparison - Category'!$D$22:$D$49,0),MATCH(G$18,'Comparison - Category'!$R$7:$W$7,0))*(1+GST)","v":259.50367062304298},{"$f":"INDEX('Comparison - Category'!$R$81:$V$108,MATCH($A24&\"residential\",'Comparison - Category'!$D$81:$D$108,0),MATCH(G$18,'Comparison - Category'!$R$7:$V$7,0))*(1+GST)","v":307.17638843816644},{"$f":"INDEX('Comparison - Category'!$R$22:$V$49,MATCH($A24&\"residential\",'Comparison - Category'!$D$22:$D$49,0),MATCH(I$18,'Comparison - Category'!$R$7:$V$7,0))*(1+GST)","v":0},{"$f":"INDEX('Comparison - Category'!$R$81:$V$108,MATCH($A24&\"residential\",'Comparison - Category'!$D$81:$D$108,0),MATCH(I$18,'Comparison - Category'!$R$7:$V$7,0))*(1+GST)","v":0},{"$f":"INDEX('Comparison - Category'!$R$22:$W$49,MATCH($A24&\"residential\",'Comparison - Category'!$D$22:$D$49,0),MATCH(K$18,'Comparison - Category'!$R$7:$W$7,0))*(1+GST)","v":0},{"$f":"INDEX('Comparison - Category'!$R$81:$V$108,MATCH($A24&\"residential\",'Comparison - Category'!$D$81:$D$108,0),MATCH(K$18,'Comparison - Category'!$R$7:$V$7,0))*(1+GST)","v":0},{"$f":"INDEX('Comparison - Category'!$R$22:$W$49,MATCH($A24&\"residential\",'Comparison - Category'!$D$22:$D$49,0),MATCH(M$18,'Comparison - Category'!$R$7:$W$7,0))*(1+GST)","v":16.099999999999998},{"$f":"INDEX('Comparison - Category'!$R$81:$W$108,MATCH($A24&\"residential\",'Comparison - Category'!$D$81:$D$108,0),MATCH(M$18,'Comparison - Category'!$R$7:$W$7,0))*(1+GST)","v":17.25},{"$f":"INDEX('Comparison - Category'!$X$22:$X$49,MATCH(A24&\"Residential\",'Comparison - Category'!$D$22:$D$49,0),)*(1+GST)","v":620.01745489228131},{"$f":"INDEX('Comparison - Category'!$X$81:$X$108,MATCH(A24&\"Residential\",'Comparison - Category'!$D$81:$D$108,0),)*(1+GST)","v":719.2162006629884},null,0,0]
["Ōtaki rating area",null,{"$f":"INDEX('Comparison - Category'!$R$22:$W$49,MATCH($A25&\"residential\",'Comparison - Category'!$D$22:$D$49,0),MATCH(C$18,'Comparison - Category'!$R$7:$W$7,0))*(1+GST)","v":199.36340198726882},{"$f":"INDEX('Comparison - Category'!$R$81:$V$108,MATCH($A25&\"residential\",'Comparison - Category'!$D$81:$D$108,0),MATCH(C$18,'Comparison - Category'!$R$7:$V$7,0))*(1+GST)","v":228.2218037258049},{"$f":"INDEX('Comparison - Category'!$R$22:$W$49,MATCH($A25&\"residential\",'Comparison - Category'!$D$22:$D$49,0),MATCH(E$18,'Comparison - Category'!$R$7:$W$7,0))*(1+GST)","v":38.64902519152448},{"$f":"INDEX('Comparison - Category'!$R$81:$V$108,MATCH($A25&\"residential\",'Comparison - Category'!$D$81:$D$108,0),MATCH(E$18,'Comparison - Category'!$R$7:$V$7,0))*(1+GST)","v":45.569693211674213},{"$f":"INDEX('Comparison - Category'!$R$22:$W$49,MATCH($A25&\"residential\",'Comparison - Category'!$D$22:$D$49,0),MATCH(G$18,'Comparison - Category'!$R$7:$W$7,0))*(1+GST)","v":113.0116741348415},{"$f":"INDEX('Comparison - Category'!$R$81:$V$108,MATCH($A25&\"residential\",'Comparison - Category'!$D$81:$D$108,0),MATCH(G$18,'Comparison - Category'!$R$7:$V$7,0))*(1+GST)","v":119.66122594354974},{"$f":"INDEX('Comparison - Category'!$R$22:$V$49,MATCH($A25&\"residential\",'Comparison - Category'!$D$22:$D$49,0),MATCH(I$18,'Comparison - Category'!$R$7:$V$7,0))*(1+GST)","v":0},{"$f":"INDEX('Comparison - Category'!$R$81:$V$108,MATCH($A25&\"residential\",'Comparison - Category'!$D$81:$D$108,0),MATCH(I$18,'Comparison - Category'!$R$7:$V$7,0))*(1+GST)","v":0},{"$f":"INDEX('Comparison - Category'!$R$22:$W$49,MATCH($A25&\"residential\",'Comparison - Category'!$D$22:$D$49,0),MATCH(K$18,'Comparison - Category'!$R$7:$W$7,0))*(1+GST)","v":0},{"$f":"INDEX('Comparison - Category'!$R$81:$V$108,MATCH($A25&\"residential\",'Comparison - Category'!$D$81:$D$108,0),MATCH(K$18,'Comparison - Category'!$R$7:$V$7,0))*(1+GST)","v":0},{"$f":"INDEX('Comparison - Category'!$R$22:$W$49,MATCH($A25&\"residential\",'Comparison - Category'!$D$22:$D$49,0),MATCH(M$18,'Comparison - Category'!$R$7:$W$7,0))*(1+GST)","v":16.099999999999998},{"$f":"INDEX('Comparison - Category'!$R$81:$W$108,MATCH($A25&\"residential\",'Comparison - Category'!$D$81:$D$108,0),MATCH(M$18,'Comparison - Category'!$R$7:$W$7,0))*(1+GST)","v":17.25},{"$f":"INDEX('Comparison - Category'!$X$22:$X$49,MATCH(A25&\"Residential\",'Comparison - Category'!$D$22:$D$49,0),)*(1+GST)","v":367.12410131363475},{"$f":"INDEX('Comparison - Category'!$X$81:$X$108,MATCH(A25&\"Residential\",'Comparison - Category'!$D$81:$D$108,0),)*(1+GST)","v":410.70272288102888},null,0,0]
["Masterton district",null,{"$f":"INDEX('Comparison - Category'!$R$22:$W$49,MATCH($A26&\"residential\",'Comparison - Category'!$D$22:$D$49,0),MATCH(C$18,'Comparison - Category'!$R$7:$W$7,0))*(1+GST)","v":185.34153282330783},{"$f":"INDEX('Comparison - Category'!$R$81:$V$108,MATCH($A26&\"residential\",'Comparison - Category'!$D$81:$D$108,0),MATCH(C$18,'Comparison - Category'!$R$7:$V$7,0))*(1+GST)","v":205.2299651164586},{"$f":"INDEX('Comparison - Category'!$R$22:$W$49,MATCH($A26&\"residential\",'Comparison - Category'!$D$22:$D$49,0),MATCH(E$18,'Comparison - Category'!$R$7:$W$7,0))*(1+GST)","v":0},{"$f":"INDEX('Comparison - Category'!$R$81:$V$108,MATCH($A26&\"residential\",'Comparison - Category'!$D$81:$D$108,0),MATCH(E$18,'Comparison - Category'!$R$7:$V$7,0))*(1+GST)","v":0},{"$f":"INDEX('Comparison - Category'!$R$22:$W$49,MATCH($A26&\"residential\",'Comparison - Category'!$D$22:$D$49,0),MATCH(G$18,'Comparison - Category'!$R$7:$W$7,0))*(1+GST)","v":77.00963572584493},{"$f":"INDEX('Comparison - Category'!$R$81:$V$108,MATCH($A26&\"residential\",'Comparison - Category'!$D$81:$D$108,0),MATCH(G$18,'Comparison - Category'!$R$7:$V$7,0))*(1+GST)","v":92.32525313349683},{"$f":"INDEX('Comparison - Category'!$R$22:$V$49,MATCH($A26&\"residential\",'Comparison - Category'!$D$22:$D$49,0),MATCH(I$18,'Comparison - Category'!$R$7:$V$7,0))*(1+GST)","v":0},{"$f":"INDEX('Comparison - Category'!$R$81:$V$108,MATCH($A26&\"residential\",'Comparison - Category'!$D$81:$D$108,0),MATCH(I$18,'Comparison - Category'!$R$7:$V$7,0))*(1+GST)","v":0},{"$f":"INDEX('Comparison - Category'!$R$22:$W$49,MATCH($A26&\"residential\",'Comparison - Category'!$D$22:$D$49,0),MATCH(K$18,'Comparison - Category'!$R$7:$W$7,0))*(1+GST)","v":0},{"$f":"INDEX('Comparison - Category'!$R$81:$V$108,MATCH($A26&\"residential\",'Comparison - Category'!$D$81:$D$108,0),MATCH(K$18,'Comparison - Category'!$R$7:$V$7,0))*(1+GST)","v":0},{"$f":"INDEX('Comparison - Category'!$R$22:$W$49,MATCH($A26&\"residential\",'Comparison - Category'!$D$22:$D$49,0),MATCH(M$18,'Comparison - Category'!$R$7:$W$7,0))*(1+GST)","v":16.099999999999998},{"$f":"INDEX('Comparison - Category'!$R$81:$W$108,MATCH($A26&\"residential\",'Comparison - Category'!$D$81:$D$108,0),MATCH(M$18,'Comparison - Category'!$R$7:$W$7,0))*(1+GST)","v":17.25},{"$f":"INDEX('Comparison - Category'!$X$22:$X$49,MATCH(A26&\"Residential\",'Comparison - Category'!$D$22:$D$49,0),)*(1+GST)","v":278.45116854915278},{"$f":"INDEX('Comparison - Category'!$X$81:$X$108,MATCH(A26&\"Residential\",'Comparison - Category'!$D$81:$D$108,0),)*(1+GST)","v":314.80521824995543},null,0,0]
["Carterton district",null,{"$f":"INDEX('Comparison - Category'!$R$22:$W$49,MATCH($A27&\"residential\",'Comparison - Category'!$D$22:$D$49,0),MATCH(C$18,'Comparison - Category'!$R$7:$W$7,0))*(1+GST)","v":195.24088023853389},{"$f":"INDEX('Comparison - Category'!$R$81:$V$108,MATCH($A27&\"residential\",'Comparison - Category'!$D$81:$D$108,0),MATCH(C$18,'Comparison - Category'!$R$7:$V$7,0))*(1+GST)","v":225.42999981846569},{"$f":"INDEX('Comparison - Category'!$R$22:$W$49,MATCH($A27&\"residential\",'Comparison - Category'!$D$22:$D$49,0),MATCH(E$18,'Comparison - Category'!$R$7:$W$7,0))*(1+GST)","v":3.9263624619255877},{"$f":"INDEX('Comparison - Category'!$R$81:$V$108,MATCH($A27&\"residential\",'Comparison - Category'!$D$81:$D$108,0),MATCH(E$18,'Comparison - Category'!$R$7:$V$7,0))*(1+GST)","v":3.9541439811465882},{"$f":"INDEX('Comparison - Category'!$R$22:$W$49,MATCH($A27&\"residential\",'Comparison - Category'!$D$22:$D$49,0),MATCH(G$18,'Comparison - Category'!$R$7:$W$7,0))*(1+GST)","v":93.964569806775685},{"$f":"INDEX('Comparison - Category'!$R$81:$V$108,MATCH($A27&\"residential\",'Comparison - Category'!$D$81:$D$108,0),MATCH(G$18,'Comparison - Category'!$R$7:$V$7,0))*(1+GST)","v":108.70635399390672},{"$f":"INDEX('Comparison - Category'!$R$22:$V$49,MATCH($A27&\"residential\",'Comparison - Category'!$D$22:$D$49,0),MATCH(I$18,'Comparison - Category'!$R$7:$V$7,0))*(1+GST)","v":0},{"$f":"INDEX('Comparison - Category'!$R$81:$V$108,MATCH($A27&\"residential\",'Comparison - Category'!$D$81:$D$108,0),MATCH(I$18,'Comparison - Category'!$R$7:$V$7,0))*(1+GST)","v":0},{"$f":"INDEX('Comparison - Category'!$R$22:$W$49,MATCH($A27&\"residential\",'Comparison - Category'!$D$22:$D$49,0),MATCH(K$18,'Comparison - Category'!$R$7:$W$7,0))*(1+GST)","v":0},{"$f":"INDEX('Comparison - Category'!$R$81:$V$108,MATCH($A27&\"residential\",'Comparison - Category'!$D$81:$D$108,0),MATCH(K$18,'Comparison - Category'!$R$7:$V$7,0))*(1+GST)","v":0},{"$f":"INDEX('Comparison - Category'!$R$22:$W$49,MATCH($A27&\"residential\",'Comparison - Category'!$D$22:$D$49,0),MATCH(M$18,'Comparison - Category'!$R$7:$W$7,0))*(1+GST)","v":16.099999999999998},{"$f":"INDEX('Comparison - Category'!$R$81:$W$108,MATCH($A27&\"residential\",'Comparison - Category'!$D$81:$D$108,0),MATCH(M$18,'Comparison - Category'!$R$7:$W$7,0))*(1+GST)","v":17.25},{"$f":"INDEX('Comparison - Category'!$X$22:$X$49,MATCH(A27&\"Residential\",'Comparison - Category'!$D$22:$D$49,0),)*(1+GST)","v":309.23181250723519},{"$f":"INDEX('Comparison - Category'!$X$81:$X$108,MATCH(A27&\"Residential\",'Comparison - Category'!$D$81:$D$108,0),)*(1+GST)","v":355.34049779351898},null,0,0]
["South Wairarapa district",null,{"$f":"INDEX('Comparison - Category'!$R$22:$W$49,MATCH($A28&\"residential\",'Comparison - Category'!$D$22:$D$49,0),MATCH(C$18,'Comparison - Category'!$R$7:$W$7,0))*(1+GST)","v":231.65544893481837},{"$f":"INDEX('Comparison - Category'!$R$81:$V$108,MATCH($A28&\"residential\",'Comparison - Category'!$D$81:$D$108,0),MATCH(C$18,'Comparison - Category'!$R$7:$V$7,0))*(1+GST)","v":258.88645677325474},{"$f":"INDEX('Comparison - Category'!$R$22:$W$49,MATCH($A28&\"residential\",'Comparison - Category'!$D$22:$D$49,0),MATCH(E$18,'Comparison - Category'!$R$7:$W$7,0))*(1+GST)","v":0},{"$f":"INDEX('Comparison - Category'!$R$81:$V$108,MATCH($A28&\"residential\",'Comparison - Category'!$D$81:$D$108,0),MATCH(E$18,'Comparison - Category'!$R$7:$V$7,0))*(1+GST)","v":0},{"$f":"INDEX('Comparison - Category'!$R$22:$W$49,MATCH($A28&\"residential\",'Comparison - Category'!$D$22:$D$49,0),MATCH(G$18,'Comparison - Category'!$R$7:$W$7,0))*(1+GST)","v":122.55247975161276},{"$f":"INDEX('Comparison - Category'!$R$81:$V$108,MATCH($A28&\"residential\",'Comparison - Category'!$D$81:$D$108,0),MATCH(G$18,'Comparison - Category'!$R$7:$V$7,0))*(1+GST)","v":130.92117404498347},{"$f":"INDEX('Comparison - Category'!$R$22:$V$49,MATCH($A28&\"residential\",'Comparison - Category'!$D$22:$D$49,0),MATCH(I$18,'Comparison - Category'!$R$7:$V$7,0))*(1+GST)","v":0},{"$f":"INDEX('Comparison - Category'!$R$81:$V$108,MATCH($A28&\"residential\",'Comparison - Category'!$D$81:$D$108,0),MATCH(I$18,'Comparison - Category'!$R$7:$V$7,0))*(1+GST)","v":0},{"$f":"INDEX('Comparison - Category'!$R$22:$W$49,MATCH($A28&\"residential\",'Comparison - Category'!$D$22:$D$49,0),MATCH(K$18,'Comparison - Category'!$R$7:$W$7,0))*(1+GST)","v":0},{"$f":"INDEX('Comparison - Category'!$R$81:$V$108,MATCH($A28&\"residential\",'Comparison - Category'!$D$81:$D$108,0),MATCH(K$18,'Comparison - Category'!$R$7:$V$7,0))*(1+GST)","v":0},{"$f":"INDEX('Comparison - Category'!$R$22:$W$49,MATCH($A28&\"residential\",'Comparison - Category'!$D$22:$D$49,0),MATCH(M$18,'Comparison - Category'!$R$7:$W$7,0))*(1+GST)","v":16.099999999999998},{"$f":"INDEX('Comparison - Category'!$R$81:$W$108,MATCH($A28&\"residential\",'Comparison - Category'!$D$81:$D$108,0),MATCH(M$18,'Comparison - Category'!$R$7:$W$7,0))*(1+GST)","v":17.25},{"$f":"INDEX('Comparison - Category'!$X$22:$X$49,MATCH(A28&\"Residential\",'Comparison - Category'!$D$22:$D$49,0),)*(1+GST)","v":370.30792868643113},{"$f":"INDEX('Comparison - Category'!$X$81:$X$108,MATCH(A28&\"Residential\",'Comparison - Category'!$D$81:$D$108,0),)*(1+GST)","v":407.05763081823818},null,0,0]
[]
[]
[{"$f":"year_current&\" residential region-wide rates per $100k of valued residential property\"","v":"2022/23 residential region-wide rates per $100k of valued residential property"}]
[null,null,"General rate",null,"River management rate",null,"Public transport rate",null,"Stadium purposes rate",null,"Remission of rates",null,"Total region-wide rates excl economic development rate"]
[null,null,{"$f":"year_previous","v":"2021/22"},{"$f":"year_current","v":"2022/23"},{"$f":"year_previous","v":"2021/22"},{"$f":"year_current","v":"2022/23"},{"$f":"year_previous","v":"2021/22"},{"$f":"year_current","v":"2022/23"},{"$f":"year_previous","v":"2021/22"},{"$f":"year_current","v":"2022/23"},{"$f":"year_previous","v":"2021/22"},{"$f":"year_current","v":"2022/23"},{"$f":"year_previous","v":"2021/22"},{"$f":"year_current","v":"2022/23"}]
["Wellington city",null,{"$f":"C20/INDEX($C$6:$D$14,MATCH($A34,$A$6:$A$14,0),MATCH(C$33,$C$5:$D$5,0))*100000","v":41.241866212155323},{"$f":"D20/INDEX($C$6:$D$14,MATCH($A34,$A$6:$A$14,0),MATCH(D$33,$C$5:$D$5,0))*100000","v":31.589018561923361},8.824055632568191E-2,5.5250691173369428E-2,40.600942491539378,32.11833794608097,0,0,{"$f":"K20/INDEX($C$6:$D$14,MATCH($A34,$A$6:$A$14,0),MATCH(K$33,$C$5:$D$5,0))*100000","v":0},0,{"$f":"SUM(C34,E34,G34,I34)","v":81.931049260020387},{"$f":"SUM(D34,F34,H34,J34,L34)","v":63.762607199177701},null,null,null,{"$f":"M34-SUM(C34,E34,G34,I34)","v":0},{"$f":"N34-SUM(D34,F34,H34,J34,L34)","v":0}]
["Hutt city",null,{"$f":"C21/INDEX($C$6:$D$14,MATCH($A35,$A$6:$A$14,0),MATCH(C$33,$C$5:$D$5,0))*100000","v":43.595581284552971},50.485079044629352,17.153207473559821,20.124811869346807,49.60496489494016,53.042940690835707,0,0,0,0,110.35375365305296,{"$f":"SUM(D35,F35,H35,J35,L35)","v":123.65283160481187},null,null,null,{"$f":"M35-SUM(C35,E35,G35,I35)","v":0},{"$f":"N35-SUM(D35,F35,H35,J35,L35)","v":0}]
["Upper Hutt city",null,{"$f":"C22/INDEX($C$6:$D$14,MATCH($A36,$A$6:$A$14,0),MATCH(C$33,$C$5:$D$5,0))*100000","v":44.070356496764028},50.648319123207166,10.659400237093838,11.155827023007122,52.73215177974118,54.676972274614073,0,0,0,0,107.46190851359904,116.48111842082835,null,null,null,0,0]
["Porirua city",null,{"$f":"C23/INDEX($C$6:$D$14,MATCH($A37,$A$6:$A$14,0),MATCH(C$33,$C$5:$D$5,0))*100000","v":42.261854416589578},48.383463941640073,0.44857638853058895,0.36082654615797582,51.285525792600474,52.635945571567397,0,0,0,0,93.995956597720635,101.38023605936544,null,null,null,0,0]
["Kāpiti Coast district excl Ōtaki ",null,{"$f":"C24/INDEX($C$6:$D$14,MATCH($A38,$A$6:$A$14,0),MATCH(C$33,$C$5:$D$5,0))*100000","v":38.72956255559447},44.061758504495096,7.5081977130560897,8.797935975604986,34.838525805701352,41.128847659056007,0,0,0,0,81.076286074351913,93.988542139156095,null,null,null,0,0]
["Ōtaki rating area",null,{"$f":"C25/INDEX($C$6:$D$14,MATCH($A39,$A$6:$A$14,0),MATCH(C$33,$C$5:$D$5,0))*100000","v":38.729562555594462},44.061758504495096,7.5081977130560897,8.797935975604986,21.954343973310134,23.102455391208334,0,0,0,0,68.192104241960692,75.962149871308412,null,null,null,0,0]
["Masterton district",null,{"$f":"C26/INDEX($C$6:$D$14,MATCH($A40,$A$6:$A$14,0),MATCH(C$33,$C$5:$D$5,0))*100000","v":38.874080092068461},42.691408843801526,0,0,16.152228275361704,19.205261404653861,0,0,0,0,55.026308367430161,61.896670248455386,null,null,null,0,0]
["Carterton district",null,{"$f":"C27/INDEX($C$6:$D$14,MATCH($A41,$A$6:$A$14,0),MATCH(C$33,$C$5:$D$5,0))*100000","v":38.858335306376134},44.451956683123662,0.78145472860739795,0.77970739081003382,18.701548343820839,21.435523855781092,0,0,0,0,58.341338378804373,66.667187929714785,null,null,null,0,0]
["South Wairarapa district",null,{"$f":"C28/INDEX($C$6:$D$14,MATCH($A42,$A$6:$A$14,0),MATCH(C$33,$C$5:$D$5,0))*100000","v":38.434042704136765},42.539772531211241,0,0,20.332728031779045,21.512739726939927,0,0,0,0,58.766770735915813,64.052512258151168,null,null,null,0,0]
[]
["Region-wide rates are charged to all ratepayers in the region. They exclude targeted rates for pest management, Wairarapa river and drainage schemes, and \"Warm Greater Wellington\", because those rates only apply to highly specific ratepayers in those work programmes."]

{"sheet":"5b","index":30,"n_rows":40,"n_cols":7,"rows_kept":40,"cut":false,"hidden":false,"merged":[[1,0,1,5],[3,1,3,2],[3,3,3,4],[8,7,9,7]]}
["Average rates for each area and category "]
["These tables show the region-wide rates that are charged to all ratepayers in the region. They exclude targeted rates for pest management, Wairarapa river and drainage schemes, and \"Warm Greater Wellington\", because those rates only apply to highly specific ratepayers in those work programmes."]
[]
[]
["Residential, including GST","Average capital value",{"$f":"\"Increase in \"& year_current","v":"Increase in 2022/23"},"Increase \nper week",{"$f":"\"Rates         \"&year_current","v":"Rates         2022/23"},"Rates\nper week","% Increase"]
["Wellington city",{"$f":"INDEX(Changes!C$66:C$74,MATCH($A6,Changes!$B$66:$B$74,0),)","v":1269140.0489186405},{"$f":"INDEX(Changes!D$66:D$74,MATCH($A6,Changes!$B$66:$B$74,0),)","v":153.34922087719909},{"$f":"INDEX(Changes!E$66:E$74,MATCH($A6,Changes!$B$66:$B$74,0),)","v":2.9490234784076748},{"$f":"INDEX(Changes!F$66:F$74,MATCH($A6,Changes!$B$66:$B$74,0),)","v":826.4867841994444},{"$f":"INDEX(Changes!G$66:G$74,MATCH($A6,Changes!$B$66:$B$74,0),)","v":15.893976619220085},{"$f":"+C6/(E6-C6)","v":0.22781260359375835}]
["Hutt city",{"$f":"INDEX(Changes!C$66:C$74,MATCH($A7,Changes!$B$66:$B$74,0),)","v":632628.47664543521},{"$f":"INDEX(Changes!D$66:D$74,MATCH($A7,Changes!$B$66:$B$74,0),)","v":87.016741936871057},{"$f":"INDEX(Changes!E$66:E$74,MATCH($A7,Changes!$B$66:$B$74,0),)","v":1.6733988834013664},{"$f":"INDEX(Changes!F$66:F$74,MATCH($A7,Changes!$B$66:$B$74,0),)","v":799.51302491046658},{"$f":"INDEX(Changes!G$66:G$74,MATCH($A7,Changes!$B$66:$B$74,0),)","v":15.375250479047434},0.1221293977474628]
["Upper Hutt city",{"$f":"INDEX(Changes!C$66:C$74,MATCH($A8,Changes!$B$66:$B$74,0),)","v":587865.1053107637},{"$f":"INDEX(Changes!D$66:D$74,MATCH($A8,Changes!$B$66:$B$74,0),)","v":54.158518098096636},{"$f":"INDEX(Changes!E$66:E$74,MATCH($A8,Changes!$B$66:$B$74,0),)","v":1.0415099634249354},{"$f":"INDEX(Changes!F$66:F$74,MATCH($A8,Changes!$B$66:$B$74,0),)","v":702.00184947175808},{"$f":"INDEX(Changes!G$66:G$74,MATCH($A8,Changes!$B$66:$B$74,0),)","v":13.500035566764579},8.3598171772889987E-2]
["Porirua city",{"$f":"INDEX(Changes!C$66:C$74,MATCH($A9,Changes!$B$66:$B$74,0),)","v":671620.47342418157},{"$f":"INDEX(Changes!D$66:D$74,MATCH($A9,Changes!$B$66:$B$74,0),)","v":45.253471324610324},{"$f":"INDEX(Changes!E$66:E$74,MATCH($A9,Changes!$B$66:$B$74,0),)","v":0.87025906393481389},{"$f":"INDEX(Changes!F$66:F$74,MATCH($A9,Changes!$B$66:$B$74,0),)","v":698.14042138046307},{"$f":"INDEX(Changes!G$66:G$74,MATCH($A9,Changes!$B$66:$B$74,0),)","v":13.425777334239674},6.9312874641986655E-2]
["Kāpiti Coast district excl Ōtaki ",{"$f":"INDEX(Changes!C$66:C$74,MATCH($A10,Changes!$B$66:$B$74,0),)","v":746863.59069564263},{"$f":"INDEX(Changes!D$66:D$74,MATCH($A10,Changes!$B$66:$B$74,0),)","v":99.198745770707021},{"$f":"INDEX(Changes!E$66:E$74,MATCH($A10,Changes!$B$66:$B$74,0),)","v":1.907668187898212},{"$f":"INDEX(Changes!F$66:F$74,MATCH($A10,Changes!$B$66:$B$74,0),)","v":719.2162006629884},{"$f":"INDEX(Changes!G$66:G$74,MATCH($A10,Changes!$B$66:$B$74,0),)","v":13.831080781980546},0.15999347274495893]
["Ōtaki rating area",{"$f":"INDEX(Changes!C$66:C$74,MATCH($A11,Changes!$B$66:$B$74,0),)","v":517958.90920359467},{"$f":"INDEX(Changes!D$66:D$74,MATCH($A11,Changes!$B$66:$B$74,0),)","v":43.578621567394094},{"$f":"INDEX(Changes!E$66:E$74,MATCH($A11,Changes!$B$66:$B$74,0),)","v":0.83805041475757869},{"$f":"INDEX(Changes!F$66:F$74,MATCH($A11,Changes!$B$66:$B$74,0),)","v":410.70272288102888},{"$f":"INDEX(Changes!G$66:G$74,MATCH($A11,Changes!$B$66:$B$74,0),)","v":7.8981292861736323},0.11870269865547399]
["Masterton district",{"$f":"INDEX(Changes!C$66:C$74,MATCH($A12,Changes!$B$66:$B$74,0),)","v":480728.958529689},{"$f":"INDEX(Changes!D$66:D$74,MATCH($A12,Changes!$B$66:$B$74,0),)","v":36.354049700802662},{"$f":"INDEX(Changes!E$66:E$74,MATCH($A12,Changes!$B$66:$B$74,0),)","v":0.69911634040005122},{"$f":"INDEX(Changes!F$66:F$74,MATCH($A12,Changes!$B$66:$B$74,0),)","v":314.80521824995543},{"$f":"INDEX(Changes!G$66:G$74,MATCH($A12,Changes!$B$66:$B$74,0),)","v":6.0539465048068353},0.13055807914264642]
["Carterton district",{"$f":"INDEX(Changes!C$66:C$74,MATCH($A13,Changes!$B$66:$B$74,0),)","v":507131.78145440551},{"$f":"INDEX(Changes!D$66:D$74,MATCH($A13,Changes!$B$66:$B$74,0),)","v":46.108685286283809},{"$f":"INDEX(Changes!E$66:E$74,MATCH($A13,Changes!$B$66:$B$74,0),)","v":0.88670548627468859},{"$f":"INDEX(Changes!F$66:F$74,MATCH($A13,Changes!$B$66:$B$74,0),)","v":355.34049779351898},{"$f":"INDEX(Changes!G$66:G$74,MATCH($A13,Changes!$B$66:$B$74,0),)","v":6.8334711114138269},0.149107185681955]
["South Wairarapa district",{"$f":"INDEX(Changes!C$66:C$74,MATCH($A14,Changes!$B$66:$B$74,0),)","v":608575.08484162891},{"$f":"INDEX(Changes!D$66:D$74,MATCH($A14,Changes!$B$66:$B$74,0),)","v":36.749702131807055},{"$f":"INDEX(Changes!E$66:E$74,MATCH($A14,Changes!$B$66:$B$74,0),)","v":0.70672504099628952},{"$f":"INDEX(Changes!F$66:F$74,MATCH($A14,Changes!$B$66:$B$74,0),)","v":407.05763081823818},{"$f":"INDEX(Changes!G$66:G$74,MATCH($A14,Changes!$B$66:$B$74,0),)","v":7.8280313618891961},9.9240927036498644E-2]
["These projected rates exclude the targeted rural pest and river management rates that are not charged to all ratepayers"]
[]
["Rural, excluding GST","Average capital value",{"$f":"\"Increase in \"& year_current","v":"Increase in 2022/23"},"Increase \nper week",{"$f":"\"Rates         \"&year_current","v":"Rates         2022/23"},"Rates\nper week","% Increase"]
["Wellington city",{"$f":"INDEX(Changes!C$78:C$86,MATCH($A18,Changes!$B$78:$B$86,0),)","v":1542000},{"$f":"INDEX(Changes!D$78:D$86,MATCH($A18,Changes!$B$78:$B$86,0),)","v":80.669207884773073},{"$f":"INDEX(Changes!E$78:E$86,MATCH($A18,Changes!$B$78:$B$86,0),)","v":1.5513309208610206},{"$f":"INDEX(Changes!F$78:F$86,MATCH($A18,Changes!$B$78:$B$86,0),)","v":547.16995386666929},{"$f":"INDEX(Changes!G$78:G$86,MATCH($A18,Changes!$B$78:$B$86,0),)","v":10.522499112820563},{"$f":"+C18/(E18-C18)","v":0.17292407049634956}]
["Hutt city",{"$f":"INDEX(Changes!C$78:C$86,MATCH($A19,Changes!$B$78:$B$86,0),)","v":883000},{"$f":"INDEX(Changes!D$78:D$86,MATCH($A19,Changes!$B$78:$B$86,0),)","v":79.075266956826908},{"$f":"INDEX(Changes!E$78:E$86,MATCH($A19,Changes!$B$78:$B$86,0),)","v":1.5206782107082097},{"$f":"INDEX(Changes!F$78:F$86,MATCH($A19,Changes!$B$78:$B$86,0),)","v":659.57123762202309},{"$f":"INDEX(Changes!G$78:G$86,MATCH($A19,Changes!$B$78:$B$86,0),)","v":12.684062261961982},0.1362201823144677]
["Upper Hutt city",{"$f":"INDEX(Changes!C$78:C$86,MATCH($A20,Changes!$B$78:$B$86,0),)","v":881000},{"$f":"INDEX(Changes!D$78:D$86,MATCH($A20,Changes!$B$78:$B$86,0),)","v":51.308902936514301},{"$f":"INDEX(Changes!E$78:E$86,MATCH($A20,Changes!$B$78:$B$86,0),)","v":0.98670967185604419},{"$f":"INDEX(Changes!F$78:F$86,MATCH($A20,Changes!$B$78:$B$86,0),)","v":593.60471298301377},{"$f":"INDEX(Changes!G$78:G$86,MATCH($A20,Changes!$B$78:$B$86,0),)","v":11.415475249673342},9.4614234493375096E-2]
["Porirua city",{"$f":"INDEX(Changes!C$78:C$86,MATCH($A21,Changes!$B$78:$B$86,0),)","v":1335000},{"$f":"INDEX(Changes!D$78:D$86,MATCH($A21,Changes!$B$78:$B$86,0),)","v":53.996605835560899},{"$f":"INDEX(Changes!E$78:E$86,MATCH($A21,Changes!$B$78:$B$86,0),)","v":1.0383962660684789},{"$f":"INDEX(Changes!F$78:F$86,MATCH($A21,Changes!$B$78:$B$86,0),)","v":734.16590449650812},{"$f":"INDEX(Changes!G$78:G$86,MATCH($A21,Changes!$B$78:$B$86,0),)","v":14.11857508647131},7.9387008413735069E-2]
["Kāpiti Coast district",{"$f":"INDEX(Changes!C$78:C$86,MATCH($A22,Changes!$B$78:$B$86,0),)","v":981000},{"$f":"INDEX(Changes!D$78:D$86,MATCH($A22,Changes!$B$78:$B$86,0),)","v":63.924955895003507},{"$f":"INDEX(Changes!E$78:E$86,MATCH($A22,Changes!$B$78:$B$86,0),)","v":1.2293260749039137},{"$f":"INDEX(Changes!F$78:F$86,MATCH($A22,Changes!$B$78:$B$86,0),)","v":553.88289786741529},{"$f":"INDEX(Changes!G$78:G$86,MATCH($A22,Changes!$B$78:$B$86,0),)","v":10.651594189757986},0.13047029228195051]
["Masterton district",{"$f":"INDEX(Changes!C$78:C$86,MATCH($A23,Changes!$B$78:$B$86,0),)","v":989000},{"$f":"INDEX(Changes!D$78:D$86,MATCH($A23,Changes!$B$78:$B$86,0),)","v":34.129138979375739},{"$f":"INDEX(Changes!E$78:E$86,MATCH($A23,Changes!$B$78:$B$86,0),)","v":0.65632959575722571},{"$f":"INDEX(Changes!F$78:F$86,MATCH($A23,Changes!$B$78:$B$86,0),)","v":461.4503939870977},{"$f":"INDEX(Changes!G$78:G$86,MATCH($A23,Changes!$B$78:$B$86,0),)","v":8.8740460382134181},7.9867637238777198E-2]
["Carterton district",{"$f":"INDEX(Changes!C$78:C$86,MATCH($A24,Changes!$B$78:$B$86,0),)","v":1047000},{"$f":"INDEX(Changes!D$78:D$86,MATCH($A24,Changes!$B$78:$B$86,0),)","v":51.663513070458862},{"$f":"INDEX(Changes!E$78:E$86,MATCH($A24,Changes!$B$78:$B$86,0),)","v":0.99352909750882423},{"$f":"INDEX(Changes!F$78:F$86,MATCH($A24,Changes!$B$78:$B$86,0),)","v":517.48852651798632},{"$f":"INDEX(Changes!G$78:G$86,MATCH($A24,Changes!$B$78:$B$86,0),)","v":9.9517024330381982},{"$f":"+C24/(E24-C24)","v":0.11090755450872426}]
["South Wairarapa district",{"$f":"INDEX(Changes!C$78:C$86,MATCH($A25,Changes!$B$78:$B$86,0),)","v":1193000},{"$f":"INDEX(Changes!D$78:D$86,MATCH($A25,Changes!$B$78:$B$86,0),)","v":42.916138147009065},{"$f":"INDEX(Changes!E$78:E$86,MATCH($A25,Changes!$B$78:$B$86,0),)","v":0.82531034898094358},{"$f":"INDEX(Changes!F$78:F$86,MATCH($A25,Changes!$B$78:$B$86,0),)","v":557.67152150608888},{"$f":"INDEX(Changes!G$78:G$86,MATCH($A25,Changes!$B$78:$B$86,0),)","v":10.724452336655556},8.3371907384350546E-2]
["Tararua district",{"$f":"INDEX(Changes!C$78:C$86,MATCH($A26,Changes!$B$78:$B$86,0),)","v":1598000},{"$f":"INDEX(Changes!D$78:D$86,MATCH($A26,Changes!$B$78:$B$86,0),)","v":74.528048747880348},{"$f":"INDEX(Changes!E$78:E$86,MATCH($A26,Changes!$B$78:$B$86,0),)","v":1.4332317066900067},{"$f":"INDEX(Changes!F$78:F$86,MATCH($A26,Changes!$B$78:$B$86,0),)","v":643.13559619099453},{"$f":"INDEX(Changes!G$78:G$86,MATCH($A26,Changes!$B$78:$B$86,0),)","v":12.367992234442202},0.1310711563415124]
["These projected rates exclude the targeted rural pest and river management rates that are not charged to all ratepayers"]
[]
[]
["Business, excluding GST","Average capital value",{"$f":"\"Increase in \"& year_current","v":"Increase in 2022/23"},"Increase \nper week",{"$f":"\"Rates         \"&year_current","v":"Rates         2022/23"},"Rates\nper week","% Increase"]
["Wellington city",{"$f":"INDEX(Changes!C$91:C$99,MATCH($A31,Changes!$B$91:$B$99,0),)","v":3533000},{"$f":"INDEX(Changes!D$91:D$99,MATCH($A31,Changes!$B$91:$B$99,0),)","v":329.17656234150354},{"$f":"INDEX(Changes!E$91:E$99,MATCH($A31,Changes!$B$91:$B$99,0),)","v":6.3303185065673757},{"$f":"INDEX(Changes!F$91:F$99,MATCH($A31,Changes!$B$91:$B$99,0),)","v":2770.9362787733553},{"$f":"INDEX(Changes!G$91:G$99,MATCH($A31,Changes!$B$91:$B$99,0),)","v":53.287236130256829},{"$f":"+C31/(E31-C31)","v":0.13481120198941193}]
["Wellington city - CBD",{"$f":"INDEX(Changes!C$91:C$99,MATCH($A32,Changes!$B$91:$B$99,0),)","v":3943000},{"$f":"INDEX(Changes!D$91:D$99,MATCH($A32,Changes!$B$91:$B$99,0),)","v":-225},{"$f":"INDEX(Changes!E$91:E$99,MATCH($A32,Changes!$B$91:$B$99,0),)","v":-4.3269230769230766},{"$f":"INDEX(Changes!F$91:F$99,MATCH($A32,Changes!$B$91:$B$99,0),)","v":10155},{"$f":"INDEX(Changes!G$91:G$99,MATCH($A32,Changes!$B$91:$B$99,0),)","v":195.28846153846155},-2.1676300578034682E-2]
["Hutt city",{"$f":"INDEX(Changes!C$91:C$99,MATCH($A33,Changes!$B$91:$B$99,0),)","v":2089000},{"$f":"INDEX(Changes!D$91:D$99,MATCH($A33,Changes!$B$91:$B$99,0),)","v":341.72918684187152},{"$f":"INDEX(Changes!E$91:E$99,MATCH($A33,Changes!$B$91:$B$99,0),)","v":6.571715131574452},{"$f":"INDEX(Changes!F$91:F$99,MATCH($A33,Changes!$B$91:$B$99,0),)","v":2695.1135335966546},{"$f":"INDEX(Changes!G$91:G$99,MATCH($A33,Changes!$B$91:$B$99,0),)","v":51.829106415320283},0.1452075549466034]
["Upper Hutt city",{"$f":"INDEX(Changes!C$91:C$99,MATCH($A34,Changes!$B$91:$B$99,0),)","v":1886000},{"$f":"INDEX(Changes!D$91:D$99,MATCH($A34,Changes!$B$91:$B$99,0),)","v":205.87175997598933},{"$f":"INDEX(Changes!E$91:E$99,MATCH($A34,Changes!$B$91:$B$99,0),)","v":3.959072307230564},{"$f":"INDEX(Changes!F$91:F$99,MATCH($A34,Changes!$B$91:$B$99,0),)","v":2316.1275254525221},{"$f":"INDEX(Changes!G$91:G$99,MATCH($A34,Changes!$B$91:$B$99,0),)","v":44.54091395101004},9.7557728946424588E-2]
["Porirua city",{"$f":"INDEX(Changes!C$91:C$99,MATCH($A35,Changes!$B$91:$B$99,0),)","v":1748000},{"$f":"INDEX(Changes!D$91:D$99,MATCH($A35,Changes!$B$91:$B$99,0),)","v":144.92299458110506},{"$f":"INDEX(Changes!E$91:E$99,MATCH($A35,Changes!$B$91:$B$99,0),)","v":2.7869806650212512},{"$f":"INDEX(Changes!F$91:F$99,MATCH($A35,Changes!$B$91:$B$99,0),)","v":1900.6243705146701},{"$f":"INDEX(Changes!G$91:G$99,MATCH($A35,Changes!$B$91:$B$99,0),)","v":36.550468663743658},8.2544216555075975E-2]
["Kāpiti Coast district",{"$f":"INDEX(Changes!C$91:C$99,MATCH($A36,Changes!$B$91:$B$99,0),)","v":1363000},{"$f":"INDEX(Changes!D$91:D$99,MATCH($A36,Changes!$B$91:$B$99,0),)","v":215.42557943787574},{"$f":"INDEX(Changes!E$91:E$99,MATCH($A36,Changes!$B$91:$B$99,0),)","v":4.1427996045745337},{"$f":"INDEX(Changes!F$91:F$99,MATCH($A36,Changes!$B$91:$B$99,0),)","v":1369.1305074981008},{"$f":"INDEX(Changes!G$91:G$99,MATCH($A36,Changes!$B$91:$B$99,0),)","v":26.329432836501937},0.18672502318255696]
["Masterton district",{"$f":"INDEX(Changes!C$91:C$99,MATCH($A37,Changes!$B$91:$B$99,0),)","v":1292000},{"$f":"INDEX(Changes!D$91:D$99,MATCH($A37,Changes!$B$91:$B$99,0),)","v":129.58910749592121},{"$f":"INDEX(Changes!E$91:E$99,MATCH($A37,Changes!$B$91:$B$99,0),)","v":2.4920982210754081},{"$f":"INDEX(Changes!F$91:F$99,MATCH($A37,Changes!$B$91:$B$99,0),)","v":969.22988018374292},{"$f":"INDEX(Changes!G$91:G$99,MATCH($A37,Changes!$B$91:$B$99,0),)","v":18.639036157379671},{"$f":"+C37/(E37-C37)","v":0.15433875022658342}]
["Carterton district",{"$f":"INDEX(Changes!C$91:C$99,MATCH($A38,Changes!$B$91:$B$99,0),)","v":567000},{"$f":"INDEX(Changes!D$91:D$99,MATCH($A38,Changes!$B$91:$B$99,0),)","v":75.395695989119588},{"$f":"INDEX(Changes!E$91:E$99,MATCH($A38,Changes!$B$91:$B$99,0),)","v":1.4499172305599921},{"$f":"INDEX(Changes!F$91:F$99,MATCH($A38,Changes!$B$91:$B$99,0),)","v":454.0785906835381},{"$f":"INDEX(Changes!G$91:G$99,MATCH($A38,Changes!$B$91:$B$99,0),)","v":8.73228059006804},0.19909981952039532]
["South Wairarapa district",{"$f":"INDEX(Changes!C$91:C$99,MATCH($A39,Changes!$B$91:$B$99,0),)","v":912000},{"$f":"INDEX(Changes!D$91:D$99,MATCH($A39,Changes!$B$91:$B$99,0),)","v":88.877073665501484},{"$f":"INDEX(Changes!E$91:E$99,MATCH($A39,Changes!$B$91:$B$99,0),)","v":1.7091744935673363},{"$f":"INDEX(Changes!F$91:F$99,MATCH($A39,Changes!$B$91:$B$99,0),)","v":700.43574241749866},{"$f":"INDEX(Changes!G$91:G$99,MATCH($A39,Changes!$B$91:$B$99,0),)","v":13.469918123413436},0.14532877744480707]
["These projected rates exclude the targeted rural pest and river management rates that are not charged to all ratepayers"]

{"sheet":"6","index":31,"n_rows":23,"n_cols":9,"rows_kept":23,"cut":false,"hidden":false,"merged":[[2,0,2,8],[3,0,3,8],[22,0,22,8]]}
["Rates calculator - Residential region-wide1 rates"]
[]
["To calculate region-wide rates for all property types, use the calculator on our website http://www.gw.govt.nz/regional-rates-calculator/"]
["Note: These calculations do not include GWRC targeted rates that are specific to individual properties, and they do not include rates set by city or district councils. Greater Wellington rates are set and assessed by Greater Wellington but are invoiced and collected by the relevant city and district Council within the region. This combined collection arrangement is cost effective and more convenient for ratepayers. "]
[]
[null,{"$f":"year_current&\" region-wide rates per $100,000 of capital value\"","v":"2022/23 region-wide rates per $100,000 of capital value"},null,"Enter the capital value of your property",null,null,"Economic development rate",null,{"$f":"\"Indicative rates on your property for \"&year_current&\" 1\"","v":"Indicative rates on your property for 2022/23 1"}]
[]
[]
[{"$f":"+'5'!A20","v":"Wellington city"},{"$f":"INDEX('5'!$N$34:$N$42,MATCH(A9,'5'!$A$34:$A$42,0),)/(1+GST)","v":55.445745390589309},"x",null,"÷ 100,000","+",{"$f":"+'5'!N20/(1+GST)","v":15.000000000000002},"="]
[{"$f":"+'5'!A21","v":"Hutt city"},{"$f":"INDEX('5'!$N$34:$N$42,MATCH(A10,'5'!$A$34:$A$42,0),)/(1+GST)","v":107.52420139548859},"x",null,"÷ 100,000","+",{"$f":"+G9","v":15.000000000000002},"="]
[{"$f":"+'5'!A22","v":"Upper Hutt city"},{"$f":"INDEX('5'!$N$34:$N$42,MATCH(A11,'5'!$A$34:$A$42,0),)/(1+GST)","v":101.28792906158988},"x",null,"÷ 100,000","+",{"$f":"+G10","v":15.000000000000002},"="]
[{"$f":"+'5'!A23","v":"Porirua city"},{"$f":"INDEX('5'!$N$34:$N$42,MATCH(A12,'5'!$A$34:$A$42,0),)/(1+GST)","v":88.156727008143875},"x",null,"÷ 100,000","+",15.000000000000002,"="]
["Kāpiti Coast district excl Ōtaki ",{"$f":"INDEX('5'!$N$34:$N$42,MATCH(A13,'5'!$A$34:$A$42,0),)/(1+GST)","v":81.729167077527052},"x",null,"÷ 100,000","+",15.000000000000002,"="]
["Ōtaki rating area",{"$f":"INDEX('5'!$N$34:$N$42,MATCH(A14,'5'!$A$34:$A$42,0),)/(1+GST)","v":66.054043366355145},"x",null,"÷ 100,000","+",15.000000000000002,"="]
[{"$f":"+'5'!A26","v":"Masterton district"},{"$f":"INDEX('5'!$N$34:$N$42,MATCH(A15,'5'!$A$34:$A$42,0),)/(1+GST)","v":53.823191520395994},"x",null,"÷ 100,000","+",{"$f":"+G13","v":15.000000000000002},"="]
[{"$f":"+'5'!A27","v":"Carterton district"},{"$f":"INDEX('5'!$N$34:$N$42,MATCH(A16,'5'!$A$34:$A$42,0),)/(1+GST)","v":57.971467764969383},"x",null,"÷ 100,000","+",15.000000000000002,"="]
[{"$f":"+'5'!A28","v":"South Wairarapa district"},{"$f":"INDEX('5'!$N$34:$N$42,MATCH(A17,'5'!$A$34:$A$42,0),)/(1+GST)","v":55.697836746218414},"x",null,"÷ 100,000","+",15.000000000000002,"="]
[]
[{"$f":"A10&\" example\"","v":"Hutt city example"},{"$f":"+B10","v":107.52420139548859},"x",350000,"÷ 100,000","+",{"$f":"+G9","v":15.000000000000002},"=",{"$f":"ROUND(+B19*D19/100000+G19,2)","v":391.33}]
[]
[null,null,null,null,null,null,{"$f":"\"includes GST @ \"&ROUND(GST*100,0)&\"%\"","v":"includes GST @ 15%"},null,{"$f":"ROUND(I19*(1+GST),2)","v":450.03}]
[]
["1  Region-wide rates are charged to all ratepayers in the region. They exclude targeted rates for pest management, Wairarapa river and drainage schemes, and \"Warm Greater Wellington\", because those rates only apply to highly specific ratepayers in those work programmes."]

{"sheet":"Impact - excl GST","index":32,"n_rows":201,"n_cols":19,"rows_kept":201,"cut":false,"hidden":false,"merged":[[62,9,64,9],[127,8,128,8],[127,9,128,9],[62,11,63,11],[62,8,64,8],[158,0,159,0],[159,2,160,2],[159,4,160,4],[173,11,174,11],[127,11,128,11],[140,9,141,9],[140,11,141,11],[147,9,148,9],[147,11,148,11],[157,11,158,11],[63,7,64,7],[62,4,64,4],[48,6,49,6],[61,6,62,7],[148,0,149,0],[149,2,150,2],[149,4,150,4],[126,6,127,6],[126,0,127,0],[127,4,128,4],[127,2,128,2],[8,4,9,4],[129,6,130,6],[45,0,46,0],[61,0,62,0],[77,0,78,0],[78,2,80,2],[198,9,198,10],[173,9,174,9],[194,9,194,10],[139,6,140,6],[146,6,148,6],[156,6,159,6],[157,9,159,9],[165,6,169,11],[172,6,173,6],[8,11,9,11],[7,0,8,0],[7,6,8,6],[108,2,110,2],[108,4,109,4],[49,11,50,11],[49,9,50,9],[46,4,48,4],[46,2,48,2],[29,4,31,4],[29,2,31,2],[28,0,29,0],[62,2,64,2],[107,0,108,0],[8,2,10,2],[8,9,10,9]]}
["Wellington Regional Council",null,null,null,"ACCOUNTING DEPARTMENT TO CHECK THEY ARE OK WITH THE SUMMARY OF THE CLASS RATES ADDED, ROWS 106 - 126"]
[{"$f":"\"Rates tables for annual plan \"&year_current&\" - EXCLUDING GST\"","v":"Rates tables for annual plan 2022/23 - EXCLUDING GST"}]
["Printed :",{"$f":"NOW()","v":"2023-01-19T08:30:06.840"}]
[{"$f":"check_total","v":0}]
[null,null,null,null,null,null,null,null,null,null,null,"Rates funding impact statement"]
[]
[]
["General rate",null,{"$f":"year_current","v":"2022/23"},null,{"$f":"year_current","v":"2022/23"},null,"Targeted rate\nPublic transport rate",null,null,{"$f":"year_current","v":"2022/23"},null,{"$f":"year_current","v":"2022/23"}]
[null,null,"Cents per $ of rateable capital value",null,"Revenue required\n $",null,null,null,null,{"$f":"+$C$9","v":"Cents per $ of rateable capital value"},null,"Revenue required\n $"]
[]
[]
["Wellington city - CDB",null,{"$f":"Gen!G24","v":4.6696810048060623E-2},null,{"$f":"Gen!F24","v":6132891.7858683774},null,"Wellington city",null,null,null,null,null,null,null,null,null,null,null,"Wellington city"]
["Wellington city - Business",null,{"$f":"Gen!G25","v":3.5709325330869894E-2},null,{"$f":"Gen!F25","v":2378205.4112745919},null,"Wellington CBD",null,null,{"$f":"INDEX('Public transport'!$J$23:$J$60,MATCH(N13&O13,'Public transport'!$D$23:$D$60,0),)","v":0.20594258295920886},null,{"$f":"INDEX('Public transport'!$I$23:$I$60,MATCH(N13&O13,'Public transport'!$D$23:$D$60,0),)","v":27047320.236460216},null,"Wellington City","Wellington CBD",null,null,null,"Hutt city"]
["Wellington city - Residential",null,{"$f":"Gen!G26","v":2.746871179297684E-2},null,{"$f":"Gen!F26","v":25726497.499069802},null,"Business",null,null,{"$f":"INDEX('Public transport'!$J$23:$J$60,MATCH(N14&O14,'Public transport'!$D$23:$D$60,0),)","v":3.7796108361485614E-2},null,{"$f":"INDEX('Public transport'!$I$23:$I$60,MATCH(N14&O14,'Public transport'!$D$23:$D$60,0),)","v":2517183.077460743},null,"Wellington City","Business",null,null,null,"Rest of Upper Hutt city"]
["Wellington city - Rural",null,{"$f":"Gen!G27","v":2.746871179297684E-2},null,{"$f":"Gen!F27","v":357391.11028502608},null,"Residential",null,null,{"$f":"INDEX('Public transport'!$J$23:$J$60,MATCH(N15&O15,'Public transport'!$D$23:$D$60,0),)","v":2.7928989518331278E-2},null,{"$f":"INDEX('Public transport'!$I$23:$I$60,MATCH(N15&O15,'Public transport'!$D$23:$D$60,0),)","v":26157581.921209909},null,"Wellington City","Residential",null,null,null,"Porirua city"]
["Hutt city",null,{"$f":"INDEX(Gen!$E$10:$E$36,MATCH(S13,Gen!$A$10:$A$36,0),)","v":4.3900068734460312E-2},null,{"$f":"INDEX(Gen!$D$10:$D$19,MATCH(A16,Gen!$A$10:$A$19,0),)","v":12788945.415187581},null,"Rural",null,null,{"$f":"INDEX('Public transport'!$J$23:$J$60,MATCH(N16&O16,'Public transport'!$D$23:$D$60,0),)","v":7.0045602179300412E-3},null,{"$f":"INDEX('Public transport'!$I$23:$I$60,MATCH(N16&O16,'Public transport'!$D$23:$D$60,0),)","v":91135.236781813655},null,"Wellington City","Rural",null,null,null,"Kāpiti Coast district"]
["Upper Hutt city",null,{"$f":"INDEX(Gen!$E$10:$E$36,MATCH(S14,Gen!$A$10:$A$36,0),)","v":4.4097951926102316E-2},null,{"$f":"INDEX(Gen!$D$10:$D$19,MATCH(A17,Gen!$A$10:$A$19,0),)","v":5160803.7826726669},null,"Hutt city",null,null,null,null,null,null,null,null,null,null,null,"Masterton district"]
["Porirua city",null,{"$f":"INDEX(Gen!$E$10:$E$36,MATCH(S15,Gen!$A$10:$A$36,0),)","v":4.2072577340556583E-2},null,{"$f":"INDEX(Gen!$D$10:$D$19,MATCH(A18,Gen!$A$10:$A$19,0),)","v":6152529.2906507477},null,"Business",null,null,{"$f":"INDEX('Public transport'!$J$23:$J$60,MATCH(N18&O18,'Public transport'!$D$23:$D$60,0),)","v":6.0492490105392892E-2},null,{"$f":"INDEX('Public transport'!$I$23:$I$60,MATCH(N18&O18,'Public transport'!$D$23:$D$60,0),)","v":2967697.7449935139},null,"Hutt City","Business",null,null,null,"Carterton district"]
["Kāpiti Coast district",null,{"$f":"INDEX(Gen!$E$10:$E$36,MATCH(S16,Gen!$A$10:$A$36,0),)","v":3.8314572612604438E-2},null,{"$f":"INDEX(Gen!$D$10:$D$19,MATCH(A19,Gen!$A$10:$A$19,0),)","v":7579832.3028752599},null,"Residential",null,null,{"$f":"INDEX('Public transport'!$J$23:$J$60,MATCH(N19&O19,'Public transport'!$D$23:$D$60,0),)","v":4.6124296252900612E-2},null,{"$f":"INDEX('Public transport'!$I$23:$I$60,MATCH(N19&O19,'Public transport'!$D$23:$D$60,0),)","v":10994851.905950395},null,"Hutt City","Residential",null,null,null,"South Wairarapa district"]
["Masterton district",null,{"$f":"INDEX(Gen!$E$10:$E$36,MATCH(S17,Gen!$A$10:$A$36,0),)","v":3.7122964212001328E-2},null,{"$f":"INDEX(Gen!$D$10:$D$19,MATCH(A20,Gen!$A$10:$A$19,0),)","v":3262323.0898527848},null,"Rural",null,null,{"$f":"INDEX('Public transport'!$J$23:$J$60,MATCH(N20&O20,'Public transport'!$D$23:$D$60,0),)","v":1.1580500699133781E-2},null,{"$f":"INDEX('Public transport'!$I$23:$I$60,MATCH(N20&O20,'Public transport'!$D$23:$D$60,0),)","v":45003.331181924761},null,"Hutt City","Rural",null,null,null,"Tararua district"]
["Carterton district",null,{"$f":"INDEX(Gen!$E$10:$E$36,MATCH(S18,Gen!$A$10:$A$36,0),)","v":3.8653875376629267E-2},null,{"$f":"INDEX(Gen!$D$10:$D$19,MATCH(A21,Gen!$A$10:$A$19,0),)","v":1441408.7335680611},null,"Upper Hutt city"]
["South Wairarapa district",null,{"$f":"INDEX(Gen!$E$10:$E$36,MATCH(S19,Gen!$A$10:$A$36,0),)","v":3.6991106548879341E-2},null,{"$f":"INDEX(Gen!$D$10:$D$19,MATCH(A22,Gen!$A$10:$A$19,0),)","v":2350670.2227331935},null,"Business",null,null,{"$f":"INDEX('Public transport'!$J$23:$J$60,MATCH(Q22&O22,'Public transport'!$D$23:$D$60,0),)","v":6.0418064962041156E-2},null,{"$f":"INDEX('Public transport'!$I$23:$I$60,MATCH(N22&O22,'Public transport'!$D$23:$D$60,0),)","v":897331.42089202057},null,"Upper Hutt City","Business",null,"Rest of Upper Hutt City"]
["Tararua district",null,{"$f":"INDEX(Gen!$E$10:$E$36,MATCH(S20,Gen!$A$10:$A$36,0),)","v":3.931622046073887E-2},null,{"$f":"INDEX(Gen!$D$10:$D$19,MATCH(A23,Gen!$A$10:$A$19,0),)","v":6281.3559619099451},null,"Residential",null,null,{"$f":"INDEX('Public transport'!$J$23:$J$60,MATCH(Q23&O23,'Public transport'!$D$23:$D$60,0),)","v":4.7572966052310643E-2},null,{"$f":"INDEX('Public transport'!$I$23:$I$60,MATCH(N23&O23,'Public transport'!$D$23:$D$60,0),)","v":4326125.7734528361},null,"Upper Hutt City","Residential",null,"Rest of Upper Hutt City"]
["Total general rate",null,null,null,{"$f":"SUM(E12:E23)","v":73337780},null,"Rural",null,null,{"$f":"INDEX('Public transport'!$J$23:$J$60,MATCH(Q24&O24,'Public transport'!$D$23:$D$60,0),)","v":1.1927403581010937E-2},null,{"$f":"INDEX('Public transport'!$I$23:$I$60,MATCH(N24&O24,'Public transport'!$D$23:$D$60,0),)","v":139806.44234161513},null,"Upper Hutt City","Rural",null,"Rest of Upper Hutt City"]
["Hutt city refers to the local government administrative area of Lower Hutt City.",null,null,null,null,null,"Porirua city"]
[null,null,null,null,null,null,"Business",null,null,{"$f":"INDEX('Public transport'!$J$23:$J$60,MATCH(N26&O26,'Public transport'!$D$23:$D$60,0),)","v":5.954045580490077E-2},null,{"$f":"INDEX('Public transport'!$I$23:$I$60,MATCH(N26&O26,'Public transport'!$D$23:$D$60,0),)","v":833671.17247082747},null,"Porirua City","Business"]
[null,null,null,null,null,null,"Residential",null,null,{"$f":"INDEX('Public transport'!$J$23:$J$60,MATCH(N27&O27,'Public transport'!$D$23:$D$60,0),)","v":4.5770387453536877E-2},null,{"$f":"INDEX('Public transport'!$I$23:$I$60,MATCH(N27&O27,'Public transport'!$D$23:$D$60,0),)","v":5662061.2519900557},null,"Porirua City","Residential"]
[null,null,null,null,null,null,"Rural",null,null,{"$f":"INDEX('Public transport'!$J$23:$J$60,MATCH(N28&O28,'Public transport'!$D$23:$D$60,0),)","v":1.1496985956762474E-2},null,{"$f":"INDEX('Public transport'!$I$23:$I$60,MATCH(N28&O28,'Public transport'!$D$23:$D$60,0),)","v":98052.700060448304},null,"Porirua City","Rural"]
["Targeted rate\nRiver management rate",null,{"$f":"year_current","v":"2022/23"},null,{"$f":"year_current","v":"2022/23"},null,"Kāpiti Coast district"]
[null,null,{"$f":"+$C$9","v":"Cents per $ of rateable capital value"},null,{"$f":"+$E$9","v":"Revenue required\n $"},null,"Business",null,null,{"$f":"INDEX('Public transport'!$J$23:$J$60,MATCH(N30&O30,'Public transport'!$D$23:$D$60,0),)","v":4.8304314324638414E-2},null,{"$f":"INDEX('Public transport'!$I$23:$I$60,MATCH(N30&O30,'Public transport'!$D$23:$D$60,0),)","v":857757.34053733281},null,"Kāpiti Coast district","Business"]
[" based on capital value",null,null,null,null,null,"Residential excl Otaki",null,null,{"$f":"INDEX('Public transport'!$J$23:$J$60,MATCH(N31&O31,'Public transport'!$D$23:$D$60,0),)","v":3.576421535570088E-2},null,{"$f":"INDEX('Public transport'!$I$23:$I$60,MATCH(N31&O31,'Public transport'!$D$23:$D$60,0),)","v":4891850.7633535489},null,"Kāpiti Coast district excl Ōtaki ","Residential"]
[null,null,null,null,null,null,"Residential Otaki rating area",null,null,{"$f":"INDEX('Public transport'!$J$23:$J$60,MATCH(N32&O32,'Public transport'!$D$23:$D$60,0),)","v":2.0089091644528989E-2},null,{"$f":"INDEX('Public transport'!$I$23:$I$60,MATCH(N32&O32,'Public transport'!$D$23:$D$60,0),)","v":335779.80532159569},null,"Ōtaki rating area","Residential"]
["Wellington city",null,{"$f":"INDEX('River management'!$D$10:$D$25,MATCH(S12,'River management'!$A$10:$A$25,0),)","v":4.8044079281190814E-5},null,{"$f":"INDEX('River management'!$C$10:$C$19,MATCH(A33,'River management'!$A$10:$A$19,0),)","v":55131.48},null,"Rural",null,null,{"$f":"INDEX('Public transport'!$J$23:$J$60,MATCH(N33&O33,'Public transport'!$D$23:$D$60,0),)","v":8.9794888191148878E-3},null,{"$f":"INDEX('Public transport'!$I$23:$I$60,MATCH(N33&O33,'Public transport'!$D$23:$D$60,0),)","v":238666.54719261569},null,"Kāpiti Coast district","Rural"]
["Hutt city",null,{"$f":"INDEX('River management'!$D$10:$D$25,MATCH(S13,'River management'!$A$10:$A$25,0),)","v":1.7499836408127661E-2},null,{"$f":"INDEX('River management'!$C$10:$C$19,MATCH(A34,'River management'!$A$10:$A$19,0),)","v":5098043.33},null,"Masterton district"]
["Upper Hutt city",null,{"$f":"INDEX('River management'!$D$10:$D$25,MATCH(S14,'River management'!$A$10:$A$25,0),)","v":9.7130394902102297E-3},null,{"$f":"INDEX('River management'!$C$10:$C$19,MATCH(A35,'River management'!$A$10:$A$19,0),)","v":1136721.52},null,"Business",null,null,{"$f":"INDEX('Public transport'!$J$23:$J$60,MATCH(N35&O35,'Public transport'!$D$23:$D$60,0),)","v":3.1887844365542692E-2},null,{"$f":"INDEX('Public transport'!$I$23:$I$60,MATCH(N35&O35,'Public transport'!$D$23:$D$60,0),)","v":234850.01965952059},null,"Masterton District","Business"]
["Porirua city",null,{"$f":"INDEX('River management'!$D$10:$D$25,MATCH(S15,'River management'!$A$10:$A$25,0),)","v":3.1376221405041377E-4},null,{"$f":"INDEX('River management'!$C$10:$C$19,MATCH(A36,'River management'!$A$10:$A$19,0),)","v":45883.360000000001},null,"Residential",null,null,{"$f":"INDEX('Public transport'!$J$23:$J$60,MATCH(N36&O36,'Public transport'!$D$23:$D$60,0),)","v":1.6700227308394662E-2},null,{"$f":"INDEX('Public transport'!$I$23:$I$60,MATCH(N36&O36,'Public transport'!$D$23:$D$60,0),)","v":681440.65095401835},null,"Masterton District","Residential"]
["Kāpiti Coast district",null,{"$f":"INDEX('River management'!$D$10:$D$25,MATCH(S16,'River management'!$A$10:$A$25,0),)","v":7.6503791092217268E-3},null,{"$f":"INDEX('River management'!$C$10:$C$19,MATCH(A37,'River management'!$A$10:$A$19,0),)","v":1513486.5599999998},null,"Rural",null,null,{"$f":"INDEX('Public transport'!$J$23:$J$60,MATCH(N37&O37,'Public transport'!$D$23:$D$60,0),)","v":8.0283505493994028E-3},null,{"$f":"INDEX('Public transport'!$I$23:$I$60,MATCH(N37&O37,'Public transport'!$D$23:$D$60,0),)","v":318803.32397192332},null,"Masterton District","Rural"]
["Carterton district",null,{"$f":"INDEX('River management'!$D$10:$D$25,MATCH(S18,'River management'!$A$10:$A$25,0),)","v":6.7800642679133371E-4},null,{"$f":"INDEX('River management'!$C$10:$C$19,MATCH(A38,'River management'!$A$10:$A$19,0),)","v":25282.959999999999},null,"Carterton district"]
["Total district-wide river management rate",null,null,null,{"$f":"SUM(E33:E38)","v":7874549.21},null,"Business",null,null,{"$f":"INDEX('Public transport'!$J$23:$J$60,MATCH(N39&O39,'Public transport'!$D$23:$D$60,0),)","v":3.4453524030782508E-2},null,{"$f":"INDEX('Public transport'!$I$23:$I$60,MATCH(N39&O39,'Public transport'!$D$23:$D$60,0),)","v":46131.373733396082},null,"Carterton District","Business"]
["Greytown ward",null,{"$f":"'River management'!D29","v":8.7233410586735529E-3},null,{"$f":"'River management'!C29","v":98709.62},null,"Residential",null,null,{"$f":"INDEX('Public transport'!$J$23:$J$60,MATCH(N40&O40,'Public transport'!$D$23:$D$60,0),)","v":1.8639585961548778E-2},null,{"$f":"INDEX('Public transport'!$I$23:$I$60,MATCH(N40&O40,'Public transport'!$D$23:$D$60,0),)","v":245676.36002622923},null,"Carterton District","Residential"]
["Total river management rates based upon capital value",null,null,null,{"$f":"+E40+E39","v":7973258.8300000001},null,"Rural",null,null,{"$f":"INDEX('Public transport'!$J$23:$J$60,MATCH(N41&O41,'Public transport'!$D$23:$D$60,0),)","v":8.6642466313491592E-3},null,{"$f":"INDEX('Public transport'!$I$23:$I$60,MATCH(N41&O41,'Public transport'!$D$23:$D$60,0),)","v":197292.24307696373},null,"Carterton District","Rural"]
["Hutt city refers to the local government administrative area of Lower Hutt City.",null,null,null,null,null,"South Wairarapa district"]
[null,null,null,null,null,null,"Business",null,null,{"$f":"INDEX('Public transport'!$J$23:$J$60,MATCH(N43&O43,'Public transport'!$D$23:$D$60,0),)","v":3.3840402109317373E-2},null,{"$f":"INDEX('Public transport'!$I$23:$I$60,MATCH(N43&O43,'Public transport'!$D$23:$D$60,0),)","v":97203.84782684542},null,"South Wairarapa District","Business"]
[null,null,null,null,null,null,"Residential",null,null,{"$f":"INDEX('Public transport'!$J$23:$J$60,MATCH(N44&O44,'Public transport'!$D$23:$D$60,0),)","v":1.8706730197339067E-2},null,{"$f":"INDEX('Public transport'!$I$23:$I$60,MATCH(N44&O44,'Public transport'!$D$23:$D$60,0),)","v":402554.14906353183},null,"South Wairarapa District","Residential"]
[null,null,null,null,null,null,"Rural",null,null,{"$f":"INDEX('Public transport'!$J$23:$J$60,MATCH(N45&O45,'Public transport'!$D$23:$D$60,0),)","v":8.4956968889055139E-3},null,{"$f":"INDEX('Public transport'!$I$23:$I$60,MATCH(N45&O45,'Public transport'!$D$23:$D$60,0),)","v":332651.28003616468},null,"South Wairarapa District","Rural"]
["Targeted rate\nRiver management",null,{"$f":"year_current","v":"2022/23"},null,{"$f":"year_current","v":"2022/23"},null,"Total public transport rate",null,null,null,null,{"$f":"SUM(L13:L45)","v":90658479.919999987}]
[null,null,"Cents per $ of rateable land value",null,"Revenue required\n $",null,"Hutt city refers to the local government administrative area of Lower Hutt City."]
[]
[null,null,null,null,null,null,"Targeted rate\nWarm Greater Wellington\nBased on extent of service provided",null,null,{"$f":"year_current","v":"2022/23"},null,{"$f":"year_current","v":"2022/23"}]
[null,null,null,null,null,null,null,null,null,"Percentage of service provided",null,"Revenue required\n $"]
["Featherston urban: Donalds Creek Stopbank",null,{"$f":"'River management'!D30","v":9.8832789627474366E-4},null,{"$f":"'River management'!C30","v":2788.75}]
["Total river management rates based upon land value",null,null,null,{"$f":"+E51+E50","v":2788.75}]
[null,null,null,null,null,null,"For any ratepayer that utilises the service",null,null,0.15,null,{"$f":"INDEX(ESSbase!$G$8:$G$25,MATCH(\"Warm Greater Wellington Rate\",ESSbase!$B$8:$B$25,0),)","v":1937525.05}]
["Total river management rates",null,null,null,{"$f":"+E52+E41","v":7976047.5800000001}]
[]
["All figures on this page exclude GST."]
[]
[]
[null,null,null,null,null,null,null,null,null,null,null,"Rates funding impact statement"]
[]
[]
["Targeted rate\nStadium Rate",null,{"$f":"year_current","v":"2022/23"},null,{"$f":"year_current","v":"2022/23"},null,"Targeted rate\nEconomic development rate",null,null,{"$f":"year_current","v":"2022/23"},null,{"$f":"year_current","v":"2022/23"}]
[null,null,{"$f":"+$C$9","v":"Cents per $ of rateable capital value"},null,{"$f":"+$E$9","v":"Revenue required\n $"},null,null,null,"$ per rating  unit",{"$f":"+$C$9","v":"Cents per $ of rateable capital value"},null,"Revenue required\n $"]
[" based on capital value"]
[]
["Wellington city - CDB",null,{"$f":"Stadium!J23","v":0},null,{"$f":"Stadium!I23","v":0},null,"Wellington city"]
["Wellington city - ex-CBD",null,{"$f":"SUM(Stadium!I24:I26)/SUM(Stadium!E24:E26)*100","v":0},null,{"$f":"SUM(Stadium!I24:I26)","v":0},null,"Wellington CBD",null,null,{"$f":"INDEX('Economic Development'!$L$23:$L$49,MATCH(G66&G67,'Economic Development'!$D$23:$D$49,0),)","v":4.8743479892010893E-3},null,{"$f":"SUMIFS('Economic Development'!$K$23:$K$49,'Economic Development'!$A$23:$A$49,N67,'Economic Development'!$C$23:$C$49,O67)","v":640168.96900812886},null,"Wellington City","Wellington CBD"]
["Hutt city",null,{"$f":"INDEX(Stadium!$J$10:$J$18,MATCH(A68,Stadium!$A$10:$A$18,0),)","v":0},null,{"$f":"INDEX(Stadium!$I$10:$I$18,MATCH(A68,Stadium!$A$10:$A$18,0),)","v":0},null,"Business",null,null,{"$f":"INDEX('Economic Development'!$L$23:$L$49,MATCH(G66&G68,'Economic Development'!$D$23:$D$49,0),)","v":4.8743479892010885E-3},null,{"$f":"SUMIFS('Economic Development'!$K$23:$K$49,'Economic Development'!$A$23:$A$49,N68,'Economic Development'!$C$23:$C$49,O68)","v":324626.70904432528},null,"Wellington City","Business"]
["Upper Hutt city",null,{"$f":"SUM(Stadium!I55,Stadium!I57,Stadium!I59)/SUM(Stadium!E55,Stadium!E57,Stadium!E59)*100","v":0},null,{"$f":"INDEX(Stadium!$I$10:$I$18,MATCH(A69,Stadium!$A$10:$A$18,0),)","v":0},null,"Residential – per rating unit",null,{"$f":"SUMIFS('Economic Development'!$H$23:$H$49,'Economic Development'!$A$23:$A$49,N69,'Economic Development'!$C$23:$C$49,O69)/COUNTIFS('Economic Development'!$A$23:$A$49,N69,'Economic Development'!$C$23:$C$49,O69)","v":15},null,null,{"$f":"SUMIFS('Economic Development'!$K$23:$K$49,'Economic Development'!$A$23:$A$49,N69,'Economic Development'!$C$23:$C$49,O69)","v":1106940},null,"Wellington City","Residential"]
["Porirua city",null,{"$f":"INDEX(Stadium!$J$10:$J$18,MATCH(A70,Stadium!$A$10:$A$18,0),)","v":0},null,{"$f":"INDEX(Stadium!$I$10:$I$18,MATCH(A70,Stadium!$A$10:$A$18,0),)","v":0},null,"Rural – per rating unit",null,{"$f":"SUMIFS('Economic Development'!$H$23:$H$49,'Economic Development'!$A$23:$A$49,N70,'Economic Development'!$C$23:$C$49,O70)/COUNTIFS('Economic Development'!$A$23:$A$49,N70,'Economic Development'!$C$23:$C$49,O70)","v":15},null,null,{"$f":"SUMIFS('Economic Development'!$K$23:$K$49,'Economic Development'!$A$23:$A$49,N70,'Economic Development'!$C$23:$C$49,O70)","v":12660},null,"Wellington City","Rural"]
["Kāpiti Coast district",null,{"$f":"INDEX(Stadium!$J$10:$J$18,MATCH(A71,Stadium!$A$10:$A$18,0),)","v":0},null,{"$f":"INDEX(Stadium!$I$10:$I$18,MATCH(A71,Stadium!$A$10:$A$18,0),)","v":0},null,"Hutt city"]
["Masterton district",null,{"$f":"INDEX(Stadium!$J$10:$J$18,MATCH(A72,Stadium!$A$10:$A$18,0),)","v":0},null,{"$f":"INDEX(Stadium!$I$10:$I$18,MATCH(A72,Stadium!$A$10:$A$18,0),)","v":0},null,"Business",null,null,{"$f":"INDEX('Economic Development'!$L$23:$L$49,MATCH(G71&G72,'Economic Development'!$D$23:$D$49,0),)","v":7.097875066330717E-3},null,{"$f":"SUMIFS('Economic Development'!$K$23:$K$49,'Economic Development'!$A$23:$A$49,N72,'Economic Development'!$C$23:$C$49,O72)","v":348214.26249599003},null,"Hutt City","Business"]
["Carterton district",null,{"$f":"INDEX(Stadium!$J$10:$J$18,MATCH(A73,Stadium!$A$10:$A$18,0),)","v":0},null,{"$f":"INDEX(Stadium!$I$10:$I$18,MATCH(A73,Stadium!$A$10:$A$18,0),)","v":0},null,"Residential – per rating unit",null,{"$f":"SUMIFS('Economic Development'!$H$23:$H$49,'Economic Development'!$A$23:$A$49,N73,'Economic Development'!$C$23:$C$49,O73)/COUNTIFS('Economic Development'!$A$23:$A$49,N73,'Economic Development'!$C$23:$C$49,O73)","v":15},null,null,{"$f":"SUMIFS('Economic Development'!$K$23:$K$49,'Economic Development'!$A$23:$A$49,N73,'Economic Development'!$C$23:$C$49,O73)","v":564915},null,"Hutt City","Residential"]
["South Wairarapa district",null,{"$f":"INDEX(Stadium!$J$10:$J$18,MATCH(A74,Stadium!$A$10:$A$18,0),)","v":0},null,{"$f":"INDEX(Stadium!$I$10:$I$18,MATCH(A74,Stadium!$A$10:$A$18,0),)","v":0},null,"Rural – per rating unit",null,{"$f":"SUMIFS('Economic Development'!$H$23:$H$49,'Economic Development'!$A$23:$A$49,N74,'Economic Development'!$C$23:$C$49,O74)/COUNTIFS('Economic Development'!$A$23:$A$49,N74,'Economic Development'!$C$23:$C$49,O74)","v":15},null,null,{"$f":"SUMIFS('Economic Development'!$K$23:$K$49,'Economic Development'!$A$23:$A$49,N74,'Economic Development'!$C$23:$C$49,O74)","v":6600},null,"Hutt City","Rural"]
["Tararua district",null,{"$f":"INDEX(Stadium!$J$10:$J$18,MATCH(A75,Stadium!$A$10:$A$18,0),)","v":0},null,{"$f":"INDEX(Stadium!$I$10:$I$18,MATCH(A75,Stadium!$A$10:$A$18,0),)","v":0},null,"Upper Hutt city"]
["Total stadium rate",null,null,null,{"$f":"SUM(E66:E75)","v":0},null,"Business",null,null,{"$f":"INDEX('Economic Development'!$L$23:$L$49,MATCH(G75&G76,'Economic Development'!$D$23:$D$49,0),)","v":7.1208255638933538E-3},null,{"$f":"SUMIFS('Economic Development'!$K$23:$K$49,'Economic Development'!$A$23:$A$49,N76,'Economic Development'!$C$23:$C$49,O76)","v":103127.12124184189},null,"Upper Hutt City","Business"]
[null,null,null,null,null,null,"Residential – per rating unit",null,{"$f":"SUMIFS('Economic Development'!$H$23:$H$49,'Economic Development'!$A$23:$A$49,N77,'Economic Development'!$C$23:$C$49,O77)/COUNTIFS('Economic Development'!$A$23:$A$49,N77,'Economic Development'!$C$23:$C$49,O77)","v":15},null,null,{"$f":"SUMIFS('Economic Development'!$K$23:$K$49,'Economic Development'!$A$23:$A$49,N77,'Economic Development'!$C$23:$C$49,O77)","v":231660},null,"Upper Hutt City","Residential"]
["Rates Remission",null,"2022/23",null,"2022/23",null,"Rural – per rating unit",null,{"$f":"SUMIFS('Economic Development'!$H$23:$H$49,'Economic Development'!$A$23:$A$49,N78,'Economic Development'!$C$23:$C$49,O78)/COUNTIFS('Economic Development'!$A$23:$A$49,N78,'Economic Development'!$C$23:$C$49,O78)","v":15},null,null,{"$f":"SUMIFS('Economic Development'!$K$23:$K$49,'Economic Development'!$A$23:$A$49,N78,'Economic Development'!$C$23:$C$49,O78)","v":19185},null,"Upper Hutt City","Rural"]
[null,null,"Cents per $ of rateable capital value",null,"Revenue required",null,"Porirua city"]
[null,null,null,null," $",null,"Business",null,null,{"$f":"INDEX('Economic Development'!$L$23:$L$49,MATCH(G79&G80,'Economic Development'!$D$23:$D$49,0),)","v":6.8024015973212901E-3},null,{"$f":"SUMIFS('Economic Development'!$K$23:$K$49,'Economic Development'!$A$23:$A$49,N80,'Economic Development'!$C$23:$C$49,O80)","v":95245.594589309359},null,"Porirua City","Business"]
[null,null,null,null,null,null,"Residential – per rating unit",null,{"$f":"SUMIFS('Economic Development'!$H$23:$H$49,'Economic Development'!$A$23:$A$49,N81,'Economic Development'!$C$23:$C$49,O81)/COUNTIFS('Economic Development'!$A$23:$A$49,N81,'Economic Development'!$C$23:$C$49,O81)","v":15},null,null,{"$f":"SUMIFS('Economic Development'!$K$23:$K$49,'Economic Development'!$A$23:$A$49,N81,'Economic Development'!$C$23:$C$49,O81)","v":276285},null,"Porirua City","Residential"]
["Wellington city - CDB",null,{"$f":"Remission!G24","v":0},null,{"$f":"Remission!F24","v":0},null,"Rural – per rating unit",null,{"$f":"SUMIFS('Economic Development'!$H$23:$H$49,'Economic Development'!$A$23:$A$49,N82,'Economic Development'!$C$23:$C$49,O82)/COUNTIFS('Economic Development'!$A$23:$A$49,N82,'Economic Development'!$C$23:$C$49,O82)","v":15},null,null,{"$f":"SUMIFS('Economic Development'!$K$23:$K$49,'Economic Development'!$A$23:$A$49,N82,'Economic Development'!$C$23:$C$49,O82)","v":9585},null,"Porirua City","Rural"]
["Wellington city - Business",null,{"$f":"Remission!G25","v":0},null,{"$f":"Remission!F25","v":0},null,"Kāpiti Coast district"]
["Wellington city - Residential",null,{"$f":"Remission!G26","v":0},null,{"$f":"Remission!F26","v":0},null,"Business",null,null,{"$f":"INDEX('Economic Development'!$L$23:$L$49,MATCH(G83&G84,'Economic Development'!$D$23:$D$49,0),)","v":6.1947978092947303E-3},null,{"$f":"SUMIFS('Economic Development'!$K$23:$K$49,'Economic Development'!$A$23:$A$49,N84,'Economic Development'!$C$23:$C$49,O84)","v":110003.28580084692},null,"Kāpiti Coast district","Business"]
["Wellington city - Rural",null,{"$f":"Remission!G27","v":0},null,{"$f":"Remission!F27","v":0},null,"Residential – per rating unit",null,{"$f":"SUMIFS('Economic Development'!$H$23:$H$49,'Economic Development'!$A$23:$A$49,N85,'Economic Development'!$C$23:$C$49,O85)/COUNTIFS('Economic Development'!$A$23:$A$49,N85,'Economic Development'!$C$23:$C$49,O85)","v":15},null,null,{"$f":"SUMIFS('Economic Development'!$K$23:$K$49,'Economic Development'!$A$23:$A$49,N85,'Economic Development'!$C$23:$C$49,O85)","v":320610},null,"Kāpiti Coast district","Residential"]
["Hutt city",null,{"$f":"INDEX(Remission!$E$10:$E36,MATCH(S13,Remission!$A$10:$A$36,0),)","v":0},{"$f":"INDEX(Remission!$E$10:$E36,MATCH(T13,Remission!$A$10:$A$36,0),)","v":{"$error":"#N/A"}},{"$f":"INDEX(Remission!$D$10:$D19,MATCH(A86,Remission!$A$10:$A$19,0),)","v":0},null,"Rural – per rating unit",null,{"$f":"SUMIFS('Economic Development'!$H$23:$H$49,'Economic Development'!$A$23:$A$49,N86,'Economic Development'!$C$23:$C$49,O86)/COUNTIFS('Economic Development'!$A$23:$A$49,N86,'Economic Development'!$C$23:$C$49,O86)","v":15},null,null,{"$f":"SUMIFS('Economic Development'!$K$23:$K$49,'Economic Development'!$A$23:$A$49,N86,'Economic Development'!$C$23:$C$49,O86)","v":38820},null,"Kāpiti Coast district","Rural"]
["Upper Hutt city",null,{"$f":"INDEX(Remission!$E$10:$E37,MATCH(S14,Remission!$A$10:$A$36,0),)","v":0},null,{"$f":"INDEX(Remission!$D$10:$D20,MATCH(A87,Remission!$A$10:$A$19,0),)","v":0},null,"Masterton district"]
["Porirua city",null,{"$f":"INDEX(Remission!$E$10:$E38,MATCH(S15,Remission!$A$10:$A$36,0),)","v":0},null,{"$f":"INDEX(Remission!$D$10:$D21,MATCH(A88,Remission!$A$10:$A$19,0),)","v":0},null,"Business",null,null,{"$f":"INDEX('Economic Development'!$L$23:$L$49,MATCH(G87&G88,'Economic Development'!$D$23:$D$49,0),)","v":6.0021355242620899E-3},null,{"$f":"SUMIFS('Economic Development'!$K$23:$K$49,'Economic Development'!$A$23:$A$49,N88,'Economic Development'!$C$23:$C$49,O88)","v":44204.983871385281},null,"Masterton District","Business"]
["Kāpiti Coast district",null,{"$f":"INDEX(Remission!$E$10:$E39,MATCH(S16,Remission!$A$10:$A$36,0),)","v":0},null,{"$f":"INDEX(Remission!$D$10:$D22,MATCH(A89,Remission!$A$10:$A$19,0),)","v":0},null,"Residential – per rating unit",null,{"$f":"SUMIFS('Economic Development'!$H$23:$H$49,'Economic Development'!$A$23:$A$49,N89,'Economic Development'!$C$23:$C$49,O89)/COUNTIFS('Economic Development'!$A$23:$A$49,N89,'Economic Development'!$C$23:$C$49,O89)","v":15},null,null,{"$f":"SUMIFS('Economic Development'!$K$23:$K$49,'Economic Development'!$A$23:$A$49,N89,'Economic Development'!$C$23:$C$49,O89)","v":125940},null,"Masterton District","Residential"]
["Masterton district",null,{"$f":"INDEX(Remission!$E$10:$E40,MATCH(S17,Remission!$A$10:$A$36,0),)","v":0},null,{"$f":"INDEX(Remission!$D$10:$D23,MATCH(A90,Remission!$A$10:$A$19,0),)","v":0},null,"Rural – per rating unit",null,{"$f":"SUMIFS('Economic Development'!$H$23:$H$49,'Economic Development'!$A$23:$A$49,N90,'Economic Development'!$C$23:$C$49,O90)/COUNTIFS('Economic Development'!$A$23:$A$49,N90,'Economic Development'!$C$23:$C$49,O90)","v":15},null,null,{"$f":"SUMIFS('Economic Development'!$K$23:$K$49,'Economic Development'!$A$23:$A$49,N90,'Economic Development'!$C$23:$C$49,O90)","v":53700},null,"Masterton District","Rural"]
["Carterton district",null,{"$f":"INDEX(Remission!$E$10:$E41,MATCH(S18,Remission!$A$10:$A$36,0),)","v":0},null,{"$f":"INDEX(Remission!$D$10:$D24,MATCH(A91,Remission!$A$10:$A$19,0),)","v":0},null,"Carterton district"]
["South Wairarapa district",null,{"$f":"INDEX(Remission!$E$10:$E42,MATCH(S19,Remission!$A$10:$A$36,0),)","v":0},null,{"$f":"INDEX(Remission!$D$10:$D25,MATCH(A92,Remission!$A$10:$A$19,0),)","v":0},null,"Business",null,null,{"$f":"INDEX('Economic Development'!$L$23:$L$49,MATCH(G91&G92,'Economic Development'!$D$23:$D$49,0),)","v":6.2496571454674415E-3},null,{"$f":"SUMIFS('Economic Development'!$K$23:$K$49,'Economic Development'!$A$23:$A$49,N92,'Economic Development'!$C$23:$C$49,O92)","v":8367.9471866379026},null,"Carterton District","Business"]
["Tararua district",null,{"$f":"INDEX(Remission!$E$10:$E43,MATCH(S20,Remission!$A$10:$A$36,0),)","v":0},null,{"$f":"INDEX(Remission!$D$10:$D26,MATCH(A93,Remission!$A$10:$A$19,0),)","v":0},null,"Residential – per rating unit",null,{"$f":"SUMIFS('Economic Development'!$H$23:$H$49,'Economic Development'!$A$23:$A$49,N93,'Economic Development'!$C$23:$C$49,O93)/COUNTIFS('Economic Development'!$A$23:$A$49,N93,'Economic Development'!$C$23:$C$49,O93)","v":15},null,null,{"$f":"SUMIFS('Economic Development'!$K$23:$K$49,'Economic Development'!$A$23:$A$49,N93,'Economic Development'!$C$23:$C$49,O93)","v":37815},null,"Carterton District","Residential"]
["Total general rate",null,null,null,{"$f":"SUM(E82:E93)","v":0},null,"Rural – per rating unit",null,{"$f":"SUMIFS('Economic Development'!$H$23:$H$49,'Economic Development'!$A$23:$A$49,N94,'Economic Development'!$C$23:$C$49,O94)/COUNTIFS('Economic Development'!$A$23:$A$49,N94,'Economic Development'!$C$23:$C$49,O94)","v":15},null,null,{"$f":"SUMIFS('Economic Development'!$K$23:$K$49,'Economic Development'!$A$23:$A$49,N94,'Economic Development'!$C$23:$C$49,O94)","v":27885},null,"Carterton District","Rural"]
[null,null,null,null,null,null,"South Wairarapa district"]
[null,null,null,null,null,null,"Business",null,null,{"$f":"INDEX('Economic Development'!$L$23:$L$49,MATCH(G95&G96,'Economic Development'!$D$23:$D$49,0),)","v":5.9808164410269518E-3},null,{"$f":"SUMIFS('Economic Development'!$K$23:$K$49,'Economic Development'!$A$23:$A$49,N96,'Economic Development'!$C$23:$C$49,O96)","v":17179.416761534638},null,"South Wairarapa District","Business"]
[null,null,null,null,null,null,"Residential – per rating unit",null,{"$f":"SUMIFS('Economic Development'!$H$23:$H$49,'Economic Development'!$A$23:$A$49,N97,'Economic Development'!$C$23:$C$49,O97)/COUNTIFS('Economic Development'!$A$23:$A$49,N97,'Economic Development'!$C$23:$C$49,O97)","v":15},null,null,{"$f":"SUMIFS('Economic Development'!$K$23:$K$49,'Economic Development'!$A$23:$A$49,N97,'Economic Development'!$C$23:$C$49,O97)","v":51705},null,"South Wairarapa District","Residential"]
[null,null,null,null,null,null,"Rural – per rating unit",null,{"$f":"SUMIFS('Economic Development'!$H$23:$H$49,'Economic Development'!$A$23:$A$49,N98,'Economic Development'!$C$23:$C$49,O98)/COUNTIFS('Economic Development'!$A$23:$A$49,N98,'Economic Development'!$C$23:$C$49,O98)","v":15},null,null,{"$f":"SUMIFS('Economic Development'!$K$23:$K$49,'Economic Development'!$A$23:$A$49,N98,'Economic Development'!$C$23:$C$49,O98)","v":45045},null,"South Wairarapa District","Rural"]
[null,null,null,null,null,null,"Tararua district  – per rating unit",null,{"$f":"SUMIFS('Economic Development'!$H$23:$H$49,'Economic Development'!$A$23:$A$49,N99,'Economic Development'!$C$23:$C$49,O99)/COUNTIFS('Economic Development'!$A$23:$A$49,N99,'Economic Development'!$C$23:$C$49,O99)","v":15},null,null,{"$f":"SUMIFS('Economic Development'!$K$23:$K$49,'Economic Development'!$A$23:$A$49,N99,'Economic Development'!$C$23:$C$49,O99)","v":135},null,"Tararua District","Rural"]
[null,null,null,null,null,null,"Total economic development rate",null,null,null,null,{"$f":"SUM(L67:L99)","v":4620623.2899999991}]
[null,null,null,null,null,null,"Hutt city refers to the local government administrative area of Lower Hutt City."]
[null,null,null,null,null,null,{"$f":"+$A$56","v":"All figures on this page exclude GST."}]
[]
[]
[null,null,null,null,"Rates funding impact statement"]
[]
[]
["Targeted rate\nRiver Management Plans rated using CV",null,{"$f":"year_current","v":"2022/23"},null,{"$f":"year_current","v":"2022/23"}]
[null,null,{"$f":"+$C$9","v":"Cents per $ of rateable capital value"},null,"Revenue required\n $"]
[]
[]
[]
["Te Kauru",null,{"$f":"'Class Rates'!F77","v":3.3925930626076762E-3},null,{"$f":"'Class Rates'!B77","v":298779.20999999996}]
[]
["Waiohine FMP scheme (targeted portion only)",null,{"$f":"'Class Rates'!F80","v":9.5214062486184215E-4},null,{"$f":"'Class Rates'!B80","v":9691.43}]
[]
[]
["Total River Management Plans rated using CV",null,null,null,{"$f":"SUM(,E115,E113)","v":308470.63999999996}]
[]
["All figures on this page exclude GST."]
[]
[]
[]
[null,null,null,null,"Rates funding impact statement",null,null,null,null,null,null,"Rates funding impact statement"]
[]
[]
["Targeted rate \nRiver management schemes 1",null,{"$f":"year_current","v":"2022/23"},null,{"$f":"year_current","v":"2022/23"},null,"Targeted rate \nRiver management schemes 2",null,{"$f":"year_current","v":"2022/23"},{"$f":"year_current","v":"2022/23"},null,{"$f":"year_current","v":"2022/23"}]
[null,null,"$ per hectare",null,"Revenue required\n $",null,null,null,"$ per \ndwelling","$ per point",null,"Revenue required\n $"]
[]
[{"$f":"'Class Rates'!A12","v":"Waiohine Rural"},"A",{"$f":"INDEX('Class Rates'!$E$9:$E$70,MATCH(A130&B130,'Class Rates'!$M$9:$M$70,0),)","v":48.858400000000003},null,{"$f":"INDEX('Class Rates'!$F$9:$F$70,MATCH(A130&B130,'Class Rates'!$M$9:$M$70,0),)","v":5495.2019648000005},null,"Lower Wairarapa valley Development Scheme","A",null,{"$f":"INDEX('Class Rates'!$E$9:$E$70,MATCH(G130&H130,'Class Rates'!$M$9:$M$70,0),)","v":0.26852851512372145},null,{"$f":"INDEX('Class Rates'!$F$9:$F$70,MATCH(G130&H130,'Class Rates'!$M$9:$M$70,0),)","v":781928.75408038765}]
[{"$f":"A130","v":"Waiohine Rural"},"B",{"$f":"INDEX('Class Rates'!$E$9:$E$70,MATCH(A131&B131,'Class Rates'!$M$9:$M$70,0),)","v":40.715000000000003},null,{"$f":"INDEX('Class Rates'!$F$9:$F$70,MATCH(A131&B131,'Class Rates'!$M$9:$M$70,0),)","v":15585.217491500001},null,null,"Sa",{"$f":"INDEX('Class Rates'!$E$9:$E$70,MATCH(G130&H131,'Class Rates'!$M$9:$M$70,0),)","v":22.045431189599999},null,null,{"$f":"INDEX('Class Rates'!$F$9:$F$70,MATCH(G130&H131,'Class Rates'!$M$9:$M$70,0),)","v":9501.5808427175998}]
[{"$f":"A131","v":"Waiohine Rural"},"C",{"$f":"INDEX('Class Rates'!$E$9:$E$70,MATCH(A132&B132,'Class Rates'!$M$9:$M$70,0),)","v":32.572000000000003},null,{"$f":"INDEX('Class Rates'!$F$9:$F$70,MATCH(A132&B132,'Class Rates'!$M$9:$M$70,0),)","v":41685.7042296},null,{"$f":"G130","v":"Lower Wairarapa valley Development Scheme"},"Sb",{"$f":"INDEX('Class Rates'!$E$9:$E$70,MATCH(G132&H132,'Class Rates'!$M$9:$M$70,0),)","v":44.122138655961599},null,null,{"$f":"INDEX('Class Rates'!$F$9:$F$70,MATCH(G132&H132,'Class Rates'!$M$9:$M$70,0),)","v":111717.25507689477}]
[{"$f":"A132","v":"Waiohine Rural"},"D",{"$f":"INDEX('Class Rates'!$E$9:$E$70,MATCH(A133&B133,'Class Rates'!$M$9:$M$70,0),)","v":24.428999999999998},null,{"$f":"INDEX('Class Rates'!$F$9:$F$70,MATCH(A133&B133,'Class Rates'!$M$9:$M$70,0),)","v":9036.3432866999992},null,"Total river management scheme rates 2",null,null,null,null,{"$f":"SUM(L130:L132)","v":903147.59}]
[{"$f":"A133","v":"Waiohine Rural"},"E",{"$f":"INDEX('Class Rates'!$E$9:$E$70,MATCH(A134&B134,'Class Rates'!$M$9:$M$70,0),)","v":16.286000000000001},null,{"$f":"INDEX('Class Rates'!$F$9:$F$70,MATCH(A134&B134,'Class Rates'!$M$9:$M$70,0),)","v":12982.772506800002}]
[{"$f":"A134","v":"Waiohine Rural"},"S",{"$f":"INDEX('Class Rates'!$E$9:$E$70,MATCH(A135&B135,'Class Rates'!$M$9:$M$70,0),)","v":814.29100000000005},null,{"$f":"INDEX('Class Rates'!$F$9:$F$70,MATCH(A135&B135,'Class Rates'!$M$9:$M$70,0),)","v":13924.376100000001},null,"Total river management scheme rates",null,null,null,null,{"$f":"SUM(L133,E143)","v":1012423.65209078}]
[null,null,null,null,{"$f":"SUM(E130:E135)","v":98709.615579400008}]
[{"$f":"'Class Rates'!A18","v":"Mangatarere"},"A",{"$f":"INDEX('Class Rates'!$E$9:$E$70,MATCH(A137&B137,'Class Rates'!$M$9:$M$70,0),)","v":36.917900000000003},null,{"$f":"INDEX('Class Rates'!$F$9:$F$70,MATCH(A137&B137,'Class Rates'!$M$9:$M$70,0),)","v":792.14738030000012}]
[{"$f":"A137","v":"Mangatarere"},"B",{"$f":"INDEX('Class Rates'!$E$9:$E$70,MATCH(A138&B138,'Class Rates'!$M$9:$M$70,0),)","v":35.3127},null,{"$f":"INDEX('Class Rates'!$F$9:$F$70,MATCH(A138&B138,'Class Rates'!$M$9:$M$70,0),)","v":7399.8186602400001},null,null,null,null,null,null,"Rates funding impact statement"]
[{"$f":"A138","v":"Mangatarere"},"C",{"$f":"INDEX('Class Rates'!$E$9:$E$70,MATCH(A139&B139,'Class Rates'!$M$9:$M$70,0),)","v":29.924099999999999},null,{"$f":"INDEX('Class Rates'!$F$9:$F$70,MATCH(A139&B139,'Class Rates'!$M$9:$M$70,0),)","v":471.85517843999997}]
[{"$f":"A139","v":"Mangatarere"},"D",{"$f":"INDEX('Class Rates'!$E$9:$E$70,MATCH(A140&B140,'Class Rates'!$M$9:$M$70,0),)","v":26.484500000000001},null,{"$f":"INDEX('Class Rates'!$F$9:$F$70,MATCH(A140&B140,'Class Rates'!$M$9:$M$70,0),)","v":1902.6252924000003},null,"Targeted rate\nCatchment schemes 2",null,null,{"$f":"year_current","v":"2022/23"},null,{"$f":"year_current","v":"2022/23"}]
[null,null,null,null,{"$f":"SUM(E137:E140)","v":10566.44651138},null,null,null,null,"Cents per $ of rateable land value",null,"Revenue required\n $"]
[]
["Total river management scheme rates 1",null,null,null,{"$f":"SUM(E136,E141)","v":109276.06209078},null,"Awhea-Opouawe","Land value",null,{"$f":"'Class Rates'!K96","v":7.5156848667865704E-3},null,{"$f":"'Class Rates'!H96","v":9138.93}]
[null,null,null,null,null,null,"Mataikona-Whakataki","Land value within scheme area",null,{"$f":"'Class Rates'!K101","v":2.8010254584297663E-3},null,{"$f":"'Class Rates'!H100","v":3933.3399999999997}]
["All figures on this page exclude GST.",null,null,null,null,null,"Catchment management scheme 2 rates",null,null,null,null,{"$f":"+L143+L144","v":13072.27}]
[]
[null,null,null,null,null,null,"Targeted rate\nCatchment schemes 3",null,null,{"$f":"+J140","v":"2022/23"},null,{"$f":"+L140","v":"2022/23"}]
[null,null,null,null,null,null,null,null,null,"$ per \ndwelling",null,"Revenue required\n $"]
["Targeted rate\nPump drainage schemes",null,{"$f":"year_current","v":"2022/23"},null,{"$f":"year_current","v":"2022/23"}]
[null,null,"$ per hectare",null,"Revenue required\n $"]
[null,null,null,null,null,null,"Awhea-Opouawe","Charge per dwelling",null,{"$f":"'Class Rates'!F97","v":"$140.02 / $70.09"},null,{"$f":"'Class Rates'!H97","v":13651.95}]
["Te Hopai","A",{"$f":"INDEX('Class Rates'!$E$9:$E$70,MATCH(A152&B152,'Class Rates'!$M$9:$M$70,0),)","v":44.509120000000003},null,{"$f":"INDEX('Class Rates'!$F$9:$F$70,MATCH(A152&B152,'Class Rates'!$M$9:$M$70,0),)","v":55485.838999775995},null,"Maungaraki","Charge per dwelling",null,{"$f":"'Class Rates'!G106","v":19},null,{"$f":"'Class Rates'!H106","v":690.99967464432768}]
["Moonmoot pump","A",{"$f":"INDEX('Class Rates'!$E$9:$E$70,MATCH(A153&B153,'Class Rates'!$M$9:$M$70,0),)","v":124.82299999999999},null,{"$f":"INDEX('Class Rates'!$F$9:$F$70,MATCH(A153&B153,'Class Rates'!$M$9:$M$70,0),)","v":28425.041192055},null,"Mataikona-Whakataki","Charge per dwelling",null,{"$f":"'Class Rates'!F101","v":23.45},null,{"$f":"'Class Rates'!H101","v":2884.4}]
["Onoke pump","A",{"$f":"INDEX('Class Rates'!$E$9:$E$70,MATCH(A154&B154,'Class Rates'!$M$9:$M$70,0),)","v":72.615039999999993},null,{"$f":"INDEX('Class Rates'!$F$9:$F$70,MATCH(A154&B154,'Class Rates'!$M$9:$M$70,0),)","v":51805.570080352001},null,"Catchment management scheme 3 rates",null,null,null,null,{"$f":"+L151+L153+L152","v":17227.349674644331}]
["Pouawha pump","A",{"$f":"INDEX('Class Rates'!$E$9:$E$70,MATCH(A155&B155,'Class Rates'!$M$9:$M$70,0),)","v":109.54470000000001},null,{"$f":"INDEX('Class Rates'!$F$9:$F$70,MATCH(A155&B155,'Class Rates'!$M$9:$M$70,0),)","v":103575.03966456001}]
[]
["Total pump drainage scheme rates",null,null,null,{"$f":"SUM(E152:E156)","v":239291.48993674299},null,"Targeted rate\nCatchment schemes 4",null,null,{"$f":"+$C$29","v":"2022/23"},null,{"$f":"+$C$29","v":"2022/23"}]
[null,null,null,null,null,null,null,null,null,"Cents per metre of river frontage",null,"Revenue required\n $"]
["Targeted rate\nCatchment schemes 1",null,{"$f":"year_current","v":"2022/23"},null,{"$f":"year_current","v":"2022/23"}]
[null,null,{"$f":"+$C$151","v":0},null,"Revenue required\n $"]
[]
["Whareama","A",{"$f":"INDEX('Class Rates'!$E$9:$E$109,MATCH(A162&B162,'Class Rates'!$M$9:$M$109,0),)","v":4.7412432382771916},null,{"$f":"INDEX('Class Rates'!$F$9:$F$109,MATCH(A162&B162,'Class Rates'!$M$9:$M$109,0),)","v":3391.8192116437594},null,"Maungaraki","River frontage",null,{"$f":"'Class Rates'!F107","v":3.3943843666738908E-2},null,{"$f":"'Class Rates'!H107","v":1572.8898278293475}]
[{"$f":"$A$162","v":"Whareama"},"B",{"$f":"INDEX('Class Rates'!$E$9:$E$109,MATCH(A163&B163,'Class Rates'!$M$9:$M$109,0),)","v":1.8235550916450738},null,{"$f":"INDEX('Class Rates'!$F$9:$F$109,MATCH(A163&B163,'Class Rates'!$M$9:$M$109,0),)","v":1737.0546467915028},null,"Catchment management scheme 4 rates",null,null,null,null,{"$f":"L162","v":1572.8898278293475}]
[{"$f":"$A$162","v":"Whareama"},"C",{"$f":"INDEX('Class Rates'!$E$9:$E$109,MATCH(A164&B164,'Class Rates'!$M$9:$M$109,0),)","v":0.31912214103788794},null,{"$f":"INDEX('Class Rates'!$F$9:$F$109,MATCH(A164&B164,'Class Rates'!$M$9:$M$109,0),)","v":14544.348452092067},null,"Total catchment management scheme rates",null,null,null,null,{"$f":"E190+L145+L154+L163","v":76227.484429085976}]
[{"$f":"$A$162","v":"Whareama"},"E",{"$f":"INDEX('Class Rates'!$E$9:$E$109,MATCH(A165&B165,'Class Rates'!$M$9:$M$109,0),)","v":0.22794438645563422},null,{"$f":"INDEX('Class Rates'!$F$9:$F$109,MATCH(A165&B165,'Class Rates'!$M$9:$M$109,0),)","v":3.510913412382906}]
[{"$f":"$A$162","v":"Whareama"},"F",{"$f":"INDEX('Class Rates'!$E$9:$E$109,MATCH(A166&B166,'Class Rates'!$M$9:$M$109,0),)","v":0.18235550916450738},null,{"$f":"INDEX('Class Rates'!$F$9:$F$109,MATCH(A166&B166,'Class Rates'!$M$9:$M$109,0),)","v":503.20720514626828},null,"1 \"Separately used or inhabited part\" (dwelling) includes any part of a rating unit separately used or inhabited by the owner or any other person who has the right to use or inhabit that part by virtue of a tenancy, lease, licence or other agreement. At a minimum, the land or premises intended to form the separately used or inhabited part of the rating unit must be capable of actual habitation, or actual separate use. To avoid of doubt, a rating unit that has only one use (ie, it does not have separate parts or is vacant land) is treated as being one separately used or inhabited part (dwelling)."]
[{"$f":"$A$162","v":"Whareama"},null,null,null,{"$f":"SUM(E162:E166)","v":20179.940429085978}]
["Homewood","A",{"$f":"INDEX('Class Rates'!$E$9:$E$109,MATCH(A168&B168,'Class Rates'!$M$9:$M$109,0),)","v":2.0186980916130612},null,{"$f":"INDEX('Class Rates'!$F$9:$F$109,MATCH(A168&B168,'Class Rates'!$M$9:$M$109,0),)","v":4632.5059036910952}]
[{"$f":"A168","v":"Homewood"},"B",{"$f":"INDEX('Class Rates'!$E$9:$E$109,MATCH(A169&B169,'Class Rates'!$M$9:$M$109,0),)","v":1.9225696110600585},null,{"$f":"INDEX('Class Rates'!$F$9:$F$109,MATCH(A169&B169,'Class Rates'!$M$9:$M$109,0),)","v":1062.2144134314037}]
[{"$f":"A169","v":"Homewood"},"C",{"$f":"INDEX('Class Rates'!$E$9:$E$109,MATCH(A170&B170,'Class Rates'!$M$9:$M$109,0),)","v":1.6822484096775512},null,{"$f":"INDEX('Class Rates'!$F$9:$F$109,MATCH(A170&B170,'Class Rates'!$M$9:$M$109,0),)","v":6161.1908634800675}]
[{"$f":"A170","v":"Homewood"},"D",{"$f":"INDEX('Class Rates'!$E$9:$E$109,MATCH(A171&B171,'Class Rates'!$M$9:$M$109,0),)","v":0.24032120138250732},null,{"$f":"INDEX('Class Rates'!$F$9:$F$109,MATCH(A171&B171,'Class Rates'!$M$9:$M$109,0),)","v":418.02881939743656},null,null,null,null,null,null,"Rates funding impact statement"]
[null,null,null,null,{"$f":"SUM(E168:E171)","v":12273.940000000002}]
["Maungaraki","A",{"$f":"'Class Rates'!F104","v":1.0304381113117167},null,{"$f":"'Class Rates'!H104","v":3406.0831128785439},null,"Targeted rate\nGravity drainage schemes",null,null,{"$f":"year_current","v":"2022/23"},null,{"$f":"year_current","v":"2022/23"}]
[{"$f":"A173","v":"Maungaraki"},"B",{"$f":"'Class Rates'!F105","v":0.48491205238198437},null,{"$f":"'Class Rates'!H105","v":1441.1613846477801},null,null,null,null,"$ per hectare",null,"Revenue required\n $"]
[null,null,null,null,{"$f":"SUM(E173:E174)","v":4847.2444975263243}]
["Upper Kaiwhata","A",{"$f":"INDEX('Class Rates'!$E$9:$E$109,MATCH(A176&B176,'Class Rates'!$M$9:$M$109,0),)","v":10.84375350369571},null,{"$f":"INDEX('Class Rates'!$F$9:$F$109,MATCH(A176&B176,'Class Rates'!$M$9:$M$109,0),)","v":353.65926114488229},null,"Okawa","A",null,{"$f":"INDEX('Class Rates'!$E$9:$E$70,MATCH(G176&H176,'Class Rates'!$M$9:$M$70,0),)","v":7.5121000000000002},null,{"$f":"INDEX('Class Rates'!$F$9:$F$70,MATCH(G176&H176,'Class Rates'!$M$9:$M$70,0),)","v":2118.4201654358462}]
[{"$f":"A176","v":"Upper Kaiwhata"},"B",{"$f":"INDEX('Class Rates'!$E$9:$E$109,MATCH(A177&B177,'Class Rates'!$M$9:$M$109,0),)","v":4.7441421578668734},null,{"$f":"INDEX('Class Rates'!$F$9:$F$109,MATCH(A177&B177,'Class Rates'!$M$9:$M$109,0),)","v":249.57888181262888},null,"Taumata","A",null,{"$f":"INDEX('Class Rates'!$E$9:$E$70,MATCH(G177&H177,'Class Rates'!$M$9:$M$70,0),)","v":6.7664},null,{"$f":"INDEX('Class Rates'!$F$9:$F$70,MATCH(G177&H177,'Class Rates'!$M$9:$M$70,0),)","v":1966.06345328}]
[{"$f":"A177","v":"Upper Kaiwhata"},"C",{"$f":"INDEX('Class Rates'!$E$9:$E$109,MATCH(A178&B178,'Class Rates'!$M$9:$M$109,0),)","v":0.6777345939809819},null,{"$f":"INDEX('Class Rates'!$F$9:$F$109,MATCH(A178&B178,'Class Rates'!$M$9:$M$109,0),)","v":649.40027271658141},null,"East Pukio","A",null,{"$f":"INDEX('Class Rates'!$E$9:$E$70,MATCH(G178&H178,'Class Rates'!$M$9:$M$70,0),)","v":29.7453},null,{"$f":"INDEX('Class Rates'!$F$9:$F$70,MATCH(G178&H178,'Class Rates'!$M$9:$M$70,0),)","v":3376.23432744}]
[{"$f":"A178","v":"Upper Kaiwhata"},"D",{"$f":"INDEX('Class Rates'!$E$9:$E$109,MATCH(A179&B179,'Class Rates'!$M$9:$M$109,0),)","v":0.4066407563885891},null,{"$f":"INDEX('Class Rates'!$F$9:$F$109,MATCH(A179&B179,'Class Rates'!$M$9:$M$109,0),)","v":834.70281919074569},null,"Longbush","A",null,{"$f":"INDEX('Class Rates'!$E$9:$E$70,MATCH(G179&H179,'Class Rates'!$M$9:$M$70,0),)","v":16.890699999999999},null,{"$f":"INDEX('Class Rates'!$F$9:$F$70,MATCH(G179&H179,'Class Rates'!$M$9:$M$70,0),)","v":3684.644070122954}]
[{"$f":"A179","v":"Upper Kaiwhata"},"E",{"$f":"INDEX('Class Rates'!$E$9:$E$109,MATCH(A180&B180,'Class Rates'!$M$9:$M$109,0),)","v":0.27109383759239275},null,{"$f":"INDEX('Class Rates'!$F$9:$F$109,MATCH(A180&B180,'Class Rates'!$M$9:$M$109,0),)","v":444.92517032106196},null,{"$f":"G179","v":"Longbush"},"B",null,{"$f":"INDEX('Class Rates'!$E$9:$E$70,MATCH(G180&H180,'Class Rates'!$M$9:$M$70,0),)","v":8.4452999999999996},null,{"$f":"INDEX('Class Rates'!$F$9:$F$70,MATCH(G180&H180,'Class Rates'!$M$9:$M$70,0),)","v":1060.78795257}]
[{"$f":"A180","v":"Upper Kaiwhata"},"F",{"$f":"INDEX('Class Rates'!$E$9:$E$109,MATCH(A181&B181,'Class Rates'!$M$9:$M$109,0),)","v":0.13554691879619638},null,{"$f":"INDEX('Class Rates'!$F$9:$F$109,MATCH(A181&B181,'Class Rates'!$M$9:$M$109,0),)","v":61.323594814099977},null,"Otahoua","A",null,{"$f":"INDEX('Class Rates'!$E$9:$E$70,MATCH(G181&H181,'Class Rates'!$M$9:$M$70,0),)","v":34.6813},null,{"$f":"INDEX('Class Rates'!$F$9:$F$70,MATCH(G181&H181,'Class Rates'!$M$9:$M$70,0),)","v":3215.4568641491569}]
[null,null,null,null,{"$f":"SUM(E176:E181)","v":2593.59},null,"Te Whiti","A",null,{"$f":"INDEX('Class Rates'!$E$9:$E$70,MATCH(G182&H182,'Class Rates'!$M$9:$M$70,0),)","v":10.2273},null,{"$f":"INDEX('Class Rates'!$F$9:$F$70,MATCH(G182&H182,'Class Rates'!$M$9:$M$70,0),)","v":1444.8515801999997}]
["Lower Kaiwhata","A",{"$f":"INDEX('Class Rates'!$E$9:$E$109,MATCH(A183&B183,'Class Rates'!$M$9:$M$109,0),)","v":17.598532329318239},null,{"$f":"INDEX('Class Rates'!$F$9:$F$109,MATCH(A183&B183,'Class Rates'!$M$9:$M$109,0),)","v":811.50136363045328},null,"Ahikouka","A",null,{"$f":"INDEX('Class Rates'!$E$9:$E$70,MATCH(G183&H183,'Class Rates'!$M$9:$M$70,0),)","v":29.1128},null,{"$f":"INDEX('Class Rates'!$F$9:$F$70,MATCH(G183&H183,'Class Rates'!$M$9:$M$70,0),)","v":3266.95398888}]
[{"$f":"A183","v":"Lower Kaiwhata"},"B",{"$f":"INDEX('Class Rates'!$E$9:$E$109,MATCH(A184&B184,'Class Rates'!$M$9:$M$109,0),)","v":7.69935789407673},null,{"$f":"INDEX('Class Rates'!$F$9:$F$109,MATCH(A184&B184,'Class Rates'!$M$9:$M$109,0),)","v":343.29804137195379},null,"Battersea","A",null,{"$f":"INDEX('Class Rates'!$E$9:$E$70,MATCH(G184&H184,'Class Rates'!$M$9:$M$70,0),)","v":16.26567},null,{"$f":"INDEX('Class Rates'!$F$9:$F$70,MATCH(G184&H184,'Class Rates'!$M$9:$M$70,0),)","v":2743.712734404}]
[{"$f":"A184","v":"Lower Kaiwhata"},"C",{"$f":"INDEX('Class Rates'!$E$9:$E$109,MATCH(A185&B185,'Class Rates'!$M$9:$M$109,0),)","v":1.0999082705823899},null,{"$f":"INDEX('Class Rates'!$F$9:$F$109,MATCH(A185&B185,'Class Rates'!$M$9:$M$109,0),)","v":1275.3551954694549},null,{"$f":"G184","v":"Battersea"},"B",null,{"$f":"INDEX('Class Rates'!$E$9:$E$70,MATCH(G185&H185,'Class Rates'!$M$9:$M$70,0),)","v":13.467280000000001},null,{"$f":"INDEX('Class Rates'!$F$9:$F$70,MATCH(G185&H185,'Class Rates'!$M$9:$M$70,0),)","v":2630.9779173447232}]
[{"$f":"A185","v":"Lower Kaiwhata"},"D",{"$f":"INDEX('Class Rates'!$E$9:$E$109,MATCH(A186&B186,'Class Rates'!$M$9:$M$109,0),)","v":0.65994496234943401},null,{"$f":"INDEX('Class Rates'!$F$9:$F$109,MATCH(A186&B186,'Class Rates'!$M$9:$M$109,0),)","v":1953.4441505509415},null,{"$f":"G185","v":"Battersea"},"C",null,{"$f":"INDEX('Class Rates'!$E$9:$E$70,MATCH(G186&H186,'Class Rates'!$M$9:$M$70,0),)","v":10.494},null,{"$f":"INDEX('Class Rates'!$F$9:$F$70,MATCH(G186&H186,'Class Rates'!$M$9:$M$70,0),)","v":3328.9811874000002}]
[{"$f":"A183","v":"Lower Kaiwhata"},"F",{"$f":"INDEX('Class Rates'!$E$9:$E$109,MATCH(A187&B187,'Class Rates'!$M$9:$M$109,0),)","v":0.21998165411647799},null,{"$f":"INDEX('Class Rates'!$F$9:$F$109,MATCH(A187&B187,'Class Rates'!$M$9:$M$109,0),)","v":76.661248977196266},null,{"$f":"G186","v":"Battersea"},"D",null,{"$f":"INDEX('Class Rates'!$E$9:$E$70,MATCH(G187&H187,'Class Rates'!$M$9:$M$70,0),)","v":6.2964000000000002},null,{"$f":"INDEX('Class Rates'!$F$9:$F$70,MATCH(G187&H187,'Class Rates'!$M$9:$M$70,0),)","v":960.78593555999998}]
[null,null,null,null,{"$f":"SUM(E183:E187)","v":4460.2599999999993},null,{"$f":"G187","v":"Battersea"},"E",null,{"$f":"INDEX('Class Rates'!$E$9:$E$70,MATCH(G188&H188,'Class Rates'!$M$9:$M$70,0),)","v":5.4218999999999999},null,{"$f":"INDEX('Class Rates'!$F$9:$F$70,MATCH(G188&H188,'Class Rates'!$M$9:$M$70,0),)","v":1040.3867034}]
[null,null,null,null,null,null,{"$f":"G188","v":"Battersea"},"F",null,{"$f":"INDEX('Class Rates'!$E$9:$E$70,MATCH(G189&H189,'Class Rates'!$M$9:$M$70,0),)","v":5.2469999999999999},null,{"$f":"INDEX('Class Rates'!$F$9:$F$70,MATCH(G189&H189,'Class Rates'!$M$9:$M$70,0),)","v":369.59395769999998}]
["Catchment management scheme 1 rates",null,null,null,{"$f":"+E188+E182+E175+E172+E167","v":44354.974926612304},null,"Manaia","A",null,{"$f":"INDEX('Class Rates'!$E$9:$E$70,MATCH(G190&H190,'Class Rates'!$M$9:$M$70,0),)","v":24.376899999999999},null,{"$f":"INDEX('Class Rates'!$F$9:$F$70,MATCH(G190&H190,'Class Rates'!$M$9:$M$70,0),)","v":4253.6520408799997}]
[null,null,null,null,null,null,"Whakawiriwiri","A",null,{"$f":"INDEX('Class Rates'!$E$9:$E$70,MATCH(G191&H191,'Class Rates'!$M$9:$M$70,0),)","v":12.2864},null,{"$f":"INDEX('Class Rates'!$F$9:$F$70,MATCH(G191&H191,'Class Rates'!$M$9:$M$70,0),)","v":8866.6931147199994}]
[null,null,null,null,null,null,"Total gravity drainage scheme rates",null,null,null,null,{"$f":"SUM(L176:L191)","v":44328.195993486683}]
["All figures on this page exclude GST."]
[]
[null,null,null,null,null,null,null,null,null,"Rates Sought Total",null,{"$f":"+E24+E54+L46+E76+E94+L100+E118+L133+E143+E157+L192+E190+L145+L154+L163","v":178273672.25245008}]
[null,null,null,null,null,null,null,null,null,"Total Regnl Rates",null,{"$f":"INDEX(ESSbase!$G$8:$G$25,MATCH(J196,ESSbase!$B$8:$B$25,0),)","v":178273672.25000003}]
[null,null,null,null,null,null,null,null,null,"difference",null,{"$f":"IF(ABS(L196-L195)>tolerance_dollar,1,0)","v":0}]
[]
[null,null,null,null,null,null,null,null,null,"Warm Wellington rates sought",null,{"$f":"+L53","v":1937525.05}]
[null,null,null,null,null,null,null,null,null,"Warm Greater Wellington rate",null,{"$f":"INDEX(ESSbase!$G$8:$G$25,MATCH(J200,ESSbase!$B$8:$B$25,0),)","v":1937525.05}]
[null,null,null,null,null,null,null,null,null,"difference",null,{"$f":"IF(ABS(L200-L199)>tolerance_dollar,1,0)","v":0}]

{"sheet":"Impact - incl GST","index":33,"n_rows":201,"n_cols":19,"rows_kept":201,"cut":false,"hidden":false,"merged":[[77,0,78,0],[78,2,80,2],[194,9,194,10],[198,9,198,10],[127,8,128,8],[127,9,128,9],[107,0,108,0],[108,2,110,2],[108,4,109,4],[147,9,148,9],[158,0,159,0],[159,2,160,2],[159,4,160,4],[165,6,169,11],[126,0,127,0],[126,6,127,6],[127,2,128,2],[127,4,128,4],[139,6,140,6],[174,9,175,9],[174,11,175,11],[129,6,130,6],[140,11,141,11],[147,11,148,11],[157,11,158,11],[127,11,128,11],[148,0,149,0],[173,6,174,6],[149,2,150,2],[149,4,150,4],[140,9,141,9],[146,6,148,6],[156,6,159,6],[157,9,159,9],[61,0,62,0],[61,6,62,7],[62,2,64,2],[62,4,64,4],[62,8,64,8],[63,7,64,7],[28,0,29,0],[29,2,31,2],[29,4,31,4],[45,0,46,0],[46,2,48,2],[46,4,48,4],[7,0,8,0],[7,6,8,6],[8,2,10,2],[8,4,9,4],[8,9,10,9],[8,11,9,11],[48,6,49,6],[49,9,50,9],[49,11,50,11],[62,9,64,9],[62,11,63,11]]}
["Wellington Regional Council",null,null,null,"ACCOUNTING DEPARTMENT TO CHECK THEY ARE OK WITH THE SUMMARY OF THE CLASS RATES ADDED, ROWS 106 - 126"]
[{"$f":"\"Rates tables for annual plan \"&year_current&\" - INCLUDING GST\"","v":"Rates tables for annual plan 2022/23 - INCLUDING GST"}]
["Printed :",{"$f":"NOW()","v":"2023-01-19T08:30:06.840"}]
[{"$f":"check_total","v":0}]
[null,null,null,null,null,null,null,null,null,null,null,"Rates funding impact statement"]
[]
[]
["General rate",null,{"$f":"year_current","v":"2022/23"},null,{"$f":"year_current","v":"2022/23"},null,"Targeted rate\nPublic transport rate",null,null,{"$f":"year_current","v":"2022/23"},null,{"$f":"year_current","v":"2022/23"}]
[null,null,"Cents per $ of rateable capital value",null,"Revenue required\n $",null,null,null,null,{"$f":"+$C$9","v":"Cents per $ of rateable capital value"},null,"Revenue required\n $"]
[]
[]
["Wellington city - CDB",null,{"$f":"Gen!G24*(1+GST)","v":5.370133155526971E-2},null,{"$f":"Gen!F24*(1+GST)","v":7052825.5537486337},null,"Wellington city",null,null,null,null,null,null,null,null,null,null,null,"Wellington city"]
["Wellington city - Business",null,{"$f":"Gen!G25*(1+GST)","v":4.1065724130500372E-2},null,{"$f":"Gen!F25*(1+GST)","v":2734936.2229657806},null,"Wellington CBD",null,null,{"$f":"INDEX('Public transport'!$J$23:$J$60,MATCH(N13&O13,'Public transport'!$D$23:$D$60,0),)*(1+GST)","v":0.23683397040309018},null,{"$f":"INDEX('Public transport'!$I$23:$I$60,MATCH(N13&O13,'Public transport'!$D$23:$D$60,0),)*(1+GST)","v":31104418.271929245},null,"Wellington City","Wellington CBD",null,null,null,"Hutt city"]
["Wellington city - Residential",null,{"$f":"Gen!G26*(1+GST)","v":3.1589018561923365E-2},null,{"$f":"Gen!F26*(1+GST)","v":29585472.123930272},null,"Business",null,null,{"$f":"INDEX('Public transport'!$J$23:$J$60,MATCH(N14&O14,'Public transport'!$D$23:$D$60,0),)*(1+GST)","v":4.3465524615708455E-2},null,{"$f":"INDEX('Public transport'!$I$23:$I$60,MATCH(N14&O14,'Public transport'!$D$23:$D$60,0),)*(1+GST)","v":2894760.5390798543},null,"Wellington City","Business",null,null,null,"Rest of Upper Hutt city"]
["Wellington city - Rural",null,{"$f":"Gen!G27*(1+GST)","v":3.1589018561923365E-2},null,{"$f":"Gen!F27*(1+GST)","v":410999.77682777995},null,"Residential",null,null,{"$f":"INDEX('Public transport'!$J$23:$J$60,MATCH(N15&O15,'Public transport'!$D$23:$D$60,0),)*(1+GST)","v":3.2118337946080967E-2},null,{"$f":"INDEX('Public transport'!$I$23:$I$60,MATCH(N15&O15,'Public transport'!$D$23:$D$60,0),)*(1+GST)","v":30081219.209391393},null,"Wellington City","Residential",null,null,null,"Porirua city"]
["Hutt city",null,{"$f":"INDEX(Gen!$E$10:$E$36,MATCH(S13,Gen!$A$10:$A$36,0),)*(1+GST)","v":5.0485079044629358E-2},null,{"$f":"INDEX(Gen!$D$10:$D$19,MATCH(A16,Gen!$A$10:$A$19,0),)*(1+GST)","v":14707287.227465717},null,"Rural",null,null,{"$f":"INDEX('Public transport'!$J$23:$J$60,MATCH(N16&O16,'Public transport'!$D$23:$D$60,0),)*(1+GST)","v":8.0552442506195473E-3},null,{"$f":"INDEX('Public transport'!$I$23:$I$60,MATCH(N16&O16,'Public transport'!$D$23:$D$60,0),)*(1+GST)","v":104805.5222990857},null,"Wellington City","Rural",null,null,null,"Kāpiti Coast district"]
["Upper Hutt city",null,{"$f":"INDEX(Gen!$E$10:$E$36,MATCH(S14,Gen!$A$10:$A$36,0),)*(1+GST)","v":5.0712644715017657E-2},null,{"$f":"INDEX(Gen!$D$10:$D$19,MATCH(A17,Gen!$A$10:$A$19,0),)*(1+GST)","v":5934924.3500735667},null,"Hutt city",null,null,null,null,null,null,null,null,null,null,null,"Masterton district"]
["Porirua city",null,{"$f":"INDEX(Gen!$E$10:$E$36,MATCH(S15,Gen!$A$10:$A$36,0),)*(1+GST)","v":4.8383463941640066E-2},null,{"$f":"INDEX(Gen!$D$10:$D$19,MATCH(A18,Gen!$A$10:$A$19,0),)*(1+GST)","v":7075408.6842483589},null,"Business",null,null,{"$f":"INDEX('Public transport'!$J$23:$J$60,MATCH(N18&O18,'Public transport'!$D$23:$D$60,0),)*(1+GST)","v":6.9566363621201818E-2},null,{"$f":"INDEX('Public transport'!$I$23:$I$60,MATCH(N18&O18,'Public transport'!$D$23:$D$60,0),)*(1+GST)","v":3412852.4067425407},null,"Hutt City","Business",null,null,null,"Carterton district"]
["Kāpiti Coast district",null,{"$f":"INDEX(Gen!$E$10:$E$36,MATCH(S16,Gen!$A$10:$A$36,0),)*(1+GST)","v":4.4061758504495098E-2},null,{"$f":"INDEX(Gen!$D$10:$D$19,MATCH(A19,Gen!$A$10:$A$19,0),)*(1+GST)","v":8716807.1483065486},null,"Residential",null,null,{"$f":"INDEX('Public transport'!$J$23:$J$60,MATCH(N19&O19,'Public transport'!$D$23:$D$60,0),)*(1+GST)","v":5.3042940690835698E-2},null,{"$f":"INDEX('Public transport'!$I$23:$I$60,MATCH(N19&O19,'Public transport'!$D$23:$D$60,0),)*(1+GST)","v":12644079.691842955},null,"Hutt City","Residential",null,null,null,"South Wairarapa district"]
["Masterton district",null,{"$f":"INDEX(Gen!$E$10:$E$36,MATCH(S17,Gen!$A$10:$A$36,0),)*(1+GST)","v":4.2691408843801522E-2},null,{"$f":"INDEX(Gen!$D$10:$D$19,MATCH(A20,Gen!$A$10:$A$19,0),)*(1+GST)","v":3751671.5533307022},null,"Rural",null,null,{"$f":"INDEX('Public transport'!$J$23:$J$60,MATCH(N20&O20,'Public transport'!$D$23:$D$60,0),)*(1+GST)","v":1.3317575804003848E-2},null,{"$f":"INDEX('Public transport'!$I$23:$I$60,MATCH(N20&O20,'Public transport'!$D$23:$D$60,0),)*(1+GST)","v":51753.830859213471},null,"Hutt City","Rural",null,null,null,"Tararua district"]
["Carterton district",null,{"$f":"INDEX(Gen!$E$10:$E$36,MATCH(S18,Gen!$A$10:$A$36,0),)*(1+GST)","v":4.4451956683123656E-2},null,{"$f":"INDEX(Gen!$D$10:$D$19,MATCH(A21,Gen!$A$10:$A$19,0),)*(1+GST)","v":1657620.0436032701},null,"Upper Hutt city"]
["South Wairarapa district",null,{"$f":"INDEX(Gen!$E$10:$E$36,MATCH(S19,Gen!$A$10:$A$36,0),)*(1+GST)","v":4.2539772531211238E-2},null,{"$f":"INDEX(Gen!$D$10:$D$19,MATCH(A22,Gen!$A$10:$A$19,0),)*(1+GST)","v":2703270.7561431723},null,"Business",null,null,{"$f":"INDEX('Public transport'!$J$23:$J$60,MATCH(Q22&O22,'Public transport'!$D$23:$D$60,0),)*(1+GST)","v":6.9480774706347323E-2},null,{"$f":"INDEX('Public transport'!$I$23:$I$60,MATCH(N22&O22,'Public transport'!$D$23:$D$60,0),)*(1+GST)","v":1031931.1340258236},null,"Upper Hutt City","Business",null,"Rest of Upper Hutt City"]
["Tararua district",null,{"$f":"INDEX(Gen!$E$10:$E$36,MATCH(S20,Gen!$A$10:$A$36,0),)*(1+GST)","v":4.5213653529849698E-2},null,{"$f":"INDEX(Gen!$D$10:$D$19,MATCH(A23,Gen!$A$10:$A$19,0),)*(1+GST)","v":7223.5593561964361},null,"Residential",null,null,{"$f":"INDEX('Public transport'!$J$23:$J$60,MATCH(Q23&O23,'Public transport'!$D$23:$D$60,0),)*(1+GST)","v":5.4708910960157238E-2},null,{"$f":"INDEX('Public transport'!$I$23:$I$60,MATCH(N23&O23,'Public transport'!$D$23:$D$60,0),)*(1+GST)","v":4975044.6394707607},null,"Upper Hutt City","Residential",null,"Rest of Upper Hutt City"]
["Total general rate",null,null,null,{"$f":"SUM(E12:E23)","v":84338447.000000015},null,"Rural",null,null,{"$f":"INDEX('Public transport'!$J$23:$J$60,MATCH(Q24&O24,'Public transport'!$D$23:$D$60,0),)*(1+GST)","v":1.3716514118162576E-2},null,{"$f":"INDEX('Public transport'!$I$23:$I$60,MATCH(N24&O24,'Public transport'!$D$23:$D$60,0),)*(1+GST)","v":160777.4086928574},null,"Upper Hutt City","Rural",null,"Rest of Upper Hutt City"]
["Hutt city refers to the local government administrative area of Lower Hutt City.",null,null,null,null,null,"Porirua city"]
[null,null,null,null,null,null,"Business",null,null,{"$f":"INDEX('Public transport'!$J$23:$J$60,MATCH(N26&O26,'Public transport'!$D$23:$D$60,0),)*(1+GST)","v":6.8471524175635887E-2},null,{"$f":"INDEX('Public transport'!$I$23:$I$60,MATCH(N26&O26,'Public transport'!$D$23:$D$60,0),)*(1+GST)","v":958721.84834145149},null,"Porirua City","Business"]
[null,null,null,null,null,null,"Residential",null,null,{"$f":"INDEX('Public transport'!$J$23:$J$60,MATCH(N27&O27,'Public transport'!$D$23:$D$60,0),)*(1+GST)","v":5.2635945571567408E-2},null,{"$f":"INDEX('Public transport'!$I$23:$I$60,MATCH(N27&O27,'Public transport'!$D$23:$D$60,0),)*(1+GST)","v":6511370.4397885632},null,"Porirua City","Residential"]
[null,null,null,null,null,null,"Rural",null,null,{"$f":"INDEX('Public transport'!$J$23:$J$60,MATCH(N28&O28,'Public transport'!$D$23:$D$60,0),)*(1+GST)","v":1.3221533850276844E-2},null,{"$f":"INDEX('Public transport'!$I$23:$I$60,MATCH(N28&O28,'Public transport'!$D$23:$D$60,0),)*(1+GST)","v":112760.60506951554},null,"Porirua City","Rural"]
["Targeted rate\nRiver management rate",null,{"$f":"year_current","v":"2022/23"},null,{"$f":"year_current","v":"2022/23"},null,"Kāpiti Coast district"]
[null,null,{"$f":"+$C$9","v":"Cents per $ of rateable capital value"},null,{"$f":"+$E$9","v":"Revenue required\n $"},null,"Business",null,null,{"$f":"INDEX('Public transport'!$J$23:$J$60,MATCH(N30&O30,'Public transport'!$D$23:$D$60,0),)*(1+GST)","v":5.5549961473334172E-2},null,{"$f":"INDEX('Public transport'!$I$23:$I$60,MATCH(N30&O30,'Public transport'!$D$23:$D$60,0),)*(1+GST)","v":986420.94161793264},null,"Kāpiti Coast district","Business"]
[" based on capital value",null,null,null,null,null,"Residential excl Otaki",null,null,{"$f":"INDEX('Public transport'!$J$23:$J$60,MATCH(N31&O31,'Public transport'!$D$23:$D$60,0),)*(1+GST)","v":4.1128847659056007E-2},null,{"$f":"INDEX('Public transport'!$I$23:$I$60,MATCH(N31&O31,'Public transport'!$D$23:$D$60,0),)*(1+GST)","v":5625628.3778565805},null,"Kāpiti Coast district excl Ōtaki ","Residential"]
[null,null,null,null,null,null,"Residential Otaki rating area",null,null,{"$f":"INDEX('Public transport'!$J$23:$J$60,MATCH(N32&O32,'Public transport'!$D$23:$D$60,0),)*(1+GST)","v":2.3102455391208334E-2},null,{"$f":"INDEX('Public transport'!$I$23:$I$60,MATCH(N32&O32,'Public transport'!$D$23:$D$60,0),)*(1+GST)","v":386146.77611983503},null,"Ōtaki rating area","Residential"]
["Wellington city",null,{"$f":"INDEX('River management'!$D$10:$D$25,MATCH(S12,'River management'!$A$10:$A$25,0),)*(1+GST)","v":5.5250691173369435E-5},null,{"$f":"INDEX('River management'!$C$10:$C$19,MATCH(A33,'River management'!$A$10:$A$19,0),)*(1+GST)","v":63401.201999999997},null,"Rural",null,null,{"$f":"INDEX('Public transport'!$J$23:$J$60,MATCH(N33&O33,'Public transport'!$D$23:$D$60,0),)*(1+GST)","v":1.0326412141982121E-2},null,{"$f":"INDEX('Public transport'!$I$23:$I$60,MATCH(N33&O33,'Public transport'!$D$23:$D$60,0),)*(1+GST)","v":274466.52927150804},null,"Kāpiti Coast district","Rural"]
["Hutt city",null,{"$f":"INDEX('River management'!$D$10:$D$25,MATCH(S13,'River management'!$A$10:$A$25,0),)*(1+GST)","v":2.0124811869346809E-2},null,{"$f":"INDEX('River management'!$C$10:$C$19,MATCH(A34,'River management'!$A$10:$A$19,0),)*(1+GST)","v":5862749.8295},null,"Masterton district"]
["Upper Hutt city",null,{"$f":"INDEX('River management'!$D$10:$D$25,MATCH(S14,'River management'!$A$10:$A$25,0),)*(1+GST)","v":1.1169995413741763E-2},null,{"$f":"INDEX('River management'!$C$10:$C$19,MATCH(A35,'River management'!$A$10:$A$19,0),)*(1+GST)","v":1307229.7479999999},null,"Business",null,null,{"$f":"INDEX('Public transport'!$J$23:$J$60,MATCH(N35&O35,'Public transport'!$D$23:$D$60,0),)*(1+GST)","v":3.6671021020374089E-2},null,{"$f":"INDEX('Public transport'!$I$23:$I$60,MATCH(N35&O35,'Public transport'!$D$23:$D$60,0),)*(1+GST)","v":270077.52260844863},null,"Masterton District","Business"]
["Porirua city",null,{"$f":"INDEX('River management'!$D$10:$D$25,MATCH(S15,'River management'!$A$10:$A$25,0),)*(1+GST)","v":3.608265461579758E-4},null,{"$f":"INDEX('River management'!$C$10:$C$19,MATCH(A36,'River management'!$A$10:$A$19,0),)*(1+GST)","v":52765.863999999994},null,"Residential",null,null,{"$f":"INDEX('Public transport'!$J$23:$J$60,MATCH(N36&O36,'Public transport'!$D$23:$D$60,0),)*(1+GST)","v":1.920526140465386E-2},null,{"$f":"INDEX('Public transport'!$I$23:$I$60,MATCH(N36&O36,'Public transport'!$D$23:$D$60,0),)*(1+GST)","v":783656.74859712098},null,"Masterton District","Residential"]
["Kāpiti Coast district",null,{"$f":"INDEX('River management'!$D$10:$D$25,MATCH(S16,'River management'!$A$10:$A$25,0),)*(1+GST)","v":8.7979359756049855E-3},null,{"$f":"INDEX('River management'!$C$10:$C$19,MATCH(A37,'River management'!$A$10:$A$19,0),)*(1+GST)","v":1740509.5439999998},null,"Rural",null,null,{"$f":"INDEX('Public transport'!$J$23:$J$60,MATCH(N37&O37,'Public transport'!$D$23:$D$60,0),)*(1+GST)","v":9.2326031318093124E-3},null,{"$f":"INDEX('Public transport'!$I$23:$I$60,MATCH(N37&O37,'Public transport'!$D$23:$D$60,0),)*(1+GST)","v":366623.82256771182},null,"Masterton District","Rural"]
["Carterton district",null,{"$f":"INDEX('River management'!$D$10:$D$25,MATCH(S18,'River management'!$A$10:$A$25,0),)*(1+GST)","v":7.7970739081003367E-4},null,{"$f":"INDEX('River management'!$C$10:$C$19,MATCH(A38,'River management'!$A$10:$A$19,0),)*(1+GST)","v":29075.403999999995},null,"Carterton district"]
["Total district-wide river management rate",null,null,null,{"$f":"SUM(E33:E38)","v":9055731.5914999992},null,"Business",null,null,{"$f":"INDEX('Public transport'!$J$23:$J$60,MATCH(N39&O39,'Public transport'!$D$23:$D$60,0),)*(1+GST)","v":3.9621552635399883E-2},null,{"$f":"INDEX('Public transport'!$I$23:$I$60,MATCH(N39&O39,'Public transport'!$D$23:$D$60,0),)*(1+GST)","v":53051.079793405486},null,"Carterton District","Business"]
["Greytown ward",null,{"$f":"'River management'!D29*(1+GST)","v":1.0031842217474584E-2},null,{"$f":"'River management'!C29*(1+GST)","v":113516.06299999998},null,"Residential",null,null,{"$f":"INDEX('Public transport'!$J$23:$J$60,MATCH(N40&O40,'Public transport'!$D$23:$D$60,0),)*(1+GST)","v":2.1435523855781093E-2},null,{"$f":"INDEX('Public transport'!$I$23:$I$60,MATCH(N40&O40,'Public transport'!$D$23:$D$60,0),)*(1+GST)","v":282527.81403016357},null,"Carterton District","Residential"]
["Total river management rates based upon capital value",null,null,null,{"$f":"+E40+E39","v":9169247.6544999983},null,"Rural",null,null,{"$f":"INDEX('Public transport'!$J$23:$J$60,MATCH(N41&O41,'Public transport'!$D$23:$D$60,0),)*(1+GST)","v":9.9638836260515316E-3},null,{"$f":"INDEX('Public transport'!$I$23:$I$60,MATCH(N41&O41,'Public transport'!$D$23:$D$60,0),)*(1+GST)","v":226886.07953850826},null,"Carterton District","Rural"]
["Hutt city refers to the local government administrative area of Lower Hutt City.",null,null,null,null,null,"South Wairarapa district"]
[null,null,null,null,null,null,"Business",null,null,{"$f":"INDEX('Public transport'!$J$23:$J$60,MATCH(N43&O43,'Public transport'!$D$23:$D$60,0),)*(1+GST)","v":3.8916462425714976E-2},null,{"$f":"INDEX('Public transport'!$I$23:$I$60,MATCH(N43&O43,'Public transport'!$D$23:$D$60,0),)*(1+GST)","v":111784.42500087223},null,"South Wairarapa District","Business"]
[null,null,null,null,null,null,"Residential",null,null,{"$f":"INDEX('Public transport'!$J$23:$J$60,MATCH(N44&O44,'Public transport'!$D$23:$D$60,0),)*(1+GST)","v":2.1512739726939924E-2},null,{"$f":"INDEX('Public transport'!$I$23:$I$60,MATCH(N44&O44,'Public transport'!$D$23:$D$60,0),)*(1+GST)","v":462937.27142306155},null,"South Wairarapa District","Residential"]
[null,null,null,null,null,null,"Rural",null,null,{"$f":"INDEX('Public transport'!$J$23:$J$60,MATCH(N45&O45,'Public transport'!$D$23:$D$60,0),)*(1+GST)","v":9.7700514222413409E-3},null,{"$f":"INDEX('Public transport'!$I$23:$I$60,MATCH(N45&O45,'Public transport'!$D$23:$D$60,0),)*(1+GST)","v":382548.97204158932},null,"South Wairarapa District","Rural"]
["Targeted rate\nRiver management",null,{"$f":"year_current","v":"2022/23"},null,{"$f":"year_current","v":"2022/23"},null,"Total public transport rate",null,null,null,null,{"$f":"SUM(L13:L45)","v":104257251.90800001}]
[null,null,"Cents per $ of rateable land value",null,"Revenue required\n $",null,"Hutt city refers to the local government administrative area of Lower Hutt City."]
[]
[null,null,null,null,null,null,"Targeted rate\nWarm Greater Wellington\nBased on extent of service provided",null,null,{"$f":"year_current","v":"2022/23"},null,{"$f":"year_current","v":"2022/23"}]
[null,null,null,null,null,null,null,null,null,"Percentage of service provided",null,"Revenue required\n $"]
["Featherston urban: Donalds Creek Stopbank",null,{"$f":"'River management'!D30*(1+GST)","v":1.1365770807159551E-3},null,{"$f":"'River management'!C30*(1+GST)","v":3207.0624999999995}]
["Total river management rates based upon land value",null,null,null,{"$f":"+E51+E50","v":3207.0624999999995}]
[null,null,null,null,null,null,"For any ratepayer that utilises the service",null,null,0.15,null,{"$f":"INDEX(ESSbase!$G$8:$G$25,MATCH(\"Warm Greater Wellington Rate\",ESSbase!$B$8:$B$25,0),)*(1+GST)","v":2228153.8075000001}]
["Total river management rates",null,null,null,{"$f":"+E52+E41","v":9172454.7169999983}]
[]
["All figures on this page include GST."]
[]
[]
[null,null,null,null,null,null,null,null,null,null,null,"Rates funding impact statement"]
[]
[]
["Targeted rate\nStadium Rate",null,{"$f":"year_current","v":"2022/23"},null,{"$f":"year_current","v":"2022/23"},null,"Targeted rate\nEconomic development rate",null,null,{"$f":"year_current","v":"2022/23"},null,{"$f":"year_current","v":"2022/23"}]
[null,null,{"$f":"+$C$9","v":"Cents per $ of rateable capital value"},null,{"$f":"+$E$9","v":"Revenue required\n $"},null,null,null,"$ per rating  unit",{"$f":"+$C$9","v":"Cents per $ of rateable capital value"},null,"Revenue required\n $"]
[" based on capital value"]
[]
["Wellington city - CDB",null,{"$f":"Stadium!J23*(1+GST)","v":0},null,{"$f":"Stadium!I23*(1+GST)","v":0},null,"Wellington city"]
["Wellington city - ex-CBD",null,{"$f":"SUM(Stadium!I24:I26)/SUM(Stadium!E24:E26)*100*(1+GST)","v":0},null,{"$f":"SUM(Stadium!I24:I26)*(1+GST)","v":0},null,"Wellington CBD",null,null,{"$f":"INDEX('Economic Development'!$L$23:$L$49,MATCH(G66&G67,'Economic Development'!$D$23:$D$49,0),)*(1+GST)","v":5.605500187581252E-3},null,{"$f":"SUMIFS('Economic Development'!$K$23:$K$49,'Economic Development'!$A$23:$A$49,N67,'Economic Development'!$C$23:$C$49,O67)*(1+GST)","v":736194.31435934815},null,"Wellington City","Wellington CBD"]
["Hutt city",null,{"$f":"INDEX(Stadium!$J$10:$J$18,MATCH(A68,Stadium!$A$10:$A$18,0),)*(1+GST)","v":0},null,{"$f":"INDEX(Stadium!$I$10:$I$18,MATCH(A68,Stadium!$A$10:$A$18,0),)*(1+GST)","v":0},null,"Business",null,null,{"$f":"INDEX('Economic Development'!$L$23:$L$49,MATCH(G66&G68,'Economic Development'!$D$23:$D$49,0),)*(1+GST)","v":5.6055001875812511E-3},null,{"$f":"SUMIFS('Economic Development'!$K$23:$K$49,'Economic Development'!$A$23:$A$49,N68,'Economic Development'!$C$23:$C$49,O68)*(1+GST)","v":373320.71540097403},null,"Wellington City","Business"]
["Upper Hutt city",null,{"$f":"SUM(Stadium!I55,Stadium!I57,Stadium!I59)/SUM(Stadium!E55,Stadium!E57,Stadium!E59)*100*(1+GST)","v":0},null,{"$f":"INDEX(Stadium!$I$10:$I$18,MATCH(A69,Stadium!$A$10:$A$18,0),)*(1+GST)","v":0},null,"Residential – per rating unit",null,{"$f":"SUMIFS('Economic Development'!$H$23:$H$49,'Economic Development'!$A$23:$A$49,N69,'Economic Development'!$C$23:$C$49,O69)/COUNTIFS('Economic Development'!$A$23:$A$49,N69,'Economic Development'!$C$23:$C$49,O69)*(1+GST)","v":17.25},null,null,{"$f":"SUMIFS('Economic Development'!$K$23:$K$49,'Economic Development'!$A$23:$A$49,N69,'Economic Development'!$C$23:$C$49,O69)*(1+GST)","v":1272981},null,"Wellington City","Residential"]
["Porirua city",null,{"$f":"INDEX(Stadium!$J$10:$J$18,MATCH(A70,Stadium!$A$10:$A$18,0),)*(1+GST)","v":0},null,{"$f":"INDEX(Stadium!$I$10:$I$18,MATCH(A70,Stadium!$A$10:$A$18,0),)*(1+GST)","v":0},null,"Rural – per rating unit",null,{"$f":"SUMIFS('Economic Development'!$H$23:$H$49,'Economic Development'!$A$23:$A$49,N70,'Economic Development'!$C$23:$C$49,O70)/COUNTIFS('Economic Development'!$A$23:$A$49,N70,'Economic Development'!$C$23:$C$49,O70)*(1+GST)","v":17.25},null,null,{"$f":"SUMIFS('Economic Development'!$K$23:$K$49,'Economic Development'!$A$23:$A$49,N70,'Economic Development'!$C$23:$C$49,O70)*(1+GST)","v":14558.999999999998},null,"Wellington City","Rural"]
["Kāpiti Coast district",null,{"$f":"INDEX(Stadium!$J$10:$J$18,MATCH(A71,Stadium!$A$10:$A$18,0),)*(1+GST)","v":0},null,{"$f":"INDEX(Stadium!$I$10:$I$18,MATCH(A71,Stadium!$A$10:$A$18,0),)*(1+GST)","v":0},null,"Hutt city"]
["Masterton district",null,{"$f":"INDEX(Stadium!$J$10:$J$18,MATCH(A72,Stadium!$A$10:$A$18,0),)*(1+GST)","v":0},null,{"$f":"INDEX(Stadium!$I$10:$I$18,MATCH(A72,Stadium!$A$10:$A$18,0),)*(1+GST)","v":0},null,"Business",null,null,{"$f":"INDEX('Economic Development'!$L$23:$L$49,MATCH(G71&G72,'Economic Development'!$D$23:$D$49,0),)*(1+GST)","v":8.1625563262803236E-3},null,{"$f":"SUMIFS('Economic Development'!$K$23:$K$49,'Economic Development'!$A$23:$A$49,N72,'Economic Development'!$C$23:$C$49,O72)*(1+GST)","v":400446.40187038848},null,"Hutt City","Business"]
["Carterton district",null,{"$f":"INDEX(Stadium!$J$10:$J$18,MATCH(A73,Stadium!$A$10:$A$18,0),)*(1+GST)","v":0},null,{"$f":"INDEX(Stadium!$I$10:$I$18,MATCH(A73,Stadium!$A$10:$A$18,0),)*(1+GST)","v":0},null,"Residential – per rating unit",null,{"$f":"SUMIFS('Economic Development'!$H$23:$H$49,'Economic Development'!$A$23:$A$49,N73,'Economic Development'!$C$23:$C$49,O73)/COUNTIFS('Economic Development'!$A$23:$A$49,N73,'Economic Development'!$C$23:$C$49,O73)*(1+GST)","v":17.25},null,null,{"$f":"SUMIFS('Economic Development'!$K$23:$K$49,'Economic Development'!$A$23:$A$49,N73,'Economic Development'!$C$23:$C$49,O73)*(1+GST)","v":649652.25},null,"Hutt City","Residential"]
["South Wairarapa district",null,{"$f":"INDEX(Stadium!$J$10:$J$18,MATCH(A74,Stadium!$A$10:$A$18,0),)*(1+GST)","v":0},null,{"$f":"INDEX(Stadium!$I$10:$I$18,MATCH(A74,Stadium!$A$10:$A$18,0),)*(1+GST)","v":0},null,"Rural – per rating unit",null,{"$f":"SUMIFS('Economic Development'!$H$23:$H$49,'Economic Development'!$A$23:$A$49,N74,'Economic Development'!$C$23:$C$49,O74)/COUNTIFS('Economic Development'!$A$23:$A$49,N74,'Economic Development'!$C$23:$C$49,O74)*(1+GST)","v":17.25},null,null,{"$f":"SUMIFS('Economic Development'!$K$23:$K$49,'Economic Development'!$A$23:$A$49,N74,'Economic Development'!$C$23:$C$49,O74)*(1+GST)","v":7589.9999999999991},null,"Hutt City","Rural"]
["Tararua district",null,{"$f":"INDEX(Stadium!$J$10:$J$18,MATCH(A75,Stadium!$A$10:$A$18,0),)*(1+GST)","v":0},null,{"$f":"INDEX(Stadium!$I$10:$I$18,MATCH(A75,Stadium!$A$10:$A$18,0),)*(1+GST)","v":0},null,"Upper Hutt city"]
["Total stadium rate",null,null,null,{"$f":"SUM(E66:E75)","v":0},null,"Business",null,null,{"$f":"INDEX('Economic Development'!$L$23:$L$49,MATCH(G75&G76,'Economic Development'!$D$23:$D$49,0),)*(1+GST)","v":8.1889493984773562E-3},null,{"$f":"SUMIFS('Economic Development'!$K$23:$K$49,'Economic Development'!$A$23:$A$49,N76,'Economic Development'!$C$23:$C$49,O76)*(1+GST)","v":118596.18942811816},null,"Upper Hutt City","Business"]
[null,null,null,null,null,null,"Residential – per rating unit",null,{"$f":"SUMIFS('Economic Development'!$H$23:$H$49,'Economic Development'!$A$23:$A$49,N77,'Economic Development'!$C$23:$C$49,O77)/COUNTIFS('Economic Development'!$A$23:$A$49,N77,'Economic Development'!$C$23:$C$49,O77)*(1+GST)","v":17.25},null,null,{"$f":"SUMIFS('Economic Development'!$K$23:$K$49,'Economic Development'!$A$23:$A$49,N77,'Economic Development'!$C$23:$C$49,O77)*(1+GST)","v":266409},null,"Upper Hutt City","Residential"]
["Rates Remission",null,"2022/23",null,"2022/23",null,"Rural – per rating unit",null,{"$f":"SUMIFS('Economic Development'!$H$23:$H$49,'Economic Development'!$A$23:$A$49,N78,'Economic Development'!$C$23:$C$49,O78)/COUNTIFS('Economic Development'!$A$23:$A$49,N78,'Economic Development'!$C$23:$C$49,O78)*(1+GST)","v":17.25},null,null,{"$f":"SUMIFS('Economic Development'!$K$23:$K$49,'Economic Development'!$A$23:$A$49,N78,'Economic Development'!$C$23:$C$49,O78)*(1+GST)","v":22062.75},null,"Upper Hutt City","Rural"]
[null,null,"Cents per $ of rateable capital value",null,"Revenue required",null,"Porirua city"]
[null,null,null,null," $",null,"Business",null,null,{"$f":"INDEX('Economic Development'!$L$23:$L$49,MATCH(G79&G80,'Economic Development'!$D$23:$D$49,0),)*(1+GST)","v":7.8227618369194826E-3},null,{"$f":"SUMIFS('Economic Development'!$K$23:$K$49,'Economic Development'!$A$23:$A$49,N80,'Economic Development'!$C$23:$C$49,O80)*(1+GST)","v":109532.43377770575},null,"Porirua City","Business"]
[null,null,null,null,null,null,"Residential – per rating unit",null,{"$f":"SUMIFS('Economic Development'!$H$23:$H$49,'Economic Development'!$A$23:$A$49,N81,'Economic Development'!$C$23:$C$49,O81)/COUNTIFS('Economic Development'!$A$23:$A$49,N81,'Economic Development'!$C$23:$C$49,O81)*(1+GST)","v":17.25},null,null,{"$f":"SUMIFS('Economic Development'!$K$23:$K$49,'Economic Development'!$A$23:$A$49,N81,'Economic Development'!$C$23:$C$49,O81)*(1+GST)","v":317727.75},null,"Porirua City","Residential"]
["Wellington city - CDB",null,{"$f":"Remission!G24","v":0},null,{"$f":"Remission!F24*(1+GST)","v":0},null,"Rural – per rating unit",null,{"$f":"SUMIFS('Economic Development'!$H$23:$H$49,'Economic Development'!$A$23:$A$49,N82,'Economic Development'!$C$23:$C$49,O82)/COUNTIFS('Economic Development'!$A$23:$A$49,N82,'Economic Development'!$C$23:$C$49,O82)*(1+GST)","v":17.25},null,null,{"$f":"SUMIFS('Economic Development'!$K$23:$K$49,'Economic Development'!$A$23:$A$49,N82,'Economic Development'!$C$23:$C$49,O82)*(1+GST)","v":11022.75},null,"Porirua City","Rural"]
["Wellington city - Business",null,{"$f":"Remission!G25","v":0},null,{"$f":"Remission!F25*(1+GST)","v":0},null,"Kāpiti Coast district"]
["Wellington city - Residential",null,{"$f":"Remission!G26","v":0},null,{"$f":"Remission!F26*(1+GST)","v":0},null,"Business",null,null,{"$f":"INDEX('Economic Development'!$L$23:$L$49,MATCH(G83&G84,'Economic Development'!$D$23:$D$49,0),)*(1+GST)","v":7.124017480688939E-3},null,{"$f":"SUMIFS('Economic Development'!$K$23:$K$49,'Economic Development'!$A$23:$A$49,N84,'Economic Development'!$C$23:$C$49,O84)*(1+GST)","v":126503.77867097394},null,"Kāpiti Coast district","Business"]
["Wellington city - Rural",null,{"$f":"Remission!G27","v":0},null,{"$f":"Remission!F27*(1+GST)","v":0},null,"Residential – per rating unit",null,{"$f":"SUMIFS('Economic Development'!$H$23:$H$49,'Economic Development'!$A$23:$A$49,N85,'Economic Development'!$C$23:$C$49,O85)/COUNTIFS('Economic Development'!$A$23:$A$49,N85,'Economic Development'!$C$23:$C$49,O85)*(1+GST)","v":17.25},null,null,{"$f":"SUMIFS('Economic Development'!$K$23:$K$49,'Economic Development'!$A$23:$A$49,N85,'Economic Development'!$C$23:$C$49,O85)*(1+GST)","v":368701.5},null,"Kāpiti Coast district","Residential"]
["Hutt city",null,{"$f":"INDEX(Remission!$E$10:$E36,MATCH(S13,Remission!$A$10:$A$36,0),)","v":0},{"$f":"INDEX(Remission!$E$10:$E36,MATCH(T13,Remission!$A$10:$A$36,0),)","v":{"$error":"#N/A"}},{"$f":"INDEX(Remission!$D$10:$D19,MATCH(A86,Remission!$A$10:$A$19,0),)*(1+GST)","v":0},null,"Rural – per rating unit",null,{"$f":"SUMIFS('Economic Development'!$H$23:$H$49,'Economic Development'!$A$23:$A$49,N86,'Economic Development'!$C$23:$C$49,O86)/COUNTIFS('Economic Development'!$A$23:$A$49,N86,'Economic Development'!$C$23:$C$49,O86)*(1+GST)","v":17.25},null,null,{"$f":"SUMIFS('Economic Development'!$K$23:$K$49,'Economic Development'!$A$23:$A$49,N86,'Economic Development'!$C$23:$C$49,O86)*(1+GST)","v":44643},null,"Kāpiti Coast district","Rural"]
["Upper Hutt city",null,{"$f":"INDEX(Remission!$E$10:$E37,MATCH(S14,Remission!$A$10:$A$36,0),)","v":0},null,{"$f":"INDEX(Remission!$D$10:$D20,MATCH(A87,Remission!$A$10:$A$19,0),)*(1+GST)","v":0},null,"Masterton district"]
["Porirua city",null,{"$f":"INDEX(Remission!$E$10:$E38,MATCH(S15,Remission!$A$10:$A$36,0),)","v":0},null,{"$f":"INDEX(Remission!$D$10:$D21,MATCH(A88,Remission!$A$10:$A$19,0),)*(1+GST)","v":0},null,"Business",null,null,{"$f":"INDEX('Economic Development'!$L$23:$L$49,MATCH(G87&G88,'Economic Development'!$D$23:$D$49,0),)*(1+GST)","v":6.9024558529014032E-3},null,{"$f":"SUMIFS('Economic Development'!$K$23:$K$49,'Economic Development'!$A$23:$A$49,N88,'Economic Development'!$C$23:$C$49,O88)*(1+GST)","v":50835.731452093067},null,"Masterton District","Business"]
["Kāpiti Coast district",null,{"$f":"INDEX(Remission!$E$10:$E39,MATCH(S16,Remission!$A$10:$A$36,0),)","v":0},null,{"$f":"INDEX(Remission!$D$10:$D22,MATCH(A89,Remission!$A$10:$A$19,0),)*(1+GST)","v":0},null,"Residential – per rating unit",null,{"$f":"SUMIFS('Economic Development'!$H$23:$H$49,'Economic Development'!$A$23:$A$49,N89,'Economic Development'!$C$23:$C$49,O89)/COUNTIFS('Economic Development'!$A$23:$A$49,N89,'Economic Development'!$C$23:$C$49,O89)*(1+GST)","v":17.25},null,null,{"$f":"SUMIFS('Economic Development'!$K$23:$K$49,'Economic Development'!$A$23:$A$49,N89,'Economic Development'!$C$23:$C$49,O89)*(1+GST)","v":144831},null,"Masterton District","Residential"]
["Masterton district",null,{"$f":"INDEX(Remission!$E$10:$E40,MATCH(S17,Remission!$A$10:$A$36,0),)","v":0},null,{"$f":"INDEX(Remission!$D$10:$D23,MATCH(A90,Remission!$A$10:$A$19,0),)*(1+GST)","v":0},null,"Rural – per rating unit",null,{"$f":"SUMIFS('Economic Development'!$H$23:$H$49,'Economic Development'!$A$23:$A$49,N90,'Economic Development'!$C$23:$C$49,O90)/COUNTIFS('Economic Development'!$A$23:$A$49,N90,'Economic Development'!$C$23:$C$49,O90)*(1+GST)","v":17.25},null,null,{"$f":"SUMIFS('Economic Development'!$K$23:$K$49,'Economic Development'!$A$23:$A$49,N90,'Economic Development'!$C$23:$C$49,O90)*(1+GST)","v":61754.999999999993},null,"Masterton District","Rural"]
["Carterton district",null,{"$f":"INDEX(Remission!$E$10:$E41,MATCH(S18,Remission!$A$10:$A$36,0),)","v":0},null,{"$f":"INDEX(Remission!$D$10:$D24,MATCH(A91,Remission!$A$10:$A$19,0),)*(1+GST)","v":0},null,"Carterton district"]
["South Wairarapa district",null,{"$f":"INDEX(Remission!$E$10:$E42,MATCH(S19,Remission!$A$10:$A$36,0),)","v":0},null,{"$f":"INDEX(Remission!$D$10:$D25,MATCH(A92,Remission!$A$10:$A$19,0),)*(1+GST)","v":0},null,"Business",null,null,{"$f":"INDEX('Economic Development'!$L$23:$L$49,MATCH(G91&G92,'Economic Development'!$D$23:$D$49,0),)*(1+GST)","v":7.1871057172875575E-3},null,{"$f":"SUMIFS('Economic Development'!$K$23:$K$49,'Economic Development'!$A$23:$A$49,N92,'Economic Development'!$C$23:$C$49,O92)*(1+GST)","v":9623.139264633588},null,"Carterton District","Business"]
["Tararua district",null,{"$f":"INDEX(Remission!$E$10:$E43,MATCH(S20,Remission!$A$10:$A$36,0),)","v":0},null,{"$f":"INDEX(Remission!$D$10:$D26,MATCH(A93,Remission!$A$10:$A$19,0),)*(1+GST)","v":0},null,"Residential – per rating unit",null,{"$f":"SUMIFS('Economic Development'!$H$23:$H$49,'Economic Development'!$A$23:$A$49,N93,'Economic Development'!$C$23:$C$49,O93)/COUNTIFS('Economic Development'!$A$23:$A$49,N93,'Economic Development'!$C$23:$C$49,O93)*(1+GST)","v":17.25},null,null,{"$f":"SUMIFS('Economic Development'!$K$23:$K$49,'Economic Development'!$A$23:$A$49,N93,'Economic Development'!$C$23:$C$49,O93)*(1+GST)","v":43487.25},null,"Carterton District","Residential"]
["Total general rate",null,null,null,{"$f":"SUM(E82:E93)","v":0},null,"Rural – per rating unit",null,{"$f":"SUMIFS('Economic Development'!$H$23:$H$49,'Economic Development'!$A$23:$A$49,N94,'Economic Development'!$C$23:$C$49,O94)/COUNTIFS('Economic Development'!$A$23:$A$49,N94,'Economic Development'!$C$23:$C$49,O94)*(1+GST)","v":17.25},null,null,{"$f":"SUMIFS('Economic Development'!$K$23:$K$49,'Economic Development'!$A$23:$A$49,N94,'Economic Development'!$C$23:$C$49,O94)*(1+GST)","v":32067.749999999996},null,"Carterton District","Rural"]
[null,null,null,null,null,null,"South Wairarapa district"]
[null,null,null,null,null,null,"Business",null,null,{"$f":"INDEX('Economic Development'!$L$23:$L$49,MATCH(G95&G96,'Economic Development'!$D$23:$D$49,0),)*(1+GST)","v":6.8779389071809945E-3},null,{"$f":"SUMIFS('Economic Development'!$K$23:$K$49,'Economic Development'!$A$23:$A$49,N96,'Economic Development'!$C$23:$C$49,O96)*(1+GST)","v":19756.329275764831},null,"South Wairarapa District","Business"]
[null,null,null,null,null,null,"Residential – per rating unit",null,{"$f":"SUMIFS('Economic Development'!$H$23:$H$49,'Economic Development'!$A$23:$A$49,N97,'Economic Development'!$C$23:$C$49,O97)/COUNTIFS('Economic Development'!$A$23:$A$49,N97,'Economic Development'!$C$23:$C$49,O97)*(1+GST)","v":17.25},null,null,{"$f":"SUMIFS('Economic Development'!$K$23:$K$49,'Economic Development'!$A$23:$A$49,N97,'Economic Development'!$C$23:$C$49,O97)*(1+GST)","v":59460.749999999993},null,"South Wairarapa District","Residential"]
[null,null,null,null,null,null,"Rural – per rating unit",null,{"$f":"SUMIFS('Economic Development'!$H$23:$H$49,'Economic Development'!$A$23:$A$49,N98,'Economic Development'!$C$23:$C$49,O98)/COUNTIFS('Economic Development'!$A$23:$A$49,N98,'Economic Development'!$C$23:$C$49,O98)*(1+GST)","v":17.25},null,null,{"$f":"SUMIFS('Economic Development'!$K$23:$K$49,'Economic Development'!$A$23:$A$49,N98,'Economic Development'!$C$23:$C$49,O98)*(1+GST)","v":51801.749999999993},null,"South Wairarapa District","Rural"]
[null,null,null,null,null,null,"Tararua district  – per rating unit",null,{"$f":"SUMIFS('Economic Development'!$H$23:$H$49,'Economic Development'!$A$23:$A$49,N99,'Economic Development'!$C$23:$C$49,O99)/COUNTIFS('Economic Development'!$A$23:$A$49,N99,'Economic Development'!$C$23:$C$49,O99)*(1+GST)","v":17.25},null,null,{"$f":"SUMIFS('Economic Development'!$K$23:$K$49,'Economic Development'!$A$23:$A$49,N99,'Economic Development'!$C$23:$C$49,O99)*(1+GST)","v":155.25},null,"Tararua District","Rural"]
[null,null,null,null,null,null,"Total economic development rate",null,null,null,null,{"$f":"SUM(L67:L99)","v":5313716.7834999999}]
[null,null,null,null,null,null,"Hutt city refers to the local government administrative area of Lower Hutt City."]
[null,null,null,null,null,null,{"$f":"+$A$56","v":"All figures on this page include GST."}]
[]
[]
[null,null,null,null,"Rates funding impact statement"]
[]
[]
["Targeted rate\nRiver Management Plans rated using CV",null,{"$f":"year_current","v":"2022/23"},null,{"$f":"year_current","v":"2022/23"}]
[null,null,{"$f":"+$C$9","v":"Cents per $ of rateable capital value"},null,"Revenue required\n $"]
[]
[]
[]
["Te Kauru",null,{"$f":"'Class Rates'!F77*(1+GST)","v":3.9014820219988272E-3},null,{"$f":"'Class Rates'!B77*(1+GST)","v":343596.09149999992}]
[]
["Waiohine ",null,{"$f":"'Class Rates'!F80*(1+GST)","v":1.0949617185911184E-3},null,{"$f":"'Class Rates'!B80*(1+GST)","v":11145.1445}]
[]
[]
["Total River Management Plans rated using CV",null,null,null,{"$f":"SUM(,E115,E113)","v":354741.23599999992}]
[]
["All figures on this page include GST."]
[]
[]
[]
[null,null,null,null,"Rates funding impact statement",null,null,null,null,null,null,"Rates funding impact statement"]
[]
[]
["Targeted rate \nRiver management schemes 1",null,{"$f":"year_current","v":"2022/23"},null,{"$f":"year_current","v":"2022/23"},null,"Targeted rate \nRiver management schemes 2",null,{"$f":"year_current","v":"2022/23"},{"$f":"year_current","v":"2022/23"},null,{"$f":"year_current","v":"2022/23"}]
[null,null,"$ per hectare",null,"Revenue required\n $",null,null,null,"$ per \ndwelling","$ per point",null,"Revenue required\n $"]
[]
[{"$f":"'Class Rates'!A12","v":"Waiohine Rural"},"A",{"$f":"INDEX('Class Rates'!$E$9:$E$70,MATCH(A130&B130,'Class Rates'!$M$9:$M$70,0),)*(1+GST)","v":56.187159999999999},null,{"$f":"INDEX('Class Rates'!$F$9:$F$70,MATCH(A130&B130,'Class Rates'!$M$9:$M$70,0),)*(1+GST)","v":6319.4822595200003},null,"Lower Wairarapa valley Development Scheme","A",null,{"$f":"INDEX('Class Rates'!$E$9:$E$70,MATCH(G130&H130,'Class Rates'!$M$9:$M$70,0),)*(1+GST)","v":0.30880779239227962},null,{"$f":"INDEX('Class Rates'!$F$9:$F$70,MATCH(G130&H130,'Class Rates'!$M$9:$M$70,0),)*(1+GST)","v":899218.06719244574}]
[{"$f":"A130","v":"Waiohine Rural"},"B",{"$f":"INDEX('Class Rates'!$E$9:$E$70,MATCH(A131&B131,'Class Rates'!$M$9:$M$70,0),)*(1+GST)","v":46.822249999999997},null,{"$f":"INDEX('Class Rates'!$F$9:$F$70,MATCH(A131&B131,'Class Rates'!$M$9:$M$70,0),)*(1+GST)","v":17923.000115225001},null,null,"Sa",{"$f":"INDEX('Class Rates'!$E$9:$E$70,MATCH(G130&H131,'Class Rates'!$M$9:$M$70,0),)*(1+GST)","v":25.352245868039997},null,null,{"$f":"INDEX('Class Rates'!$F$9:$F$70,MATCH(G130&H131,'Class Rates'!$M$9:$M$70,0),)*(1+GST)","v":10926.817969125239}]
[{"$f":"A131","v":"Waiohine Rural"},"C",{"$f":"INDEX('Class Rates'!$E$9:$E$70,MATCH(A132&B132,'Class Rates'!$M$9:$M$70,0),)*(1+GST)","v":37.457799999999999},null,{"$f":"INDEX('Class Rates'!$F$9:$F$70,MATCH(A132&B132,'Class Rates'!$M$9:$M$70,0),)*(1+GST)","v":47938.559864039999},null,{"$f":"G130","v":"Lower Wairarapa valley Development Scheme"},"Sb",{"$f":"INDEX('Class Rates'!$E$9:$E$70,MATCH(G132&H132,'Class Rates'!$M$9:$M$70,0),)*(1+GST)","v":50.740459454355836},null,null,{"$f":"INDEX('Class Rates'!$F$9:$F$70,MATCH(G132&H132,'Class Rates'!$M$9:$M$70,0),)*(1+GST)","v":128474.84333842898}]
[{"$f":"A132","v":"Waiohine Rural"},"D",{"$f":"INDEX('Class Rates'!$E$9:$E$70,MATCH(A133&B133,'Class Rates'!$M$9:$M$70,0),)*(1+GST)","v":28.093349999999997},null,{"$f":"INDEX('Class Rates'!$F$9:$F$70,MATCH(A133&B133,'Class Rates'!$M$9:$M$70,0),)*(1+GST)","v":10391.794779704998},null,"Total river management scheme rates 2",null,null,null,null,{"$f":"SUM(L130:L132)","v":1038619.7285}]
[{"$f":"A133","v":"Waiohine Rural"},"E",{"$f":"INDEX('Class Rates'!$E$9:$E$70,MATCH(A134&B134,'Class Rates'!$M$9:$M$70,0),)*(1+GST)","v":18.728899999999999},null,{"$f":"INDEX('Class Rates'!$F$9:$F$70,MATCH(A134&B134,'Class Rates'!$M$9:$M$70,0),)*(1+GST)","v":14930.188382820001}]
[{"$f":"A134","v":"Waiohine Rural"},"S",{"$f":"INDEX('Class Rates'!$E$9:$E$70,MATCH(A135&B135,'Class Rates'!$M$9:$M$70,0),)*(1+GST)","v":936.43465000000003},null,{"$f":"INDEX('Class Rates'!$F$9:$F$70,MATCH(A135&B135,'Class Rates'!$M$9:$M$70,0),)*(1+GST)","v":16013.032515000001},null,"Total river management scheme rates",null,null,null,null,{"$f":"SUM(L133,E143)","v":1164287.1999043969}]
[null,null,null,null,{"$f":"SUM(E130:E135)","v":113516.05791631}]
[{"$f":"'Class Rates'!A18","v":"Mangatarere"},"A",{"$f":"INDEX('Class Rates'!$E$9:$E$70,MATCH(A137&B137,'Class Rates'!$M$9:$M$70,0),)*(1+GST)","v":42.455584999999999},null,{"$f":"INDEX('Class Rates'!$F$9:$F$70,MATCH(A137&B137,'Class Rates'!$M$9:$M$70,0),)*(1+GST)","v":910.96948734500006}]
[{"$f":"A137","v":"Mangatarere"},"B",{"$f":"INDEX('Class Rates'!$E$9:$E$70,MATCH(A138&B138,'Class Rates'!$M$9:$M$70,0),)*(1+GST)","v":40.609604999999995},null,{"$f":"INDEX('Class Rates'!$F$9:$F$70,MATCH(A138&B138,'Class Rates'!$M$9:$M$70,0),)*(1+GST)","v":8509.7914592759989},null,null,null,null,null,null,"Rates funding impact statement"]
[{"$f":"A138","v":"Mangatarere"},"C",{"$f":"INDEX('Class Rates'!$E$9:$E$70,MATCH(A139&B139,'Class Rates'!$M$9:$M$70,0),)*(1+GST)","v":34.412714999999999},null,{"$f":"INDEX('Class Rates'!$F$9:$F$70,MATCH(A139&B139,'Class Rates'!$M$9:$M$70,0),)*(1+GST)","v":542.63345520599989}]
[{"$f":"A139","v":"Mangatarere"},"D",{"$f":"INDEX('Class Rates'!$E$9:$E$70,MATCH(A140&B140,'Class Rates'!$M$9:$M$70,0),)*(1+GST)","v":30.457174999999999},null,{"$f":"INDEX('Class Rates'!$F$9:$F$70,MATCH(A140&B140,'Class Rates'!$M$9:$M$70,0),)*(1+GST)","v":2188.0190862600002},null,"Targeted rate\nCatchment schemes 2",null,null,{"$f":"year_current","v":"2022/23"},null,{"$f":"year_current","v":"2022/23"}]
[null,null,null,null,{"$f":"SUM(E137:E140)","v":12151.413488087001},null,null,null,null,"Cents per $ of rateable land value",null,"Revenue required\n $"]
[]
["Total river management scheme rates 1",null,null,null,{"$f":"SUM(E136,E141)","v":125667.471404397},null,"Awhea-Opouawe","Land value",null,{"$f":"'Class Rates'!K96*(1+GST)","v":8.6430375968045547E-3},null,{"$f":"'Class Rates'!H96*(1+GST)","v":10509.7695}]
[null,null,null,null,null,null,"Mataikona-Whakataki","Land value within scheme area",null,{"$f":"'Class Rates'!K101*(1+GST)","v":3.2211792771942309E-3},null,{"$f":"'Class Rates'!H100*(1+GST)","v":4523.3409999999994}]
["All figures on this page include GST.",null,null,null,null,null,"Catchment management scheme 2 rates",null,null,null,null,{"$f":"+L143+L144","v":15033.110499999999}]
[]
[null,null,null,null,null,null,"Targeted rate\nCatchment schemes 3",null,null,{"$f":"+J140","v":"2022/23"},null,{"$f":"+L140","v":"2022/23"}]
[null,null,null,null,null,null,null,null,null,"$ per \ndwelling",null,"Revenue required\n $"]
["Targeted rate\nPump drainage schemes",null,{"$f":"year_current","v":"2022/23"},null,{"$f":"year_current","v":"2022/23"}]
[null,null,"$ per hectare",null,"Revenue required\n $"]
[null,null,null,null,null,null,"Awhea-Opouawe","Charge per dwelling",null,{"$f":"+'Class Rates'!F98","v":"$161.02 / $80.60"},null,{"$f":"'Class Rates'!H97*(1+GST)","v":15699.7425}]
["Te Hopai","A",{"$f":"INDEX('Class Rates'!$E$9:$E$70,MATCH(A152&B152,'Class Rates'!$M$9:$M$70,0),)*(1+GST)","v":51.185487999999999},null,{"$f":"INDEX('Class Rates'!$F$9:$F$70,MATCH(A152&B152,'Class Rates'!$M$9:$M$70,0),)*(1+GST)","v":63808.714849742391},null,"Maungaraki","Charge per dwelling",null,{"$f":"'Class Rates'!F106*(1+GST)","v":41.823664517946142},null,{"$f":"'Class Rates'!H106*(1+GST)","v":794.6496258409768}]
["Moonmoot pump","A",{"$f":"INDEX('Class Rates'!$E$9:$E$70,MATCH(A153&B153,'Class Rates'!$M$9:$M$70,0),)*(1+GST)","v":143.54644999999999},null,{"$f":"INDEX('Class Rates'!$F$9:$F$70,MATCH(A153&B153,'Class Rates'!$M$9:$M$70,0),)*(1+GST)","v":32688.797370863245},null,"Mataikona-Whakataki","Charge per dwelling",null,{"$f":"'Class Rates'!F101*(1+GST)","v":26.967499999999998},null,{"$f":"'Class Rates'!H101*(1+GST)","v":3317.06}]
["Onoke pump","A",{"$f":"INDEX('Class Rates'!$E$9:$E$70,MATCH(A154&B154,'Class Rates'!$M$9:$M$70,0),)*(1+GST)","v":83.507295999999982},null,{"$f":"INDEX('Class Rates'!$F$9:$F$70,MATCH(A154&B154,'Class Rates'!$M$9:$M$70,0),)*(1+GST)","v":59576.405592404793},null,"Catchment management scheme 3 rates",null,null,null,null,{"$f":"+L151+L153+L152","v":19811.452125840977}]
["Pouawha pump","A",{"$f":"INDEX('Class Rates'!$E$9:$E$70,MATCH(A155&B155,'Class Rates'!$M$9:$M$70,0),)*(1+GST)","v":125.976405},null,{"$f":"INDEX('Class Rates'!$F$9:$F$70,MATCH(A155&B155,'Class Rates'!$M$9:$M$70,0),)*(1+GST)","v":119111.29561424401}]
[]
["Total pump drainage scheme rates",null,null,null,{"$f":"SUM(E152:E156)","v":275185.21342725446},null,"Targeted rate\nCatchment schemes 4",null,null,{"$f":"+$C$29","v":"2022/23"},null,{"$f":"+$C$29","v":"2022/23"}]
[null,null,null,null,null,null,null,null,null,"Cents per metre of river frontage",null,"Revenue required\n $"]
["Targeted rate\nCatchment schemes 1",null,{"$f":"year_current","v":"2022/23"},null,{"$f":"year_current","v":"2022/23"}]
[null,null,{"$f":"+$C$151","v":0},null,"Revenue required\n $"]
[]
["Whareama","A",{"$f":"INDEX('Class Rates'!$E$9:$E$109,MATCH(A162&B162,'Class Rates'!$M$9:$M$109,0),)*(1+GST)","v":5.4524297240187698},null,{"$f":"INDEX('Class Rates'!$F$9:$F$109,MATCH(A162&B162,'Class Rates'!$M$9:$M$109,0),)*(1+GST)","v":3900.592093390323},null,"Maungaraki","River frontage",null,{"$f":"'Class Rates'!F107*(1+GST)","v":3.9035420216749744E-2},null,{"$f":"'Class Rates'!H107*(1+GST)","v":1808.8233020037494}]
[{"$f":"$A$162","v":"Whareama"},"B",{"$f":"INDEX('Class Rates'!$E$9:$E$109,MATCH(A163&B163,'Class Rates'!$M$9:$M$109,0),)*(1+GST)","v":2.0970883553918349},null,{"$f":"INDEX('Class Rates'!$F$9:$F$109,MATCH(A163&B163,'Class Rates'!$M$9:$M$109,0),)*(1+GST)","v":1997.612843810228},null,"Catchment management scheme 4 rates",null,null,null,null,{"$f":"L162","v":1808.8233020037494}]
[{"$f":"$A$162","v":"Whareama"},"C",{"$f":"INDEX('Class Rates'!$E$9:$E$109,MATCH(A164&B164,'Class Rates'!$M$9:$M$109,0),)*(1+GST)","v":0.36699046219357112},null,{"$f":"INDEX('Class Rates'!$F$9:$F$109,MATCH(A164&B164,'Class Rates'!$M$9:$M$109,0),)*(1+GST)","v":16726.000719905875},null,"Total catchment management scheme rates",null,null,null,null,{"$f":"E190+L145+L154+L163","v":87661.607093448867}]
[{"$f":"$A$162","v":"Whareama"},"E",{"$f":"INDEX('Class Rates'!$E$9:$E$109,MATCH(A165&B165,'Class Rates'!$M$9:$M$109,0),)*(1+GST)","v":0.26213604442397936},null,{"$f":"INDEX('Class Rates'!$F$9:$F$109,MATCH(A165&B165,'Class Rates'!$M$9:$M$109,0),)*(1+GST)","v":4.0375504242403419}]
[{"$f":"$A$162","v":"Whareama"},"F",{"$f":"INDEX('Class Rates'!$E$9:$E$109,MATCH(A166&B166,'Class Rates'!$M$9:$M$109,0),)*(1+GST)","v":0.20970883553918346},null,{"$f":"INDEX('Class Rates'!$F$9:$F$109,MATCH(A166&B166,'Class Rates'!$M$9:$M$109,0),)*(1+GST)","v":578.68828591820852},null,"1 \"Separately used or inhabited part\" (dwelling) includes any part of a rating unit separately used or inhabited by the owner or any other person who has the right to use or inhabit that part by virtue of a tenancy, lease, licence or other agreement. At a minimum, the land or premises intended to form the separately used or inhabited part of the rating unit must be capable of actual habitation, or actual separate use. To avoid of doubt, a rating unit that has only one use (ie, it does not have separate parts or is vacant land) is treated as being one separately used or inhabited part (dwelling)."]
[{"$f":"$A$162","v":"Whareama"},null,null,null,{"$f":"SUM(E162:E166)","v":23206.931493448872}]
["Homewood","A",{"$f":"INDEX('Class Rates'!$E$9:$E$109,MATCH(A168&B168,'Class Rates'!$M$9:$M$109,0),)*(1+GST)","v":2.3215028053550202},null,{"$f":"INDEX('Class Rates'!$F$9:$F$109,MATCH(A168&B168,'Class Rates'!$M$9:$M$109,0),)*(1+GST)","v":5327.3817892447587}]
[{"$f":"A168","v":"Homewood"},"B",{"$f":"INDEX('Class Rates'!$E$9:$E$109,MATCH(A169&B169,'Class Rates'!$M$9:$M$109,0),)*(1+GST)","v":2.2109550527190671},null,{"$f":"INDEX('Class Rates'!$F$9:$F$109,MATCH(A169&B169,'Class Rates'!$M$9:$M$109,0),)*(1+GST)","v":1221.5465754461143}]
[{"$f":"A169","v":"Homewood"},"C",{"$f":"INDEX('Class Rates'!$E$9:$E$109,MATCH(A170&B170,'Class Rates'!$M$9:$M$109,0),)*(1+GST)","v":1.9345856711291838},null,{"$f":"INDEX('Class Rates'!$F$9:$F$109,MATCH(A170&B170,'Class Rates'!$M$9:$M$109,0),)*(1+GST)","v":7085.3694930020774}]
[{"$f":"A170","v":"Homewood"},"D",{"$f":"INDEX('Class Rates'!$E$9:$E$109,MATCH(A171&B171,'Class Rates'!$M$9:$M$109,0),)*(1+GST)","v":0.27636938158988339},null,{"$f":"INDEX('Class Rates'!$F$9:$F$109,MATCH(A171&B171,'Class Rates'!$M$9:$M$109,0),)*(1+GST)","v":480.73314230705199}]
[null,null,null,null,{"$f":"SUM(E168:E171)","v":14115.031000000003},null,null,null,null,null,null,"Rates funding impact statement"]
["Maungaraki","A",{"$f":"'Class Rates'!F104*(1+GST)","v":1.185003828008474},null,{"$f":"'Class Rates'!H104*(1+GST)","v":3916.9955798103251}]
[{"$f":"A173","v":"Maungaraki"},"B",{"$f":"'Class Rates'!F105*(1+GST)","v":0.55764886023928195},null,{"$f":"'Class Rates'!H105*(1+GST)","v":1657.3355923449469},null,"Targeted rate\nGravity drainage schemes",null,null,{"$f":"year_current","v":"2022/23"},null,{"$f":"year_current","v":"2022/23"}]
[null,null,null,null,{"$f":"SUM(E173:E174)","v":5574.3311721552718},null,null,null,null,"$ per hectare",null,"Revenue required\n $"]
["Upper Kaiwhata","A",{"$f":"INDEX('Class Rates'!$E$9:$E$109,MATCH(A176&B176,'Class Rates'!$M$9:$M$109,0),)*(1+GST)","v":12.470316529250066},null,{"$f":"INDEX('Class Rates'!$F$9:$F$109,MATCH(A176&B176,'Class Rates'!$M$9:$M$109,0),)*(1+GST)","v":406.70815031661459}]
[{"$f":"A176","v":"Upper Kaiwhata"},"B",{"$f":"INDEX('Class Rates'!$E$9:$E$109,MATCH(A177&B177,'Class Rates'!$M$9:$M$109,0),)*(1+GST)","v":5.4557634815469038},null,{"$f":"INDEX('Class Rates'!$F$9:$F$109,MATCH(A177&B177,'Class Rates'!$M$9:$M$109,0),)*(1+GST)","v":287.01571408452321},null,"Okawa","A",null,{"$f":"INDEX('Class Rates'!$E$9:$E$70,MATCH(G177&H177,'Class Rates'!$M$9:$M$70,0),)*(1+GST)","v":8.638914999999999},null,{"$f":"INDEX('Class Rates'!$F$9:$F$70,MATCH(G177&H177,'Class Rates'!$M$9:$M$70,0),)*(1+GST)","v":2436.1831902512231}]
[{"$f":"A177","v":"Upper Kaiwhata"},"C",{"$f":"INDEX('Class Rates'!$E$9:$E$109,MATCH(A178&B178,'Class Rates'!$M$9:$M$109,0),)*(1+GST)","v":0.77939478307812915},null,{"$f":"INDEX('Class Rates'!$F$9:$F$109,MATCH(A178&B178,'Class Rates'!$M$9:$M$109,0),)*(1+GST)","v":746.81031362406861},null,"Taumata","A",null,{"$f":"INDEX('Class Rates'!$E$9:$E$70,MATCH(G178&H178,'Class Rates'!$M$9:$M$70,0),)*(1+GST)","v":7.7813599999999994},null,{"$f":"INDEX('Class Rates'!$F$9:$F$70,MATCH(G178&H178,'Class Rates'!$M$9:$M$70,0),)*(1+GST)","v":2260.972971272}]
[{"$f":"A178","v":"Upper Kaiwhata"},"D",{"$f":"INDEX('Class Rates'!$E$9:$E$109,MATCH(A179&B179,'Class Rates'!$M$9:$M$109,0),)*(1+GST)","v":0.46763686984687741},null,{"$f":"INDEX('Class Rates'!$F$9:$F$109,MATCH(A179&B179,'Class Rates'!$M$9:$M$109,0),)*(1+GST)","v":959.90824206935747},null,"East Pukio","A",null,{"$f":"INDEX('Class Rates'!$E$9:$E$70,MATCH(G179&H179,'Class Rates'!$M$9:$M$70,0),)*(1+GST)","v":34.207094999999995},null,{"$f":"INDEX('Class Rates'!$F$9:$F$70,MATCH(G179&H179,'Class Rates'!$M$9:$M$70,0),)*(1+GST)","v":3882.6694765559996}]
[{"$f":"A179","v":"Upper Kaiwhata"},"E",{"$f":"INDEX('Class Rates'!$E$9:$E$109,MATCH(A180&B180,'Class Rates'!$M$9:$M$109,0),)*(1+GST)","v":0.31175791323125163},null,{"$f":"INDEX('Class Rates'!$F$9:$F$109,MATCH(A180&B180,'Class Rates'!$M$9:$M$109,0),)*(1+GST)","v":511.66394586922121},null,"Longbush","A",null,{"$f":"INDEX('Class Rates'!$E$9:$E$70,MATCH(G180&H180,'Class Rates'!$M$9:$M$70,0),)*(1+GST)","v":19.424304999999997},null,{"$f":"INDEX('Class Rates'!$F$9:$F$70,MATCH(G180&H180,'Class Rates'!$M$9:$M$70,0),)*(1+GST)","v":4237.3406806413968}]
[{"$f":"A180","v":"Upper Kaiwhata"},"F",{"$f":"INDEX('Class Rates'!$E$9:$E$109,MATCH(A181&B181,'Class Rates'!$M$9:$M$109,0),)*(1+GST)","v":0.15587895661562581},null,{"$f":"INDEX('Class Rates'!$F$9:$F$109,MATCH(A181&B181,'Class Rates'!$M$9:$M$109,0),)*(1+GST)","v":70.522134036214965},null,{"$f":"G180","v":"Longbush"},"B",null,{"$f":"INDEX('Class Rates'!$E$9:$E$70,MATCH(G181&H181,'Class Rates'!$M$9:$M$70,0),)*(1+GST)","v":9.7120949999999979},null,{"$f":"INDEX('Class Rates'!$F$9:$F$70,MATCH(G181&H181,'Class Rates'!$M$9:$M$70,0),)*(1+GST)","v":1219.9061454554999}]
[null,null,null,null,{"$f":"SUM(E176:E181)","v":2982.6285000000003},null,"Otahoua","A",null,{"$f":"INDEX('Class Rates'!$E$9:$E$70,MATCH(G182&H182,'Class Rates'!$M$9:$M$70,0),)*(1+GST)","v":39.883494999999996},null,{"$f":"INDEX('Class Rates'!$F$9:$F$70,MATCH(G182&H182,'Class Rates'!$M$9:$M$70,0),)*(1+GST)","v":3697.7753937715302}]
["Lower Kaiwhata","A",{"$f":"INDEX('Class Rates'!$E$9:$E$109,MATCH(A183&B183,'Class Rates'!$M$9:$M$109,0),)*(1+GST)","v":20.238312178715972},null,{"$f":"INDEX('Class Rates'!$F$9:$F$109,MATCH(A183&B183,'Class Rates'!$M$9:$M$109,0),)*(1+GST)","v":933.22656817502116},null,"Te Whiti","A",null,{"$f":"INDEX('Class Rates'!$E$9:$E$70,MATCH(G183&H183,'Class Rates'!$M$9:$M$70,0),)*(1+GST)","v":11.761394999999998},null,{"$f":"INDEX('Class Rates'!$F$9:$F$70,MATCH(G183&H183,'Class Rates'!$M$9:$M$70,0),)*(1+GST)","v":1661.5793172299996}]
[{"$f":"A183","v":"Lower Kaiwhata"},"B",{"$f":"INDEX('Class Rates'!$E$9:$E$109,MATCH(A184&B184,'Class Rates'!$M$9:$M$109,0),)*(1+GST)","v":8.8542615781882397},null,{"$f":"INDEX('Class Rates'!$F$9:$F$109,MATCH(A184&B184,'Class Rates'!$M$9:$M$109,0),)*(1+GST)","v":394.79274757774681},null,"Ahikouka","A",null,{"$f":"INDEX('Class Rates'!$E$9:$E$70,MATCH(G184&H184,'Class Rates'!$M$9:$M$70,0),)*(1+GST)","v":33.47972},null,{"$f":"INDEX('Class Rates'!$F$9:$F$70,MATCH(G184&H184,'Class Rates'!$M$9:$M$70,0),)*(1+GST)","v":3756.9970872119998}]
[{"$f":"A184","v":"Lower Kaiwhata"},"C",{"$f":"INDEX('Class Rates'!$E$9:$E$109,MATCH(A185&B185,'Class Rates'!$M$9:$M$109,0),)*(1+GST)","v":1.2648945111697483},null,{"$f":"INDEX('Class Rates'!$F$9:$F$109,MATCH(A185&B185,'Class Rates'!$M$9:$M$109,0),)*(1+GST)","v":1466.658474789873},null,"Battersea","A",null,{"$f":"INDEX('Class Rates'!$E$9:$E$70,MATCH(G185&H185,'Class Rates'!$M$9:$M$70,0),)*(1+GST)","v":18.705520499999999},null,{"$f":"INDEX('Class Rates'!$F$9:$F$70,MATCH(G185&H185,'Class Rates'!$M$9:$M$70,0),)*(1+GST)","v":3155.2696445645997}]
[{"$f":"A185","v":"Lower Kaiwhata"},"D",{"$f":"INDEX('Class Rates'!$E$9:$E$109,MATCH(A186&B186,'Class Rates'!$M$9:$M$109,0),)*(1+GST)","v":0.7589367067018491},null,{"$f":"INDEX('Class Rates'!$F$9:$F$109,MATCH(A186&B186,'Class Rates'!$M$9:$M$109,0),)*(1+GST)","v":2246.4607731335823},null,{"$f":"G185","v":"Battersea"},"B",null,{"$f":"INDEX('Class Rates'!$E$9:$E$70,MATCH(G186&H186,'Class Rates'!$M$9:$M$70,0),)*(1+GST)","v":15.487371999999999},null,{"$f":"INDEX('Class Rates'!$F$9:$F$70,MATCH(G186&H186,'Class Rates'!$M$9:$M$70,0),)*(1+GST)","v":3025.6246049464316}]
[{"$f":"A183","v":"Lower Kaiwhata"},"F",{"$f":"INDEX('Class Rates'!$E$9:$E$109,MATCH(A187&B187,'Class Rates'!$M$9:$M$109,0),)*(1+GST)","v":0.2529789022339497},null,{"$f":"INDEX('Class Rates'!$F$9:$F$109,MATCH(A187&B187,'Class Rates'!$M$9:$M$109,0),)*(1+GST)","v":88.160436323775698},null,{"$f":"G186","v":"Battersea"},"C",null,{"$f":"INDEX('Class Rates'!$E$9:$E$70,MATCH(G187&H187,'Class Rates'!$M$9:$M$70,0),)*(1+GST)","v":12.068099999999999},null,{"$f":"INDEX('Class Rates'!$F$9:$F$70,MATCH(G187&H187,'Class Rates'!$M$9:$M$70,0),)*(1+GST)","v":3828.3283655099999}]
[null,null,null,null,{"$f":"SUM(E183:E187)","v":5129.2989999999982},null,{"$f":"G187","v":"Battersea"},"D",null,{"$f":"INDEX('Class Rates'!$E$9:$E$70,MATCH(G188&H188,'Class Rates'!$M$9:$M$70,0),)*(1+GST)","v":7.2408599999999996},null,{"$f":"INDEX('Class Rates'!$F$9:$F$70,MATCH(G188&H188,'Class Rates'!$M$9:$M$70,0),)*(1+GST)","v":1104.903825894}]
[null,null,null,null,null,null,{"$f":"G188","v":"Battersea"},"E",null,{"$f":"INDEX('Class Rates'!$E$9:$E$70,MATCH(G189&H189,'Class Rates'!$M$9:$M$70,0),)*(1+GST)","v":6.2351849999999995},null,{"$f":"INDEX('Class Rates'!$F$9:$F$70,MATCH(G189&H189,'Class Rates'!$M$9:$M$70,0),)*(1+GST)","v":1196.4447089099999}]
["Catchment management scheme 1 rates",null,null,null,{"$f":"+E188+E182+E175+E172+E167","v":51008.221165604147},null,{"$f":"G189","v":"Battersea"},"F",null,{"$f":"INDEX('Class Rates'!$E$9:$E$70,MATCH(G190&H190,'Class Rates'!$M$9:$M$70,0),)*(1+GST)","v":6.0340499999999997},null,{"$f":"INDEX('Class Rates'!$F$9:$F$70,MATCH(G190&H190,'Class Rates'!$M$9:$M$70,0),)*(1+GST)","v":425.03305135499994}]
[null,null,null,null,null,null,"Manaia","A",null,{"$f":"INDEX('Class Rates'!$E$9:$E$70,MATCH(G191&H191,'Class Rates'!$M$9:$M$70,0),)*(1+GST)","v":28.033434999999997},null,{"$f":"INDEX('Class Rates'!$F$9:$F$70,MATCH(G191&H191,'Class Rates'!$M$9:$M$70,0),)*(1+GST)","v":4891.6998470119997}]
["All figures on this page include GST.",null,null,null,null,null,"Whakawiriwiri","A",null,{"$f":"INDEX('Class Rates'!$E$9:$E$70,MATCH(G192&H192,'Class Rates'!$M$9:$M$70,0),)*(1+GST)","v":14.12936},null,{"$f":"INDEX('Class Rates'!$F$9:$F$70,MATCH(G192&H192,'Class Rates'!$M$9:$M$70,0),)*(1+GST)","v":10196.697081927998}]
[null,null,null,null,null,null,"Total gravity drainage scheme rates",null,null,null,null,{"$f":"SUM(L177:L192)","v":50977.425392509678}]
[]
[null,null,null,null,null,null,null,null,null,"Rates Sought Total",null,{"$f":"+E24+E54+L46+E76+E94+L100+E118+L133+E143+E157+L193+L164","v":205014723.09031761}]
[null,null,null,null,null,null,null,null,null,"Total Regnl Rates",null,{"$f":"INDEX(ESSbase!$G$8:$G$25,MATCH(J196,ESSbase!$B$8:$B$25,0),)*(1+GST)","v":205014723.08750001}]
[null,null,null,null,null,null,null,null,null,"difference",null,{"$f":"IF(ABS(L196-L195)>tolerance_dollar,1,0)","v":0}]
[]
[null,null,null,null,null,null,null,null,null,"Warm Wellington rates sought",null,{"$f":"+L53","v":2228153.8075000001}]
[null,null,null,null,null,null,null,null,null,"Warm Greater Wellington rate",null,{"$f":"INDEX(ESSbase!$G$8:$G$25,MATCH(J200,ESSbase!$B$8:$B$25,0),)*(1+GST)","v":2228153.8075000001}]
[null,null,null,null,null,null,null,null,null,"difference",null,{"$f":"IF(ABS(L200-L199)>tolerance_dollar,1,0)","v":0}]

{"sheet":"Changes","index":34,"n_rows":148,"n_cols":15,"rows_kept":148,"cut":false,"hidden":false,"merged":[[95,10,96,11],[95,12,96,12],[95,13,96,13],[95,14,96,14],[103,10,104,11],[103,12,104,12],[103,13,104,13],[103,14,104,14],[77,10,78,11],[77,12,78,12],[77,13,78,13],[77,14,78,14],[89,10,90,11],[89,12,90,12],[89,13,90,13],[89,14,90,14],[63,11,63,12],[70,10,71,11],[70,12,71,12],[70,13,71,13],[70,14,71,14],[5,3,6,3],[5,4,6,4],[7,6,7,8],[14,6,14,8],[53,2,53,12],[46,2,46,12],[39,2,39,12],[32,2,32,12],[20,2,20,12],[27,2,27,12]]}
[{"$f":"year_current&\" Final Rates Averages\"","v":"2022/23 Final Rates Averages"}]
["Greater Wellington Region"]
[]
[]
[null,null,null,{"$f":"year_previous","v":"2021/22"},{"$f":"year_current","v":"2022/23"},null,{"$f":"year_previous","v":"2021/22"},{"$f":"year_current","v":"2022/23"}]
[null,null,null,"Average CV","Average CV",null,"Budget","Plan","Change","Change"]
[null,null,null,null,null,null,"$000s","$000s","$000s","%  "]
[null,null,null,null,null,null,"Excluding GST"]
["Wellington CBD",null,null,{"$f":"INDEX('Comparison - Category'!$H$52:$H$56,MATCH(A9,'Comparison - Category'!$C$52:$C$56,0),)","v":3021058.3485958488},{"$f":"INDEX('Comparison - Category'!$H$111:$H$115,MATCH(A9,'Comparison - Category'!$C$111:$C$115,0),)","v":3942788.2617832483},null,{"$f":"INDEX('Comparison - Category'!$X$9:$X$56,MATCH(\"Region Wide\"&A9,'Comparison - Category'!$D$9:$D$56,0),)","v":10379.911522942743},{"$f":"INDEX('Comparison - Category'!$X$68:$X$115,MATCH(\"Region Wide\"&A9,'Comparison - Category'!$D$68:$D$115,0),)","v":10155.11582880614},{"$f":"+H9-G9","v":-224.79569413660283},{"$f":"+I9/G9","v":-2.1656802530516411E-2}]
["Business",null,null,{"$f":"INDEX('Comparison - Category'!$H$52:$H$56,MATCH(A10,'Comparison - Category'!$C$52:$C$56,0),)","v":1860903.9847161572},{"$f":"INDEX('Comparison - Category'!$H$111:$H$115,MATCH(A10,'Comparison - Category'!$C$111:$C$115,0),)","v":2108871.6204716749},null,{"$f":"INDEX('Comparison - Category'!$X$9:$X$56,MATCH(\"Region Wide\"&A10,'Comparison - Category'!$D$9:$D$56,0),)","v":1877.4477243634271},{"$f":"INDEX('Comparison - Category'!$X$68:$X$115,MATCH(\"Region Wide\"&A10,'Comparison - Category'!$D$68:$D$115,0),)","v":2129.439024062739},{"$f":"+H10-G10","v":251.99129969931187},{"$f":"+I10/G10","v":0.13422014175374858}]
["Residential",null,null,{"$f":"INDEX('Comparison - Category'!$H$52:$H$56,MATCH(A11,'Comparison - Category'!$C$52:$C$56,0),)","v":701774.79088701773},{"$f":"INDEX('Comparison - Category'!$H$111:$H$115,MATCH(A11,'Comparison - Category'!$C$111:$C$115,0),)","v":891632.84206525388},null,{"$f":"INDEX('Comparison - Category'!$X$9:$X$56,MATCH(\"Region Wide\"&A11,'Comparison - Category'!$D$9:$D$56,0),)","v":553.83696006599928},{"$f":"INDEX('Comparison - Category'!$X$68:$X$115,MATCH(\"Region Wide\"&A11,'Comparison - Category'!$D$68:$D$115,0),)","v":643.65232128969524},{"$f":"+H11-G11","v":89.815361223695959},{"$f":"+I11/G11","v":0.16216931642300092}]
["Rural",null,null,{"$f":"INDEX('Comparison - Category'!$H$52:$H$56,MATCH(A12,'Comparison - Category'!$C$52:$C$56,0),)","v":1039311.6274752475},{"$f":"INDEX('Comparison - Category'!$H$111:$H$115,MATCH(A12,'Comparison - Category'!$C$111:$C$115,0),)","v":1071589.8449336356},null,{"$f":"INDEX('Comparison - Category'!$X$9:$X$56,MATCH(\"Region Wide\"&A12,'Comparison - Category'!$D$9:$D$56,0),)","v":489.61198943526875},{"$f":"INDEX('Comparison - Category'!$X$68:$X$115,MATCH(\"Region Wide\"&A12,'Comparison - Category'!$D$68:$D$115,0),)","v":539.10713708897674},{"$f":"+H12-G12","v":49.495147653707988},{"$f":"+I12/G12","v":0.10109055481014054}]
["Total",null,null,{"$f":"INDEX('Comparison - Category'!$H$52:$H$56,MATCH(A13,'Comparison - Category'!$C$52:$C$56,0),)","v":809969.42140573531},{"$f":"INDEX('Comparison - Category'!$H$111:$H$115,MATCH(A13,'Comparison - Category'!$C$111:$C$115,0),)","v":1001712.2075726843},null,{"$f":"INDEX('Comparison - Category'!$X$9:$X$56,MATCH(\"Region Wide\"&A13,'Comparison - Category'!$D$9:$D$56,0),)","v":757.65494911719679},{"$f":"INDEX('Comparison - Category'!$X$68:$X$115,MATCH(\"Region Wide\"&A13,'Comparison - Category'!$D$68:$D$115,0),)","v":846.32338517016001},{"$f":"+H13-G13","v":88.668436052963216},{"$f":"+I13/G13","v":0.11703010210159356}]
["Note: some business and rural values dropped due to on-going sesimic assesments impacting capital value"]
[null,null,null,null,null,null,"Including GST"]
["All properties",null,null,{"$f":"+D13","v":809969.42140573531},{"$f":"+E13","v":1001712.2075726843},null,{"$f":"+G13*(1+GST)","v":871.30319148477622},{"$f":"+H13*(1+GST)","v":973.27189294568393},{"$f":"+I13*(1+GST)","v":101.9687014609077},{"$f":"+I16/G16","v":0.11703010210159358}]
["Residential property",null,null,{"$f":"+D11","v":701774.79088701773},{"$f":"+E11","v":891632.84206525388},null,{"$f":"+G11*(1+GST)","v":636.91250407589916},{"$f":"+H11*(1+GST)","v":740.20016948314947},{"$f":"+I11*(1+GST)","v":103.28766540725034},{"$f":"+I17/G17","v":0.16216931642300089}]
[]
["Average Rates - Residential properties"]
[null,null,"Wellington city","Hutt city","Upper Hutt city","Porirua city","Kāpiti Coast district","Kāpiti Coast district excl Ōtaki ","Ōtaki rating area","Masterton district","Carterton district","South Wairarapa district","Tararua district"]
[null,null,"Excluding GST"]
["Residential",{"$f":"\"Average Rates \"& year_current","v":"Average Rates 2022/23"},{"$f":"INDEX('Comparison - Category'!$X$69:$X$115,MATCH(C$20&$A22,'Comparison - Category'!$D$69:$D$115,0),)","v":718.68416017342997},{"$f":"INDEX('Comparison - Category'!$X$69:$X$115,MATCH(D$20&$A22,'Comparison - Category'!$D$69:$D$115,0),)","v":695.22871731344924},{"$f":"INDEX('Comparison - Category'!$X$69:$X$115,MATCH(E$20&$A22,'Comparison - Category'!$D$69:$D$115,0),)","v":610.43639084500705},{"$f":"INDEX('Comparison - Category'!$X$69:$X$115,MATCH(F$20&$A22,'Comparison - Category'!$D$69:$D$115,0),)","v":607.07862728735927},{"$f":"INDEX('Comparison - Category'!$W$69:$W$115,MATCH(G$20&$A22,'Comparison - Category'!$D$69:$D$115,0),)","v":{"$error":"#N/A"}},{"$f":"INDEX('Comparison - Category'!$X$69:$X$115,MATCH(H$20&$A22,'Comparison - Category'!$D$69:$D$115,0),)","v":625.4053918808595},{"$f":"INDEX('Comparison - Category'!$X$69:$X$115,MATCH(I$20&$A22,'Comparison - Category'!$D$69:$D$115,0),)","v":357.13280250524252},{"$f":"INDEX('Comparison - Category'!$X$69:$X$115,MATCH(J$20&$A22,'Comparison - Category'!$D$69:$D$115,0),)","v":273.74366804343953},{"$f":"INDEX('Comparison - Category'!$X$69:$X$115,MATCH(K$20&$A22,'Comparison - Category'!$D$69:$D$115,0),)","v":308.99173721175566},{"$f":"INDEX('Comparison - Category'!$X$69:$X$115,MATCH(L$20&$A22,'Comparison - Category'!$D$69:$D$115,0),)","v":353.96315723325063},{"$f":"INDEX('Comparison - Category'!$X$69:$X$115,MATCH(M$20&$A22,'Comparison - Category'!$D$69:$D$115,0),)","v":{"$error":"#N/A"}}]
[null,{"$f":"\"Average Rates \"& year_previous","v":"Average Rates 2021/22"},{"$f":"INDEX('Comparison - Category'!$X$9:$X$56,MATCH(C$20&$A22,'Comparison - Category'!$D$9:$D$56,0),)","v":585.3370115845612},{"$f":"INDEX('Comparison - Category'!$X$9:$X$56,MATCH(D$20&$A22,'Comparison - Category'!$D$9:$D$56,0),)","v":619.56198519443092},{"$f":"INDEX('Comparison - Category'!$X$9:$X$56,MATCH(E$20&$A22,'Comparison - Category'!$D$9:$D$56,0),)","v":563.34202728144476},{"$f":"INDEX('Comparison - Category'!$X$9:$X$56,MATCH(F$20&$A22,'Comparison - Category'!$D$9:$D$56,0),)","v":567.72778265726333},{"$f":"INDEX('Comparison - Category'!$W$9:$W$56,MATCH(G$20&$A22,'Comparison - Category'!$D$9:$D$56,0),)","v":{"$error":"#N/A"}},{"$f":"INDEX('Comparison - Category'!$X$9:$X$56,MATCH(H$20&$A22,'Comparison - Category'!$D$9:$D$56,0),)","v":539.1456129498099},{"$f":"INDEX('Comparison - Category'!$X$9:$X$56,MATCH(I$20&$A22,'Comparison - Category'!$D$9:$D$56,0),)","v":319.23834896837809},{"$f":"INDEX('Comparison - Category'!$X$9:$X$56,MATCH(J$20&$A22,'Comparison - Category'!$D$9:$D$56,0),)","v":242.13145091230678},{"$f":"INDEX('Comparison - Category'!$X$9:$X$56,MATCH(K$20&$A22,'Comparison - Category'!$D$9:$D$56,0),)","v":268.89722826716104},{"$f":"INDEX('Comparison - Category'!$X$9:$X$56,MATCH(L$20&$A22,'Comparison - Category'!$D$9:$D$56,0),)","v":322.00689450994014},{"$f":"INDEX('Comparison - Category'!$W$9:$W$56,MATCH(M$20&$A22,'Comparison - Category'!$D$9:$D$56,0),)","v":{"$error":"#N/A"}}]
[null,"Average Increase",{"$f":"INDEX('Comparison - Category'!$X$128:$X$174,MATCH(C$20&$A22,'Comparison - Category'!$D$128:$D$174,0),)","v":133.34714858886878},{"$f":"INDEX('Comparison - Category'!$X$128:$X$174,MATCH(D$20&$A22,'Comparison - Category'!$D$128:$D$174,0),)","v":75.66673211901832},{"$f":"INDEX('Comparison - Category'!$X$128:$X$174,MATCH(E$20&$A22,'Comparison - Category'!$D$128:$D$174,0),)","v":47.094363563562297},{"$f":"INDEX('Comparison - Category'!$X$128:$X$174,MATCH(F$20&$A22,'Comparison - Category'!$D$128:$D$174,0),)","v":39.350844630095935},{"$f":"INDEX('Comparison - Category'!$W$128:$W$174,MATCH(G$20&$A22,'Comparison - Category'!$D$128:$D$174,0),)","v":{"$error":"#N/A"}},{"$f":"INDEX('Comparison - Category'!$X$128:$X$174,MATCH(H$20&$A22,'Comparison - Category'!$D$128:$D$174,0),)","v":86.259778931049595},{"$f":"INDEX('Comparison - Category'!$X$128:$X$174,MATCH(I$20&$A22,'Comparison - Category'!$D$128:$D$174,0),)","v":37.894453536864432},{"$f":"INDEX('Comparison - Category'!$X$128:$X$174,MATCH(J$20&$A22,'Comparison - Category'!$D$128:$D$174,0),)","v":31.612217131132752},{"$f":"INDEX('Comparison - Category'!$X$128:$X$174,MATCH(K$20&$A22,'Comparison - Category'!$D$128:$D$174,0),)","v":40.094508944594622},{"$f":"INDEX('Comparison - Category'!$X$128:$X$174,MATCH(L$20&$A22,'Comparison - Category'!$D$128:$D$174,0),)","v":31.956262723310488},{"$f":"INDEX('Comparison - Category'!$W$128:$W$174,MATCH(M$20&$A22,'Comparison - Category'!$D$128:$D$174,0),)","v":{"$error":"#N/A"}}]
[null,"% Increase",{"$f":"C24/C23","v":0.22781260359375835},0.12212939774746281,8.3598171772889987E-2,6.9312874641986655E-2,{"$error":"#N/A"},0.15999347274495895,0.11870269865547399,0.13055807914264642,0.149107185681955,9.9240927036498658E-2,{"$error":"#N/A"}]
[null,{"$f":"\"Average Value \"&year_current","v":"Average Value 2022/23"},{"$f":"INDEX('Comparison - Category'!$H$69:$H$115,MATCH(C$20&$A22,'Comparison - Category'!$D$69:$D$115,0),)","v":1269140.0489186405},{"$f":"INDEX('Comparison - Category'!$H$69:$H$115,MATCH(D$20&$A22,'Comparison - Category'!$D$69:$D$115,0),)","v":632628.47664543521},{"$f":"INDEX('Comparison - Category'!$H$69:$H$115,MATCH(E$20&$A22,'Comparison - Category'!$D$69:$D$115,0),)","v":587865.1053107637},{"$f":"INDEX('Comparison - Category'!$H$69:$H$115,MATCH(F$20&$A22,'Comparison - Category'!$D$69:$D$115,0),)","v":671620.47342418157},{"$f":"INDEX('Comparison - Category'!$H$69:$H$115,MATCH(G$20&$A22,'Comparison - Category'!$D$69:$D$115,0),)","v":{"$error":"#N/A"}},{"$f":"INDEX('Comparison - Category'!$H$69:$H$115,MATCH(H$20&$A22,'Comparison - Category'!$D$69:$D$115,0),)","v":746863.59069564263},{"$f":"INDEX('Comparison - Category'!$H$69:$H$115,MATCH(I$20&$A22,'Comparison - Category'!$D$69:$D$115,0),)","v":517958.90920359467},{"$f":"INDEX('Comparison - Category'!$H$69:$H$115,MATCH(J$20&$A22,'Comparison - Category'!$D$69:$D$115,0),)","v":480728.958529689},{"$f":"INDEX('Comparison - Category'!$H$69:$H$115,MATCH(K$20&$A22,'Comparison - Category'!$D$69:$D$115,0),)","v":507131.78145440551},{"$f":"INDEX('Comparison - Category'!$H$69:$H$115,MATCH(L$20&$A22,'Comparison - Category'!$D$69:$D$115,0),)","v":608575.08484162891},{"$f":"INDEX('Comparison - Category'!$H$69:$H$115,MATCH(M$20&$A22,'Comparison - Category'!$D$69:$D$115,0),)","v":{"$error":"#N/A"}}]
[]
[null,null,"Including GST"]
[null,{"$f":"\"Average Rates \"& year_current","v":"Average Rates 2022/23"},{"$f":"+C22*(1+GST)","v":826.4867841994444},799.51302491046658,702.00184947175808,698.14042138046307,{"$f":"+G22*(1+GST)","v":{"$error":"#N/A"}},719.2162006629884,{"$f":"+I22*(1+GST)","v":410.70272288102888},{"$f":"+J22*(1+GST)","v":314.80521824995543},355.34049779351898,407.05763081823818,{"$error":"#N/A"}]
[null,{"$f":"\"Average Rates \"& year_previous","v":"Average Rates 2021/22"},673.13756332224534,712.4962829735955,647.84333137366139,652.88695005585282,{"$error":"#N/A"},620.01745489228131,{"$f":"+I23*(1+GST)","v":367.12410131363475},278.45116854915278,309.23181250723519,370.30792868643113,{"$error":"#N/A"}]
[null,"Average Increase",153.34922087719909,87.016741936871057,54.158518098096636,45.253471324610324,{"$error":"#N/A"},99.198745770707021,{"$f":"+I24*(1+GST)","v":43.578621567394094},36.354049700802662,46.108685286283809,36.749702131807055,{"$error":"#N/A"}]
[]
[null,null,"Excluding GST"]
["Rural",{"$f":"\"Average Rates \"& year_current","v":"Average Rates 2022/23"},{"$f":"INDEX('Comparison - Category'!$X$69:$X$115,MATCH(C$20&$A34,'Comparison - Category'!$D$69:$D$115,0),)","v":547.16995386666929},{"$f":"INDEX('Comparison - Category'!$X$69:$X$115,MATCH(D$20&$A34,'Comparison - Category'!$D$69:$D$115,0),)","v":659.57123762202309},{"$f":"INDEX('Comparison - Category'!$X$69:$X$115,MATCH(E$20&$A34,'Comparison - Category'!$D$69:$D$115,0),)","v":593.60471298301377},{"$f":"INDEX('Comparison - Category'!$X$69:$X$115,MATCH(F$20&$A34,'Comparison - Category'!$D$69:$D$115,0),)","v":734.16590449650812},{"$f":"INDEX('Comparison - Category'!$X$69:$X$115,MATCH(G$20&$A34,'Comparison - Category'!$D$69:$D$115,0),)","v":553.88289786741529},{"$f":"INDEX('Comparison - Category'!$X$69:$X$115,MATCH(H$20&$A34,'Comparison - Category'!$D$69:$D$115,0),)","v":{"$error":"#N/A"}},{"$f":"INDEX('Comparison - Category'!$X$69:$X$115,MATCH(I$20&$A34,'Comparison - Category'!$D$69:$D$115,0),)","v":{"$error":"#N/A"}},{"$f":"INDEX('Comparison - Category'!$X$69:$X$115,MATCH(J$20&$A34,'Comparison - Category'!$D$69:$D$115,0),)","v":461.4503939870977},{"$f":"INDEX('Comparison - Category'!$X$69:$X$115,MATCH(K$20&$A34,'Comparison - Category'!$D$69:$D$115,0),)","v":517.48852651798632},{"$f":"INDEX('Comparison - Category'!$X$69:$X$115,MATCH(L$20&$A34,'Comparison - Category'!$D$69:$D$115,0),)","v":557.67152150608888},{"$f":"INDEX('Comparison - Category'!$X$69:$X$115,MATCH(M$20&$A34,'Comparison - Category'!$D$69:$D$115,0),)","v":643.13559619099453}]
[null,{"$f":"\"Average Rates \"& year_previous","v":"Average Rates 2021/22"},{"$f":"INDEX('Comparison - Category'!$X$9:$X$56,MATCH(C$20&$A34,'Comparison - Category'!$D$9:$D$56,0),)","v":466.50074598189622},{"$f":"INDEX('Comparison - Category'!$X$9:$X$56,MATCH(D$20&$A34,'Comparison - Category'!$D$9:$D$56,0),)","v":580.49597066519618},{"$f":"INDEX('Comparison - Category'!$X$9:$X$56,MATCH(E$20&$A34,'Comparison - Category'!$D$9:$D$56,0),)","v":542.29581004649947},{"$f":"INDEX('Comparison - Category'!$X$9:$X$56,MATCH(F$20&$A34,'Comparison - Category'!$D$9:$D$56,0),)","v":680.16929866094722},{"$f":"INDEX('Comparison - Category'!$X$9:$X$56,MATCH(G$20&$A34,'Comparison - Category'!$D$9:$D$56,0),)","v":489.95794197241179},{"$f":"INDEX('Comparison - Category'!$X$9:$X$56,MATCH(H$20&$A34,'Comparison - Category'!$D$9:$D$56,0),)","v":{"$error":"#N/A"}},{"$f":"INDEX('Comparison - Category'!$X$9:$X$56,MATCH(I$20&$A34,'Comparison - Category'!$D$9:$D$56,0),)","v":{"$error":"#N/A"}},{"$f":"INDEX('Comparison - Category'!$X$9:$X$56,MATCH(J$20&$A34,'Comparison - Category'!$D$9:$D$56,0),)","v":427.32125500772196},{"$f":"INDEX('Comparison - Category'!$X$9:$X$56,MATCH(K$20&$A34,'Comparison - Category'!$D$9:$D$56,0),)","v":465.82501344752745},{"$f":"INDEX('Comparison - Category'!$X$9:$X$56,MATCH(L$20&$A34,'Comparison - Category'!$D$9:$D$56,0),)","v":514.75538335907981},{"$f":"INDEX('Comparison - Category'!$X$9:$X$56,MATCH(M$20&$A34,'Comparison - Category'!$D$9:$D$56,0),)","v":568.60754744311419}]
[null,"Average Increase",{"$f":"INDEX('Comparison - Category'!$X$128:$X$174,MATCH(C$20&$A34,'Comparison - Category'!$D$128:$D$174,0),)","v":80.669207884773073},{"$f":"INDEX('Comparison - Category'!$X$128:$X$174,MATCH(D$20&$A34,'Comparison - Category'!$D$128:$D$174,0),)","v":79.075266956826908},{"$f":"INDEX('Comparison - Category'!$X$128:$X$174,MATCH(E$20&$A34,'Comparison - Category'!$D$128:$D$174,0),)","v":51.308902936514301},{"$f":"INDEX('Comparison - Category'!$X$128:$X$174,MATCH(F$20&$A34,'Comparison - Category'!$D$128:$D$174,0),)","v":53.996605835560899},{"$f":"INDEX('Comparison - Category'!$X$128:$X$174,MATCH(G$20&$A34,'Comparison - Category'!$D$128:$D$174,0),)","v":63.924955895003507},{"$f":"INDEX('Comparison - Category'!$X$128:$X$174,MATCH(H$20&$A34,'Comparison - Category'!$D$128:$D$174,0),)","v":{"$error":"#N/A"}},{"$f":"INDEX('Comparison - Category'!$X$128:$X$174,MATCH(I$20&$A34,'Comparison - Category'!$D$128:$D$174,0),)","v":{"$error":"#N/A"}},{"$f":"INDEX('Comparison - Category'!$X$128:$X$174,MATCH(J$20&$A34,'Comparison - Category'!$D$128:$D$174,0),)","v":34.129138979375739},{"$f":"INDEX('Comparison - Category'!$X$128:$X$174,MATCH(K$20&$A34,'Comparison - Category'!$D$128:$D$174,0),)","v":51.663513070458862},{"$f":"INDEX('Comparison - Category'!$X$128:$X$174,MATCH(L$20&$A34,'Comparison - Category'!$D$128:$D$174,0),)","v":42.916138147009065},{"$f":"INDEX('Comparison - Category'!$X$128:$X$174,MATCH(M$20&$A34,'Comparison - Category'!$D$128:$D$174,0),)","v":74.528048747880348}]
[null,"% Increase",{"$f":"C36/C35","v":0.17292407049634956},0.1362201823144677,9.4614234493375096E-2,7.9387008413735069E-2,0.13047029228195051,{"$error":"#N/A"},{"$error":"#N/A"},7.9867637238777198E-2,0.11090755450872426,8.3371907384350546E-2,0.1310711563415124]
[null,{"$f":"\"Average Value \"&year_current","v":"Average Value 2022/23"},{"$f":"INDEX('Comparison - Category'!$H$69:$H$115,MATCH(C$20&$A34,'Comparison - Category'!$D$69:$D$115,0),)","v":1541569.13507109},{"$f":"INDEX('Comparison - Category'!$H$69:$H$115,MATCH(D$20&$A34,'Comparison - Category'!$D$69:$D$115,0),)","v":883211.36363636365},{"$f":"INDEX('Comparison - Category'!$H$69:$H$115,MATCH(E$20&$A34,'Comparison - Category'!$D$69:$D$115,0),)","v":880878.1038374718},{"$f":"INDEX('Comparison - Category'!$H$69:$H$115,MATCH(F$20&$A34,'Comparison - Category'!$D$69:$D$115,0),)","v":1334672.4569640062},{"$f":"INDEX('Comparison - Category'!$H$69:$H$115,MATCH(G$20&$A34,'Comparison - Category'!$D$69:$D$115,0),)","v":980777.84132841334},{"$f":"INDEX('Comparison - Category'!$H$69:$H$115,MATCH(H$20&$A34,'Comparison - Category'!$D$69:$D$115,0),)","v":{"$error":"#N/A"}},{"$f":"INDEX('Comparison - Category'!$H$69:$H$115,MATCH(I$20&$A34,'Comparison - Category'!$D$69:$D$115,0),)","v":{"$error":"#N/A"}},{"$f":"INDEX('Comparison - Category'!$H$69:$H$115,MATCH(J$20&$A34,'Comparison - Category'!$D$69:$D$115,0),)","v":988787.14018924301},{"$f":"INDEX('Comparison - Category'!$H$69:$H$115,MATCH(K$20&$A34,'Comparison - Category'!$D$69:$D$115,0),)","v":1046935.540229885},{"$f":"INDEX('Comparison - Category'!$H$69:$H$115,MATCH(L$20&$A34,'Comparison - Category'!$D$69:$D$115,0),)","v":1193030.6825106642},{"$f":"INDEX('Comparison - Category'!$H$69:$H$115,MATCH(M$20&$A34,'Comparison - Category'!$D$69:$D$115,0),)","v":1597650}]
[]
[null,null,"Excluding GST"]
["Business",{"$f":"\"Average Rates \"& year_current","v":"Average Rates 2022/23"},{"$f":"INDEX('Comparison - Category'!$X$69:$X$115,MATCH(C$20&$A41,'Comparison - Category'!$D$69:$D$115,0),)","v":2770.9362787733553},{"$f":"INDEX('Comparison - Category'!$X$69:$X$115,MATCH(D$20&$A41,'Comparison - Category'!$D$69:$D$115,0),)","v":2695.1135335966546},{"$f":"INDEX('Comparison - Category'!$X$69:$X$115,MATCH(E$20&$A41,'Comparison - Category'!$D$69:$D$115,0),)","v":2316.1275254525221},{"$f":"INDEX('Comparison - Category'!$X$69:$X$115,MATCH(F$20&$A41,'Comparison - Category'!$D$69:$D$115,0),)","v":1900.6243705146701},{"$f":"INDEX('Comparison - Category'!$X$69:$X$115,MATCH(G$20&$A41,'Comparison - Category'!$D$69:$D$115,0),)","v":1369.1305074981008},{"$f":"INDEX('Comparison - Category'!$X$69:$X$115,MATCH(H$20&$A41,'Comparison - Category'!$D$69:$D$115,0),)","v":{"$error":"#N/A"}},{"$f":"INDEX('Comparison - Category'!$X$69:$X$115,MATCH(I$20&$A41,'Comparison - Category'!$D$69:$D$115,0),)","v":{"$error":"#N/A"}},{"$f":"INDEX('Comparison - Category'!$X$69:$X$115,MATCH(J$20&$A41,'Comparison - Category'!$D$69:$D$115,0),)","v":969.22988018374292},{"$f":"INDEX('Comparison - Category'!$X$69:$X$115,MATCH(K$20&$A41,'Comparison - Category'!$D$69:$D$115,0),)","v":454.0785906835381},{"$f":"INDEX('Comparison - Category'!$X$69:$X$115,MATCH(L$20&$A41,'Comparison - Category'!$D$69:$D$115,0),)","v":700.43574241749866},{"$f":"INDEX('Comparison - Category'!$X$69:$X$115,MATCH(M$20&$A41,'Comparison - Category'!$D$69:$D$115,0),)","v":{"$error":"#N/A"}}]
[null,{"$f":"\"Average Rates \"& year_previous","v":"Average Rates 2021/22"},{"$f":"INDEX('Comparison - Category'!$X$9:$X$56,MATCH(C$20&$A41,'Comparison - Category'!$D$9:$D$56,0),)","v":2441.7597164318518},{"$f":"INDEX('Comparison - Category'!$X$9:$X$56,MATCH(D$20&$A41,'Comparison - Category'!$D$9:$D$56,0),)","v":2353.3843467547831},{"$f":"INDEX('Comparison - Category'!$X$9:$X$56,MATCH(E$20&$A41,'Comparison - Category'!$D$9:$D$56,0),)","v":2110.2557654765328},{"$f":"INDEX('Comparison - Category'!$X$9:$X$56,MATCH(F$20&$A41,'Comparison - Category'!$D$9:$D$56,0),)","v":1755.701375933565},{"$f":"INDEX('Comparison - Category'!$X$9:$X$56,MATCH(G$20&$A41,'Comparison - Category'!$D$9:$D$56,0),)","v":1153.704928060225},{"$f":"INDEX('Comparison - Category'!$X$9:$X$56,MATCH(H$20&$A41,'Comparison - Category'!$D$9:$D$56,0),)","v":{"$error":"#N/A"}},{"$f":"INDEX('Comparison - Category'!$X$9:$X$56,MATCH(I$20&$A41,'Comparison - Category'!$D$9:$D$56,0),)","v":{"$error":"#N/A"}},{"$f":"INDEX('Comparison - Category'!$X$9:$X$56,MATCH(J$20&$A41,'Comparison - Category'!$D$9:$D$56,0),)","v":839.64077268782171},{"$f":"INDEX('Comparison - Category'!$X$9:$X$56,MATCH(K$20&$A41,'Comparison - Category'!$D$9:$D$56,0),)","v":378.68289469441851},{"$f":"INDEX('Comparison - Category'!$X$9:$X$56,MATCH(L$20&$A41,'Comparison - Category'!$D$9:$D$56,0),)","v":611.55866875199717},{"$f":"INDEX('Comparison - Category'!$X$9:$X$56,MATCH(M$20&$A41,'Comparison - Category'!$D$9:$D$56,0),)","v":{"$error":"#N/A"}}]
[null,"Average Increase",{"$f":"INDEX('Comparison - Category'!$X$128:$X$174,MATCH(C$20&$A41,'Comparison - Category'!$D$128:$D$174,0),)","v":329.17656234150354},{"$f":"INDEX('Comparison - Category'!$X$128:$X$174,MATCH(D$20&$A41,'Comparison - Category'!$D$128:$D$174,0),)","v":341.72918684187152},{"$f":"INDEX('Comparison - Category'!$X$128:$X$174,MATCH(E$20&$A41,'Comparison - Category'!$D$128:$D$174,0),)","v":205.87175997598933},{"$f":"INDEX('Comparison - Category'!$X$128:$X$174,MATCH(F$20&$A41,'Comparison - Category'!$D$128:$D$174,0),)","v":144.92299458110506},{"$f":"INDEX('Comparison - Category'!$X$128:$X$174,MATCH(G$20&$A41,'Comparison - Category'!$D$128:$D$174,0),)","v":215.42557943787574},{"$f":"INDEX('Comparison - Category'!$X$128:$X$174,MATCH(H$20&$A41,'Comparison - Category'!$D$128:$D$174,0),)","v":{"$error":"#N/A"}},{"$f":"INDEX('Comparison - Category'!$X$128:$X$174,MATCH(I$20&$A41,'Comparison - Category'!$D$128:$D$174,0),)","v":{"$error":"#N/A"}},{"$f":"INDEX('Comparison - Category'!$X$128:$X$174,MATCH(J$20&$A41,'Comparison - Category'!$D$128:$D$174,0),)","v":129.58910749592121},{"$f":"INDEX('Comparison - Category'!$X$128:$X$174,MATCH(K$20&$A41,'Comparison - Category'!$D$128:$D$174,0),)","v":75.395695989119588},{"$f":"INDEX('Comparison - Category'!$X$128:$X$174,MATCH(L$20&$A41,'Comparison - Category'!$D$128:$D$174,0),)","v":88.877073665501484},{"$f":"INDEX('Comparison - Category'!$X$128:$X$174,MATCH(M$20&$A41,'Comparison - Category'!$D$128:$D$174,0),)","v":{"$error":"#N/A"}}]
[null,"% Increase",{"$f":"C43/C42","v":0.13481120198941193},0.1452075549466034,9.7557728946424588E-2,8.2544216555075975E-2,0.18672502318255696,{"$error":"#N/A"},{"$error":"#N/A"},0.15433875022658342,0.19909981952039532,0.14532877744480707,{"$error":"#N/A"}]
[null,{"$f":"\"Average Value \"&year_current","v":"Average Value 2022/23"},{"$f":"INDEX('Comparison - Category'!$H$69:$H$115,MATCH(C$20&$A41,'Comparison - Category'!$D$69:$D$115,0),)","v":3533103.5278514591},{"$f":"INDEX('Comparison - Category'!$H$69:$H$115,MATCH(D$20&$A41,'Comparison - Category'!$D$69:$D$115,0),)","v":2089392.8875638843},{"$f":"INDEX('Comparison - Category'!$H$69:$H$115,MATCH(E$20&$A41,'Comparison - Category'!$D$69:$D$115,0),)","v":1885737.890625},{"$f":"INDEX('Comparison - Category'!$H$69:$H$115,MATCH(F$20&$A41,'Comparison - Category'!$D$69:$D$115,0),)","v":1748034.9563046193},{"$f":"INDEX('Comparison - Category'!$H$69:$H$115,MATCH(G$20&$A41,'Comparison - Category'!$D$69:$D$115,0),)","v":1362806.2164236377},{"$f":"INDEX('Comparison - Category'!$H$69:$H$115,MATCH(H$20&$A41,'Comparison - Category'!$D$69:$D$115,0),)","v":{"$error":"#N/A"}},{"$f":"INDEX('Comparison - Category'!$H$69:$H$115,MATCH(I$20&$A41,'Comparison - Category'!$D$69:$D$115,0),)","v":{"$error":"#N/A"}},{"$f":"INDEX('Comparison - Category'!$H$69:$H$115,MATCH(J$20&$A41,'Comparison - Category'!$D$69:$D$115,0),)","v":1292083.5087719299},{"$f":"INDEX('Comparison - Category'!$H$69:$H$115,MATCH(K$20&$A41,'Comparison - Category'!$D$69:$D$115,0),)","v":567349.57627118647},{"$f":"INDEX('Comparison - Category'!$H$69:$H$115,MATCH(L$20&$A41,'Comparison - Category'!$D$69:$D$115,0),)","v":911879.36507936509},{"$f":"INDEX('Comparison - Category'!$H$69:$H$115,MATCH(M$20&$A41,'Comparison - Category'!$D$69:$D$115,0),)","v":{"$error":"#N/A"}}]
[]
[null,null,"Excluding GST"]
["Wellington CBD",{"$f":"\"Average Rates \"& year_current","v":"Average Rates 2022/23"},{"$f":"INDEX('Comparison - Category'!$X$69:$X$115,MATCH(C$20&$A48,'Comparison - Category'!$D$69:$D$115,0),)","v":10155.11582880614},{"$f":"INDEX('Comparison - Category'!$X$69:$X$115,MATCH(D$20&$A48,'Comparison - Category'!$D$69:$D$115,0),)","v":{"$error":"#N/A"}},{"$f":"INDEX('Comparison - Category'!$X$69:$X$115,MATCH(E$20&$A48,'Comparison - Category'!$D$69:$D$115,0),)","v":{"$error":"#N/A"}},{"$f":"INDEX('Comparison - Category'!$X$69:$X$115,MATCH(F$20&$A48,'Comparison - Category'!$D$69:$D$115,0),)","v":{"$error":"#N/A"}},{"$f":"INDEX('Comparison - Category'!$X$69:$X$115,MATCH(G$20&$A48,'Comparison - Category'!$D$69:$D$115,0),)","v":{"$error":"#N/A"}},{"$f":"INDEX('Comparison - Category'!$X$69:$X$115,MATCH(H$20&$A48,'Comparison - Category'!$D$69:$D$115,0),)","v":{"$error":"#N/A"}},{"$f":"INDEX('Comparison - Category'!$X$69:$X$115,MATCH(I$20&$A48,'Comparison - Category'!$D$69:$D$115,0),)","v":{"$error":"#N/A"}},{"$f":"INDEX('Comparison - Category'!$X$69:$X$115,MATCH(J$20&$A48,'Comparison - Category'!$D$69:$D$115,0),)","v":{"$error":"#N/A"}},{"$f":"INDEX('Comparison - Category'!$X$69:$X$115,MATCH(K$20&$A48,'Comparison - Category'!$D$69:$D$115,0),)","v":{"$error":"#N/A"}},{"$f":"INDEX('Comparison - Category'!$X$69:$X$115,MATCH(L$20&$A48,'Comparison - Category'!$D$69:$D$115,0),)","v":{"$error":"#N/A"}},{"$f":"INDEX('Comparison - Category'!$X$69:$X$115,MATCH(M$20&$A48,'Comparison - Category'!$D$69:$D$115,0),)","v":{"$error":"#N/A"}}]
[null,{"$f":"\"Average Rates \"& year_previous","v":"Average Rates 2021/22"},{"$f":"INDEX('Comparison - Category'!$X$9:$X$56,MATCH(C$20&$A48,'Comparison - Category'!$D$9:$D$56,0),)","v":10379.911522942743},{"$f":"INDEX('Comparison - Category'!$X$9:$X$56,MATCH(D$20&$A48,'Comparison - Category'!$D$9:$D$56,0),)","v":{"$error":"#N/A"}},{"$f":"INDEX('Comparison - Category'!$X$9:$X$56,MATCH(E$20&$A48,'Comparison - Category'!$D$9:$D$56,0),)","v":{"$error":"#N/A"}},{"$f":"INDEX('Comparison - Category'!$X$9:$X$56,MATCH(F$20&$A48,'Comparison - Category'!$D$9:$D$56,0),)","v":{"$error":"#N/A"}},{"$f":"INDEX('Comparison - Category'!$X$9:$X$56,MATCH(G$20&$A48,'Comparison - Category'!$D$9:$D$56,0),)","v":{"$error":"#N/A"}},{"$f":"INDEX('Comparison - Category'!$X$9:$X$56,MATCH(H$20&$A48,'Comparison - Category'!$D$9:$D$56,0),)","v":{"$error":"#N/A"}},{"$f":"INDEX('Comparison - Category'!$X$9:$X$56,MATCH(I$20&$A48,'Comparison - Category'!$D$9:$D$56,0),)","v":{"$error":"#N/A"}},{"$f":"INDEX('Comparison - Category'!$X$9:$X$56,MATCH(J$20&$A48,'Comparison - Category'!$D$9:$D$56,0),)","v":{"$error":"#N/A"}},{"$f":"INDEX('Comparison - Category'!$X$9:$X$56,MATCH(K$20&$A48,'Comparison - Category'!$D$9:$D$56,0),)","v":{"$error":"#N/A"}},{"$f":"INDEX('Comparison - Category'!$X$9:$X$56,MATCH(L$20&$A48,'Comparison - Category'!$D$9:$D$56,0),)","v":{"$error":"#N/A"}},{"$f":"INDEX('Comparison - Category'!$X$9:$X$56,MATCH(M$20&$A48,'Comparison - Category'!$D$9:$D$56,0),)","v":{"$error":"#N/A"}}]
[null,"Average Increase",{"$f":"INDEX('Comparison - Category'!$X$128:$X$174,MATCH(C$20&$A48,'Comparison - Category'!$D$128:$D$174,0),)","v":-224.79569413660283},{"$f":"INDEX('Comparison - Category'!$X$128:$X$174,MATCH(D$20&$A48,'Comparison - Category'!$D$128:$D$174,0),)","v":{"$error":"#N/A"}},{"$f":"INDEX('Comparison - Category'!$X$128:$X$174,MATCH(E$20&$A48,'Comparison - Category'!$D$128:$D$174,0),)","v":{"$error":"#N/A"}},{"$f":"INDEX('Comparison - Category'!$X$128:$X$174,MATCH(F$20&$A48,'Comparison - Category'!$D$128:$D$174,0),)","v":{"$error":"#N/A"}},{"$f":"INDEX('Comparison - Category'!$X$128:$X$174,MATCH(G$20&$A48,'Comparison - Category'!$D$128:$D$174,0),)","v":{"$error":"#N/A"}},{"$f":"INDEX('Comparison - Category'!$X$128:$X$174,MATCH(H$20&$A48,'Comparison - Category'!$D$128:$D$174,0),)","v":{"$error":"#N/A"}},{"$f":"INDEX('Comparison - Category'!$X$128:$X$174,MATCH(I$20&$A48,'Comparison - Category'!$D$128:$D$174,0),)","v":{"$error":"#N/A"}},{"$f":"INDEX('Comparison - Category'!$X$128:$X$174,MATCH(J$20&$A48,'Comparison - Category'!$D$128:$D$174,0),)","v":{"$error":"#N/A"}},{"$f":"INDEX('Comparison - Category'!$X$128:$X$174,MATCH(K$20&$A48,'Comparison - Category'!$D$128:$D$174,0),)","v":{"$error":"#N/A"}},{"$f":"INDEX('Comparison - Category'!$X$128:$X$174,MATCH(L$20&$A48,'Comparison - Category'!$D$128:$D$174,0),)","v":{"$error":"#N/A"}},{"$f":"INDEX('Comparison - Category'!$X$128:$X$174,MATCH(M$20&$A48,'Comparison - Category'!$D$128:$D$174,0),)","v":{"$error":"#N/A"}}]
[null,"% Increase",{"$f":"C50/C49","v":-2.1656802530516411E-2},{"$error":"#N/A"},{"$error":"#N/A"},{"$error":"#N/A"},{"$error":"#N/A"},{"$error":"#N/A"},{"$error":"#N/A"},{"$error":"#N/A"},{"$error":"#N/A"},{"$error":"#N/A"},{"$error":"#N/A"}]
[null,{"$f":"\"Average Value \"&year_current","v":"Average Value 2022/23"},{"$f":"INDEX('Comparison - Category'!$H$69:$H$115,MATCH(C$20&$A48,'Comparison - Category'!$D$69:$D$115,0),)","v":3942788.2617832483},{"$f":"INDEX('Comparison - Category'!$H$69:$H$115,MATCH(D$20&$A48,'Comparison - Category'!$D$69:$D$115,0),)","v":{"$error":"#N/A"}},{"$f":"INDEX('Comparison - Category'!$H$69:$H$115,MATCH(E$20&$A48,'Comparison - Category'!$D$69:$D$115,0),)","v":{"$error":"#N/A"}},{"$f":"INDEX('Comparison - Category'!$H$69:$H$115,MATCH(F$20&$A48,'Comparison - Category'!$D$69:$D$115,0),)","v":{"$error":"#N/A"}},{"$f":"INDEX('Comparison - Category'!$H$69:$H$115,MATCH(G$20&$A48,'Comparison - Category'!$D$69:$D$115,0),)","v":{"$error":"#N/A"}},{"$f":"INDEX('Comparison - Category'!$H$69:$H$115,MATCH(H$20&$A48,'Comparison - Category'!$D$69:$D$115,0),)","v":{"$error":"#N/A"}},{"$f":"INDEX('Comparison - Category'!$H$69:$H$115,MATCH(I$20&$A48,'Comparison - Category'!$D$69:$D$115,0),)","v":{"$error":"#N/A"}},{"$f":"INDEX('Comparison - Category'!$H$69:$H$115,MATCH(J$20&$A48,'Comparison - Category'!$D$69:$D$115,0),)","v":{"$error":"#N/A"}},{"$f":"INDEX('Comparison - Category'!$H$69:$H$115,MATCH(K$20&$A48,'Comparison - Category'!$D$69:$D$115,0),)","v":{"$error":"#N/A"}},{"$f":"INDEX('Comparison - Category'!$H$69:$H$115,MATCH(L$20&$A48,'Comparison - Category'!$D$69:$D$115,0),)","v":{"$error":"#N/A"}},{"$f":"INDEX('Comparison - Category'!$H$69:$H$115,MATCH(M$20&$A48,'Comparison - Category'!$D$69:$D$115,0),)","v":{"$error":"#N/A"}}]
[]
[null,null,"Excluding GST"]
["District wide",{"$f":"\"Average Rates \"& year_current","v":"Average Rates 2022/23"},{"$f":"INDEX('Comparison - Category'!$X$69:$X$115,MATCH(C$20&$A55,'Comparison - Category'!$D$69:$D$115,0),)","v":1158.9327469002071},{"$f":"INDEX('Comparison - Category'!$X$69:$X$115,MATCH(D$20&$A55,'Comparison - Category'!$D$69:$D$115,0),)","v":810.86960042031751},{"$f":"INDEX('Comparison - Category'!$X$69:$X$115,MATCH(E$20&$A55,'Comparison - Category'!$D$69:$D$115,0),)","v":683.62794085923076},{"$f":"INDEX('Comparison - Category'!$X$69:$X$115,MATCH(F$20&$A55,'Comparison - Category'!$D$69:$D$115,0),)","v":663.34223121815751},{"$f":"INDEX('Comparison - Category'!$X$69:$X$115,MATCH(G$20&$A55,'Comparison - Category'!$D$69:$D$115,0),)","v":621.6954920983485},{"$f":"INDEX('Comparison - Category'!$X$69:$X$115,MATCH(H$20&$A55,'Comparison - Category'!$D$69:$D$115,0),)","v":{"$error":"#N/A"}},{"$f":"INDEX('Comparison - Category'!$X$69:$X$115,MATCH(I$20&$A55,'Comparison - Category'!$D$69:$D$115,0),)","v":{"$error":"#N/A"}},{"$f":"INDEX('Comparison - Category'!$X$69:$X$115,MATCH(J$20&$A55,'Comparison - Category'!$D$69:$D$115,0),)","v":361.11840816197287},{"$f":"INDEX('Comparison - Category'!$X$69:$X$115,MATCH(K$20&$A55,'Comparison - Category'!$D$69:$D$115,0),)","v":405.1616003176224},{"$f":"INDEX('Comparison - Category'!$X$69:$X$115,MATCH(L$20&$A55,'Comparison - Category'!$D$69:$D$115,0),)","v":462.21911067170487},{"$f":"INDEX('Comparison - Category'!$X$69:$X$115,MATCH(M$20&$A55,'Comparison - Category'!$D$69:$D$115,0),)","v":641.63559619099453}]
[null,{"$f":"\"Average Rates \"& year_previous","v":"Average Rates 2021/22"},{"$f":"INDEX('Comparison - Category'!$X$9:$X$56,MATCH(C$20&$A55,'Comparison - Category'!$D$9:$D$56,0),)","v":1032.5909557206915},{"$f":"INDEX('Comparison - Category'!$X$9:$X$56,MATCH(D$20&$A55,'Comparison - Category'!$D$9:$D$56,0),)","v":722.39033946259406},{"$f":"INDEX('Comparison - Category'!$X$9:$X$56,MATCH(E$20&$A55,'Comparison - Category'!$D$9:$D$56,0),)","v":628.40005372700193},{"$f":"INDEX('Comparison - Category'!$X$9:$X$56,MATCH(F$20&$A55,'Comparison - Category'!$D$9:$D$56,0),)","v":620.54232232500476},{"$f":"INDEX('Comparison - Category'!$X$9:$X$56,MATCH(G$20&$A55,'Comparison - Category'!$D$9:$D$56,0),)","v":537.55158535651526},{"$f":"INDEX('Comparison - Category'!$X$9:$X$56,MATCH(H$20&$A55,'Comparison - Category'!$D$9:$D$56,0),)","v":{"$error":"#N/A"}},{"$f":"INDEX('Comparison - Category'!$X$9:$X$56,MATCH(I$20&$A55,'Comparison - Category'!$D$9:$D$56,0),)","v":{"$error":"#N/A"}},{"$f":"INDEX('Comparison - Category'!$X$9:$X$56,MATCH(J$20&$A55,'Comparison - Category'!$D$9:$D$56,0),)","v":324.67078083349401},{"$f":"INDEX('Comparison - Category'!$X$9:$X$56,MATCH(K$20&$A55,'Comparison - Category'!$D$9:$D$56,0),)","v":357.47460125661758},{"$f":"INDEX('Comparison - Category'!$X$9:$X$56,MATCH(L$20&$A55,'Comparison - Category'!$D$9:$D$56,0),)","v":422.68712309395374},{"$f":"INDEX('Comparison - Category'!$X$9:$X$56,MATCH(M$20&$A55,'Comparison - Category'!$D$9:$D$56,0),)","v":565.80754744311412}]
[null,"Average Increase",{"$f":"INDEX('Comparison - Category'!$X$128:$X$174,MATCH(C$20&$A55,'Comparison - Category'!$D$128:$D$174,0),)","v":126.34179117951567},{"$f":"INDEX('Comparison - Category'!$X$128:$X$174,MATCH(D$20&$A55,'Comparison - Category'!$D$128:$D$174,0),)","v":88.479260957723454},{"$f":"INDEX('Comparison - Category'!$X$128:$X$174,MATCH(E$20&$A55,'Comparison - Category'!$D$128:$D$174,0),)","v":55.22788713222883},{"$f":"INDEX('Comparison - Category'!$X$128:$X$174,MATCH(F$20&$A55,'Comparison - Category'!$D$128:$D$174,0),)","v":42.799908893152747},{"$f":"INDEX('Comparison - Category'!$X$128:$X$174,MATCH(G$20&$A55,'Comparison - Category'!$D$128:$D$174,0),)","v":84.143906741833234},{"$f":"INDEX('Comparison - Category'!$X$128:$X$174,MATCH(H$20&$A55,'Comparison - Category'!$D$128:$D$174,0),)","v":{"$error":"#N/A"}},{"$f":"INDEX('Comparison - Category'!$X$128:$X$174,MATCH(I$20&$A55,'Comparison - Category'!$D$128:$D$174,0),)","v":{"$error":"#N/A"}},{"$f":"INDEX('Comparison - Category'!$X$128:$X$174,MATCH(J$20&$A55,'Comparison - Category'!$D$128:$D$174,0),)","v":36.447627328478859},{"$f":"INDEX('Comparison - Category'!$X$128:$X$174,MATCH(K$20&$A55,'Comparison - Category'!$D$128:$D$174,0),)","v":47.686999061004826},{"$f":"INDEX('Comparison - Category'!$X$128:$X$174,MATCH(L$20&$A55,'Comparison - Category'!$D$128:$D$174,0),)","v":39.531987577751124},{"$f":"INDEX('Comparison - Category'!$X$128:$X$174,MATCH(M$20&$A55,'Comparison - Category'!$D$128:$D$174,0),)","v":75.828048747880416}]
[null,"% Increase",{"$f":"C57/C56","v":0.12235415241588676},0.12248123503914185,8.7886509246260625E-2,6.8971780575405442E-2,0.15653178045420008,{"$error":"#N/A"},{"$error":"#N/A"},0.11226026325778564,0.13339968460240934,9.3525412575589773E-2,0.13401738646037434]
[null,{"$f":"\"Average Value \"&year_current","v":"Average Value 2022/23"},{"$f":"INDEX('Comparison - Category'!$H$69:$H$115,MATCH(C$20&$A55,'Comparison - Category'!$D$69:$D$115,0),)","v":1436984.963559407},{"$f":"INDEX('Comparison - Category'!$H$69:$H$115,MATCH(D$20&$A55,'Comparison - Category'!$D$69:$D$115,0),)","v":719876.16141148563},{"$f":"INDEX('Comparison - Category'!$H$69:$H$115,MATCH(E$20&$A55,'Comparison - Category'!$D$69:$D$115,0),)","v":666737.39971550496},{"$f":"INDEX('Comparison - Category'!$H$69:$H$115,MATCH(F$20&$A55,'Comparison - Category'!$D$69:$D$115,0),)","v":736371.8817664535},{"$f":"INDEX('Comparison - Category'!$H$69:$H$115,MATCH(G$20&$A55,'Comparison - Category'!$D$69:$D$115,0),)","v":774170.6836503091},{"$f":"INDEX('Comparison - Category'!$H$69:$H$115,MATCH(H$20&$A55,'Comparison - Category'!$D$69:$D$115,0),)","v":{"$error":"#N/A"}},{"$f":"INDEX('Comparison - Category'!$H$69:$H$115,MATCH(I$20&$A55,'Comparison - Category'!$D$69:$D$115,0),)","v":{"$error":"#N/A"}},{"$f":"INDEX('Comparison - Category'!$H$69:$H$115,MATCH(J$20&$A55,'Comparison - Category'!$D$69:$D$115,0),)","v":672164.91930549184},{"$f":"INDEX('Comparison - Category'!$H$69:$H$115,MATCH(K$20&$A55,'Comparison - Category'!$D$69:$D$115,0),)","v":744314.33133732539},{"$f":"INDEX('Comparison - Category'!$H$69:$H$115,MATCH(L$20&$A55,'Comparison - Category'!$D$69:$D$115,0),)","v":890886.05075003509},{"$f":"INDEX('Comparison - Category'!$H$69:$H$115,MATCH(M$20&$A55,'Comparison - Category'!$D$69:$D$115,0),)","v":1597650}]
[]
[]
[]
[null,"Consultation document",null,null,null,null,null,null,null,null,"For the Engagement 2-pager – Overall Average"]
[null,null,null,null,null,null,null,null,null,null,"Average rates increase across the region:",{"$f":"J13","v":0.11703010210159356}]
[null,"Residential Property - including GST","Average Capital Value",{"$f":"\"Average Increase \nin \"&year_current","v":"Average Increase \nin 2022/23"},"Average Increase \nWeekly",{"$f":"\"Average Rates \n\"&year_current","v":"Average Rates \n2022/23"},"Average rates\nweekly","Increase %",null,null,null,"average change per annum","Average change per week"]
[null,"Wellington city",{"$f":"INDEX($C$26:$M$26,,MATCH($B66,$C$20:$M$20,0))","v":1269140.0489186405},{"$f":"INDEX($C$31:$M$31,,MATCH($B66,$C$20:$M$20,0))","v":153.34922087719909},{"$f":"+D66/52","v":2.9490234784076748},{"$f":"INDEX($C$29:$M$29,,MATCH($B66,$C$20:$M$20,0))","v":826.4867841994444},{"$f":"+F66/52","v":15.893976619220085},{"$f":"INDEX($C$25:$M$25,,MATCH($B66,$C$20:$M$20,0))","v":0.22781260359375835},null,null,"Residential (incl. GST)",{"$f":"I17","v":103.28766540725034},{"$f":"L66/52","v":1.9863012578317374}]
[null,"Hutt city",632628.47664543521,87.016741936871057,{"$f":"+D67/52","v":1.6733988834013664},799.51302491046658,{"$f":"+F67/52","v":15.375250479047434},0.12212939774746281,null,null,"Business (excl. GST)",{"$f":"I10","v":251.99129969931187},{"$f":"L67/52","v":4.8459865326790741}]
[null,"Upper Hutt city",587865.1053107637,54.158518098096636,1.0415099634249354,702.00184947175808,13.500035566764579,8.3598171772889987E-2,null,null,"Rural (excl. GST)",{"$f":"I12","v":49.495147653707988},{"$f":"L68/52","v":0.95182976257130747}]
[null,"Porirua city",671620.47342418157,45.253471324610324,0.87025906393481389,698.14042138046307,13.425777334239674,6.9312874641986655E-2]
[null,"Kāpiti Coast district excl Ōtaki ",746863.59069564263,99.198745770707021,1.907668187898212,719.2162006629884,13.831080781980546,0.15999347274495895,null,null,"For the FactSheets:"]
[null,"Ōtaki rating area",517958.90920359467,43.578621567394094,0.83805041475757869,410.70272288102888,7.8981292861736323,0.11870269865547399,null,null,"Wellington City Average Rates",null,"Average Rates 2022/23","Change in amount per annum","Change in amount per week"]
[null,"Masterton district",480728.958529689,36.354049700802662,0.69911634040005122,314.80521824995543,6.0539465048068353,0.13055807914264642]
[null,"Carterton district",507131.78145440551,46.108685286283809,0.88670548627468859,355.34049779351898,6.8334711114138269,0.149107185681955,null,null,"Residential (incl. GST)","Wellington City",{"$f":"INDEX($C$29:$M$29,,MATCH($L73,$C$20:$M$20,0))","v":826.4867841994444},{"$f":"INDEX($C$31:$M$31,,MATCH($L73,$C$20:$M$20,0))","v":153.34922087719909},{"$f":"N73/52","v":2.9490234784076748}]
[null,"South Wairarapa district",608575.08484162891,36.749702131807055,0.70672504099628952,407.05763081823818,7.8280313618891961,9.9240927036498658E-2,null,null,"Business ","Wellington City",{"$f":"INDEX($C$41:$M$41,,MATCH($L74,$C$20:$M$20,0))","v":2770.9362787733553},{"$f":"INDEX($C$43:$M$43,,MATCH($L74,$C$20:$M$20,0))","v":329.17656234150354},{"$f":"N74/52","v":6.3303185065673757}]
[null,null,null,null,null,null,null,null,null,null,"(excl. GST)","Wellington City – CBD",{"$f":"C48","v":10155.11582880614},{"$f":"C50","v":-224.79569413660283},{"$f":"N75/52","v":-4.3229941180115929}]
[null,null,null,null,null,null,null,null,null,null,"Rural (excl. GST)","Wellington City",{"$f":"INDEX($C$34:$M$34,,MATCH($L76,$C$20:$M$20,0))","v":547.16995386666929},{"$f":"INDEX($C$36:$M$36,,MATCH($L76,$C$20:$M$20,0))","v":80.669207884773073},{"$f":"N76/52","v":1.5513309208610206}]
[null,"Rural Property - excluding GST","Average Capital Value","Average Increase \nper year","Average Increase \nper week","Average Rates \nper year","Average rates\nper week","Increase %"]
[null,"Wellington city",{"$f":"ROUND(INDEX($C$38:$M$38,,MATCH($B78,$C$20:$M$20,0)),-3)","v":1542000},{"$f":"INDEX($C$36:$M$36,,MATCH($B78,$C$20:$M$20,0))","v":80.669207884773073},{"$f":"+D78/52","v":1.5513309208610206},{"$f":"INDEX($C$34:$M$34,,MATCH($B78,$C$20:$M$20,0))","v":547.16995386666929},{"$f":"+F78/52","v":10.522499112820563},{"$f":"INDEX($C$37:$M$37,,MATCH($B78,$C$20:$M$20,0))","v":0.17292407049634956},null,null,"Wairarapa Average Rates",null,"Average Rates 2022/23","Change in amount per annum","Change in amount per week"]
[null,"Hutt city",883000,79.075266956826908,{"$f":"+D79/52","v":1.5206782107082097},659.57123762202309,{"$f":"+F79/52","v":12.684062261961982},0.1362201823144677]
[null,"Upper Hutt city",881000,51.308902936514301,0.98670967185604419,593.60471298301377,11.415475249673342,9.4614234493375096E-2,null,null,"Residential ","Masterton District",{"$f":"INDEX($C$29:$M$29,,MATCH($L80,$C$20:$M$20,0))","v":314.80521824995543},{"$f":"INDEX($C$31:$M$31,,MATCH($L80,$C$20:$M$20,0))","v":36.354049700802662},{"$f":"N80/52","v":0.69911634040005122}]
[null,"Porirua city",1335000,53.996605835560899,1.0383962660684789,734.16590449650812,14.11857508647131,7.9387008413735069E-2,null,null,"(incl. GST)","Carterton District",{"$f":"INDEX($C$29:$M$29,,MATCH($L81,$C$20:$M$20,0))","v":355.34049779351898},{"$f":"INDEX($C$31:$M$31,,MATCH($L81,$C$20:$M$20,0))","v":46.108685286283809},{"$f":"N81/52","v":0.88670548627468859}]
[null,"Kāpiti Coast district",981000,63.924955895003507,1.2293260749039137,553.88289786741529,10.651594189757986,0.13047029228195051,null,null,null,"South Wairarapa District",{"$f":"INDEX($C$29:$M$29,,MATCH($L82,$C$20:$M$20,0))","v":407.05763081823818},{"$f":"INDEX($C$31:$M$31,,MATCH($L82,$C$20:$M$20,0))","v":36.749702131807055},0.70672504099628952]
[null,"Masterton district",989000,34.129138979375739,0.65632959575722571,461.4503939870977,8.8740460382134181,7.9867637238777198E-2,null,null,"Business ","Masterton District",{"$f":"_xlfn.SINGLE(INDEX($C$41:$M$41,MATCH($L83,$C$20:$M$20,0)))","v":969.22988018374292},{"$f":"INDEX($C$43:$M$43,,MATCH($L83,$C$20:$M$20,0))","v":129.58910749592121},2.4920982210754081]
[null,"Carterton district",1047000,51.663513070458862,0.99352909750882423,517.48852651798632,9.9517024330381982,0.11090755450872426,null,null,"(excl. GST)","Carterton District",{"$f":"_xlfn.SINGLE(INDEX($C$41:$M$41,MATCH($L84,$C$20:$M$20,0)))","v":454.0785906835381},{"$f":"INDEX($C$43:$M$43,,MATCH($L84,$C$20:$M$20,0))","v":75.395695989119588},1.4499172305599921]
[null,"South Wairarapa district",1193000,42.916138147009065,0.82531034898094358,557.67152150608888,10.724452336655556,8.3371907384350546E-2,null,null,null,"South Wairarapa District",{"$f":"_xlfn.SINGLE(INDEX($C$41:$M$41,MATCH($L85,$C$20:$M$20,0)))","v":700.43574241749866},{"$f":"INDEX($C$43:$M$43,,MATCH($L85,$C$20:$M$20,0))","v":88.877073665501484},1.7091744935673363]
[null,"Tararua district",1598000,74.528048747880348,{"$f":"+D86/52","v":1.4332317066900067},643.13559619099453,12.367992234442202,0.1310711563415124,null,null,"Rural ","Masterton District",{"$f":"INDEX($C$34:$M$34,,MATCH($L86,$C$20:$M$20,0))","v":461.4503939870977},{"$f":"INDEX($C$36:$M$36,,MATCH($L86,$C$20:$M$20,0))","v":34.129138979375739},0.65632959575722571]
[null,"These projected rates exclude the targeted rural pest and river management rates that are not charged to all ratepayers",null,null,null,null,null,null,null,null,"(excl. GST)","Carterton District",{"$f":"INDEX($C$34:$M$34,,MATCH($L87,$C$20:$M$20,0))","v":517.48852651798632},{"$f":"INDEX($C$36:$M$36,,MATCH($L87,$C$20:$M$20,0))","v":51.663513070458862},0.99352909750882423]
[null,null,null,null,null,null,null,null,null,null,null,"South Wairarapa District",{"$f":"INDEX($C$34:$M$34,,MATCH($L88,$C$20:$M$20,0))","v":557.67152150608888},{"$f":"INDEX($C$36:$M$36,,MATCH($L88,$C$20:$M$20,0))","v":42.916138147009065},0.82531034898094358]
[]
[null,"Business Property - excluding GST","Average Capital Value","Average Increase \nper year","Average Increase \nper week","Average Rates \nper year","Average rates\nper week","Increase %",null,null,"Porirua Average Rates",null,"Average Rates 2022/23","Change in amount per annum","Change in amount per week"]
[null,"Wellington city - CBD",{"$f":"ROUND(+$C$52,-3)","v":3943000},{"$f":"ROUND(+$C$50,0)","v":-225},{"$f":"+D91/52","v":-4.3269230769230766},{"$f":"ROUND(+$C$48,0)","v":10155},{"$f":"+F91/52","v":195.28846153846155},{"$f":"C51","v":-2.1656802530516411E-2}]
[null,"Wellington city",{"$f":"ROUND(INDEX($C$45:$M$45,,MATCH($B92,$C$20:$M$20,0)),-3)","v":3533000},{"$f":"INDEX($C$43:$M$43,,MATCH($B92,$C$20:$M$20,0))","v":329.17656234150354},6.3303185065673757,{"$f":"INDEX($C$41:$M$41,,MATCH($B92,$C$20:$M$20,0))","v":2770.9362787733553},{"$f":"+F92/52","v":53.287236130256829},{"$f":"INDEX($C$44:$M$44,,MATCH($B92,$C$20:$M$20,0))","v":0.13481120198941193},null,null,"Residential (incl. GST)","Porirua City",{"$f":"INDEX($C$29:$M$29,,MATCH($L92,$C$20:$M$20,0))","v":698.14042138046307},{"$f":"INDEX($C$31:$M$31,,MATCH($L92,$C$20:$M$20,0))","v":45.253471324610324},{"$f":"+N92/52","v":0.87025906393481389}]
[null,"Hutt city",2089000,{"$f":"INDEX($C$43:$M$43,,MATCH($B93,$C$20:$M$20,0))","v":341.72918684187152},6.571715131574452,{"$f":"INDEX($C$41:$M$41,,MATCH($B93,$C$20:$M$20,0))","v":2695.1135335966546},{"$f":"+F93/52","v":51.829106415320283},0.1452075549466034,null,null,"Business (excl. GST)","Porirua City",{"$f":"INDEX($C$41:$M$41,MATCH($L93,$C$20:$M$20,0))","v":1900.6243705146701},{"$f":"INDEX($C$43:$M$43,,MATCH($L93,$C$20:$M$20,0))","v":144.92299458110506},{"$f":"+N93/52","v":2.7869806650212512}]
[null,"Upper Hutt city",1886000,205.87175997598933,3.959072307230564,2316.1275254525221,{"$f":"+F94/52","v":44.54091395101004},9.7557728946424588E-2,null,null,"Rural (excl. GST)","Porirua City",{"$f":"INDEX($C$34:$M$34,,MATCH($L94,$C$20:$M$20,0))","v":734.16590449650812},{"$f":"INDEX($C$36:$M$36,,MATCH($L94,$C$20:$M$20,0))","v":53.996605835560899},{"$f":"+N94/52","v":1.0383962660684789}]
[null,"Porirua city",1748000,144.92299458110506,2.7869806650212512,1900.6243705146701,36.550468663743658,8.2544216555075975E-2]
[null,"Kāpiti Coast district",1363000,215.42557943787574,4.1427996045745337,1369.1305074981008,26.329432836501937,0.18672502318255696,null,null,"Kāpiti Coast Average Rates",null,"Average Rates 2022/23","Change in amount per annum","Change in amount per week"]
[null,"Masterton district",1292000,129.58910749592121,2.4920982210754081,969.22988018374292,18.639036157379671,0.15433875022658342]
[null,"Carterton district",567000,75.395695989119588,1.4499172305599921,454.0785906835381,8.73228059006804,0.19909981952039532,null,null,"Residential ","Kāpiti Coast district excl Ōtaki ",{"$f":"INDEX($C$29:$M$29,,MATCH($L98,$C$20:$M$20,0))","v":719.2162006629884},{"$f":"INDEX($C$31:$M$31,,MATCH($L98,$C$20:$M$20,0))","v":99.198745770707021},{"$f":"+N98/52","v":1.907668187898212}]
[null,"South Wairarapa district",912000,88.877073665501484,1.7091744935673363,700.43574241749866,13.469918123413436,0.14532877744480707,null,null,"(incl. GST)","Ōtaki rating area",{"$f":"INDEX($C$29:$M$29,,MATCH($L99,$C$20:$M$20,0))","v":410.70272288102888},{"$f":"INDEX($C$31:$M$31,,MATCH($L99,$C$20:$M$20,0))","v":43.578621567394094},{"$f":"+N99/52","v":0.83805041475757869}]
[null,"These projected rates exclude the targeted rural pest and river management rates that are not charged to all ratepayers",null,null,null,null,null,null,null,null,"Business (excl. GST)","Kāpiti Coast District",{"$f":"INDEX($C$41:$M$41,,MATCH($L100,$C$20:$M$20,0))","v":1369.1305074981008},{"$f":"INDEX($C$43:$M$43,,MATCH($L100,$C$20:$M$20,0))","v":215.42557943787574},{"$f":"+N100/52","v":4.1427996045745337}]
[null,null,null,null,null,null,null,null,null,null,"Rural ","Kāpiti Coast District",{"$f":"INDEX($C$34:$M$34,,MATCH($L101,$C$20:$M$20,0))","v":553.88289786741529},{"$f":"INDEX($C$36:$M$36,,MATCH($L101,$C$20:$M$20,0))","v":63.924955895003507},{"$f":"+N101/52","v":1.2293260749039137}]
[null,"You can estimate your own projected regional rates on our website",null,null,null,null,null,null,null,null,"(excl. GST)","Tararua District",{"$f":"INDEX($C$34:$M$34,,MATCH($L102,$C$20:$M$20,0))","v":643.13559619099453},{"$f":"INDEX($C$36:$M$36,,MATCH($L102,$C$20:$M$20,0))","v":74.528048747880348},{"$f":"+N102/52","v":1.4332317066900067}]
[]
[null,null,null,null,null,null,null,null,null,null,"Hutt Valley Average Rates",null,"Average Rates 2022/23","Change in amount per annum","Change in amount per week"]
[]
[null,null,null,null,null,null,null,null,null,null,"Residential ","Hutt City",{"$f":"INDEX($C$29:$M$29,,MATCH($L106,$C$20:$M$20,0))","v":799.51302491046658},{"$f":"INDEX($C$31:$M$31,,MATCH($L106,$C$20:$M$20,0))","v":87.016741936871057},{"$f":"+N106/52","v":1.6733988834013664}]
[null,"Residential Property - including GST","Average Capital Value","Average Increase \nper year","Average Increase \nper week","Average Rates \nper year","Average rates\nper week",null,null,null,"(incl. GST)","Upper Hutt City",{"$f":"INDEX($C$29:$M$29,,MATCH($L107,$C$20:$M$20,0))","v":702.00184947175808},{"$f":"INDEX($C$31:$M$31,,MATCH($L107,$C$20:$M$20,0))","v":54.158518098096636},1.0415099634249354]
[null,{"$f":"+B109","v":"Wellington city"},{"$f":"ROUND(C109,-5)-100000","v":1100000},{"$f":"ROUND($C108/$C109*D109,0)","v":133},{"$f":"+D108/52","v":2.5576923076923075},{"$f":"ROUND($C108/$C109*F109,0)","v":717},{"$f":"+F108/52","v":13.788461538461538},null,null,null,"Business ","Hutt City",{"$f":"INDEX($C$41:$M$41,,MATCH($L108,$C$20:$M$20,0))","v":2695.1135335966546},{"$f":"INDEX($C$43:$M$43,,MATCH($L108,$C$20:$M$20,0))","v":341.72918684187152},6.571715131574452]
[null,{"$f":"+B110","v":"Wellington city"},{"$f":"ROUND(C110,-5)-100000","v":1200000},{"$f":"ROUND($C109/$C110*D110,0)","v":145},{"$f":"+D109/52","v":2.7884615384615383},{"$f":"ROUND($C109/$C110*F110,0)","v":782},{"$f":"+F109/52","v":15.038461538461538},null,null,null,"(excl. GST)","Upper Hutt City",{"$f":"INDEX($C$41:$M$41,,MATCH($L109,$C$20:$M$20,0))","v":2316.1275254525221},{"$f":"INDEX($C$43:$M$43,,MATCH($L109,$C$20:$M$20,0))","v":205.87175997598933},3.959072307230564]
[null,"Wellington city",{"$f":"ROUND(INDEX($C$26:$M$26,,MATCH($B110,$C$20:$M$20,0)),-3)","v":1269000},{"$f":"INDEX($C$31:$M$31,,MATCH($B110,$C$20:$M$20,0))","v":153.34922087719909},{"$f":"+D110/52","v":2.9490234784076748},{"$f":"INDEX($C$29:$M$29,,MATCH($B110,$C$20:$M$20,0))","v":826.4867841994444},{"$f":"+F110/52","v":15.893976619220085},null,null,null,"Rural ","Hutt City",{"$f":"INDEX($C$34:$M$34,,MATCH($L110,$C$20:$M$20,0))","v":659.57123762202309},{"$f":"INDEX($C$36:$M$36,,MATCH($L110,$C$20:$M$20,0))","v":79.075266956826908},1.5206782107082097]
[null,{"$f":"+B110","v":"Wellington city"},{"$f":"ROUND(C110,-5)+100000","v":1400000},{"$f":"ROUND($C111/$C110*D110,0)","v":169},{"$f":"+D111/52","v":3.25},{"$f":"ROUND($C111/$C110*F110,0)","v":912},{"$f":"+F111/52","v":17.53846153846154},null,null,null,"(excl. GST)","Upper Hutt City",{"$f":"INDEX($C$34:$M$34,,MATCH($L111,$C$20:$M$20,0))","v":593.60471298301377},{"$f":"INDEX($C$36:$M$36,,MATCH($L111,$C$20:$M$20,0))","v":51.308902936514301},0.98670967185604419]
[null,{"$f":"+B111","v":"Wellington city"},{"$f":"ROUND(C111,-5)+100000","v":1500000},{"$f":"ROUND($C112/$C111*D111,0)","v":181},{"$f":"+D112/52","v":3.4807692307692308},{"$f":"ROUND($C112/$C111*F111,0)","v":977},{"$f":"+F112/52","v":18.78846153846154}]
[]
[null,null,null,null,null,null,null,null,null,null,"Wellington City Average Rates",null,{"$f":"SUM(M73:M76)-SUM(C29,C34,C41,C48)","v":0},{"$f":"SUM(N73:N76)-SUM(C31,C36,C43,C50)","v":0}]
[null,null,null,null,null,null,null,null,null,null,"Wairarapa Average Rates",null,{"$f":"SUM(M80:M88)-SUM(J29:L29,J34:L34,J41:L41)","v":0},{"$f":"SUM(N80:N88)-SUM(J31:L31,J36:L36,J43:L43)","v":0}]
[null,"Residential Property - including GST","Average Capital Value","Average Increase \nper year","Average Increase \nper week","Average Rates \nper year","Average rates\nper week",null,null,null,"Porirua Average Rates",null,{"$f":"SUM(M80:M88)-SUM(J29:L29,J34:L34,J41:L41)","v":0},{"$f":"SUM(N92:N94)-SUM(F31,F36,F43)","v":0}]
[null,{"$f":"+B118","v":"Hutt city"},{"$f":"ROUND(C118,-5)-100000","v":400000},{"$f":"ROUND($C117/$C118*D118,0)","v":55},{"$f":"+D117/52","v":1.0576923076923077},{"$f":"ROUND($C117/$C118*F118,0)","v":506},{"$f":"+F117/52","v":9.7307692307692299},null,null,null,"Kāpiti Coast Average Rates",null,{"$f":"SUM(M98:M102)-SUM(H29:I29,G34,G41,M34)","v":0},{"$f":"SUM(N98:N102)-SUM(H31:I31,G36,G43,M36)","v":0}]
[null,{"$f":"+B119","v":"Hutt city"},{"$f":"ROUND(C119,-5)-100000","v":500000},{"$f":"ROUND($C118/$C119*D119,0)","v":69},{"$f":"+D118/52","v":1.3269230769230769},{"$f":"ROUND($C118/$C119*F119,0)","v":632},{"$f":"+F118/52","v":12.153846153846153},null,null,null,"Hutt Valley Average Rates",null,{"$f":"SUM(M106:M111)-SUM(D29:E29,D34:E34,D41:E41)","v":0},{"$f":"SUM(N106:N111)-SUM(D31:E31,D36:E36,D43:E43)","v":0}]
[null,{"$f":"+B67","v":"Hutt city"},{"$f":"ROUND(INDEX($C$26:$M$26,,MATCH($B119,$C$20:$M$20,0)),-3)","v":633000},{"$f":"INDEX($C$31:$M$31,,MATCH($B119,$C$20:$M$20,0))","v":87.016741936871057},{"$f":"+D119/52","v":1.6733988834013664},{"$f":"INDEX($C$29:$M$29,,MATCH($B119,$C$20:$M$20,0))","v":799.51302491046658},{"$f":"+F119/52","v":15.375250479047434}]
[null,{"$f":"+B119","v":"Hutt city"},{"$f":"ROUND(C119,-5)+100000","v":700000},{"$f":"ROUND($C120/$C119*D119,0)","v":96},{"$f":"+D120/52","v":1.8461538461538463},{"$f":"ROUND($C120/$C119*F119,0)","v":884},{"$f":"+F120/52","v":17}]
[null,{"$f":"+B120","v":"Hutt city"},{"$f":"ROUND(C120,-5)+100000","v":800000},{"$f":"ROUND($C121/$C120*D120,0)","v":110},{"$f":"+D121/52","v":2.1153846153846154},{"$f":"ROUND($C121/$C120*F120,0)","v":1010},{"$f":"+F121/52","v":19.423076923076923}]
[]
[]
[]
[null,"Residential Property - including GST","Average Capital Value","Average Increase \nper year","Average Increase \nper week","Average Rates \nper year","Average rates\nper week"]
[null,{"$f":"+B127","v":"Upper Hutt city"},{"$f":"ROUND(C127,-5)-100000","v":400000},{"$f":"ROUND($C126/$C127*D127,0)","v":37},{"$f":"+D126/52","v":0.71153846153846156},{"$f":"ROUND($C126/$C127*F127,0)","v":478},{"$f":"+F126/52","v":9.1923076923076916}]
[null,{"$f":"+B128","v":"Upper Hutt city"},{"$f":"ROUND(C128,-5)-100000","v":500000},{"$f":"ROUND($C127/$C128*D128,0)","v":46},{"$f":"+D127/52","v":0.88461538461538458},{"$f":"ROUND($C127/$C128*F128,0)","v":597},{"$f":"+F127/52","v":11.48076923076923}]
[null,{"$f":"+B68","v":"Upper Hutt city"},{"$f":"ROUND(INDEX($C$26:$M$26,,MATCH($B128,$C$20:$M$20,0)),-3)","v":588000},{"$f":"INDEX($C$31:$M$31,,MATCH($B128,$C$20:$M$20,0))","v":54.158518098096636},{"$f":"+D128/52","v":1.0415099634249354},{"$f":"INDEX($C$29:$M$29,,MATCH($B128,$C$20:$M$20,0))","v":702.00184947175808},{"$f":"+F128/52","v":13.500035566764579}]
[null,{"$f":"+B128","v":"Upper Hutt city"},{"$f":"ROUND(C128,-5)+100000","v":700000},{"$f":"ROUND($C129/$C128*D128,0)","v":64},{"$f":"+D129/52","v":1.2307692307692308},{"$f":"ROUND($C129/$C128*F128,0)","v":836},{"$f":"+F129/52","v":16.076923076923077}]
[null,{"$f":"+B129","v":"Upper Hutt city"},{"$f":"ROUND(C129,-5)+100000","v":800000},{"$f":"ROUND($C130/$C129*D129,0)","v":73},{"$f":"+D130/52","v":1.4038461538461537},{"$f":"ROUND($C130/$C129*F129,0)","v":955},{"$f":"+F130/52","v":18.365384615384617}]
[]
[]
[]
[null,"Residential Property - including GST","Average Capital Value","Average Increase \nper year","Average Increase \nper week","Average Rates \nper year","Average rates\nper week"]
[null,{"$f":"+B136","v":"Porirua city"},{"$f":"ROUND(C136,-5)-100000","v":500000},{"$f":"ROUND($C135/$C136*D136,0)","v":33},{"$f":"+D135/52","v":0.63461538461538458},{"$f":"ROUND($C135/$C136*F136,0)","v":519},{"$f":"+F135/52","v":9.9807692307692299}]
[null,{"$f":"+B137","v":"Porirua city"},{"$f":"ROUND(C137,-5)-100000","v":600000},{"$f":"ROUND($C136/$C137*D137,0)","v":40},{"$f":"+D136/52","v":0.76923076923076927},{"$f":"ROUND($C136/$C137*F137,0)","v":623},{"$f":"+F136/52","v":11.98076923076923}]
[null,{"$f":"+B69","v":"Porirua city"},{"$f":"ROUND(INDEX($C$26:$M$26,,MATCH($B137,$C$20:$M$20,0)),-3)","v":672000},{"$f":"INDEX($C$31:$M$31,,MATCH($B137,$C$20:$M$20,0))","v":45.253471324610324},{"$f":"+D137/52","v":0.87025906393481389},{"$f":"INDEX($C$29:$M$29,,MATCH($B137,$C$20:$M$20,0))","v":698.14042138046307},{"$f":"+F137/52","v":13.425777334239674}]
[null,{"$f":"+B137","v":"Porirua city"},{"$f":"ROUND(C137,-5)+100000","v":800000},{"$f":"ROUND($C138/$C137*D137,0)","v":54},{"$f":"+D138/52","v":1.0384615384615385},{"$f":"ROUND($C138/$C137*F137,0)","v":831},{"$f":"+F138/52","v":15.98076923076923}]
[null,{"$f":"+B138","v":"Porirua city"},{"$f":"ROUND(C138,-5)+100000","v":900000},{"$f":"ROUND($C139/$C138*D138,0)","v":61},{"$f":"+D139/52","v":1.1730769230769231},{"$f":"ROUND($C139/$C138*F138,0)","v":935},{"$f":"+F139/52","v":17.98076923076923}]
[]
[]
[]
[null,"Residential Property - including GST","Average Capital Value","Average Increase \nper year","Average Increase \nper week","Average Rates \nper year","Average rates\nper week"]
[null,{"$f":"+B145","v":"Kāpiti Coast district excl Ōtaki "},{"$f":"ROUND(C145,-5)-100000","v":500000},{"$f":"ROUND($C144/$C145*D145,0)","v":67},{"$f":"+D144/52","v":1.2884615384615385},{"$f":"ROUND($C144/$C145*F145,0)","v":482},{"$f":"+F144/52","v":9.2692307692307701}]
[null,{"$f":"+B146","v":"Kāpiti Coast district excl Ōtaki "},{"$f":"ROUND(C146,-5)-100000","v":600000},{"$f":"ROUND($C145/$C146*D146,0)","v":80},{"$f":"+D145/52","v":1.5384615384615385},{"$f":"ROUND($C145/$C146*F146,0)","v":578},{"$f":"+F145/52","v":11.115384615384615}]
[null,{"$f":"+B70","v":"Kāpiti Coast district excl Ōtaki "},{"$f":"ROUND(INDEX($C$26:$M$26,,MATCH($B146,$C$20:$M$20,0)),-3)","v":747000},{"$f":"INDEX($C$31:$M$31,,MATCH($B146,$C$20:$M$20,0))","v":99.198745770707021},{"$f":"+D146/52","v":1.907668187898212},{"$f":"INDEX($C$29:$M$29,,MATCH($B146,$C$20:$M$20,0))","v":719.2162006629884},{"$f":"+F146/52","v":13.831080781980546}]
[null,{"$f":"+B146","v":"Kāpiti Coast district excl Ōtaki "},{"$f":"ROUND(C146,-5)+100000","v":800000},{"$f":"ROUND($C147/$C146*D146,0)","v":106},{"$f":"+D147/52","v":2.0384615384615383},{"$f":"ROUND($C147/$C146*F146,0)","v":770},{"$f":"+F147/52","v":14.807692307692308}]
[null,{"$f":"+B147","v":"Kāpiti Coast district excl Ōtaki "},{"$f":"ROUND(C147,-5)+100000","v":900000},{"$f":"ROUND($C148/$C147*D147,0)","v":119},{"$f":"+D148/52","v":2.2884615384615383},{"$f":"ROUND($C148/$C147*F147,0)","v":866},{"$f":"+F148/52","v":16.653846153846153}]

{"sheet":"Mechanisms","index":35,"n_rows":19,"n_cols":8,"rows_kept":19,"cut":false,"hidden":false,"merged":[[14,0,14,4],[18,0,18,4],[16,0,16,4]]}
["Rating mechanisms",null,"This hasn’t been updated for the changes and should be review by someone from a policy perspective"]
["Funding mechanism","Groups of activities funded","Valuation system","Matters for differentiation/categories of land","Calculation factor","Years used"]
["General rate"]
["General rate","All Groups of activities except Public Transport are funded to some extent by this rate. Activities that are not funded are Warm Greater Wellington and the Economic Development.","Capital value","Where the land is situated.","Cents per dollar of rateable capital value","2018-2028",null,"Only display column f for LTP year"]
["Targeted rates"]
["Economic development rate","Regional Leadership","Business category - capital value\nResidential and Rural categories - not based on value","Where the land is situated and the use to which the land is put.","Business - cents per dollar of rateable capital value\nResidential - fixed dollar amount per rating unit\nRural - fixed dollar amount per rating unit","2018-2028"]
["Warm Greater Wellington","Regional Leadership","Extent of service provided","Provision of service to the land.","Extent of service, calculated as a percentage of the service.","2018-2028"]
["Public transport","Public Transport","Capital value","Where the land is situated and the use to which the land is put.","Cents per dollar of rateable capital value","2018-2028"]
["Pest management","Environment","Land area","Where the land is situated and the area of land within each rating unit.","Dollars per hectare","2018-2028"]
["River  management","Flood Protection","Capital value/land value","Where the land is situated.","Cents per dollar of rateable capital value / land value.","2018-2028"]
["Wairarapa river management schemes ","Flood Protection","Land area/inhabited parts/services provided","Where the land is situated (in some cases set under section146 of the Local Government (Rating) Act 2002 using approved classification and differential registers) and/or the benefits accruing through the provision of services and in some cases use.","Dollars per hectare in the area protected, or dollars per point attributed to each rating unit and in some cases a fixed charge per separately used or inhabited part (dwelling).1","2018-2028"]
["Wairarapa catchment schemes ","Flood Protection","Land area/land value/inhabited parts","Where the land is situated (in some cases set under S146 of the Local Government (Rating) Act 2002 using approved classification and differential registers) and in some cases use and land value.","Dollars per hectare or cents per metre of river frontage in the area protected and in some cases a fixed charge per separately used or inhabited part (dwelling) and cents per dollar of rateable land value.1","2018-2028"]
["Wairarapa drainage schemes","Flood Protection","Land area","Where the land is situated (Set under S146 of the Local Government (Rating) Act 2002 using approved classification and differential registers).","Dollars per hectare in the area protected.","2018-2028"]
["Differential on the general rate"]
["There are no differentials on Greater Wellington Regional Council's general rate."]
["Estimate of projected valuation"]
[" Greater Wellington uses an \"estimate of projected valuation\" to recognise that valuation dates vary across the region (section 131, Local Government (Rating) Act 2002). "]
["Separately used or inhabited part"]
["1 \"Separately used or inhabited part\" (dwelling) includes any part of a rating unit separately used or inhabited by the owner or any other person who has the right to use or inhabit that part by virtue of a tenancy, lease, licence or other agreement. At a minimum, the land or premises intended to form the separately used or inhabited part of the rating unit must be capable of actual habitation, or actual separate use. To avoid doubt, a rating unit that has only one use (ie, it does not have separate parts or is vacant land) is treated as being one separately used or inhabited part (dwelling)."]

{"sheet":"For IT","index":36,"n_rows":158,"n_cols":19,"rows_kept":158,"cut":false,"hidden":false,"merged":[]}
["Wellington Regional Council"]
["Figures for IT to upload to website"]
[]
["Rate_Class_ID","Rate_Class_Name","Model"]
[1,"Residential","Residential"]
[2,"Business","Business",null,null,null,null,null,null,null,"per $",null,"Model name","Rate","Look up rate name","Category"]
[3,"Rural","Rural",null,null,"TA_ID","Rate_Class_ID","Rates_ID","Rates_Status_ID","Rates_year","Rates_value"]
[4,"Wellington CBD","Regional CBD",null,null,41,1,1,2,{"$f":"year_current","v":"2022/23"},{"$f":"ROUND(INDEX('Comparison - Category'!$Z$81:$AE$107,MATCH(M8&P8,'Comparison - Category'!$D$81:$D$107,0),MATCH(O8,'Comparison - Category'!$Z$66:$AE$66,0)),10)","v":2.74687118E-2},null,{"$f":"VLOOKUP(F8,$A$30:$B$38,2,FALSE)","v":"Wellington city"},{"$f":"VLOOKUP(H8,$A$19:$B$25,2,FALSE)","v":"General rate"},{"$f":"VLOOKUP(H8,$A$19:$C$25,3,FALSE)","v":"General rate"},{"$f":"VLOOKUP(G8,$A$5:$B$10,2,FALSE)","v":"Residential"}]
[5,"Residential - excl Otaki"," excl Otaki",null,null,{"$f":"+F8","v":41},1,2,{"$f":"+I8","v":2},"2022/23",{"$f":"ROUND(INDEX('Comparison - Category'!$Z$81:$AE$107,MATCH(M9&P9,'Comparison - Category'!$D$81:$D$107,0),MATCH(O9,'Comparison - Category'!$Z$66:$AE$66,0)),10)","v":4.8044100000000003E-5},null,"Wellington city","River management rate","River management rate",{"$f":"VLOOKUP(G9,$A$5:$B$10,2,FALSE)","v":"Residential"}]
[6,"Residential - Otaki rating area",null,null,null,41,1,3,{"$f":"+I9","v":2},"2022/23",{"$f":"ROUND(INDEX('Comparison - Category'!$Z$81:$AE$107,MATCH(M10&P10,'Comparison - Category'!$D$81:$D$107,0),MATCH(O10,'Comparison - Category'!$Z$66:$AE$66,0)),10)","v":2.7928989500000001E-2},null,"Wellington city","Public transport rate","Public transport rate","Residential"]
[null,null,null,null,null,41,1,4,2,"2022/23",{"$f":"ROUND(INDEX('Comparison - Category'!$Z$81:$AE$107,MATCH(M11&P11,'Comparison - Category'!$D$81:$D$107,0),MATCH(O11,'Comparison - Category'!$Z$66:$AE$66,0)),10)","v":0},null,"Wellington city","Stadium purposes rate","Stadium purposes rate","Residential"]
[null,null,null,null,null,41,1,5,2,"2022/23",{"$f":"ROUND(INDEX('Comparison - Category'!$Z$81:$AE$107,MATCH(M12&P12,'Comparison - Category'!$D$81:$D$107,0),MATCH(O12,'Comparison - Category'!$Z$66:$AE$66,0)),10)","v":15},null,"Wellington city","Economic development rate","Economic development rate","Residential"]
["Rates_status_ID","Rates_status",null,null,null,41,{"$f":"G8+1","v":2},1,2,"2022/23",{"$f":"ROUND(INDEX('Comparison - Category'!$Z$81:$AE$107,MATCH(M13&P13,'Comparison - Category'!$D$81:$D$107,0),MATCH(O13,'Comparison - Category'!$Z$66:$AE$66,0)),10)","v":3.5709325299999997E-2},null,"Wellington city","General rate","General rate","Business"]
[1,"Draft",null,null,null,{"$f":"+F13","v":41},2,2,2,"2022/23",{"$f":"ROUND(INDEX('Comparison - Category'!$Z$81:$AE$107,MATCH(M14&P14,'Comparison - Category'!$D$81:$D$107,0),MATCH(O14,'Comparison - Category'!$Z$66:$AE$66,0)),10)","v":4.8044100000000003E-5},null,"Wellington city","River management rate","River management rate","Business"]
[2,"Approved",null,null,null,41,2,3,2,"2022/23",{"$f":"ROUND(INDEX('Comparison - Category'!$Z$81:$AE$107,MATCH(M15&P15,'Comparison - Category'!$D$81:$D$107,0),MATCH(O15,'Comparison - Category'!$Z$66:$AE$66,0)),10)","v":3.77961084E-2},null,"Wellington city","Public transport rate","Public transport rate","Business"]
[null,null,null,null,null,41,2,4,2,"2022/23",{"$f":"ROUND(INDEX('Comparison - Category'!$Z$81:$AE$107,MATCH(M16&P16,'Comparison - Category'!$D$81:$D$107,0),MATCH(O16,'Comparison - Category'!$Z$66:$AE$66,0)),10)","v":0},null,"Wellington city","Stadium purposes rate","Stadium purposes rate","Business"]
[null,null,null,null,null,41,2,6,2,"2022/23",{"$f":"ROUND(INDEX('Comparison - Category'!$Z$81:$AE$107,MATCH(M17&P17,'Comparison - Category'!$D$81:$D$107,0),MATCH(O17,'Comparison - Category'!$Z$66:$AE$66,0)),10)","v":4.8743479999999997E-3},null,"Wellington city","Economic development rate - Business","Economic development rate","Business"]
["Rate_ID","Rate_Name","Model",null,null,41,3,1,2,"2022/23",{"$f":"ROUND(INDEX('Comparison - Category'!$Z$81:$AE$107,MATCH(M18&P18,'Comparison - Category'!$D$81:$D$107,0),MATCH(O18,'Comparison - Category'!$Z$66:$AE$66,0)),10)","v":2.74687118E-2},null,"Wellington city","General rate","General rate","Rural"]
[1,"General rate","General rate",null,null,41,3,2,2,"2022/23",{"$f":"ROUND(INDEX('Comparison - Category'!$Z$81:$AE$107,MATCH(M19&P19,'Comparison - Category'!$D$81:$D$107,0),MATCH(O19,'Comparison - Category'!$Z$66:$AE$66,0)),10)","v":4.8044100000000003E-5},null,"Wellington city","River management rate","River management rate","Rural"]
[2,"River management rate","River management rate",null,null,41,3,3,2,"2022/23",{"$f":"ROUND(INDEX('Comparison - Category'!$Z$81:$AE$107,MATCH(M20&P20,'Comparison - Category'!$D$81:$D$107,0),MATCH(O20,'Comparison - Category'!$Z$66:$AE$66,0)),10)","v":7.0045602E-3},null,"Wellington city","Public transport rate","Public transport rate","Rural"]
[3,"Public transport rate","Public transport rate",null,null,41,3,4,2,"2022/23",{"$f":"ROUND(INDEX('Comparison - Category'!$Z$81:$AE$107,MATCH(M21&P21,'Comparison - Category'!$D$81:$D$107,0),MATCH(O21,'Comparison - Category'!$Z$66:$AE$66,0)),10)","v":0},null,"Wellington city","Stadium purposes rate","Stadium purposes rate","Rural"]
[4,"Stadium purposes rate","Stadium purposes rate",null,null,41,3,5,2,"2022/23",{"$f":"ROUND(INDEX('Comparison - Category'!$Z$81:$AE$107,MATCH(M22&P22,'Comparison - Category'!$D$81:$D$107,0),MATCH(O22,'Comparison - Category'!$Z$66:$AE$66,0)),10)","v":15},null,"Wellington city","Economic development rate","Economic development rate","Rural"]
[5,"Economic development rate","Economic development rate",null,null,41,4,1,2,"2022/23",{"$f":"ROUND(INDEX('Comparison - Category'!$Z$81:$AE$107,MATCH(M23&P23,'Comparison - Category'!$D$81:$D$107,0),MATCH(O23,'Comparison - Category'!$Z$66:$AE$66,0)),10)","v":4.6696809999999998E-2},null,"Wellington city","General rate","General rate",{"$f":"VLOOKUP(G23,$A$5:$B$10,2,FALSE)","v":"Wellington CBD"}]
[6,"Economic development rate - Business","Economic development rate",null,null,41,4,2,2,"2022/23",{"$f":"ROUND(INDEX('Comparison - Category'!$Z$81:$AE$107,MATCH(M24&P24,'Comparison - Category'!$D$81:$D$107,0),MATCH(O24,'Comparison - Category'!$Z$66:$AE$66,0)),10)","v":4.8044100000000003E-5},null,"Wellington city","River management rate","River management rate","Wellington CBD"]
[null,null,null,null,null,41,4,3,2,"2022/23",{"$f":"ROUND(INDEX('Comparison - Category'!$Z$81:$AE$107,MATCH(M25&P25,'Comparison - Category'!$D$81:$D$107,0),MATCH(O25,'Comparison - Category'!$Z$66:$AE$66,0)),10)","v":0.20594258300000001},null,"Wellington city","Public transport rate","Public transport rate","Wellington CBD"]
[null,null,null,null,null,41,4,4,2,"2022/23",{"$f":"ROUND(INDEX('Comparison - Category'!$Z$81:$AE$107,MATCH(M26&P26,'Comparison - Category'!$D$81:$D$107,0),MATCH(O26,'Comparison - Category'!$Z$66:$AE$66,0)),10)","v":0},null,"Wellington city","Stadium purposes rate","Stadium purposes rate","Wellington CBD"]
[null,null,null,null,null,41,4,6,2,"2022/23",{"$f":"ROUND(INDEX('Comparison - Category'!$Z$81:$AE$107,MATCH(M27&P27,'Comparison - Category'!$D$81:$D$107,0),MATCH(O27,'Comparison - Category'!$Z$66:$AE$66,0)),10)","v":4.8743479999999997E-3},null,"Wellington city","Economic development rate - Business","Economic development rate","Wellington CBD"]
[]
["TA_ID","TA_NAME","Model",null,null,"TA_ID","Rate_Class_ID","Rates_ID","Rates_Status_ID","Rates_year","Rates_value"]
[41,"Wellington city","Wellington city",null,null,42,1,1,{"$f":"$I$8","v":2},{"$f":"year_current","v":"2022/23"},{"$f":"ROUND(INDEX('Comparison - Category'!$Z$81:$AE$107,MATCH(M30&P30,'Comparison - Category'!$D$81:$D$107,0),MATCH(O30,'Comparison - Category'!$Z$66:$AE$66,0)),10)","v":4.3900068700000003E-2},null,{"$f":"VLOOKUP(F30,$A$30:$B$38,2,FALSE)","v":"Hutt city"},{"$f":"VLOOKUP(H30,$A$19:$B$25,2,FALSE)","v":"General rate"},{"$f":"VLOOKUP(H30,$A$19:$C$25,3,FALSE)","v":"General rate"},{"$f":"VLOOKUP(G30,$A$5:$B$10,2,FALSE)","v":"Residential"}]
[42,"Hutt city","Hutt city",null,null,{"$f":"+F30","v":42},{"$f":"+G30","v":1},2,{"$f":"+I30","v":2},"2022/23",{"$f":"ROUND(INDEX('Comparison - Category'!$Z$81:$AE$107,MATCH(M31&P31,'Comparison - Category'!$D$81:$D$107,0),MATCH(O31,'Comparison - Category'!$Z$66:$AE$66,0)),10)","v":1.74998364E-2},null,"Hutt city","River management rate","River management rate","Residential"]
[43,"Upper Hutt city","Rest of Upper Hutt city",null,null,42,1,3,{"$f":"+I31","v":2},"2022/23",{"$f":"ROUND(INDEX('Comparison - Category'!$Z$81:$AE$107,MATCH(M32&P32,'Comparison - Category'!$D$81:$D$107,0),MATCH(O32,'Comparison - Category'!$Z$66:$AE$66,0)),10)","v":4.6124296299999999E-2},null,"Hutt city","Public transport rate","Public transport rate","Residential"]
[44,"Porirua city","Porirua city",null,null,42,1,4,2,"2022/23",{"$f":"ROUND(INDEX('Comparison - Category'!$Z$81:$AE$107,MATCH(M33&P33,'Comparison - Category'!$D$81:$D$107,0),MATCH(O33,'Comparison - Category'!$Z$66:$AE$66,0)),10)","v":0},null,"Hutt city","Stadium purposes rate","Stadium purposes rate","Residential"]
[45,"Kāpiti Coast district","Kāpiti Coast district",null,null,{"$f":"+F33","v":42},1,5,2,"2022/23",{"$f":"ROUND(INDEX('Comparison - Category'!$Z$81:$AE$107,MATCH(M34&P34,'Comparison - Category'!$D$81:$D$107,0),MATCH(O34,'Comparison - Category'!$Z$66:$AE$66,0)),10)","v":15},null,"Hutt city","Economic development rate","Economic development rate","Residential"]
[46,"Masterton district","Masterton district",null,null,42,2,1,2,"2022/23",{"$f":"ROUND(INDEX('Comparison - Category'!$Z$81:$AE$107,MATCH(M35&P35,'Comparison - Category'!$D$81:$D$107,0),MATCH(O35,'Comparison - Category'!$Z$66:$AE$66,0)),10)","v":4.3900068700000003E-2},null,"Hutt city","General rate","General rate","Business"]
[47,"Carterton district","Carterton district",null,null,42,{"$f":"+G35","v":2},2,2,"2022/23",{"$f":"ROUND(INDEX('Comparison - Category'!$Z$81:$AE$107,MATCH(M36&P36,'Comparison - Category'!$D$81:$D$107,0),MATCH(O36,'Comparison - Category'!$Z$66:$AE$66,0)),10)","v":1.74998364E-2},null,"Hutt city","River management rate","River management rate","Business"]
[48,"South Wairarapa district","South Wairarapa district",null,null,42,{"$f":"+G36","v":2},3,2,"2022/23",{"$f":"ROUND(INDEX('Comparison - Category'!$Z$81:$AE$107,MATCH(M37&P37,'Comparison - Category'!$D$81:$D$107,0),MATCH(O37,'Comparison - Category'!$Z$66:$AE$66,0)),10)","v":6.0492490099999997E-2},null,"Hutt city","Public transport rate","Public transport rate","Business"]
[49,"Tararua district","Tararua district",null,null,42,{"$f":"+G37","v":2},4,2,"2022/23",{"$f":"ROUND(INDEX('Comparison - Category'!$Z$81:$AE$107,MATCH(M38&P38,'Comparison - Category'!$D$81:$D$107,0),MATCH(O38,'Comparison - Category'!$Z$66:$AE$66,0)),10)","v":0},null,"Hutt city","Stadium purposes rate","Stadium purposes rate","Business"]
[null,null,null,null,null,42,{"$f":"+G38","v":2},6,2,"2022/23",{"$f":"ROUND(INDEX('Comparison - Category'!$Z$81:$AE$107,MATCH(M39&P39,'Comparison - Category'!$D$81:$D$107,0),MATCH(O39,'Comparison - Category'!$Z$66:$AE$66,0)),10)","v":7.0978750999999996E-3},null,"Hutt city","Economic development rate - Business","Economic development rate","Business"]
[null,null,null,null,null,42,3,1,2,"2022/23",{"$f":"ROUND(INDEX('Comparison - Category'!$Z$81:$AE$107,MATCH(M40&P40,'Comparison - Category'!$D$81:$D$107,0),MATCH(O40,'Comparison - Category'!$Z$66:$AE$66,0)),10)","v":4.3900068700000003E-2},null,"Hutt city","General rate","General rate","Rural"]
[null,null,null,null,null,42,{"$f":"+G40","v":3},2,2,"2022/23",{"$f":"ROUND(INDEX('Comparison - Category'!$Z$81:$AE$107,MATCH(M41&P41,'Comparison - Category'!$D$81:$D$107,0),MATCH(O41,'Comparison - Category'!$Z$66:$AE$66,0)),10)","v":1.74998364E-2},null,"Hutt city","River management rate","River management rate","Rural"]
[null,null,null,null,null,42,{"$f":"+G41","v":3},3,2,"2022/23",{"$f":"ROUND(INDEX('Comparison - Category'!$Z$81:$AE$107,MATCH(M42&P42,'Comparison - Category'!$D$81:$D$107,0),MATCH(O42,'Comparison - Category'!$Z$66:$AE$66,0)),10)","v":1.1580500699999999E-2},null,"Hutt city","Public transport rate","Public transport rate","Rural"]
[null,null,null,null,null,42,{"$f":"+G42","v":3},4,2,"2022/23",{"$f":"ROUND(INDEX('Comparison - Category'!$Z$81:$AE$107,MATCH(M43&P43,'Comparison - Category'!$D$81:$D$107,0),MATCH(O43,'Comparison - Category'!$Z$66:$AE$66,0)),10)","v":0},null,"Hutt city","Stadium purposes rate","Stadium purposes rate","Rural"]
[null,null,null,null,null,42,{"$f":"+G43","v":3},5,2,"2022/23",{"$f":"ROUND(INDEX('Comparison - Category'!$Z$81:$AE$107,MATCH(M44&P44,'Comparison - Category'!$D$81:$D$107,0),MATCH(O44,'Comparison - Category'!$Z$66:$AE$66,0)),10)","v":15},null,"Hutt city","Economic development rate","Economic development rate","Rural"]
[]
[null,null,null,null,null,"TA_ID","Rate_Class_ID","Rates_ID","Rates_Status_ID","Rates_year","Rates_value"]
[null,null,null,null,null,43,1,1,{"$f":"$I$8","v":2},{"$f":"year_current","v":"2022/23"},{"$f":"ROUND(INDEX(Gen!$E$10:$E$36,MATCH(R47,Gen!$A$10:$A$36,0),),10)","v":4.4097951900000001E-2},null,{"$f":"VLOOKUP(F47,$A$30:$B$38,2,FALSE)","v":"Upper Hutt city"},{"$f":"VLOOKUP(H47,$A$19:$B$25,2,FALSE)","v":"General rate"},{"$f":"VLOOKUP(H47,$A$19:$C$25,3,FALSE)","v":"General rate"},{"$f":"VLOOKUP(G47,$A$5:$B$10,2,FALSE)","v":"Residential"},null,"Rest of Upper Hutt City"]
[null,null,null,null,null,{"$f":"+F47","v":43},1,2,{"$f":"+I47","v":2},"2022/23",{"$f":"ROUND(INDEX('River management'!$D$10:$D$25,MATCH(R47,'River management'!$A$10:$A$25,0),),10)","v":9.7130394999999994E-3},null,"Upper Hutt city","River management rate","River management rate","Residential",null,"Rest of Upper Hutt City"]
[null,null,null,null,null,43,1,3,{"$f":"+I48","v":2},"2022/23",{"$f":"ROUND(INDEX('Public transport'!$J$23:$J$60,MATCH(R49&P49,'Public transport'!$D$23:$D$60,0),),10)","v":4.7572966100000003E-2},null,"Upper Hutt city","Public transport rate","Public transport rate","Residential",null,"Rest of Upper Hutt City"]
[null,null,null,null,null,43,1,4,2,"2022/23",{"$f":"ROUND(INDEX(Stadium!$J$23:$J$60,MATCH(R50&P50,Stadium!$D$23:$D$60,0),),10)","v":0},null,"Upper Hutt city","Stadium purposes rate","Stadium purposes rate","Residential",null,"Rest of Upper Hutt City"]
[null,null,null,null,null,{"$f":"+F50","v":43},{"$f":"+G50","v":1},5,2,"2022/23",{"$f":"ROUND(INDEX('Comparison - Category'!$Z$81:$AE$107,MATCH(M51&P51,'Comparison - Category'!$D$81:$D$107,0),MATCH(O51,'Comparison - Category'!$Z$66:$AE$66,0)),10)","v":15},null,"Upper Hutt city","Economic development rate","Economic development rate","Residential",null,"Upper Hutt City"]
[null,null,null,null,null,43,2,1,2,"2022/23",{"$f":"ROUND(INDEX(Gen!$E$10:$E$36,MATCH(R52,Gen!$A$10:$A$36,0),),10)","v":4.4097951900000001E-2},null,"Upper Hutt city","General rate","General rate","Business",null,"Rest of Upper Hutt City"]
[null,null,null,null,null,43,2,2,2,"2022/23",{"$f":"ROUND(INDEX('River management'!$D$10:$D$25,MATCH(R52,'River management'!$A$10:$A$25,0),),10)","v":9.7130394999999994E-3},null,"Upper Hutt city","River management rate","River management rate","Business",null,"Rest of Upper Hutt City"]
[null,null,null,null,null,43,2,3,2,"2022/23",{"$f":"ROUND(INDEX('Public transport'!$J$23:$J$60,MATCH(R54&P54,'Public transport'!$D$23:$D$60,0),),10)","v":6.0418065E-2},null,"Upper Hutt city","Public transport rate","Public transport rate","Business",null,"Rest of Upper Hutt City"]
[null,null,null,null,null,43,2,4,2,"2022/23",{"$f":"ROUND(INDEX(Stadium!$J$23:$J$60,MATCH(R55&P55,Stadium!$D$23:$D$60,0),),10)","v":0},null,"Upper Hutt city","Stadium purposes rate","Stadium purposes rate","Business",null,"Rest of Upper Hutt City"]
[null,null,null,null,null,43,2,6,2,"2022/23",{"$f":"ROUND(INDEX('Comparison - Category'!$Z$81:$AE$107,MATCH(M56&P56,'Comparison - Category'!$D$81:$D$107,0),MATCH(O56,'Comparison - Category'!$Z$66:$AE$66,0)),10)","v":7.1208256000000001E-3},null,"Upper Hutt city","Economic development rate - Business","Economic development rate","Business",null,"Upper Hutt City"]
[null,null,null,null,null,43,3,1,2,"2022/23",{"$f":"ROUND(INDEX(Gen!$E$10:$E$36,MATCH(R57,Gen!$A$10:$A$36,0),),10)","v":4.4097951900000001E-2},null,"Upper Hutt city","General rate","General rate","Rural",null,"Rest of Upper Hutt City"]
[null,null,null,null,null,43,3,2,2,"2022/23",{"$f":"ROUND(INDEX('River management'!$D$10:$D$25,MATCH(R57,'River management'!$A$10:$A$25,0),),10)","v":9.7130394999999994E-3},null,"Upper Hutt city","River management rate","River management rate","Rural",null,"Rest of Upper Hutt City"]
[null,null,null,null,null,43,3,3,2,"2022/23",{"$f":"ROUND(INDEX('Public transport'!$J$23:$J$60,MATCH(R59&P59,'Public transport'!$D$23:$D$60,0),),10)","v":1.1927403600000001E-2},null,"Upper Hutt city","Public transport rate","Public transport rate","Rural",null,"Rest of Upper Hutt City"]
[null,null,null,null,null,43,3,4,2,"2022/23",{"$f":"ROUND(INDEX(Stadium!$J$23:$J$60,MATCH(R60&P60,Stadium!$D$23:$D$60,0),),10)","v":0},null,"Upper Hutt city","Stadium purposes rate","Stadium purposes rate","Rural",null,"Rest of Upper Hutt City"]
[null,null,null,null,null,43,3,5,2,"2022/23",{"$f":"ROUND(INDEX('Comparison - Category'!$Z$81:$AE$107,MATCH(M61&P61,'Comparison - Category'!$D$81:$D$107,0),MATCH(O61,'Comparison - Category'!$Z$66:$AE$66,0)),10)","v":15},null,"Upper Hutt city","Economic development rate","Economic development rate","Rural",null,"Upper Hutt City"]
[]
[null,null,null,null,null,"TA_ID","Rate_Class_ID","Rates_ID","Rates_Status_ID","Rates_year","Rates_value"]
[null,null,null,null,null,44,1,1,{"$f":"$I$8","v":2},{"$f":"year_current","v":"2022/23"},{"$f":"ROUND(INDEX('Comparison - Category'!$Z$81:$AE$107,MATCH(M64&P64,'Comparison - Category'!$D$81:$D$107,0),MATCH(O64,'Comparison - Category'!$Z$66:$AE$66,0)),10)","v":4.2072577299999997E-2},null,{"$f":"VLOOKUP(F64,$A$30:$B$38,2,FALSE)","v":"Porirua city"},{"$f":"VLOOKUP(H64,$A$19:$B$25,2,FALSE)","v":"General rate"},{"$f":"VLOOKUP(H64,$A$19:$C$25,3,FALSE)","v":"General rate"},{"$f":"VLOOKUP(G64,$A$5:$B$10,2,FALSE)","v":"Residential"}]
[null,null,null,null,null,{"$f":"+F64","v":44},1,2,{"$f":"+I64","v":2},"2022/23",{"$f":"ROUND(INDEX('Comparison - Category'!$Z$81:$AE$107,MATCH(M65&P65,'Comparison - Category'!$D$81:$D$107,0),MATCH(O65,'Comparison - Category'!$Z$66:$AE$66,0)),10)","v":3.137622E-4},null,"Porirua city","River management rate","River management rate","Residential"]
[null,null,null,null,null,44,1,3,{"$f":"+I65","v":2},"2022/23",{"$f":"ROUND(INDEX('Comparison - Category'!$Z$81:$AE$107,MATCH(M66&P66,'Comparison - Category'!$D$81:$D$107,0),MATCH(O66,'Comparison - Category'!$Z$66:$AE$66,0)),10)","v":4.5770387500000002E-2},null,"Porirua city","Public transport rate","Public transport rate","Residential"]
[null,null,null,null,null,44,1,4,2,"2022/23",{"$f":"ROUND(INDEX('Comparison - Category'!$Z$81:$AE$107,MATCH(M67&P67,'Comparison - Category'!$D$81:$D$107,0),MATCH(O67,'Comparison - Category'!$Z$66:$AE$66,0)),10)","v":0},null,"Porirua city","Stadium purposes rate","Stadium purposes rate","Residential"]
[null,null,null,null,null,{"$f":"+F67","v":44},{"$f":"+G67","v":1},5,2,"2022/23",{"$f":"ROUND(INDEX('Comparison - Category'!$Z$81:$AE$107,MATCH(M68&P68,'Comparison - Category'!$D$81:$D$107,0),MATCH(O68,'Comparison - Category'!$Z$66:$AE$66,0)),10)","v":15},null,"Porirua city","Economic development rate","Economic development rate","Residential"]
[null,null,null,null,null,44,2,1,2,"2022/23",{"$f":"ROUND(INDEX('Comparison - Category'!$Z$81:$AE$107,MATCH(M69&P69,'Comparison - Category'!$D$81:$D$107,0),MATCH(O69,'Comparison - Category'!$Z$66:$AE$66,0)),10)","v":4.2072577299999997E-2},null,"Porirua city","General rate","General rate","Business"]
[null,null,null,null,null,44,2,2,2,"2022/23",{"$f":"ROUND(INDEX('Comparison - Category'!$Z$81:$AE$107,MATCH(M70&P70,'Comparison - Category'!$D$81:$D$107,0),MATCH(O70,'Comparison - Category'!$Z$66:$AE$66,0)),10)","v":3.137622E-4},null,"Porirua city","River management rate","River management rate","Business"]
[null,null,null,null,null,44,2,3,2,"2022/23",{"$f":"ROUND(INDEX('Comparison - Category'!$Z$81:$AE$107,MATCH(M71&P71,'Comparison - Category'!$D$81:$D$107,0),MATCH(O71,'Comparison - Category'!$Z$66:$AE$66,0)),10)","v":5.9540455800000003E-2},null,"Porirua city","Public transport rate","Public transport rate","Business"]
[null,null,null,null,null,44,2,4,2,"2022/23",{"$f":"ROUND(INDEX('Comparison - Category'!$Z$81:$AE$107,MATCH(M72&P72,'Comparison - Category'!$D$81:$D$107,0),MATCH(O72,'Comparison - Category'!$Z$66:$AE$66,0)),10)","v":0},null,"Porirua city","Stadium purposes rate","Stadium purposes rate","Business"]
[null,null,null,null,null,44,2,6,2,"2022/23",{"$f":"ROUND(INDEX('Comparison - Category'!$Z$81:$AE$107,MATCH(M73&P73,'Comparison - Category'!$D$81:$D$107,0),MATCH(O73,'Comparison - Category'!$Z$66:$AE$66,0)),10)","v":6.8024015999999998E-3},null,"Porirua city","Economic development rate - Business","Economic development rate","Business"]
[null,null,null,null,null,44,3,1,2,"2022/23",{"$f":"ROUND(INDEX('Comparison - Category'!$Z$81:$AE$107,MATCH(M74&P74,'Comparison - Category'!$D$81:$D$107,0),MATCH(O74,'Comparison - Category'!$Z$66:$AE$66,0)),10)","v":4.2072577299999997E-2},null,"Porirua city","General rate","General rate","Rural"]
[null,null,null,null,null,44,3,2,2,"2022/23",{"$f":"ROUND(INDEX('Comparison - Category'!$Z$81:$AE$107,MATCH(M75&P75,'Comparison - Category'!$D$81:$D$107,0),MATCH(O75,'Comparison - Category'!$Z$66:$AE$66,0)),10)","v":3.137622E-4},null,"Porirua city","River management rate","River management rate","Rural"]
[null,null,null,null,null,44,3,3,2,"2022/23",{"$f":"ROUND(INDEX('Comparison - Category'!$Z$81:$AE$107,MATCH(M76&P76,'Comparison - Category'!$D$81:$D$107,0),MATCH(O76,'Comparison - Category'!$Z$66:$AE$66,0)),10)","v":1.1496986000000001E-2},null,"Porirua city","Public transport rate","Public transport rate","Rural"]
[null,null,null,null,null,44,3,4,2,"2022/23",{"$f":"ROUND(INDEX('Comparison - Category'!$Z$81:$AE$107,MATCH(M77&P77,'Comparison - Category'!$D$81:$D$107,0),MATCH(O77,'Comparison - Category'!$Z$66:$AE$66,0)),10)","v":0},null,"Porirua city","Stadium purposes rate","Stadium purposes rate","Rural"]
[null,null,null,null,null,44,3,5,2,"2022/23",{"$f":"ROUND(INDEX('Comparison - Category'!$Z$81:$AE$107,MATCH(M78&P78,'Comparison - Category'!$D$81:$D$107,0),MATCH(O78,'Comparison - Category'!$Z$66:$AE$66,0)),10)","v":15},null,"Porirua city","Economic development rate","Economic development rate","Rural"]
[]
[null,null,null,null,null,"TA_ID","Rate_Class_ID","Rates_ID","Rates_Status_ID","Rates_year","Rates_value"]
[null,null,null,null,null,45,5,1,{"$f":"$I$8","v":2},{"$f":"year_current","v":"2022/23"},{"$f":"ROUND(INDEX('Comparison - Category'!$Z$81:$AE$107,MATCH(R81&S81,'Comparison - Category'!$D$81:$D$107,0),MATCH(O81,'Comparison - Category'!$Z$66:$AE$66,0)),10)","v":3.8314572599999999E-2},null,{"$f":"VLOOKUP(F81,$A$30:$B$38,2,FALSE)","v":"Kāpiti Coast district"},{"$f":"VLOOKUP(H81,$A$19:$B$25,2,FALSE)","v":"General rate"},{"$f":"VLOOKUP(H81,$A$19:$C$25,3,FALSE)","v":"General rate"},{"$f":"VLOOKUP(G81,$A$5:$B$10,2,FALSE)","v":"Residential - excl Otaki"},null,"Kāpiti Coast district excl Ōtaki ","Residential"]
[null,null,null,null,null,{"$f":"+F81","v":45},5,2,{"$f":"+I81","v":2},"2022/23",{"$f":"ROUND(INDEX('Comparison - Category'!$Z$81:$AE$107,MATCH(R82&S82,'Comparison - Category'!$D$81:$D$107,0),MATCH(O82,'Comparison - Category'!$Z$66:$AE$66,0)),10)","v":7.6503791000000002E-3},null,"Kāpiti Coast district","River management rate","River management rate","Residential - excl Otaki",null,"Kāpiti Coast district excl Ōtaki ","Residential"]
[null,null,null,null,null,45,5,3,{"$f":"+I82","v":2},"2022/23",{"$f":"ROUND(INDEX('Comparison - Category'!$Z$81:$AE$107,MATCH(R83&S83,'Comparison - Category'!$D$81:$D$107,0),MATCH(O83,'Comparison - Category'!$Z$66:$AE$66,0)),10)","v":3.57642154E-2},null,"Kāpiti Coast district","Public transport rate","Public transport rate","Residential - excl Otaki",null,"Kāpiti Coast district excl Ōtaki ","Residential"]
[null,null,null,null,null,45,5,4,2,"2022/23",{"$f":"ROUND(INDEX('Comparison - Category'!$Z$81:$AE$107,MATCH(R84&S84,'Comparison - Category'!$D$81:$D$107,0),MATCH(O84,'Comparison - Category'!$Z$66:$AE$66,0)),10)","v":0},null,"Kāpiti Coast district","Stadium purposes rate","Stadium purposes rate","Residential - excl Otaki",null,"Kāpiti Coast district excl Ōtaki ","Residential"]
[null,null,null,null,null,{"$f":"+F84","v":45},{"$f":"+G84","v":5},5,2,"2022/23",{"$f":"ROUND(INDEX('Comparison - Category'!$Z$81:$AE$107,MATCH(R85&S85,'Comparison - Category'!$D$81:$D$107,0),MATCH(O85,'Comparison - Category'!$Z$66:$AE$66,0)),10)","v":15},null,"Kāpiti Coast district","Economic development rate","Economic development rate","Residential - excl Otaki",null,"Kāpiti Coast district excl Ōtaki ","Residential"]
[null,null,null,null,null,45,6,1,{"$f":"$I$8","v":2},"2022/23",{"$f":"ROUND(INDEX('Comparison - Category'!$Z$81:$AE$107,MATCH(R86&S86,'Comparison - Category'!$D$81:$D$107,0),MATCH(O86,'Comparison - Category'!$Z$66:$AE$66,0)),10)","v":3.8314572599999999E-2},null,"Kāpiti Coast district","General rate","General rate","Residential - Otaki rating area",null,"Ōtaki rating area","Residential"]
[null,null,null,null,null,45,6,2,{"$f":"+I86","v":2},"2022/23",{"$f":"ROUND(INDEX('Comparison - Category'!$Z$81:$AE$107,MATCH(R87&S87,'Comparison - Category'!$D$81:$D$107,0),MATCH(O87,'Comparison - Category'!$Z$66:$AE$66,0)),10)","v":7.6503791000000002E-3},null,"Kāpiti Coast district","River management rate","River management rate","Residential - Otaki rating area",null,"Ōtaki rating area","Residential"]
[null,null,null,null,null,45,6,3,2,"2022/23",{"$f":"ROUND(INDEX('Comparison - Category'!$Z$81:$AE$107,MATCH(R88&S88,'Comparison - Category'!$D$81:$D$107,0),MATCH(O88,'Comparison - Category'!$Z$66:$AE$66,0)),10)","v":2.0089091600000001E-2},null,"Kāpiti Coast district","Public transport rate","Public transport rate","Residential - Otaki rating area",null,"Ōtaki rating area","Residential"]
[null,null,null,null,null,45,6,4,2,"2022/23",{"$f":"ROUND(INDEX('Comparison - Category'!$Z$81:$AE$107,MATCH(R89&S89,'Comparison - Category'!$D$81:$D$107,0),MATCH(O89,'Comparison - Category'!$Z$66:$AE$66,0)),10)","v":0},null,"Kāpiti Coast district","Stadium purposes rate","Stadium purposes rate","Residential - Otaki rating area",null,"Ōtaki rating area","Residential"]
[null,null,null,null,null,45,6,5,2,"2022/23",{"$f":"ROUND(INDEX('Comparison - Category'!$Z$81:$AE$107,MATCH(R90&S90,'Comparison - Category'!$D$81:$D$107,0),MATCH(O90,'Comparison - Category'!$Z$66:$AE$66,0)),10)","v":15},null,"Kāpiti Coast district","Economic development rate","Economic development rate","Residential - Otaki rating area",null,"Ōtaki rating area","Residential"]
[null,null,null,null,null,{"$f":"+F85","v":45},2,1,{"$f":"+I85","v":2},"2022/23",{"$f":"ROUND(INDEX('Comparison - Category'!$Z$81:$AE$107,MATCH(M91&P91,'Comparison - Category'!$D$81:$D$107,0),MATCH(O91,'Comparison - Category'!$Z$66:$AE$66,0)),10)","v":3.8314572599999999E-2},null,"Kāpiti Coast district","General rate","General rate","Business"]
[null,null,null,null,null,{"$f":"+F91","v":45},2,2,2,"2022/23",{"$f":"ROUND(INDEX('Comparison - Category'!$Z$81:$AE$107,MATCH(M92&P92,'Comparison - Category'!$D$81:$D$107,0),MATCH(O92,'Comparison - Category'!$Z$66:$AE$66,0)),10)","v":7.6503791000000002E-3},null,"Kāpiti Coast district","River management rate","River management rate","Business"]
[null,null,null,null,null,45,2,3,2,"2022/23",{"$f":"ROUND(INDEX('Comparison - Category'!$Z$81:$AE$107,MATCH(M93&P93,'Comparison - Category'!$D$81:$D$107,0),MATCH(O93,'Comparison - Category'!$Z$66:$AE$66,0)),10)","v":4.8304314299999998E-2},null,"Kāpiti Coast district","Public transport rate","Public transport rate","Business"]
[null,null,null,null,null,45,2,4,2,"2022/23",{"$f":"ROUND(INDEX('Comparison - Category'!$Z$81:$AE$107,MATCH(M94&P94,'Comparison - Category'!$D$81:$D$107,0),MATCH(O94,'Comparison - Category'!$Z$66:$AE$66,0)),10)","v":0},null,"Kāpiti Coast district","Stadium purposes rate","Stadium purposes rate","Business"]
[null,null,null,null,null,45,2,6,2,"2022/23",{"$f":"ROUND(INDEX('Comparison - Category'!$Z$81:$AE$107,MATCH(M95&P95,'Comparison - Category'!$D$81:$D$107,0),MATCH(O95,'Comparison - Category'!$Z$66:$AE$66,0)),10)","v":6.1947978000000004E-3},null,"Kāpiti Coast district","Economic development rate - Business","Economic development rate","Business"]
[null,null,null,null,null,45,3,1,2,"2022/23",{"$f":"ROUND(INDEX('Comparison - Category'!$Z$81:$AE$107,MATCH(M96&P96,'Comparison - Category'!$D$81:$D$107,0),MATCH(O96,'Comparison - Category'!$Z$66:$AE$66,0)),10)","v":3.8314572599999999E-2},null,"Kāpiti Coast district","General rate","General rate","Rural"]
[null,null,null,null,null,45,3,2,2,"2022/23",{"$f":"ROUND(INDEX('Comparison - Category'!$Z$81:$AE$107,MATCH(M97&P97,'Comparison - Category'!$D$81:$D$107,0),MATCH(O97,'Comparison - Category'!$Z$66:$AE$66,0)),10)","v":7.6503791000000002E-3},null,"Kāpiti Coast district","River management rate","River management rate","Rural"]
[null,null,null,null,null,45,3,3,2,"2022/23",{"$f":"ROUND(INDEX('Comparison - Category'!$Z$81:$AE$107,MATCH(M98&P98,'Comparison - Category'!$D$81:$D$107,0),MATCH(O98,'Comparison - Category'!$Z$66:$AE$66,0)),10)","v":8.9794887999999993E-3},null,"Kāpiti Coast district","Public transport rate","Public transport rate","Rural"]
[null,null,null,null,null,45,3,4,2,"2022/23",{"$f":"ROUND(INDEX('Comparison - Category'!$Z$81:$AE$107,MATCH(M99&P99,'Comparison - Category'!$D$81:$D$107,0),MATCH(O99,'Comparison - Category'!$Z$66:$AE$66,0)),10)","v":0},null,"Kāpiti Coast district","Stadium purposes rate","Stadium purposes rate","Rural"]
[null,null,null,null,null,45,3,5,2,"2022/23",{"$f":"ROUND(INDEX('Comparison - Category'!$Z$81:$AE$107,MATCH(M100&P100,'Comparison - Category'!$D$81:$D$107,0),MATCH(O100,'Comparison - Category'!$Z$66:$AE$66,0)),10)","v":15},null,"Kāpiti Coast district","Economic development rate","Economic development rate","Rural"]
[]
[null,null,null,null,null,"TA_ID","Rate_Class_ID","Rates_ID","Rates_Status_ID","Rates_year","Rates_value"]
[null,null,null,null,null,46,1,1,{"$f":"$I$8","v":2},{"$f":"year_current","v":"2022/23"},{"$f":"ROUND(INDEX('Comparison - Category'!$Z$81:$AE$107,MATCH(M103&P103,'Comparison - Category'!$D$81:$D$107,0),MATCH(O103,'Comparison - Category'!$Z$66:$AE$66,0)),10)","v":3.7122964199999997E-2},null,{"$f":"VLOOKUP(F103,$A$30:$B$38,2,FALSE)","v":"Masterton district"},{"$f":"VLOOKUP(H103,$A$19:$B$25,2,FALSE)","v":"General rate"},{"$f":"VLOOKUP(H103,$A$19:$C$25,3,FALSE)","v":"General rate"},{"$f":"VLOOKUP(G103,$A$5:$B$8,2,FALSE)","v":"Residential"}]
[null,null,null,null,null,{"$f":"+F103","v":46},1,2,{"$f":"+I103","v":2},"2022/23",{"$f":"ROUND(INDEX('Comparison - Category'!$Z$81:$AE$107,MATCH(M104&P104,'Comparison - Category'!$D$81:$D$107,0),MATCH(O104,'Comparison - Category'!$Z$66:$AE$66,0)),10)","v":0},null,"Masterton district","River management rate","River management rate","Residential"]
[null,null,null,null,null,46,1,3,{"$f":"+I104","v":2},"2022/23",{"$f":"ROUND(INDEX('Comparison - Category'!$Z$81:$AE$107,MATCH(M105&P105,'Comparison - Category'!$D$81:$D$107,0),MATCH(O105,'Comparison - Category'!$Z$66:$AE$66,0)),10)","v":1.6700227299999999E-2},null,"Masterton district","Public transport rate","Public transport rate","Residential"]
[null,null,null,null,null,46,1,4,2,"2022/23",{"$f":"ROUND(INDEX('Comparison - Category'!$Z$81:$AE$107,MATCH(M106&P106,'Comparison - Category'!$D$81:$D$107,0),MATCH(O106,'Comparison - Category'!$Z$66:$AE$66,0)),10)","v":0},null,"Masterton district","Stadium purposes rate","Stadium purposes rate","Residential"]
[null,null,null,null,null,46,1,5,2,"2022/23",{"$f":"ROUND(INDEX('Comparison - Category'!$Z$81:$AE$107,MATCH(M107&P107,'Comparison - Category'!$D$81:$D$107,0),MATCH(O107,'Comparison - Category'!$Z$66:$AE$66,0)),10)","v":15},null,"Masterton district","Economic development rate","Economic development rate","Residential"]
[null,null,null,null,null,{"$f":"+F107","v":46},2,1,2,"2022/23",{"$f":"ROUND(INDEX('Comparison - Category'!$Z$81:$AE$107,MATCH(M108&P108,'Comparison - Category'!$D$81:$D$107,0),MATCH(O108,'Comparison - Category'!$Z$66:$AE$66,0)),10)","v":3.7122964199999997E-2},null,"Masterton district","General rate","General rate","Business"]
[null,null,null,null,null,46,{"$f":"+G108","v":2},2,2,"2022/23",{"$f":"ROUND(INDEX('Comparison - Category'!$Z$81:$AE$107,MATCH(M109&P109,'Comparison - Category'!$D$81:$D$107,0),MATCH(O109,'Comparison - Category'!$Z$66:$AE$66,0)),10)","v":0},null,"Masterton district","River management rate","River management rate","Business"]
[null,null,null,null,null,46,{"$f":"+G109","v":2},3,2,"2022/23",{"$f":"ROUND(INDEX('Comparison - Category'!$Z$81:$AE$107,MATCH(M110&P110,'Comparison - Category'!$D$81:$D$107,0),MATCH(O110,'Comparison - Category'!$Z$66:$AE$66,0)),10)","v":3.1887844399999997E-2},null,"Masterton district","Public transport rate","Public transport rate","Business"]
[null,null,null,null,null,46,{"$f":"+G110","v":2},4,2,"2022/23",{"$f":"ROUND(INDEX('Comparison - Category'!$Z$81:$AE$107,MATCH(M111&P111,'Comparison - Category'!$D$81:$D$107,0),MATCH(O111,'Comparison - Category'!$Z$66:$AE$66,0)),10)","v":0},null,"Masterton district","Stadium purposes rate","Stadium purposes rate","Business"]
[null,null,null,null,null,46,{"$f":"+G111","v":2},6,2,"2022/23",{"$f":"ROUND(INDEX('Comparison - Category'!$Z$81:$AE$107,MATCH(M112&P112,'Comparison - Category'!$D$81:$D$107,0),MATCH(O112,'Comparison - Category'!$Z$66:$AE$66,0)),10)","v":6.0021355000000002E-3},null,"Masterton district","Economic development rate - Business","Economic development rate","Business"]
[null,null,null,null,null,46,3,1,2,"2022/23",{"$f":"ROUND(INDEX('Comparison - Category'!$Z$81:$AE$107,MATCH(M113&P113,'Comparison - Category'!$D$81:$D$107,0),MATCH(O113,'Comparison - Category'!$Z$66:$AE$66,0)),10)","v":3.7122964199999997E-2},null,"Masterton district","General rate","General rate","Rural"]
[null,null,null,null,null,46,{"$f":"+G113","v":3},2,2,"2022/23",{"$f":"ROUND(INDEX('Comparison - Category'!$Z$81:$AE$107,MATCH(M114&P114,'Comparison - Category'!$D$81:$D$107,0),MATCH(O114,'Comparison - Category'!$Z$66:$AE$66,0)),10)","v":0},null,"Masterton district","River management rate","River management rate","Rural"]
[null,null,null,null,null,46,{"$f":"+G114","v":3},3,2,"2022/23",{"$f":"ROUND(INDEX('Comparison - Category'!$Z$81:$AE$107,MATCH(M115&P115,'Comparison - Category'!$D$81:$D$107,0),MATCH(O115,'Comparison - Category'!$Z$66:$AE$66,0)),10)","v":8.0283504999999998E-3},null,"Masterton district","Public transport rate","Public transport rate","Rural"]
[null,null,null,null,null,46,{"$f":"+G115","v":3},4,2,"2022/23",{"$f":"ROUND(INDEX('Comparison - Category'!$Z$81:$AE$107,MATCH(M116&P116,'Comparison - Category'!$D$81:$D$107,0),MATCH(O116,'Comparison - Category'!$Z$66:$AE$66,0)),10)","v":0},null,"Masterton district","Stadium purposes rate","Stadium purposes rate","Rural"]
[null,null,null,null,null,46,{"$f":"+G116","v":3},5,2,"2022/23",{"$f":"ROUND(INDEX('Comparison - Category'!$Z$81:$AE$107,MATCH(M117&P117,'Comparison - Category'!$D$81:$D$107,0),MATCH(O117,'Comparison - Category'!$Z$66:$AE$66,0)),10)","v":15},null,"Masterton district","Economic development rate","Economic development rate","Rural"]
[]
[null,null,null,null,null,"TA_ID","Rate_Class_ID","Rates_ID","Rates_Status_ID","Rates_year","Rates_value"]
[null,null,null,null,null,47,1,1,{"$f":"$I$8","v":2},{"$f":"year_current","v":"2022/23"},{"$f":"ROUND(INDEX('Comparison - Category'!$Z$81:$AE$107,MATCH(M120&P120,'Comparison - Category'!$D$81:$D$107,0),MATCH(O120,'Comparison - Category'!$Z$66:$AE$66,0)),10)","v":3.8653875400000003E-2},null,{"$f":"VLOOKUP(F120,$A$30:$B$38,2,FALSE)","v":"Carterton district"},{"$f":"VLOOKUP(H120,$A$19:$B$25,2,FALSE)","v":"General rate"},{"$f":"VLOOKUP(H120,$A$19:$C$25,3,FALSE)","v":"General rate"},{"$f":"VLOOKUP(G120,$A$5:$B$8,2,FALSE)","v":"Residential"}]
[null,null,null,null,null,{"$f":"+F120","v":47},1,2,{"$f":"+I120","v":2},"2022/23",{"$f":"ROUND(INDEX('Comparison - Category'!$Z$81:$AE$107,MATCH(M121&P121,'Comparison - Category'!$D$81:$D$107,0),MATCH(O121,'Comparison - Category'!$Z$66:$AE$66,0)),10)","v":6.7800640000000001E-4},null,"Carterton district","River management rate","River management rate","Residential"]
[null,null,null,null,null,47,1,3,{"$f":"+I121","v":2},"2022/23",{"$f":"ROUND(INDEX('Comparison - Category'!$Z$81:$AE$107,MATCH(M122&P122,'Comparison - Category'!$D$81:$D$107,0),MATCH(O122,'Comparison - Category'!$Z$66:$AE$66,0)),10)","v":1.8639586E-2},null,"Carterton district","Public transport rate","Public transport rate","Residential"]
[null,null,null,null,null,47,1,4,2,"2022/23",{"$f":"ROUND(INDEX('Comparison - Category'!$Z$81:$AE$107,MATCH(M123&P123,'Comparison - Category'!$D$81:$D$107,0),MATCH(O123,'Comparison - Category'!$Z$66:$AE$66,0)),10)","v":0},null,"Carterton district","Stadium purposes rate","Stadium purposes rate","Residential"]
[null,null,null,null,null,47,1,5,2,"2022/23",{"$f":"ROUND(INDEX('Comparison - Category'!$Z$81:$AE$107,MATCH(M124&P124,'Comparison - Category'!$D$81:$D$107,0),MATCH(O124,'Comparison - Category'!$Z$66:$AE$66,0)),10)","v":15},null,"Carterton district","Economic development rate","Economic development rate","Residential"]
[null,null,null,null,null,{"$f":"+F124","v":47},2,1,2,"2022/23",{"$f":"ROUND(INDEX('Comparison - Category'!$Z$81:$AE$107,MATCH(M125&P125,'Comparison - Category'!$D$81:$D$107,0),MATCH(O125,'Comparison - Category'!$Z$66:$AE$66,0)),10)","v":3.8653875400000003E-2},null,"Carterton district","General rate","General rate","Business"]
[null,null,null,null,null,47,{"$f":"+G125","v":2},2,2,"2022/23",{"$f":"ROUND(INDEX('Comparison - Category'!$Z$81:$AE$107,MATCH(M126&P126,'Comparison - Category'!$D$81:$D$107,0),MATCH(O126,'Comparison - Category'!$Z$66:$AE$66,0)),10)","v":6.7800640000000001E-4},null,"Carterton district","River management rate","River management rate","Business"]
[null,null,null,null,null,47,{"$f":"+G126","v":2},3,2,"2022/23",{"$f":"ROUND(INDEX('Comparison - Category'!$Z$81:$AE$107,MATCH(M127&P127,'Comparison - Category'!$D$81:$D$107,0),MATCH(O127,'Comparison - Category'!$Z$66:$AE$66,0)),10)","v":3.4453523999999999E-2},null,"Carterton district","Public transport rate","Public transport rate","Business"]
[null,null,null,null,null,47,{"$f":"+G127","v":2},4,2,"2022/23",{"$f":"ROUND(INDEX('Comparison - Category'!$Z$81:$AE$107,MATCH(M128&P128,'Comparison - Category'!$D$81:$D$107,0),MATCH(O128,'Comparison - Category'!$Z$66:$AE$66,0)),10)","v":0},null,"Carterton district","Stadium purposes rate","Stadium purposes rate","Business"]
[null,null,null,null,null,47,{"$f":"+G128","v":2},6,2,"2022/23",{"$f":"ROUND(INDEX('Comparison - Category'!$Z$81:$AE$107,MATCH(M129&P129,'Comparison - Category'!$D$81:$D$107,0),MATCH(O129,'Comparison - Category'!$Z$66:$AE$66,0)),10)","v":6.2496571000000001E-3},null,"Carterton district","Economic development rate - Business","Economic development rate","Business"]
[null,null,null,null,null,47,3,1,2,"2022/23",{"$f":"ROUND(INDEX('Comparison - Category'!$Z$81:$AE$107,MATCH(M130&P130,'Comparison - Category'!$D$81:$D$107,0),MATCH(O130,'Comparison - Category'!$Z$66:$AE$66,0)),10)","v":3.8653875400000003E-2},null,"Carterton district","General rate","General rate","Rural"]
[null,null,null,null,null,47,{"$f":"+G130","v":3},2,2,"2022/23",{"$f":"ROUND(INDEX('Comparison - Category'!$Z$81:$AE$107,MATCH(M131&P131,'Comparison - Category'!$D$81:$D$107,0),MATCH(O131,'Comparison - Category'!$Z$66:$AE$66,0)),10)","v":6.7800640000000001E-4},null,"Carterton district","River management rate","River management rate","Rural"]
[null,null,null,null,null,47,{"$f":"+G131","v":3},3,2,"2022/23",{"$f":"ROUND(INDEX('Comparison - Category'!$Z$81:$AE$107,MATCH(M132&P132,'Comparison - Category'!$D$81:$D$107,0),MATCH(O132,'Comparison - Category'!$Z$66:$AE$66,0)),10)","v":8.6642465999999998E-3},null,"Carterton district","Public transport rate","Public transport rate","Rural"]
[null,null,null,null,null,47,{"$f":"+G132","v":3},4,2,"2022/23",{"$f":"ROUND(INDEX('Comparison - Category'!$Z$81:$AE$107,MATCH(M133&P133,'Comparison - Category'!$D$81:$D$107,0),MATCH(O133,'Comparison - Category'!$Z$66:$AE$66,0)),10)","v":0},null,"Carterton district","Stadium purposes rate","Stadium purposes rate","Rural"]
[null,null,null,null,null,47,{"$f":"+G133","v":3},5,2,"2022/23",{"$f":"ROUND(INDEX('Comparison - Category'!$Z$81:$AE$107,MATCH(M134&P134,'Comparison - Category'!$D$81:$D$107,0),MATCH(O134,'Comparison - Category'!$Z$66:$AE$66,0)),10)","v":15},null,"Carterton district","Economic development rate","Economic development rate","Rural"]
[]
[null,null,null,null,null,"TA_ID","Rate_Class_ID","Rates_ID","Rates_Status_ID","Rates_year","Rates_value"]
[null,null,null,null,null,48,1,1,{"$f":"$I$8","v":2},{"$f":"year_current","v":"2022/23"},{"$f":"ROUND(INDEX('Comparison - Category'!$Z$81:$AE$107,MATCH(M137&P137,'Comparison - Category'!$D$81:$D$107,0),MATCH(O137,'Comparison - Category'!$Z$66:$AE$66,0)),10)","v":3.6991106500000002E-2},null,{"$f":"VLOOKUP(F137,$A$30:$B$38,2,FALSE)","v":"South Wairarapa district"},{"$f":"VLOOKUP(H137,$A$19:$B$25,2,FALSE)","v":"General rate"},{"$f":"VLOOKUP(H137,$A$19:$C$25,3,FALSE)","v":"General rate"},{"$f":"VLOOKUP(G137,$A$5:$B$8,2,FALSE)","v":"Residential"}]
[null,null,null,null,null,{"$f":"+F137","v":48},1,2,{"$f":"+I137","v":2},"2022/23",{"$f":"ROUND(INDEX('Comparison - Category'!$Z$81:$AE$107,MATCH(M138&P138,'Comparison - Category'!$D$81:$D$107,0),MATCH(O138,'Comparison - Category'!$Z$66:$AE$66,0)),10)","v":0},null,"South Wairarapa district","River management rate","River management rate","Residential"]
[null,null,null,null,null,48,1,3,{"$f":"+I138","v":2},"2022/23",{"$f":"ROUND(INDEX('Comparison - Category'!$Z$81:$AE$107,MATCH(M139&P139,'Comparison - Category'!$D$81:$D$107,0),MATCH(O139,'Comparison - Category'!$Z$66:$AE$66,0)),10)","v":1.87067302E-2},null,"South Wairarapa district","Public transport rate","Public transport rate","Residential"]
[null,null,null,null,null,48,1,4,2,"2022/23",{"$f":"ROUND(INDEX('Comparison - Category'!$Z$81:$AE$107,MATCH(M140&P140,'Comparison - Category'!$D$81:$D$107,0),MATCH(O140,'Comparison - Category'!$Z$66:$AE$66,0)),10)","v":0},null,"South Wairarapa district","Stadium purposes rate","Stadium purposes rate","Residential"]
[null,null,null,null,null,{"$f":"+F140","v":48},{"$f":"+G140","v":1},5,2,"2022/23",{"$f":"ROUND(INDEX('Comparison - Category'!$Z$81:$AE$107,MATCH(M141&P141,'Comparison - Category'!$D$81:$D$107,0),MATCH(O141,'Comparison - Category'!$Z$66:$AE$66,0)),10)","v":15},null,"South Wairarapa district","Economic development rate","Economic development rate","Residential"]
[null,null,null,null,null,48,2,1,2,"2022/23",{"$f":"ROUND(INDEX('Comparison - Category'!$Z$81:$AE$107,MATCH(M142&P142,'Comparison - Category'!$D$81:$D$107,0),MATCH(O142,'Comparison - Category'!$Z$66:$AE$66,0)),10)","v":3.6991106500000002E-2},null,"South Wairarapa district","General rate","General rate","Business"]
[null,null,null,null,null,48,2,2,2,"2022/23",{"$f":"ROUND(INDEX('Comparison - Category'!$Z$81:$AE$107,MATCH(M143&P143,'Comparison - Category'!$D$81:$D$107,0),MATCH(O143,'Comparison - Category'!$Z$66:$AE$66,0)),10)","v":0},null,"South Wairarapa district","River management rate","River management rate","Business"]
[null,null,null,null,null,48,2,3,2,"2022/23",{"$f":"ROUND(INDEX('Comparison - Category'!$Z$81:$AE$107,MATCH(M144&P144,'Comparison - Category'!$D$81:$D$107,0),MATCH(O144,'Comparison - Category'!$Z$66:$AE$66,0)),10)","v":3.38404021E-2},null,"South Wairarapa district","Public transport rate","Public transport rate","Business"]
[null,null,null,null,null,48,2,4,2,"2022/23",{"$f":"ROUND(INDEX('Comparison - Category'!$Z$81:$AE$107,MATCH(M145&P145,'Comparison - Category'!$D$81:$D$107,0),MATCH(O145,'Comparison - Category'!$Z$66:$AE$66,0)),10)","v":0},null,"South Wairarapa district","Stadium purposes rate","Stadium purposes rate","Business"]
[null,null,null,null,null,48,2,6,2,"2022/23",{"$f":"ROUND(INDEX('Comparison - Category'!$Z$81:$AE$107,MATCH(M146&P146,'Comparison - Category'!$D$81:$D$107,0),MATCH(O146,'Comparison - Category'!$Z$66:$AE$66,0)),10)","v":5.9808164E-3},null,"South Wairarapa district","Economic development rate - Business","Economic development rate","Business"]
[null,null,null,null,null,48,3,1,2,"2022/23",{"$f":"ROUND(INDEX('Comparison - Category'!$Z$81:$AE$107,MATCH(M147&P147,'Comparison - Category'!$D$81:$D$107,0),MATCH(O147,'Comparison - Category'!$Z$66:$AE$66,0)),10)","v":3.6991106500000002E-2},null,"South Wairarapa district","General rate","General rate","Rural"]
[null,null,null,null,null,48,3,2,2,"2022/23",{"$f":"ROUND(INDEX('Comparison - Category'!$Z$81:$AE$107,MATCH(M148&P148,'Comparison - Category'!$D$81:$D$107,0),MATCH(O148,'Comparison - Category'!$Z$66:$AE$66,0)),10)","v":0},null,"South Wairarapa district","River management rate","River management rate","Rural"]
[null,null,null,null,null,48,3,3,2,"2022/23",{"$f":"ROUND(INDEX('Comparison - Category'!$Z$81:$AE$107,MATCH(M149&P149,'Comparison - Category'!$D$81:$D$107,0),MATCH(O149,'Comparison - Category'!$Z$66:$AE$66,0)),10)","v":8.4956969000000004E-3},null,"South Wairarapa district","Public transport rate","Public transport rate","Rural"]
[null,null,null,null,null,48,3,4,2,"2022/23",{"$f":"ROUND(INDEX('Comparison - Category'!$Z$81:$AE$107,MATCH(M150&P150,'Comparison - Category'!$D$81:$D$107,0),MATCH(O150,'Comparison - Category'!$Z$66:$AE$66,0)),10)","v":0},null,"South Wairarapa district","Stadium purposes rate","Stadium purposes rate","Rural"]
[null,null,null,null,null,48,3,5,2,"2022/23",{"$f":"ROUND(INDEX('Comparison - Category'!$Z$81:$AE$107,MATCH(M151&P151,'Comparison - Category'!$D$81:$D$107,0),MATCH(O151,'Comparison - Category'!$Z$66:$AE$66,0)),10)","v":15},null,"South Wairarapa district","Economic development rate","Economic development rate","Rural"]
[]
[null,null,null,null,null,"TA_ID","Rate_Class_ID","Rates_ID","Rates_Status_ID","Rates_year","Rates_value"]
[null,null,null,null,null,49,3,1,{"$f":"$I$8","v":2},{"$f":"year_current","v":"2022/23"},{"$f":"ROUND(INDEX('Comparison - Category'!$Z$81:$AE$107,MATCH(M154&P154,'Comparison - Category'!$D$81:$D$107,0),MATCH(O154,'Comparison - Category'!$Z$66:$AE$66,0)),10)","v":3.9316220499999999E-2},null,{"$f":"VLOOKUP(F154,$A$30:$B$38,2,FALSE)","v":"Tararua district"},{"$f":"VLOOKUP(H154,$A$19:$B$25,2,FALSE)","v":"General rate"},{"$f":"VLOOKUP(H154,$A$19:$C$25,3,FALSE)","v":"General rate"},{"$f":"VLOOKUP(G154,$A$5:$B$8,2,FALSE)","v":"Rural"}]
[null,null,null,null,null,{"$f":"+F154","v":49},3,2,{"$f":"+I154","v":2},{"$f":"year_current","v":"2022/23"},{"$f":"ROUND(INDEX('Comparison - Category'!$Z$81:$AE$107,MATCH(M155&P155,'Comparison - Category'!$D$81:$D$107,0),MATCH(O155,'Comparison - Category'!$Z$66:$AE$66,0)),10)","v":0},null,{"$f":"VLOOKUP(F155,$A$30:$B$38,2,FALSE)","v":"Tararua district"},{"$f":"VLOOKUP(H155,$A$19:$B$25,2,FALSE)","v":"River management rate"},{"$f":"VLOOKUP(H155,$A$19:$C$25,3,FALSE)","v":"River management rate"},{"$f":"VLOOKUP(G155,$A$5:$B$8,2,FALSE)","v":"Rural"}]
[null,null,null,null,null,49,3,3,{"$f":"+I155","v":2},{"$f":"year_current","v":"2022/23"},{"$f":"ROUND(INDEX('Comparison - Category'!$Z$81:$AE$107,MATCH(M156&P156,'Comparison - Category'!$D$81:$D$107,0),MATCH(O156,'Comparison - Category'!$Z$66:$AE$66,0)),10)","v":0},null,{"$f":"VLOOKUP(F156,$A$30:$B$38,2,FALSE)","v":"Tararua district"},{"$f":"VLOOKUP(H156,$A$19:$B$25,2,FALSE)","v":"Public transport rate"},{"$f":"VLOOKUP(H156,$A$19:$C$25,3,FALSE)","v":"Public transport rate"},{"$f":"VLOOKUP(G156,$A$5:$B$8,2,FALSE)","v":"Rural"}]
[null,null,null,null,null,49,3,4,{"$f":"+I156","v":2},{"$f":"year_current","v":"2022/23"},{"$f":"ROUND(INDEX('Comparison - Category'!$Z$81:$AE$107,MATCH(M157&P157,'Comparison - Category'!$D$81:$D$107,0),MATCH(O157,'Comparison - Category'!$Z$66:$AE$66,0)),10)","v":0},null,{"$f":"VLOOKUP(F157,$A$30:$B$38,2,FALSE)","v":"Tararua district"},{"$f":"VLOOKUP(H157,$A$19:$B$25,2,FALSE)","v":"Stadium purposes rate"},{"$f":"VLOOKUP(H157,$A$19:$C$25,3,FALSE)","v":"Stadium purposes rate"},{"$f":"VLOOKUP(G157,$A$5:$B$8,2,FALSE)","v":"Rural"}]
[null,null,null,null,null,49,3,5,{"$f":"+I157","v":2},{"$f":"year_current","v":"2022/23"},{"$f":"ROUND(INDEX('Comparison - Category'!$Z$81:$AE$107,MATCH(M158&P158,'Comparison - Category'!$D$81:$D$107,0),MATCH(O158,'Comparison - Category'!$Z$66:$AE$66,0)),10)","v":15},null,{"$f":"VLOOKUP(F158,$A$30:$B$38,2,FALSE)","v":"Tararua district"},{"$f":"VLOOKUP(H158,$A$19:$B$25,2,FALSE)","v":"Economic development rate"},{"$f":"VLOOKUP(H158,$A$19:$C$25,3,FALSE)","v":"Economic development rate"},{"$f":"VLOOKUP(G158,$A$5:$B$8,2,FALSE)","v":"Rural"}]